BEGIN:VCALENDAR
VERSION:2.0
PRODID:-//Huron Shores - ECPv6.15.11//NONSGML v1.0//EN
CALSCALE:GREGORIAN
METHOD:PUBLISH
X-ORIGINAL-URL:https://huronshores.ca
X-WR-CALDESC:Events for Huron Shores
REFRESH-INTERVAL;VALUE=DURATION:PT1H
X-Robots-Tag:noindex
X-PUBLISHED-TTL:PT1H
BEGIN:VTIMEZONE
TZID:America/Toronto
BEGIN:DAYLIGHT
TZOFFSETFROM:-0500
TZOFFSETTO:-0400
TZNAME:EDT
DTSTART:20140309T070000
END:DAYLIGHT
BEGIN:STANDARD
TZOFFSETFROM:-0400
TZOFFSETTO:-0500
TZNAME:EST
DTSTART:20141102T060000
END:STANDARD
BEGIN:DAYLIGHT
TZOFFSETFROM:-0500
TZOFFSETTO:-0400
TZNAME:EDT
DTSTART:20150308T070000
END:DAYLIGHT
BEGIN:STANDARD
TZOFFSETFROM:-0400
TZOFFSETTO:-0500
TZNAME:EST
DTSTART:20151101T060000
END:STANDARD
BEGIN:DAYLIGHT
TZOFFSETFROM:-0500
TZOFFSETTO:-0400
TZNAME:EDT
DTSTART:20160313T070000
END:DAYLIGHT
BEGIN:STANDARD
TZOFFSETFROM:-0400
TZOFFSETTO:-0500
TZNAME:EST
DTSTART:20161106T060000
END:STANDARD
END:VTIMEZONE
BEGIN:VEVENT
DTSTART;TZID=America/Toronto:20151024T170000
DTEND;TZID=America/Toronto:20151024T170000
DTSTAMP:20260424T143954
CREATED:20151014T134632Z
LAST-MODIFIED:20151014T134632Z
UID:10019385-1445706000-1445706000@huronshores.ca
SUMMARY:CAFC TurDucKen Fundraising Dinner
DESCRIPTION:Hosted by the Central Algoma Freshwater Coalition (CAFC):  TurDucKen Fundraising Dinner\, Saturday\, October 24/15 at Sowerby Hall\, 1410 Basswood Lake Rd.  Sittings at 5:00 & 7:00 p.m.  Limited seating.  Catered by Fred Falls.  Tickets available from Dave 705-842-6135\, Chuck 705-297-2201\, Forestland\, Pine Ridge Auto\, Johnson Farmers’ Market\, & Northern Credit Union (Thessalon & Iron Bridge).  Help protect Algoma Watersheds!
URL:https://huronshores.ca/event/cafc-turducken-fundraising-dinner/
LOCATION:Ontario
CATEGORIES:CAFC,Community News
ATTACH;FMTTYPE=image/png:https://huronshores.ca/wp-content/uploads/2015/10/turducken.png
END:VEVENT
END:VCALENDAR