BEGIN:VCALENDAR
VERSION:2.0
PRODID:-//Huron Shores - ECPv6.15.11//NONSGML v1.0//EN
CALSCALE:GREGORIAN
METHOD:PUBLISH
X-WR-CALNAME:Huron Shores
X-ORIGINAL-URL:https://huronshores.ca
X-WR-CALDESC:Events for Huron Shores
REFRESH-INTERVAL;VALUE=DURATION:PT1H
X-Robots-Tag:noindex
X-PUBLISHED-TTL:PT1H
BEGIN:VTIMEZONE
TZID:America/Toronto
BEGIN:DAYLIGHT
TZOFFSETFROM:-0500
TZOFFSETTO:-0400
TZNAME:EDT
DTSTART:20170312T070000
END:DAYLIGHT
BEGIN:STANDARD
TZOFFSETFROM:-0400
TZOFFSETTO:-0500
TZNAME:EST
DTSTART:20171105T060000
END:STANDARD
BEGIN:DAYLIGHT
TZOFFSETFROM:-0500
TZOFFSETTO:-0400
TZNAME:EDT
DTSTART:20180311T070000
END:DAYLIGHT
BEGIN:STANDARD
TZOFFSETFROM:-0400
TZOFFSETTO:-0500
TZNAME:EST
DTSTART:20181104T060000
END:STANDARD
BEGIN:DAYLIGHT
TZOFFSETFROM:-0500
TZOFFSETTO:-0400
TZNAME:EDT
DTSTART:20190310T070000
END:DAYLIGHT
BEGIN:STANDARD
TZOFFSETFROM:-0400
TZOFFSETTO:-0500
TZNAME:EST
DTSTART:20191103T060000
END:STANDARD
END:VTIMEZONE
BEGIN:VEVENT
DTSTART;TZID=America/Toronto:20180801T140000
DTEND;TZID=America/Toronto:20180801T153000
DTSTAMP:20260423T054103
CREATED:20151021T181815Z
LAST-MODIFIED:20151021T181815Z
UID:10016752-1533132000-1533137400@huronshores.ca
SUMMARY:Alzheimer Info & Discussion Group
DESCRIPTION:The Alzheimer Society of Sault Ste. Marie & Algoma District hosts an Information & Discussion Group on the 2nd Wednesday of each month\, at the Calvary Gospel Church\, 55 Queen Street\, Blind River from 2:00 – 3:30 p.m.  For more information please call Tanya\, First Link Coordinator\, at 705-848-8145.
URL:https://huronshores.ca/event/alzheimer-info-discussion-group-2/2018-08-01/
CATEGORIES:Community News
ATTACH;FMTTYPE=image/jpeg:https://huronshores.ca/wp-content/uploads/2013/01/Alzheimers-Disease.jpg
END:VEVENT
BEGIN:VEVENT
DTSTART;TZID=America/Toronto:20180802T140000
DTEND;TZID=America/Toronto:20180802T153000
DTSTAMP:20260423T054103
CREATED:20151021T181815Z
LAST-MODIFIED:20151021T181815Z
UID:10016753-1533218400-1533223800@huronshores.ca
SUMMARY:Alzheimer Info & Discussion Group
DESCRIPTION:The Alzheimer Society of Sault Ste. Marie & Algoma District hosts an Information & Discussion Group on the 2nd Wednesday of each month\, at the Calvary Gospel Church\, 55 Queen Street\, Blind River from 2:00 – 3:30 p.m.  For more information please call Tanya\, First Link Coordinator\, at 705-848-8145.
URL:https://huronshores.ca/event/alzheimer-info-discussion-group-2/2018-08-02/
CATEGORIES:Community News
ATTACH;FMTTYPE=image/jpeg:https://huronshores.ca/wp-content/uploads/2013/01/Alzheimers-Disease.jpg
END:VEVENT
BEGIN:VEVENT
DTSTART;TZID=America/Toronto:20180802T180000
DTEND;TZID=America/Toronto:20180802T180000
DTSTAMP:20260423T054103
CREATED:20180109T192221Z
LAST-MODIFIED:20180109T192221Z
UID:10020476-1533232800-1533232800@huronshores.ca
SUMMARY:Thessalon Community Days & Family Ball Tournament
DESCRIPTION:The nearby Town of Thessalon holds its Community Days & Ball Tournament during the Civic Holiday weekend.  Events begins on Thursday evening\, August 2nd\, and continue throughout the next four days at various locations on Main Street and at the Ball Park.   The baseball tournament finale is on Monday\, August 6th. Watch for details.
URL:https://huronshores.ca/event/thessalon-community-days-family-ball-tournament/
CATEGORIES:Community News
ATTACH;FMTTYPE=image/png:https://huronshores.ca/wp-content/uploads/2017/08/thessalon-community-days1.png
END:VEVENT
BEGIN:VEVENT
DTSTART;VALUE=DATE:20180803
DTEND;VALUE=DATE:20180807
DTSTAMP:20260423T054103
CREATED:20180109T192616Z
LAST-MODIFIED:20180109T192616Z
UID:10020477-1533254400-1533599999@huronshores.ca
SUMMARY:Thessalon Community Days & Family Ball Tournament
DESCRIPTION:The nearby Town of Thessalon holds its Community Days & Ball Tournament during the Civic Holiday weekend.  Events begins on Thursday evening\, August 2nd\, and continue throughout the next four days at various locations on Main Street and at the Ball Park.   The baseball tournament finale is on Monday\, August 6th. Watch for details.
URL:https://huronshores.ca/event/thessalon-community-days-family-ball-tournament-2/
CATEGORIES:Community News
ATTACH;FMTTYPE=image/png:https://huronshores.ca/wp-content/uploads/2017/08/thessalon-community-days1.png
END:VEVENT
BEGIN:VEVENT
DTSTART;TZID=America/Toronto:20180803T140000
DTEND;TZID=America/Toronto:20180803T153000
DTSTAMP:20260423T054103
CREATED:20151021T181815Z
LAST-MODIFIED:20151021T181815Z
UID:10016754-1533304800-1533310200@huronshores.ca
SUMMARY:Alzheimer Info & Discussion Group
DESCRIPTION:The Alzheimer Society of Sault Ste. Marie & Algoma District hosts an Information & Discussion Group on the 2nd Wednesday of each month\, at the Calvary Gospel Church\, 55 Queen Street\, Blind River from 2:00 – 3:30 p.m.  For more information please call Tanya\, First Link Coordinator\, at 705-848-8145.
URL:https://huronshores.ca/event/alzheimer-info-discussion-group-2/2018-08-03/
CATEGORIES:Community News
ATTACH;FMTTYPE=image/jpeg:https://huronshores.ca/wp-content/uploads/2013/01/Alzheimers-Disease.jpg
END:VEVENT
BEGIN:VEVENT
DTSTART;TZID=America/Toronto:20180804T090000
DTEND;TZID=America/Toronto:20180804T140000
DTSTAMP:20260423T054103
CREATED:20180109T194134Z
LAST-MODIFIED:20180109T194134Z
UID:10020497-1533373200-1533391200@huronshores.ca
SUMMARY:Sowerby Farmers' Market
DESCRIPTION:The Farmers’ Market is held on Saturdays from 9:00 a.m. to 2:00 p.m. from mid-June to October at the Historic Cordukes/Weber 12-Sided Barn located at 1410 Basswood Lake Rd.\, just north of the intersection with Highway 17 in Sowerby.
URL:https://huronshores.ca/event/sowerby-farmers-market-4/2018-08-04/
CATEGORIES:Community News,Local Food
ATTACH;FMTTYPE=image/jpeg:https://huronshores.ca/wp-content/uploads/2011/08/Historic-Cordukes-Weber-12-Sided-Barn-Sign1.jpg
END:VEVENT
BEGIN:VEVENT
DTSTART;TZID=America/Toronto:20180804T090000
DTEND;TZID=America/Toronto:20180804T140000
DTSTAMP:20260423T054103
CREATED:20180109T194634Z
LAST-MODIFIED:20180109T194634Z
UID:10020512-1533373200-1533391200@huronshores.ca
SUMMARY:Iron Bridge Farmers' Market
DESCRIPTION:The Iron Bridge Farmers’ Market is open on Saturdays\, 9:00 a.m. – 2:00 p.m.\, from the end of June to mid-September at the Gazebo at the Iron Bridge Historical Museum\, 1 James Street.
URL:https://huronshores.ca/event/iron-bridge-farmers-market-3/2018-08-04/
CATEGORIES:Community News,Local Food
ATTACH;FMTTYPE=image/jpeg:https://huronshores.ca/wp-content/uploads/2013/12/Farmers-Market-Produce.jpg
END:VEVENT
BEGIN:VEVENT
DTSTART;TZID=America/Toronto:20180804T140000
DTEND;TZID=America/Toronto:20180804T153000
DTSTAMP:20260423T054103
CREATED:20151021T181815Z
LAST-MODIFIED:20151021T181815Z
UID:10016755-1533391200-1533396600@huronshores.ca
SUMMARY:Alzheimer Info & Discussion Group
DESCRIPTION:The Alzheimer Society of Sault Ste. Marie & Algoma District hosts an Information & Discussion Group on the 2nd Wednesday of each month\, at the Calvary Gospel Church\, 55 Queen Street\, Blind River from 2:00 – 3:30 p.m.  For more information please call Tanya\, First Link Coordinator\, at 705-848-8145.
URL:https://huronshores.ca/event/alzheimer-info-discussion-group-2/2018-08-04/
CATEGORIES:Community News
ATTACH;FMTTYPE=image/jpeg:https://huronshores.ca/wp-content/uploads/2013/01/Alzheimers-Disease.jpg
END:VEVENT
BEGIN:VEVENT
DTSTART;TZID=America/Toronto:20180805T140000
DTEND;TZID=America/Toronto:20180805T153000
DTSTAMP:20260423T054103
CREATED:20151021T181815Z
LAST-MODIFIED:20151021T181815Z
UID:10016756-1533477600-1533483000@huronshores.ca
SUMMARY:Alzheimer Info & Discussion Group
DESCRIPTION:The Alzheimer Society of Sault Ste. Marie & Algoma District hosts an Information & Discussion Group on the 2nd Wednesday of each month\, at the Calvary Gospel Church\, 55 Queen Street\, Blind River from 2:00 – 3:30 p.m.  For more information please call Tanya\, First Link Coordinator\, at 705-848-8145.
URL:https://huronshores.ca/event/alzheimer-info-discussion-group-2/2018-08-05/
CATEGORIES:Community News
ATTACH;FMTTYPE=image/jpeg:https://huronshores.ca/wp-content/uploads/2013/01/Alzheimers-Disease.jpg
END:VEVENT
BEGIN:VEVENT
DTSTART;VALUE=DATE:20180806
DTEND;VALUE=DATE:20180807
DTSTAMP:20260423T054103
CREATED:20171129T201054Z
LAST-MODIFIED:20171129T201054Z
UID:10020413-1533513600-1533599999@huronshores.ca
SUMMARY:Civic Holiday
DESCRIPTION:The Municipal Office and all Waste Sites will be CLOSED for the Civic Holiday Monday.  The Office will re-open on Tuesday\, August 7/18 at 8:30 a.m.; the Waste Sites on Wednesday\, August 8/18 at 4:00 p.m.  Happy Civic Holiday from Council & staff of Huron Shores!
URL:https://huronshores.ca/event/civic-holiday-4/
CATEGORIES:Community News,Office Closure,Waste Disposal
ATTACH;FMTTYPE=image/jpeg:https://huronshores.ca/wp-content/uploads/2015/07/August-Civic-Holiday.jpg
END:VEVENT
BEGIN:VEVENT
DTSTART;TZID=America/Toronto:20180806T110000
DTEND;TZID=America/Toronto:20180806T150000
DTSTAMP:20260423T054103
CREATED:20171129T201631Z
LAST-MODIFIED:20171129T201631Z
UID:10020415-1533553200-1533567600@huronshores.ca
SUMMARY:Country Fair & Silent Auction
DESCRIPTION:Annual Country Fair & Silent Auction: Monday\, August 6/18; From 11:00 a.m.-3:00 p.m. at the Heritage Park Museum & Thessalon Twp. Community Centre\, Little Rapids. Children’s activities\, live local music\, quilt & handiwork display\, tractor show\, historical displays\, bake table\, vendors\, & more. Lunch served all day. Sponsored by the Thessalon Twp. Heritage Assn.
URL:https://huronshores.ca/event/country-fair-silent-auction-3/
CATEGORIES:Community News,Recreation
ATTACH;FMTTYPE=image/jpeg:https://huronshores.ca/wp-content/uploads/2015/07/Country-Fair.jpg
END:VEVENT
BEGIN:VEVENT
DTSTART;TZID=America/Toronto:20180806T140000
DTEND;TZID=America/Toronto:20180806T153000
DTSTAMP:20260423T054103
CREATED:20151021T181815Z
LAST-MODIFIED:20151021T181815Z
UID:10016757-1533564000-1533569400@huronshores.ca
SUMMARY:Alzheimer Info & Discussion Group
DESCRIPTION:The Alzheimer Society of Sault Ste. Marie & Algoma District hosts an Information & Discussion Group on the 2nd Wednesday of each month\, at the Calvary Gospel Church\, 55 Queen Street\, Blind River from 2:00 – 3:30 p.m.  For more information please call Tanya\, First Link Coordinator\, at 705-848-8145.
URL:https://huronshores.ca/event/alzheimer-info-discussion-group-2/2018-08-06/
CATEGORIES:Community News
ATTACH;FMTTYPE=image/jpeg:https://huronshores.ca/wp-content/uploads/2013/01/Alzheimers-Disease.jpg
END:VEVENT
BEGIN:VEVENT
DTSTART;TZID=America/Toronto:20180807T140000
DTEND;TZID=America/Toronto:20180807T153000
DTSTAMP:20260423T054103
CREATED:20151021T181815Z
LAST-MODIFIED:20151021T181815Z
UID:10016758-1533650400-1533655800@huronshores.ca
SUMMARY:Alzheimer Info & Discussion Group
DESCRIPTION:The Alzheimer Society of Sault Ste. Marie & Algoma District hosts an Information & Discussion Group on the 2nd Wednesday of each month\, at the Calvary Gospel Church\, 55 Queen Street\, Blind River from 2:00 – 3:30 p.m.  For more information please call Tanya\, First Link Coordinator\, at 705-848-8145.
URL:https://huronshores.ca/event/alzheimer-info-discussion-group-2/2018-08-07/
CATEGORIES:Community News
ATTACH;FMTTYPE=image/jpeg:https://huronshores.ca/wp-content/uploads/2013/01/Alzheimers-Disease.jpg
END:VEVENT
BEGIN:VEVENT
DTSTART;TZID=America/Toronto:20180808T140000
DTEND;TZID=America/Toronto:20180808T153000
DTSTAMP:20260423T054103
CREATED:20151021T181815Z
LAST-MODIFIED:20151021T181815Z
UID:10016759-1533736800-1533742200@huronshores.ca
SUMMARY:Alzheimer Info & Discussion Group
DESCRIPTION:The Alzheimer Society of Sault Ste. Marie & Algoma District hosts an Information & Discussion Group on the 2nd Wednesday of each month\, at the Calvary Gospel Church\, 55 Queen Street\, Blind River from 2:00 – 3:30 p.m.  For more information please call Tanya\, First Link Coordinator\, at 705-848-8145.
URL:https://huronshores.ca/event/alzheimer-info-discussion-group-2/2018-08-08/
CATEGORIES:Community News
ATTACH;FMTTYPE=image/jpeg:https://huronshores.ca/wp-content/uploads/2013/01/Alzheimers-Disease.jpg
END:VEVENT
BEGIN:VEVENT
DTSTART;TZID=America/Toronto:20180809T140000
DTEND;TZID=America/Toronto:20180809T153000
DTSTAMP:20260423T054103
CREATED:20151021T181815Z
LAST-MODIFIED:20151021T181815Z
UID:10016760-1533823200-1533828600@huronshores.ca
SUMMARY:Alzheimer Info & Discussion Group
DESCRIPTION:The Alzheimer Society of Sault Ste. Marie & Algoma District hosts an Information & Discussion Group on the 2nd Wednesday of each month\, at the Calvary Gospel Church\, 55 Queen Street\, Blind River from 2:00 – 3:30 p.m.  For more information please call Tanya\, First Link Coordinator\, at 705-848-8145.
URL:https://huronshores.ca/event/alzheimer-info-discussion-group-2/2018-08-09/
CATEGORIES:Community News
ATTACH;FMTTYPE=image/jpeg:https://huronshores.ca/wp-content/uploads/2013/01/Alzheimers-Disease.jpg
END:VEVENT
BEGIN:VEVENT
DTSTART;VALUE=DATE:20180810
DTEND;VALUE=DATE:20180813
DTSTAMP:20260423T054103
CREATED:20180109T193652Z
LAST-MODIFIED:20180109T193652Z
UID:10020489-1533859200-1534118399@huronshores.ca
SUMMARY:Iron Bridge Lions Club Family Days
DESCRIPTION:The Iron Bridge Lions Club hosts its annual Family Days & Baseball Tournament  from August 10-12/18 at the Lions Club Ball Park.  Canteen is open for refreshments.   Saturday morning is the Lions Club Pancake Breakfast at the Lions Hall\, 10 Clarissa Street\, from 7:00-10:30 a.m.  The Hall also hosts a dance that evening.  Baseball continues on Sunday.  Come out and cheer on the teams!
URL:https://huronshores.ca/event/iron-bridge-lions-club-family-ball-tournament/
CATEGORIES:Community News
ATTACH;FMTTYPE=image/jpeg:https://huronshores.ca/wp-content/uploads/2014/08/Baseball.jpg
END:VEVENT
BEGIN:VEVENT
DTSTART;TZID=America/Toronto:20180810T140000
DTEND;TZID=America/Toronto:20180810T153000
DTSTAMP:20260423T054103
CREATED:20151021T181815Z
LAST-MODIFIED:20151021T181815Z
UID:10016761-1533909600-1533915000@huronshores.ca
SUMMARY:Alzheimer Info & Discussion Group
DESCRIPTION:The Alzheimer Society of Sault Ste. Marie & Algoma District hosts an Information & Discussion Group on the 2nd Wednesday of each month\, at the Calvary Gospel Church\, 55 Queen Street\, Blind River from 2:00 – 3:30 p.m.  For more information please call Tanya\, First Link Coordinator\, at 705-848-8145.
URL:https://huronshores.ca/event/alzheimer-info-discussion-group-2/2018-08-10/
CATEGORIES:Community News
ATTACH;FMTTYPE=image/jpeg:https://huronshores.ca/wp-content/uploads/2013/01/Alzheimers-Disease.jpg
END:VEVENT
BEGIN:VEVENT
DTSTART;TZID=America/Toronto:20180811T090000
DTEND;TZID=America/Toronto:20180811T140000
DTSTAMP:20260423T054103
CREATED:20180109T194134Z
LAST-MODIFIED:20180109T194134Z
UID:10020498-1533978000-1533996000@huronshores.ca
SUMMARY:Sowerby Farmers' Market
DESCRIPTION:The Farmers’ Market is held on Saturdays from 9:00 a.m. to 2:00 p.m. from mid-June to October at the Historic Cordukes/Weber 12-Sided Barn located at 1410 Basswood Lake Rd.\, just north of the intersection with Highway 17 in Sowerby.
URL:https://huronshores.ca/event/sowerby-farmers-market-4/2018-08-11/
CATEGORIES:Community News,Local Food
ATTACH;FMTTYPE=image/jpeg:https://huronshores.ca/wp-content/uploads/2011/08/Historic-Cordukes-Weber-12-Sided-Barn-Sign1.jpg
END:VEVENT
BEGIN:VEVENT
DTSTART;TZID=America/Toronto:20180811T090000
DTEND;TZID=America/Toronto:20180811T140000
DTSTAMP:20260423T054103
CREATED:20180109T194634Z
LAST-MODIFIED:20180109T194634Z
UID:10020513-1533978000-1533996000@huronshores.ca
SUMMARY:Iron Bridge Farmers' Market
DESCRIPTION:The Iron Bridge Farmers’ Market is open on Saturdays\, 9:00 a.m. – 2:00 p.m.\, from the end of June to mid-September at the Gazebo at the Iron Bridge Historical Museum\, 1 James Street.
URL:https://huronshores.ca/event/iron-bridge-farmers-market-3/2018-08-11/
CATEGORIES:Community News,Local Food
ATTACH;FMTTYPE=image/jpeg:https://huronshores.ca/wp-content/uploads/2013/12/Farmers-Market-Produce.jpg
END:VEVENT
BEGIN:VEVENT
DTSTART;TZID=America/Toronto:20180811T140000
DTEND;TZID=America/Toronto:20180811T153000
DTSTAMP:20260423T054103
CREATED:20151021T181815Z
LAST-MODIFIED:20151021T181815Z
UID:10016762-1533996000-1534001400@huronshores.ca
SUMMARY:Alzheimer Info & Discussion Group
DESCRIPTION:The Alzheimer Society of Sault Ste. Marie & Algoma District hosts an Information & Discussion Group on the 2nd Wednesday of each month\, at the Calvary Gospel Church\, 55 Queen Street\, Blind River from 2:00 – 3:30 p.m.  For more information please call Tanya\, First Link Coordinator\, at 705-848-8145.
URL:https://huronshores.ca/event/alzheimer-info-discussion-group-2/2018-08-11/
CATEGORIES:Community News
ATTACH;FMTTYPE=image/jpeg:https://huronshores.ca/wp-content/uploads/2013/01/Alzheimers-Disease.jpg
END:VEVENT
BEGIN:VEVENT
DTSTART;TZID=America/Toronto:20180812T140000
DTEND;TZID=America/Toronto:20180812T153000
DTSTAMP:20260423T054103
CREATED:20151021T181815Z
LAST-MODIFIED:20151021T181815Z
UID:10016763-1534082400-1534087800@huronshores.ca
SUMMARY:Alzheimer Info & Discussion Group
DESCRIPTION:The Alzheimer Society of Sault Ste. Marie & Algoma District hosts an Information & Discussion Group on the 2nd Wednesday of each month\, at the Calvary Gospel Church\, 55 Queen Street\, Blind River from 2:00 – 3:30 p.m.  For more information please call Tanya\, First Link Coordinator\, at 705-848-8145.
URL:https://huronshores.ca/event/alzheimer-info-discussion-group-2/2018-08-12/
CATEGORIES:Community News
ATTACH;FMTTYPE=image/jpeg:https://huronshores.ca/wp-content/uploads/2013/01/Alzheimers-Disease.jpg
END:VEVENT
BEGIN:VEVENT
DTSTART;TZID=America/Toronto:20180813T140000
DTEND;TZID=America/Toronto:20180813T153000
DTSTAMP:20260423T054103
CREATED:20151021T181815Z
LAST-MODIFIED:20151021T181815Z
UID:10016764-1534168800-1534174200@huronshores.ca
SUMMARY:Alzheimer Info & Discussion Group
DESCRIPTION:The Alzheimer Society of Sault Ste. Marie & Algoma District hosts an Information & Discussion Group on the 2nd Wednesday of each month\, at the Calvary Gospel Church\, 55 Queen Street\, Blind River from 2:00 – 3:30 p.m.  For more information please call Tanya\, First Link Coordinator\, at 705-848-8145.
URL:https://huronshores.ca/event/alzheimer-info-discussion-group-2/2018-08-13/
CATEGORIES:Community News
ATTACH;FMTTYPE=image/jpeg:https://huronshores.ca/wp-content/uploads/2013/01/Alzheimers-Disease.jpg
END:VEVENT
BEGIN:VEVENT
DTSTART;TZID=America/Toronto:20180814T140000
DTEND;TZID=America/Toronto:20180814T153000
DTSTAMP:20260423T054104
CREATED:20151021T181815Z
LAST-MODIFIED:20151021T181815Z
UID:10016765-1534255200-1534260600@huronshores.ca
SUMMARY:Alzheimer Info & Discussion Group
DESCRIPTION:The Alzheimer Society of Sault Ste. Marie & Algoma District hosts an Information & Discussion Group on the 2nd Wednesday of each month\, at the Calvary Gospel Church\, 55 Queen Street\, Blind River from 2:00 – 3:30 p.m.  For more information please call Tanya\, First Link Coordinator\, at 705-848-8145.
URL:https://huronshores.ca/event/alzheimer-info-discussion-group-2/2018-08-14/
CATEGORIES:Community News
ATTACH;FMTTYPE=image/jpeg:https://huronshores.ca/wp-content/uploads/2013/01/Alzheimers-Disease.jpg
END:VEVENT
BEGIN:VEVENT
DTSTART;TZID=America/Toronto:20180815T140000
DTEND;TZID=America/Toronto:20180815T153000
DTSTAMP:20260423T054104
CREATED:20151021T181815Z
LAST-MODIFIED:20151021T181815Z
UID:10016766-1534341600-1534347000@huronshores.ca
SUMMARY:Alzheimer Info & Discussion Group
DESCRIPTION:The Alzheimer Society of Sault Ste. Marie & Algoma District hosts an Information & Discussion Group on the 2nd Wednesday of each month\, at the Calvary Gospel Church\, 55 Queen Street\, Blind River from 2:00 – 3:30 p.m.  For more information please call Tanya\, First Link Coordinator\, at 705-848-8145.
URL:https://huronshores.ca/event/alzheimer-info-discussion-group-2/2018-08-15/
CATEGORIES:Community News
ATTACH;FMTTYPE=image/jpeg:https://huronshores.ca/wp-content/uploads/2013/01/Alzheimers-Disease.jpg
END:VEVENT
BEGIN:VEVENT
DTSTART;TZID=America/Toronto:20180815T190000
DTEND;TZID=America/Toronto:20180815T210000
DTSTAMP:20260423T054104
CREATED:20180705T155539Z
LAST-MODIFIED:20180705T155539Z
UID:10020569-1534359600-1534366800@huronshores.ca
SUMMARY:Sweet Sowerby Social
DESCRIPTION:The Big Basswood Lake Association will host its Sweet Sowerby Social and information evening on Wednesday\, August 15/18 from 7:00 to 9:00 p.m. at Sowerby Hall\, 1410 Basswood Lake Rd.  Topics will include a history of tourism on Eastern Big Basswood Lake:  Melwel Lodge\, Canadian Camp Club\, Indian Point\, Indiana Beach as well as the history of the Cordukes/Weber 12-Sided Barn.  Bring a dessert to share.  Coffee and tea provided.  All welcome.
URL:https://huronshores.ca/event/big-basswood-lake-assn-information-night/
CATEGORIES:Community News
ATTACH;FMTTYPE=image/jpeg:https://huronshores.ca/wp-content/uploads/2015/07/Big-Basswood-Lake-Assn-Logo.jpg
END:VEVENT
BEGIN:VEVENT
DTSTART;TZID=America/Toronto:20180816T140000
DTEND;TZID=America/Toronto:20180816T153000
DTSTAMP:20260423T054104
CREATED:20151021T181815Z
LAST-MODIFIED:20151021T181815Z
UID:10016767-1534428000-1534433400@huronshores.ca
SUMMARY:Alzheimer Info & Discussion Group
DESCRIPTION:The Alzheimer Society of Sault Ste. Marie & Algoma District hosts an Information & Discussion Group on the 2nd Wednesday of each month\, at the Calvary Gospel Church\, 55 Queen Street\, Blind River from 2:00 – 3:30 p.m.  For more information please call Tanya\, First Link Coordinator\, at 705-848-8145.
URL:https://huronshores.ca/event/alzheimer-info-discussion-group-2/2018-08-16/
CATEGORIES:Community News
ATTACH;FMTTYPE=image/jpeg:https://huronshores.ca/wp-content/uploads/2013/01/Alzheimers-Disease.jpg
END:VEVENT
BEGIN:VEVENT
DTSTART;TZID=America/Toronto:20180817T140000
DTEND;TZID=America/Toronto:20180817T153000
DTSTAMP:20260423T054104
CREATED:20151021T181815Z
LAST-MODIFIED:20151021T181815Z
UID:10016768-1534514400-1534519800@huronshores.ca
SUMMARY:Alzheimer Info & Discussion Group
DESCRIPTION:The Alzheimer Society of Sault Ste. Marie & Algoma District hosts an Information & Discussion Group on the 2nd Wednesday of each month\, at the Calvary Gospel Church\, 55 Queen Street\, Blind River from 2:00 – 3:30 p.m.  For more information please call Tanya\, First Link Coordinator\, at 705-848-8145.
URL:https://huronshores.ca/event/alzheimer-info-discussion-group-2/2018-08-17/
CATEGORIES:Community News
ATTACH;FMTTYPE=image/jpeg:https://huronshores.ca/wp-content/uploads/2013/01/Alzheimers-Disease.jpg
END:VEVENT
BEGIN:VEVENT
DTSTART;TZID=America/Toronto:20180818T090000
DTEND;TZID=America/Toronto:20180818T140000
DTSTAMP:20260423T054104
CREATED:20180109T194134Z
LAST-MODIFIED:20180109T194134Z
UID:10020499-1534582800-1534600800@huronshores.ca
SUMMARY:Sowerby Farmers' Market
DESCRIPTION:The Farmers’ Market is held on Saturdays from 9:00 a.m. to 2:00 p.m. from mid-June to October at the Historic Cordukes/Weber 12-Sided Barn located at 1410 Basswood Lake Rd.\, just north of the intersection with Highway 17 in Sowerby.
URL:https://huronshores.ca/event/sowerby-farmers-market-4/2018-08-18/
CATEGORIES:Community News,Local Food
ATTACH;FMTTYPE=image/jpeg:https://huronshores.ca/wp-content/uploads/2011/08/Historic-Cordukes-Weber-12-Sided-Barn-Sign1.jpg
END:VEVENT
BEGIN:VEVENT
DTSTART;TZID=America/Toronto:20180818T090000
DTEND;TZID=America/Toronto:20180818T140000
DTSTAMP:20260423T054104
CREATED:20180109T194634Z
LAST-MODIFIED:20180109T194634Z
UID:10020514-1534582800-1534600800@huronshores.ca
SUMMARY:Iron Bridge Farmers' Market
DESCRIPTION:The Iron Bridge Farmers’ Market is open on Saturdays\, 9:00 a.m. – 2:00 p.m.\, from the end of June to mid-September at the Gazebo at the Iron Bridge Historical Museum\, 1 James Street.
URL:https://huronshores.ca/event/iron-bridge-farmers-market-3/2018-08-18/
CATEGORIES:Community News,Local Food
ATTACH;FMTTYPE=image/jpeg:https://huronshores.ca/wp-content/uploads/2013/12/Farmers-Market-Produce.jpg
END:VEVENT
BEGIN:VEVENT
DTSTART;TZID=America/Toronto:20180818T140000
DTEND;TZID=America/Toronto:20180818T153000
DTSTAMP:20260423T054104
CREATED:20151021T181815Z
LAST-MODIFIED:20151021T181815Z
UID:10016769-1534600800-1534606200@huronshores.ca
SUMMARY:Alzheimer Info & Discussion Group
DESCRIPTION:The Alzheimer Society of Sault Ste. Marie & Algoma District hosts an Information & Discussion Group on the 2nd Wednesday of each month\, at the Calvary Gospel Church\, 55 Queen Street\, Blind River from 2:00 – 3:30 p.m.  For more information please call Tanya\, First Link Coordinator\, at 705-848-8145.
URL:https://huronshores.ca/event/alzheimer-info-discussion-group-2/2018-08-18/
CATEGORIES:Community News
ATTACH;FMTTYPE=image/jpeg:https://huronshores.ca/wp-content/uploads/2013/01/Alzheimers-Disease.jpg
END:VEVENT
END:VCALENDAR