BEGIN:VCALENDAR
VERSION:2.0
PRODID:-//Huron Shores - ECPv6.15.11//NONSGML v1.0//EN
CALSCALE:GREGORIAN
METHOD:PUBLISH
X-WR-CALNAME:Huron Shores
X-ORIGINAL-URL:https://huronshores.ca
X-WR-CALDESC:Events for Huron Shores
REFRESH-INTERVAL;VALUE=DURATION:PT1H
X-Robots-Tag:noindex
X-PUBLISHED-TTL:PT1H
BEGIN:VTIMEZONE
TZID:America/Toronto
BEGIN:DAYLIGHT
TZOFFSETFROM:-0500
TZOFFSETTO:-0400
TZNAME:EDT
DTSTART:20160313T070000
END:DAYLIGHT
BEGIN:STANDARD
TZOFFSETFROM:-0400
TZOFFSETTO:-0500
TZNAME:EST
DTSTART:20161106T060000
END:STANDARD
BEGIN:DAYLIGHT
TZOFFSETFROM:-0500
TZOFFSETTO:-0400
TZNAME:EDT
DTSTART:20170312T070000
END:DAYLIGHT
BEGIN:STANDARD
TZOFFSETFROM:-0400
TZOFFSETTO:-0500
TZNAME:EST
DTSTART:20171105T060000
END:STANDARD
BEGIN:DAYLIGHT
TZOFFSETFROM:-0500
TZOFFSETTO:-0400
TZNAME:EDT
DTSTART:20180311T070000
END:DAYLIGHT
BEGIN:STANDARD
TZOFFSETFROM:-0400
TZOFFSETTO:-0500
TZNAME:EST
DTSTART:20181104T060000
END:STANDARD
END:VTIMEZONE
BEGIN:VEVENT
DTSTART;TZID=America/Toronto:20170823T140000
DTEND;TZID=America/Toronto:20170823T153000
DTSTAMP:20260425T063332
CREATED:20151021T181815Z
LAST-MODIFIED:20151021T181815Z
UID:10016408-1503496800-1503502200@huronshores.ca
SUMMARY:Alzheimer Info & Discussion Group
DESCRIPTION:The Alzheimer Society of Sault Ste. Marie & Algoma District hosts an Information & Discussion Group on the 2nd Wednesday of each month\, at the Calvary Gospel Church\, 55 Queen Street\, Blind River from 2:00 – 3:30 p.m.  For more information please call Tanya\, First Link Coordinator\, at 705-848-8145.
URL:https://huronshores.ca/event/alzheimer-info-discussion-group-2/2017-08-23/
LOCATION:Ontario
CATEGORIES:Community News
ATTACH;FMTTYPE=image/jpeg:https://huronshores.ca/wp-content/uploads/2013/01/Alzheimers-Disease.jpg
END:VEVENT
BEGIN:VEVENT
DTSTART;TZID=America/Toronto:20170823T190000
DTEND;TZID=America/Toronto:20170823T210000
DTSTAMP:20260425T063332
CREATED:20170808T134154Z
LAST-MODIFIED:20170808T134154Z
UID:10020177-1503514800-1503522000@huronshores.ca
SUMMARY:2nd Annual Sweet Sowerby Social
DESCRIPTION:The Big Basswood Lake Association (BBLA) is hosting its 2nd Annual Sweet Sowerby Social on Wednesday\, August 23/17 from 7:00 to 9:00 p.m. at the Sowerby Hall\, 1410 Basswood Lake Rd.  The theme this year is “Maintaining Natural Shorelines”.  There will be presentations by the Ministry of Natural Resources and Forestry (MNRF) and Tulloch Engineering. Bring a dessert to share with your neighbours.  All refreshments supplied by the BBLA.  Everyone welcome.
URL:https://huronshores.ca/event/2nd-annual-sweet-sowerby-social/
LOCATION:Ontario
CATEGORIES:Community News
ATTACH;FMTTYPE=image/jpeg:https://huronshores.ca/wp-content/uploads/2015/07/Big-Basswood-Lake-Assn-Logo.jpg
END:VEVENT
BEGIN:VEVENT
DTSTART;TZID=America/Toronto:20170824T140000
DTEND;TZID=America/Toronto:20170824T153000
DTSTAMP:20260425T063332
CREATED:20151021T181815Z
LAST-MODIFIED:20151021T181815Z
UID:10016409-1503583200-1503588600@huronshores.ca
SUMMARY:Alzheimer Info & Discussion Group
DESCRIPTION:The Alzheimer Society of Sault Ste. Marie & Algoma District hosts an Information & Discussion Group on the 2nd Wednesday of each month\, at the Calvary Gospel Church\, 55 Queen Street\, Blind River from 2:00 – 3:30 p.m.  For more information please call Tanya\, First Link Coordinator\, at 705-848-8145.
URL:https://huronshores.ca/event/alzheimer-info-discussion-group-2/2017-08-24/
LOCATION:Ontario
CATEGORIES:Community News
ATTACH;FMTTYPE=image/jpeg:https://huronshores.ca/wp-content/uploads/2013/01/Alzheimers-Disease.jpg
END:VEVENT
BEGIN:VEVENT
DTSTART;TZID=America/Toronto:20170825T140000
DTEND;TZID=America/Toronto:20170825T153000
DTSTAMP:20260425T063332
CREATED:20151021T181815Z
LAST-MODIFIED:20151021T181815Z
UID:10016410-1503669600-1503675000@huronshores.ca
SUMMARY:Alzheimer Info & Discussion Group
DESCRIPTION:The Alzheimer Society of Sault Ste. Marie & Algoma District hosts an Information & Discussion Group on the 2nd Wednesday of each month\, at the Calvary Gospel Church\, 55 Queen Street\, Blind River from 2:00 – 3:30 p.m.  For more information please call Tanya\, First Link Coordinator\, at 705-848-8145.
URL:https://huronshores.ca/event/alzheimer-info-discussion-group-2/2017-08-25/
LOCATION:Ontario
CATEGORIES:Community News
ATTACH;FMTTYPE=image/jpeg:https://huronshores.ca/wp-content/uploads/2013/01/Alzheimers-Disease.jpg
END:VEVENT
BEGIN:VEVENT
DTSTART;TZID=America/Toronto:20170826T090000
DTEND;TZID=America/Toronto:20170826T140000
DTSTAMP:20260425T063332
CREATED:20170608T201421Z
LAST-MODIFIED:20170608T201421Z
UID:10020165-1503738000-1503756000@huronshores.ca
SUMMARY:Iron Bridge Farmers' Market
DESCRIPTION:The Iron Bridge Farmers’ Market is on Saturdays\, from 9:00 a.m. to 2:00 p.m. in the covered gazebo at the Iron Bridge Historical Museum\, 1 James Street.  Markets will be held weekly until the end of September.  Items available will include farm produce\, book and yard sale items\, as well\, consignment items may also be included (depending on storage availability). Table rentals are $5/table/day. Contact Carl at 705-843-2486 for details. The Museum is open daily from mid-June to September.
URL:https://huronshores.ca/event/iron-bridge-farmers-market-2/2017-08-26/
LOCATION:Ontario
CATEGORIES:Community News,Farmers' Markets,Local Food
ATTACH;FMTTYPE=image/jpeg:https://huronshores.ca/wp-content/uploads/2012/03/Ward-3-Museum-Welcome-sign-Web-large.jpg
END:VEVENT
BEGIN:VEVENT
DTSTART;TZID=America/Toronto:20170826T140000
DTEND;TZID=America/Toronto:20170826T153000
DTSTAMP:20260425T063332
CREATED:20151021T181815Z
LAST-MODIFIED:20151021T181815Z
UID:10016411-1503756000-1503761400@huronshores.ca
SUMMARY:Alzheimer Info & Discussion Group
DESCRIPTION:The Alzheimer Society of Sault Ste. Marie & Algoma District hosts an Information & Discussion Group on the 2nd Wednesday of each month\, at the Calvary Gospel Church\, 55 Queen Street\, Blind River from 2:00 – 3:30 p.m.  For more information please call Tanya\, First Link Coordinator\, at 705-848-8145.
URL:https://huronshores.ca/event/alzheimer-info-discussion-group-2/2017-08-26/
LOCATION:Ontario
CATEGORIES:Community News
ATTACH;FMTTYPE=image/jpeg:https://huronshores.ca/wp-content/uploads/2013/01/Alzheimers-Disease.jpg
END:VEVENT
BEGIN:VEVENT
DTSTART;TZID=America/Toronto:20170827T140000
DTEND;TZID=America/Toronto:20170827T153000
DTSTAMP:20260425T063332
CREATED:20151021T181815Z
LAST-MODIFIED:20151021T181815Z
UID:10016412-1503842400-1503847800@huronshores.ca
SUMMARY:Alzheimer Info & Discussion Group
DESCRIPTION:The Alzheimer Society of Sault Ste. Marie & Algoma District hosts an Information & Discussion Group on the 2nd Wednesday of each month\, at the Calvary Gospel Church\, 55 Queen Street\, Blind River from 2:00 – 3:30 p.m.  For more information please call Tanya\, First Link Coordinator\, at 705-848-8145.
URL:https://huronshores.ca/event/alzheimer-info-discussion-group-2/2017-08-27/
LOCATION:Ontario
CATEGORIES:Community News
ATTACH;FMTTYPE=image/jpeg:https://huronshores.ca/wp-content/uploads/2013/01/Alzheimers-Disease.jpg
END:VEVENT
BEGIN:VEVENT
DTSTART;TZID=America/Toronto:20170828T140000
DTEND;TZID=America/Toronto:20170828T153000
DTSTAMP:20260425T063332
CREATED:20151021T181815Z
LAST-MODIFIED:20151021T181815Z
UID:10016413-1503928800-1503934200@huronshores.ca
SUMMARY:Alzheimer Info & Discussion Group
DESCRIPTION:The Alzheimer Society of Sault Ste. Marie & Algoma District hosts an Information & Discussion Group on the 2nd Wednesday of each month\, at the Calvary Gospel Church\, 55 Queen Street\, Blind River from 2:00 – 3:30 p.m.  For more information please call Tanya\, First Link Coordinator\, at 705-848-8145.
URL:https://huronshores.ca/event/alzheimer-info-discussion-group-2/2017-08-28/
LOCATION:Ontario
CATEGORIES:Community News
ATTACH;FMTTYPE=image/jpeg:https://huronshores.ca/wp-content/uploads/2013/01/Alzheimers-Disease.jpg
END:VEVENT
BEGIN:VEVENT
DTSTART;TZID=America/Toronto:20170829T140000
DTEND;TZID=America/Toronto:20170829T153000
DTSTAMP:20260425T063332
CREATED:20151021T181815Z
LAST-MODIFIED:20151021T181815Z
UID:10016414-1504015200-1504020600@huronshores.ca
SUMMARY:Alzheimer Info & Discussion Group
DESCRIPTION:The Alzheimer Society of Sault Ste. Marie & Algoma District hosts an Information & Discussion Group on the 2nd Wednesday of each month\, at the Calvary Gospel Church\, 55 Queen Street\, Blind River from 2:00 – 3:30 p.m.  For more information please call Tanya\, First Link Coordinator\, at 705-848-8145.
URL:https://huronshores.ca/event/alzheimer-info-discussion-group-2/2017-08-29/
LOCATION:Ontario
CATEGORIES:Community News
ATTACH;FMTTYPE=image/jpeg:https://huronshores.ca/wp-content/uploads/2013/01/Alzheimers-Disease.jpg
END:VEVENT
BEGIN:VEVENT
DTSTART;TZID=America/Toronto:20170829T183000
DTEND;TZID=America/Toronto:20170829T200000
DTSTAMP:20260425T063332
CREATED:20170502T195428Z
LAST-MODIFIED:20170502T195428Z
UID:10020119-1504031400-1504036800@huronshores.ca
SUMMARY:Family Fun Time!
DESCRIPTION:The Iron Bridge Rec Committee hosts Family Fun Time on Tuesday evenings from 6:30 – 8:00 p.m. at the Rec Centre\, 1 Chiblow Lake Rd.  Activities for all ages.  Everyone welcome!
URL:https://huronshores.ca/event/family-fun-time/2017-08-29/
LOCATION:Ontario
CATEGORIES:Community News,Recreation
ATTACH;FMTTYPE=image/jpeg:https://huronshores.ca/wp-content/uploads/2015/09/Family-Activities.jpeg
END:VEVENT
BEGIN:VEVENT
DTSTART;TZID=America/Toronto:20170830T140000
DTEND;TZID=America/Toronto:20170830T153000
DTSTAMP:20260425T063332
CREATED:20151021T181815Z
LAST-MODIFIED:20151021T181815Z
UID:10016415-1504101600-1504107000@huronshores.ca
SUMMARY:Alzheimer Info & Discussion Group
DESCRIPTION:The Alzheimer Society of Sault Ste. Marie & Algoma District hosts an Information & Discussion Group on the 2nd Wednesday of each month\, at the Calvary Gospel Church\, 55 Queen Street\, Blind River from 2:00 – 3:30 p.m.  For more information please call Tanya\, First Link Coordinator\, at 705-848-8145.
URL:https://huronshores.ca/event/alzheimer-info-discussion-group-2/2017-08-30/
LOCATION:Ontario
CATEGORIES:Community News
ATTACH;FMTTYPE=image/jpeg:https://huronshores.ca/wp-content/uploads/2013/01/Alzheimers-Disease.jpg
END:VEVENT
BEGIN:VEVENT
DTSTART;TZID=America/Toronto:20170831T140000
DTEND;TZID=America/Toronto:20170831T153000
DTSTAMP:20260425T063332
CREATED:20151021T181815Z
LAST-MODIFIED:20151021T181815Z
UID:10016416-1504188000-1504193400@huronshores.ca
SUMMARY:Alzheimer Info & Discussion Group
DESCRIPTION:The Alzheimer Society of Sault Ste. Marie & Algoma District hosts an Information & Discussion Group on the 2nd Wednesday of each month\, at the Calvary Gospel Church\, 55 Queen Street\, Blind River from 2:00 – 3:30 p.m.  For more information please call Tanya\, First Link Coordinator\, at 705-848-8145.
URL:https://huronshores.ca/event/alzheimer-info-discussion-group-2/2017-08-31/
LOCATION:Ontario
CATEGORIES:Community News
ATTACH;FMTTYPE=image/jpeg:https://huronshores.ca/wp-content/uploads/2013/01/Alzheimers-Disease.jpg
END:VEVENT
BEGIN:VEVENT
DTSTART;TZID=America/Toronto:20170901T140000
DTEND;TZID=America/Toronto:20170901T153000
DTSTAMP:20260425T063332
CREATED:20151021T181815Z
LAST-MODIFIED:20151021T181815Z
UID:10016417-1504274400-1504279800@huronshores.ca
SUMMARY:Alzheimer Info & Discussion Group
DESCRIPTION:The Alzheimer Society of Sault Ste. Marie & Algoma District hosts an Information & Discussion Group on the 2nd Wednesday of each month\, at the Calvary Gospel Church\, 55 Queen Street\, Blind River from 2:00 – 3:30 p.m.  For more information please call Tanya\, First Link Coordinator\, at 705-848-8145.
URL:https://huronshores.ca/event/alzheimer-info-discussion-group-2/2017-09-01/
LOCATION:Ontario
CATEGORIES:Community News
ATTACH;FMTTYPE=image/jpeg:https://huronshores.ca/wp-content/uploads/2013/01/Alzheimers-Disease.jpg
END:VEVENT
BEGIN:VEVENT
DTSTART;VALUE=DATE:20170902
DTEND;VALUE=DATE:20170903
DTSTAMP:20260425T063332
CREATED:20161219T150319Z
LAST-MODIFIED:20161219T150319Z
UID:10020025-1504310400-1504396799@huronshores.ca
SUMMARY:Iron Bridge Fall Fair
DESCRIPTION:The Iron Bridge Agricultural Society’s Fall Fair is Saturday\, September 2/17.  Watch for details!
URL:https://huronshores.ca/event/iron-bridge-fall-fair-3/
LOCATION:Ontario
CATEGORIES:Community News
ATTACH;FMTTYPE=image/gif:https://huronshores.ca/wp-content/uploads/2013/08/Fall-Fair.gif
END:VEVENT
BEGIN:VEVENT
DTSTART;TZID=America/Toronto:20170902T090000
DTEND;TZID=America/Toronto:20170902T140000
DTSTAMP:20260425T063332
CREATED:20170608T201421Z
LAST-MODIFIED:20170608T201421Z
UID:10020166-1504342800-1504360800@huronshores.ca
SUMMARY:Iron Bridge Farmers' Market
DESCRIPTION:The Iron Bridge Farmers’ Market is on Saturdays\, from 9:00 a.m. to 2:00 p.m. in the covered gazebo at the Iron Bridge Historical Museum\, 1 James Street.  Markets will be held weekly until the end of September.  Items available will include farm produce\, book and yard sale items\, as well\, consignment items may also be included (depending on storage availability). Table rentals are $5/table/day. Contact Carl at 705-843-2486 for details. The Museum is open daily from mid-June to September.
URL:https://huronshores.ca/event/iron-bridge-farmers-market-2/2017-09-02/
LOCATION:Ontario
CATEGORIES:Community News,Farmers' Markets,Local Food
ATTACH;FMTTYPE=image/jpeg:https://huronshores.ca/wp-content/uploads/2012/03/Ward-3-Museum-Welcome-sign-Web-large.jpg
END:VEVENT
BEGIN:VEVENT
DTSTART;TZID=America/Toronto:20170902T140000
DTEND;TZID=America/Toronto:20170902T153000
DTSTAMP:20260425T063332
CREATED:20151021T181815Z
LAST-MODIFIED:20151021T181815Z
UID:10016418-1504360800-1504366200@huronshores.ca
SUMMARY:Alzheimer Info & Discussion Group
DESCRIPTION:The Alzheimer Society of Sault Ste. Marie & Algoma District hosts an Information & Discussion Group on the 2nd Wednesday of each month\, at the Calvary Gospel Church\, 55 Queen Street\, Blind River from 2:00 – 3:30 p.m.  For more information please call Tanya\, First Link Coordinator\, at 705-848-8145.
URL:https://huronshores.ca/event/alzheimer-info-discussion-group-2/2017-09-02/
LOCATION:Ontario
CATEGORIES:Community News
ATTACH;FMTTYPE=image/jpeg:https://huronshores.ca/wp-content/uploads/2013/01/Alzheimers-Disease.jpg
END:VEVENT
BEGIN:VEVENT
DTSTART;TZID=America/Toronto:20170903T140000
DTEND;TZID=America/Toronto:20170903T153000
DTSTAMP:20260425T063332
CREATED:20151021T181815Z
LAST-MODIFIED:20151021T181815Z
UID:10016419-1504447200-1504452600@huronshores.ca
SUMMARY:Alzheimer Info & Discussion Group
DESCRIPTION:The Alzheimer Society of Sault Ste. Marie & Algoma District hosts an Information & Discussion Group on the 2nd Wednesday of each month\, at the Calvary Gospel Church\, 55 Queen Street\, Blind River from 2:00 – 3:30 p.m.  For more information please call Tanya\, First Link Coordinator\, at 705-848-8145.
URL:https://huronshores.ca/event/alzheimer-info-discussion-group-2/2017-09-03/
LOCATION:Ontario
CATEGORIES:Community News
ATTACH;FMTTYPE=image/jpeg:https://huronshores.ca/wp-content/uploads/2013/01/Alzheimers-Disease.jpg
END:VEVENT
BEGIN:VEVENT
DTSTART;TZID=America/Toronto:20170904T140000
DTEND;TZID=America/Toronto:20170904T153000
DTSTAMP:20260425T063332
CREATED:20151021T181815Z
LAST-MODIFIED:20151021T181815Z
UID:10016420-1504533600-1504539000@huronshores.ca
SUMMARY:Alzheimer Info & Discussion Group
DESCRIPTION:The Alzheimer Society of Sault Ste. Marie & Algoma District hosts an Information & Discussion Group on the 2nd Wednesday of each month\, at the Calvary Gospel Church\, 55 Queen Street\, Blind River from 2:00 – 3:30 p.m.  For more information please call Tanya\, First Link Coordinator\, at 705-848-8145.
URL:https://huronshores.ca/event/alzheimer-info-discussion-group-2/2017-09-04/
LOCATION:Ontario
CATEGORIES:Community News
ATTACH;FMTTYPE=image/jpeg:https://huronshores.ca/wp-content/uploads/2013/01/Alzheimers-Disease.jpg
END:VEVENT
BEGIN:VEVENT
DTSTART;TZID=America/Toronto:20170905T140000
DTEND;TZID=America/Toronto:20170905T153000
DTSTAMP:20260425T063332
CREATED:20151021T181815Z
LAST-MODIFIED:20151021T181815Z
UID:10016421-1504620000-1504625400@huronshores.ca
SUMMARY:Alzheimer Info & Discussion Group
DESCRIPTION:The Alzheimer Society of Sault Ste. Marie & Algoma District hosts an Information & Discussion Group on the 2nd Wednesday of each month\, at the Calvary Gospel Church\, 55 Queen Street\, Blind River from 2:00 – 3:30 p.m.  For more information please call Tanya\, First Link Coordinator\, at 705-848-8145.
URL:https://huronshores.ca/event/alzheimer-info-discussion-group-2/2017-09-05/
LOCATION:Ontario
CATEGORIES:Community News
ATTACH;FMTTYPE=image/jpeg:https://huronshores.ca/wp-content/uploads/2013/01/Alzheimers-Disease.jpg
END:VEVENT
BEGIN:VEVENT
DTSTART;TZID=America/Toronto:20170906T140000
DTEND;TZID=America/Toronto:20170906T153000
DTSTAMP:20260425T063332
CREATED:20151021T181815Z
LAST-MODIFIED:20151021T181815Z
UID:10016422-1504706400-1504711800@huronshores.ca
SUMMARY:Alzheimer Info & Discussion Group
DESCRIPTION:The Alzheimer Society of Sault Ste. Marie & Algoma District hosts an Information & Discussion Group on the 2nd Wednesday of each month\, at the Calvary Gospel Church\, 55 Queen Street\, Blind River from 2:00 – 3:30 p.m.  For more information please call Tanya\, First Link Coordinator\, at 705-848-8145.
URL:https://huronshores.ca/event/alzheimer-info-discussion-group-2/2017-09-06/
LOCATION:Ontario
CATEGORIES:Community News
ATTACH;FMTTYPE=image/jpeg:https://huronshores.ca/wp-content/uploads/2013/01/Alzheimers-Disease.jpg
END:VEVENT
BEGIN:VEVENT
DTSTART;TZID=America/Toronto:20170907T110000
DTEND;TZID=America/Toronto:20170907T120000
DTSTAMP:20260425T063332
CREATED:20161129T195706Z
LAST-MODIFIED:20161129T195706Z
UID:10019991-1504782000-1504785600@huronshores.ca
SUMMARY:MP Carol Hughes Constituency Clinic
DESCRIPTION:Algoma-Manitoulin-Kapuskasing MP Carol Hughes will hold  Constituency Clinics in 2017 from 11:00 a.m. to Noon at the Municipal Office\, 7 Bridge St.\, Iron Bridge on the following Thursdays:  January 12\, March 9\, May 1\, September 7\, and November 9.  For further information please contact the Elliot Lake  Constituency Office as listed below.
URL:https://huronshores.ca/event/mp-carol-hughes-constituency-clinic-2/2017-09-07/
LOCATION:Ontario
CATEGORIES:Community News
ATTACH;FMTTYPE=image/jpeg:https://huronshores.ca/wp-content/uploads/2016/11/HughesCarol_NDP1.jpg
END:VEVENT
BEGIN:VEVENT
DTSTART;TZID=America/Toronto:20170907T140000
DTEND;TZID=America/Toronto:20170907T153000
DTSTAMP:20260425T063332
CREATED:20151021T181815Z
LAST-MODIFIED:20151021T181815Z
UID:10016423-1504792800-1504798200@huronshores.ca
SUMMARY:Alzheimer Info & Discussion Group
DESCRIPTION:The Alzheimer Society of Sault Ste. Marie & Algoma District hosts an Information & Discussion Group on the 2nd Wednesday of each month\, at the Calvary Gospel Church\, 55 Queen Street\, Blind River from 2:00 – 3:30 p.m.  For more information please call Tanya\, First Link Coordinator\, at 705-848-8145.
URL:https://huronshores.ca/event/alzheimer-info-discussion-group-2/2017-09-07/
LOCATION:Ontario
CATEGORIES:Community News
ATTACH;FMTTYPE=image/jpeg:https://huronshores.ca/wp-content/uploads/2013/01/Alzheimers-Disease.jpg
END:VEVENT
BEGIN:VEVENT
DTSTART;TZID=America/Toronto:20170908T120000
DTEND;TZID=America/Toronto:20170908T220000
DTSTAMP:20260425T063332
CREATED:20170907T192033Z
LAST-MODIFIED:20170907T192033Z
UID:10020186-1504872000-1504908000@huronshores.ca
SUMMARY:138th Annual Central Algoma Exhibition & Fall Fair
DESCRIPTION:Hours for the Fair are:  Friday\, September 8th\, Noon – 10:00 p.m.; Saturday\, September 9th\, 8:00 a.m. – 6:00 p.m.; and Sunday\, September 10th\, 8:00 a.m. – 4:30 p.m.  Please visit the facebook link below for more information.  Fun for the whole family!
URL:https://huronshores.ca/event/138th-annual-central-algoma-exhibition-fall-fair/2017-09-08/
LOCATION:Ontario
CATEGORIES:Community News,Local Food
ATTACH;FMTTYPE=image/gif:https://huronshores.ca/wp-content/uploads/2013/08/Fall-Fair.gif
END:VEVENT
BEGIN:VEVENT
DTSTART;TZID=America/Toronto:20170908T140000
DTEND;TZID=America/Toronto:20170908T153000
DTSTAMP:20260425T063332
CREATED:20151021T181815Z
LAST-MODIFIED:20151021T181815Z
UID:10016424-1504879200-1504884600@huronshores.ca
SUMMARY:Alzheimer Info & Discussion Group
DESCRIPTION:The Alzheimer Society of Sault Ste. Marie & Algoma District hosts an Information & Discussion Group on the 2nd Wednesday of each month\, at the Calvary Gospel Church\, 55 Queen Street\, Blind River from 2:00 – 3:30 p.m.  For more information please call Tanya\, First Link Coordinator\, at 705-848-8145.
URL:https://huronshores.ca/event/alzheimer-info-discussion-group-2/2017-09-08/
LOCATION:Ontario
CATEGORIES:Community News
ATTACH;FMTTYPE=image/jpeg:https://huronshores.ca/wp-content/uploads/2013/01/Alzheimers-Disease.jpg
END:VEVENT
BEGIN:VEVENT
DTSTART;TZID=America/Toronto:20170909T080000
DTEND;TZID=America/Toronto:20170909T180000
DTSTAMP:20260425T063332
CREATED:20170907T192442Z
LAST-MODIFIED:20170907T192442Z
UID:10020189-1504944000-1504980000@huronshores.ca
SUMMARY:138th Annual Central Algoma Exhibition & Fall Fair
DESCRIPTION:Hours for the Fair are:  Friday\, September 8th\, Noon – 10:00 p.m.; Saturday\, September 9th\, 8:00 a.m. – 6:00 p.m.; and Sunday\, September 10th\, 8:00 a.m. – 4:30 p.m.  Please visit the facebook link below for more information.  Fun for the whole family!
URL:https://huronshores.ca/event/138th-annual-central-algoma-exhibition-fall-fair-2/
LOCATION:Ontario
CATEGORIES:Community News,Local Food
ATTACH;FMTTYPE=image/gif:https://huronshores.ca/wp-content/uploads/2013/08/Fall-Fair.gif
END:VEVENT
BEGIN:VEVENT
DTSTART;TZID=America/Toronto:20170909T090000
DTEND;TZID=America/Toronto:20170909T140000
DTSTAMP:20260425T063332
CREATED:20170608T201421Z
LAST-MODIFIED:20170608T201421Z
UID:10020167-1504947600-1504965600@huronshores.ca
SUMMARY:Iron Bridge Farmers' Market
DESCRIPTION:The Iron Bridge Farmers’ Market is on Saturdays\, from 9:00 a.m. to 2:00 p.m. in the covered gazebo at the Iron Bridge Historical Museum\, 1 James Street.  Markets will be held weekly until the end of September.  Items available will include farm produce\, book and yard sale items\, as well\, consignment items may also be included (depending on storage availability). Table rentals are $5/table/day. Contact Carl at 705-843-2486 for details. The Museum is open daily from mid-June to September.
URL:https://huronshores.ca/event/iron-bridge-farmers-market-2/2017-09-09/
LOCATION:Ontario
CATEGORIES:Community News,Farmers' Markets,Local Food
ATTACH;FMTTYPE=image/jpeg:https://huronshores.ca/wp-content/uploads/2012/03/Ward-3-Museum-Welcome-sign-Web-large.jpg
END:VEVENT
BEGIN:VEVENT
DTSTART;TZID=America/Toronto:20170909T100000
DTEND;TZID=America/Toronto:20170909T130000
DTSTAMP:20260425T063332
CREATED:20170907T192845Z
LAST-MODIFIED:20170907T192845Z
UID:10020193-1504951200-1504962000@huronshores.ca
SUMMARY:Fruit & Veggie Scavenger Hunt
DESCRIPTION:The North Channel Healthy Kids Community Challenge Committee is sponsoring a Fruit & Veggie Scavenger Hunt on Saturday\, September 9th from 10:00 a.m. to 1:00 p.m. at the 138th Annual Central Algoma Exhibition & Fall Fair (Bruce Mines Arena)\, 35 Hwy. 638\, Bruce Mines.  The Scavenger Hunt is open to children 12 and under.  Please click on the link below for more information and the required registration form.
URL:https://huronshores.ca/event/fruit-veggie-scavenger-hunt/
LOCATION:Ontario
CATEGORIES:Community News,Local Food
ATTACH;FMTTYPE=image/jpeg:https://huronshores.ca/wp-content/uploads/2017/09/FV-SCAVENGER-HUNT-POSTER-english-revised-12-and-under.jpg
END:VEVENT
BEGIN:VEVENT
DTSTART;TZID=America/Toronto:20170909T140000
DTEND;TZID=America/Toronto:20170909T153000
DTSTAMP:20260425T063332
CREATED:20151021T181815Z
LAST-MODIFIED:20151021T181815Z
UID:10016425-1504965600-1504971000@huronshores.ca
SUMMARY:Alzheimer Info & Discussion Group
DESCRIPTION:The Alzheimer Society of Sault Ste. Marie & Algoma District hosts an Information & Discussion Group on the 2nd Wednesday of each month\, at the Calvary Gospel Church\, 55 Queen Street\, Blind River from 2:00 – 3:30 p.m.  For more information please call Tanya\, First Link Coordinator\, at 705-848-8145.
URL:https://huronshores.ca/event/alzheimer-info-discussion-group-2/2017-09-09/
LOCATION:Ontario
CATEGORIES:Community News
ATTACH;FMTTYPE=image/jpeg:https://huronshores.ca/wp-content/uploads/2013/01/Alzheimers-Disease.jpg
END:VEVENT
BEGIN:VEVENT
DTSTART;TZID=America/Toronto:20170910T080000
DTEND;TZID=America/Toronto:20170910T163000
DTSTAMP:20260425T063332
CREATED:20170907T192717Z
LAST-MODIFIED:20170907T192717Z
UID:10020190-1505030400-1505061000@huronshores.ca
SUMMARY:138th Annual Central Algoma Exhibition & Fall Fair
DESCRIPTION:Hours for the Fair are:  Friday\, September 8th\, Noon – 10:00 p.m.; Saturday\, September 9th\, 8:00 a.m. – 6:00 p.m.; and Sunday\, September 10th\, 8:00 a.m. – 4:30 p.m.  Please visit the facebook link below for more information.  Fun for the whole family!
URL:https://huronshores.ca/event/138th-annual-central-algoma-exhibition-fall-fair-3/
LOCATION:Ontario
CATEGORIES:Community News,Local Food
ATTACH;FMTTYPE=image/gif:https://huronshores.ca/wp-content/uploads/2013/08/Fall-Fair.gif
END:VEVENT
BEGIN:VEVENT
DTSTART;TZID=America/Toronto:20170910T140000
DTEND;TZID=America/Toronto:20170910T153000
DTSTAMP:20260425T063332
CREATED:20151021T181815Z
LAST-MODIFIED:20151021T181815Z
UID:10016426-1505052000-1505057400@huronshores.ca
SUMMARY:Alzheimer Info & Discussion Group
DESCRIPTION:The Alzheimer Society of Sault Ste. Marie & Algoma District hosts an Information & Discussion Group on the 2nd Wednesday of each month\, at the Calvary Gospel Church\, 55 Queen Street\, Blind River from 2:00 – 3:30 p.m.  For more information please call Tanya\, First Link Coordinator\, at 705-848-8145.
URL:https://huronshores.ca/event/alzheimer-info-discussion-group-2/2017-09-10/
LOCATION:Ontario
CATEGORIES:Community News
ATTACH;FMTTYPE=image/jpeg:https://huronshores.ca/wp-content/uploads/2013/01/Alzheimers-Disease.jpg
END:VEVENT
END:VCALENDAR