BEGIN:VCALENDAR
VERSION:2.0
PRODID:-//Huron Shores - ECPv6.15.11//NONSGML v1.0//EN
CALSCALE:GREGORIAN
METHOD:PUBLISH
X-WR-CALNAME:Huron Shores
X-ORIGINAL-URL:https://huronshores.ca
X-WR-CALDESC:Events for Huron Shores
REFRESH-INTERVAL;VALUE=DURATION:PT1H
X-Robots-Tag:noindex
X-PUBLISHED-TTL:PT1H
BEGIN:VTIMEZONE
TZID:America/Toronto
BEGIN:DAYLIGHT
TZOFFSETFROM:-0500
TZOFFSETTO:-0400
TZNAME:EDT
DTSTART:20170312T070000
END:DAYLIGHT
BEGIN:STANDARD
TZOFFSETFROM:-0400
TZOFFSETTO:-0500
TZNAME:EST
DTSTART:20171105T060000
END:STANDARD
BEGIN:DAYLIGHT
TZOFFSETFROM:-0500
TZOFFSETTO:-0400
TZNAME:EDT
DTSTART:20180311T070000
END:DAYLIGHT
BEGIN:STANDARD
TZOFFSETFROM:-0400
TZOFFSETTO:-0500
TZNAME:EST
DTSTART:20181104T060000
END:STANDARD
BEGIN:DAYLIGHT
TZOFFSETFROM:-0500
TZOFFSETTO:-0400
TZNAME:EDT
DTSTART:20190310T070000
END:DAYLIGHT
BEGIN:STANDARD
TZOFFSETFROM:-0400
TZOFFSETTO:-0500
TZNAME:EST
DTSTART:20191103T060000
END:STANDARD
END:VTIMEZONE
BEGIN:VEVENT
DTSTART;TZID=America/Toronto:20181124T100000
DTEND;TZID=America/Toronto:20181124T150000
DTSTAMP:20260424T003018
CREATED:20181116T154412Z
LAST-MODIFIED:20181116T154412Z
UID:10021355-1543053600-1543071600@huronshores.ca
SUMMARY:Christmas Bazaar
DESCRIPTION:The Iron Bridge Lions Club hosts a Christmas Bazaar on Saturday\, November 24/18 from 10:00 a.m. – 3:00 p.m. at the Lions Club Hall\, 10 Clarissa Street.  Admission is by free will donation or a non-perishable food item for the area Christmas Hamper Program.  Lunch available.  Come & see the new & returning exhibitors.  Contact Janet at 705-843-2208 for more info.
URL:https://huronshores.ca/event/christmas-bazaar-2/
LOCATION:Ontario
CATEGORIES:Community News
ATTACH;FMTTYPE=image/jpeg:https://huronshores.ca/wp-content/uploads/2017/11/Christmas-Bazaar.jpg
END:VEVENT
BEGIN:VEVENT
DTSTART;TZID=America/Toronto:20181124T140000
DTEND;TZID=America/Toronto:20181124T153000
DTSTAMP:20260424T003018
CREATED:20151021T181815Z
LAST-MODIFIED:20151021T181815Z
UID:10016867-1543068000-1543073400@huronshores.ca
SUMMARY:Alzheimer Info & Discussion Group
DESCRIPTION:The Alzheimer Society of Sault Ste. Marie & Algoma District hosts an Information & Discussion Group on the 2nd Wednesday of each month\, at the Calvary Gospel Church\, 55 Queen Street\, Blind River from 2:00 – 3:30 p.m.  For more information please call Tanya\, First Link Coordinator\, at 705-848-8145.
URL:https://huronshores.ca/event/alzheimer-info-discussion-group-2/2018-11-24/
LOCATION:Ontario
CATEGORIES:Community News
ATTACH;FMTTYPE=image/jpeg:https://huronshores.ca/wp-content/uploads/2013/01/Alzheimers-Disease.jpg
END:VEVENT
BEGIN:VEVENT
DTSTART;TZID=America/Toronto:20181124T190000
DTEND;TZID=America/Toronto:20181124T190000
DTSTAMP:20260424T003018
CREATED:20181031T140822Z
LAST-MODIFIED:20181031T140822Z
UID:10021345-1543086000-1543086000@huronshores.ca
SUMMARY:Stories in the North - Paula Dunning & Jeff Hinich
DESCRIPTION:
URL:https://huronshores.ca/event/stories-in-the-north-paula-dunning-jeff-hinich/
LOCATION:Ontario
CATEGORIES:Community News
ATTACH;FMTTYPE=image/png:https://huronshores.ca/wp-content/uploads/2018/10/Stories-in-the-North-Dunning.png
END:VEVENT
BEGIN:VEVENT
DTSTART;TZID=America/Toronto:20181124T190000
DTEND;TZID=America/Toronto:20181124T190000
DTSTAMP:20260424T003018
CREATED:20181116T151404Z
LAST-MODIFIED:20181116T151404Z
UID:10021349-1543086000-1543086000@huronshores.ca
SUMMARY:Scott Woods' Old Time Christmas
DESCRIPTION:Canadian Open Fiddle Champion Scott Woods and his Band present an Old Time Christmas\, November 24/18\, 7:00 p.m. Alain Bray Auditorium\, 117 Young Fox Rd.\, Blind River. Tickets may be purchased at Tammy Roque’s Hair Salon\, or at Quikway\, in Blind River\, or by calling Tammy at 705-356-2135 or Bea at 705-356-1923.  Credit Card orders by calling 1-855-726-8896.  Tickets:  Adults $25; Children $10.  Proceeds to the Blind River Rotary Club.
URL:https://huronshores.ca/event/scott-woods-old-time-christmas/
LOCATION:Ontario
CATEGORIES:Community News
ATTACH;FMTTYPE=image/jpeg:https://huronshores.ca/wp-content/uploads/2018/11/scott-woods-blind-river-otc-2018_orig.jpg
END:VEVENT
BEGIN:VEVENT
DTSTART;TZID=America/Toronto:20181125T140000
DTEND;TZID=America/Toronto:20181125T153000
DTSTAMP:20260424T003018
CREATED:20151021T181815Z
LAST-MODIFIED:20151021T181815Z
UID:10016868-1543154400-1543159800@huronshores.ca
SUMMARY:Alzheimer Info & Discussion Group
DESCRIPTION:The Alzheimer Society of Sault Ste. Marie & Algoma District hosts an Information & Discussion Group on the 2nd Wednesday of each month\, at the Calvary Gospel Church\, 55 Queen Street\, Blind River from 2:00 – 3:30 p.m.  For more information please call Tanya\, First Link Coordinator\, at 705-848-8145.
URL:https://huronshores.ca/event/alzheimer-info-discussion-group-2/2018-11-25/
LOCATION:Ontario
CATEGORIES:Community News
ATTACH;FMTTYPE=image/jpeg:https://huronshores.ca/wp-content/uploads/2013/01/Alzheimers-Disease.jpg
END:VEVENT
BEGIN:VEVENT
DTSTART;TZID=America/Toronto:20181126T140000
DTEND;TZID=America/Toronto:20181126T153000
DTSTAMP:20260424T003018
CREATED:20151021T181815Z
LAST-MODIFIED:20151021T181815Z
UID:10016869-1543240800-1543246200@huronshores.ca
SUMMARY:Alzheimer Info & Discussion Group
DESCRIPTION:The Alzheimer Society of Sault Ste. Marie & Algoma District hosts an Information & Discussion Group on the 2nd Wednesday of each month\, at the Calvary Gospel Church\, 55 Queen Street\, Blind River from 2:00 – 3:30 p.m.  For more information please call Tanya\, First Link Coordinator\, at 705-848-8145.
URL:https://huronshores.ca/event/alzheimer-info-discussion-group-2/2018-11-26/
LOCATION:Ontario
CATEGORIES:Community News
ATTACH;FMTTYPE=image/jpeg:https://huronshores.ca/wp-content/uploads/2013/01/Alzheimers-Disease.jpg
END:VEVENT
BEGIN:VEVENT
DTSTART;TZID=America/Toronto:20181127T140000
DTEND;TZID=America/Toronto:20181127T153000
DTSTAMP:20260424T003018
CREATED:20151021T181815Z
LAST-MODIFIED:20151021T181815Z
UID:10016870-1543327200-1543332600@huronshores.ca
SUMMARY:Alzheimer Info & Discussion Group
DESCRIPTION:The Alzheimer Society of Sault Ste. Marie & Algoma District hosts an Information & Discussion Group on the 2nd Wednesday of each month\, at the Calvary Gospel Church\, 55 Queen Street\, Blind River from 2:00 – 3:30 p.m.  For more information please call Tanya\, First Link Coordinator\, at 705-848-8145.
URL:https://huronshores.ca/event/alzheimer-info-discussion-group-2/2018-11-27/
LOCATION:Ontario
CATEGORIES:Community News
ATTACH;FMTTYPE=image/jpeg:https://huronshores.ca/wp-content/uploads/2013/01/Alzheimers-Disease.jpg
END:VEVENT
BEGIN:VEVENT
DTSTART;TZID=America/Toronto:20181128T140000
DTEND;TZID=America/Toronto:20181128T153000
DTSTAMP:20260424T003018
CREATED:20151021T181815Z
LAST-MODIFIED:20151021T181815Z
UID:10016871-1543413600-1543419000@huronshores.ca
SUMMARY:Alzheimer Info & Discussion Group
DESCRIPTION:The Alzheimer Society of Sault Ste. Marie & Algoma District hosts an Information & Discussion Group on the 2nd Wednesday of each month\, at the Calvary Gospel Church\, 55 Queen Street\, Blind River from 2:00 – 3:30 p.m.  For more information please call Tanya\, First Link Coordinator\, at 705-848-8145.
URL:https://huronshores.ca/event/alzheimer-info-discussion-group-2/2018-11-28/
LOCATION:Ontario
CATEGORIES:Community News
ATTACH;FMTTYPE=image/jpeg:https://huronshores.ca/wp-content/uploads/2013/01/Alzheimers-Disease.jpg
END:VEVENT
BEGIN:VEVENT
DTSTART;TZID=America/Toronto:20181129T140000
DTEND;TZID=America/Toronto:20181129T153000
DTSTAMP:20260424T003018
CREATED:20151021T181815Z
LAST-MODIFIED:20151021T181815Z
UID:10016872-1543500000-1543505400@huronshores.ca
SUMMARY:Alzheimer Info & Discussion Group
DESCRIPTION:The Alzheimer Society of Sault Ste. Marie & Algoma District hosts an Information & Discussion Group on the 2nd Wednesday of each month\, at the Calvary Gospel Church\, 55 Queen Street\, Blind River from 2:00 – 3:30 p.m.  For more information please call Tanya\, First Link Coordinator\, at 705-848-8145.
URL:https://huronshores.ca/event/alzheimer-info-discussion-group-2/2018-11-29/
LOCATION:Ontario
CATEGORIES:Community News
ATTACH;FMTTYPE=image/jpeg:https://huronshores.ca/wp-content/uploads/2013/01/Alzheimers-Disease.jpg
END:VEVENT
BEGIN:VEVENT
DTSTART;TZID=America/Toronto:20181130T140000
DTEND;TZID=America/Toronto:20181130T153000
DTSTAMP:20260424T003018
CREATED:20151021T181815Z
LAST-MODIFIED:20151021T181815Z
UID:10016873-1543586400-1543591800@huronshores.ca
SUMMARY:Alzheimer Info & Discussion Group
DESCRIPTION:The Alzheimer Society of Sault Ste. Marie & Algoma District hosts an Information & Discussion Group on the 2nd Wednesday of each month\, at the Calvary Gospel Church\, 55 Queen Street\, Blind River from 2:00 – 3:30 p.m.  For more information please call Tanya\, First Link Coordinator\, at 705-848-8145.
URL:https://huronshores.ca/event/alzheimer-info-discussion-group-2/2018-11-30/
LOCATION:Ontario
CATEGORIES:Community News
ATTACH;FMTTYPE=image/jpeg:https://huronshores.ca/wp-content/uploads/2013/01/Alzheimers-Disease.jpg
END:VEVENT
BEGIN:VEVENT
DTSTART;TZID=America/Toronto:20181130T170000
DTEND;TZID=America/Toronto:20181130T190000
DTSTAMP:20260424T003018
CREATED:20181009T185456Z
LAST-MODIFIED:20181009T185456Z
UID:10021337-1543597200-1543604400@huronshores.ca
SUMMARY:Fish Fry
DESCRIPTION:Thessalon RC Legion Branch 182 hosts a Fish Fry\, Friday\, November 30/18 from 5:00-7:00 p.m.  Take-outs should be called in by 4:30 p.m. & picked up by 5:00 p.m. Call 705-842-2418.
URL:https://huronshores.ca/event/fish-fry-6/
LOCATION:Ontario
CATEGORIES:Community News,Local Food
ATTACH;FMTTYPE=image/jpeg:https://huronshores.ca/wp-content/uploads/2015/12/Friday-Fish-Fry.jpg
END:VEVENT
BEGIN:VEVENT
DTSTART;TZID=America/Toronto:20181201T113000
DTEND;TZID=America/Toronto:20181201T133000
DTSTAMP:20260424T003018
CREATED:20181009T191110Z
LAST-MODIFIED:20181009T191110Z
UID:10021341-1543663800-1543671000@huronshores.ca
SUMMARY:Christmas Luncheon & Bake Sale
DESCRIPTION:A Christmas Luncheon & Bake Sale will be held at Zion United Church\, Thessalon\, Saturday\, December 1/18 from 11:30 a.m. to 1:30 p.m.  Soup\, sandwiches\, relish tray\, dessert\, coffee\, tea\, juice.  Touch & Take table & silent auction.  Door prize.  Hosted by the Little Rapids Church Ladies.
URL:https://huronshores.ca/event/christmas-luncheon-bake-sale-3/
LOCATION:Ontario
CATEGORIES:Community News,Local Food
ATTACH;FMTTYPE=image/jpeg:https://huronshores.ca/wp-content/uploads/2015/11/Soup-Sandwich-1.jpg
END:VEVENT
BEGIN:VEVENT
DTSTART;TZID=America/Toronto:20181201T140000
DTEND;TZID=America/Toronto:20181201T153000
DTSTAMP:20260424T003018
CREATED:20151021T181815Z
LAST-MODIFIED:20151021T181815Z
UID:10016874-1543672800-1543678200@huronshores.ca
SUMMARY:Alzheimer Info & Discussion Group
DESCRIPTION:The Alzheimer Society of Sault Ste. Marie & Algoma District hosts an Information & Discussion Group on the 2nd Wednesday of each month\, at the Calvary Gospel Church\, 55 Queen Street\, Blind River from 2:00 – 3:30 p.m.  For more information please call Tanya\, First Link Coordinator\, at 705-848-8145.
URL:https://huronshores.ca/event/alzheimer-info-discussion-group-2/2018-12-01/
LOCATION:Ontario
CATEGORIES:Community News
ATTACH;FMTTYPE=image/jpeg:https://huronshores.ca/wp-content/uploads/2013/01/Alzheimers-Disease.jpg
END:VEVENT
BEGIN:VEVENT
DTSTART;TZID=America/Toronto:20181202T140000
DTEND;TZID=America/Toronto:20181202T153000
DTSTAMP:20260424T003018
CREATED:20151021T181815Z
LAST-MODIFIED:20151021T181815Z
UID:10016875-1543759200-1543764600@huronshores.ca
SUMMARY:Alzheimer Info & Discussion Group
DESCRIPTION:The Alzheimer Society of Sault Ste. Marie & Algoma District hosts an Information & Discussion Group on the 2nd Wednesday of each month\, at the Calvary Gospel Church\, 55 Queen Street\, Blind River from 2:00 – 3:30 p.m.  For more information please call Tanya\, First Link Coordinator\, at 705-848-8145.
URL:https://huronshores.ca/event/alzheimer-info-discussion-group-2/2018-12-02/
LOCATION:Ontario
CATEGORIES:Community News
ATTACH;FMTTYPE=image/jpeg:https://huronshores.ca/wp-content/uploads/2013/01/Alzheimers-Disease.jpg
END:VEVENT
BEGIN:VEVENT
DTSTART;TZID=America/Toronto:20181203T140000
DTEND;TZID=America/Toronto:20181203T153000
DTSTAMP:20260424T003018
CREATED:20151021T181815Z
LAST-MODIFIED:20151021T181815Z
UID:10016876-1543845600-1543851000@huronshores.ca
SUMMARY:Alzheimer Info & Discussion Group
DESCRIPTION:The Alzheimer Society of Sault Ste. Marie & Algoma District hosts an Information & Discussion Group on the 2nd Wednesday of each month\, at the Calvary Gospel Church\, 55 Queen Street\, Blind River from 2:00 – 3:30 p.m.  For more information please call Tanya\, First Link Coordinator\, at 705-848-8145.
URL:https://huronshores.ca/event/alzheimer-info-discussion-group-2/2018-12-03/
LOCATION:Ontario
CATEGORIES:Community News
ATTACH;FMTTYPE=image/jpeg:https://huronshores.ca/wp-content/uploads/2013/01/Alzheimers-Disease.jpg
END:VEVENT
BEGIN:VEVENT
DTSTART;TZID=America/Toronto:20181204T140000
DTEND;TZID=America/Toronto:20181204T153000
DTSTAMP:20260424T003018
CREATED:20151021T181815Z
LAST-MODIFIED:20151021T181815Z
UID:10016877-1543932000-1543937400@huronshores.ca
SUMMARY:Alzheimer Info & Discussion Group
DESCRIPTION:The Alzheimer Society of Sault Ste. Marie & Algoma District hosts an Information & Discussion Group on the 2nd Wednesday of each month\, at the Calvary Gospel Church\, 55 Queen Street\, Blind River from 2:00 – 3:30 p.m.  For more information please call Tanya\, First Link Coordinator\, at 705-848-8145.
URL:https://huronshores.ca/event/alzheimer-info-discussion-group-2/2018-12-04/
LOCATION:Ontario
CATEGORIES:Community News
ATTACH;FMTTYPE=image/jpeg:https://huronshores.ca/wp-content/uploads/2013/01/Alzheimers-Disease.jpg
END:VEVENT
BEGIN:VEVENT
DTSTART;TZID=America/Toronto:20181205T113000
DTEND;TZID=America/Toronto:20181205T133000
DTSTAMP:20260424T003018
CREATED:20181116T151944Z
LAST-MODIFIED:20181116T151944Z
UID:10021350-1544009400-1544016600@huronshores.ca
SUMMARY:"Joy to the World" Christmas Dinner
DESCRIPTION:The St. Ambrose CWL host a Christmas Dinner on Wednesday\, December 5/18\, from 11:30 a.m. – 1:30 p.m. at St. Ambrose Parish Hall\, 286 Water St.\, Thessalon.  Price:  $18\, includes Christmas Dinner & all the trimmings.  Featuring a Bake Table\, Silent Auction\, Penny Table\, 50/50 Draw.
URL:https://huronshores.ca/event/joy-to-the-world-christmas-dinner/
LOCATION:Ontario
CATEGORIES:Community News
ATTACH;FMTTYPE=image/jpeg:https://huronshores.ca/wp-content/uploads/2017/11/christmas-dinner.jpg
END:VEVENT
BEGIN:VEVENT
DTSTART;TZID=America/Toronto:20181205T140000
DTEND;TZID=America/Toronto:20181205T153000
DTSTAMP:20260424T003018
CREATED:20151021T181815Z
LAST-MODIFIED:20151021T181815Z
UID:10016878-1544018400-1544023800@huronshores.ca
SUMMARY:Alzheimer Info & Discussion Group
DESCRIPTION:The Alzheimer Society of Sault Ste. Marie & Algoma District hosts an Information & Discussion Group on the 2nd Wednesday of each month\, at the Calvary Gospel Church\, 55 Queen Street\, Blind River from 2:00 – 3:30 p.m.  For more information please call Tanya\, First Link Coordinator\, at 705-848-8145.
URL:https://huronshores.ca/event/alzheimer-info-discussion-group-2/2018-12-05/
LOCATION:Ontario
CATEGORIES:Community News
ATTACH;FMTTYPE=image/jpeg:https://huronshores.ca/wp-content/uploads/2013/01/Alzheimers-Disease.jpg
END:VEVENT
BEGIN:VEVENT
DTSTART;TZID=America/Toronto:20181206T140000
DTEND;TZID=America/Toronto:20181206T153000
DTSTAMP:20260424T003018
CREATED:20151021T181815Z
LAST-MODIFIED:20151021T181815Z
UID:10016879-1544104800-1544110200@huronshores.ca
SUMMARY:Alzheimer Info & Discussion Group
DESCRIPTION:The Alzheimer Society of Sault Ste. Marie & Algoma District hosts an Information & Discussion Group on the 2nd Wednesday of each month\, at the Calvary Gospel Church\, 55 Queen Street\, Blind River from 2:00 – 3:30 p.m.  For more information please call Tanya\, First Link Coordinator\, at 705-848-8145.
URL:https://huronshores.ca/event/alzheimer-info-discussion-group-2/2018-12-06/
LOCATION:Ontario
CATEGORIES:Community News
ATTACH;FMTTYPE=image/jpeg:https://huronshores.ca/wp-content/uploads/2013/01/Alzheimers-Disease.jpg
END:VEVENT
BEGIN:VEVENT
DTSTART;TZID=America/Toronto:20181207T140000
DTEND;TZID=America/Toronto:20181207T153000
DTSTAMP:20260424T003018
CREATED:20151021T181815Z
LAST-MODIFIED:20151021T181815Z
UID:10016880-1544191200-1544196600@huronshores.ca
SUMMARY:Alzheimer Info & Discussion Group
DESCRIPTION:The Alzheimer Society of Sault Ste. Marie & Algoma District hosts an Information & Discussion Group on the 2nd Wednesday of each month\, at the Calvary Gospel Church\, 55 Queen Street\, Blind River from 2:00 – 3:30 p.m.  For more information please call Tanya\, First Link Coordinator\, at 705-848-8145.
URL:https://huronshores.ca/event/alzheimer-info-discussion-group-2/2018-12-07/
LOCATION:Ontario
CATEGORIES:Community News
ATTACH;FMTTYPE=image/jpeg:https://huronshores.ca/wp-content/uploads/2013/01/Alzheimers-Disease.jpg
END:VEVENT
BEGIN:VEVENT
DTSTART;TZID=America/Toronto:20181208T140000
DTEND;TZID=America/Toronto:20181208T153000
DTSTAMP:20260424T003018
CREATED:20151021T181815Z
LAST-MODIFIED:20151021T181815Z
UID:10016881-1544277600-1544283000@huronshores.ca
SUMMARY:Alzheimer Info & Discussion Group
DESCRIPTION:The Alzheimer Society of Sault Ste. Marie & Algoma District hosts an Information & Discussion Group on the 2nd Wednesday of each month\, at the Calvary Gospel Church\, 55 Queen Street\, Blind River from 2:00 – 3:30 p.m.  For more information please call Tanya\, First Link Coordinator\, at 705-848-8145.
URL:https://huronshores.ca/event/alzheimer-info-discussion-group-2/2018-12-08/
LOCATION:Ontario
CATEGORIES:Community News
ATTACH;FMTTYPE=image/jpeg:https://huronshores.ca/wp-content/uploads/2013/01/Alzheimers-Disease.jpg
END:VEVENT
BEGIN:VEVENT
DTSTART;TZID=America/Toronto:20181209T140000
DTEND;TZID=America/Toronto:20181209T153000
DTSTAMP:20260424T003018
CREATED:20151021T181815Z
LAST-MODIFIED:20151021T181815Z
UID:10016882-1544364000-1544369400@huronshores.ca
SUMMARY:Alzheimer Info & Discussion Group
DESCRIPTION:The Alzheimer Society of Sault Ste. Marie & Algoma District hosts an Information & Discussion Group on the 2nd Wednesday of each month\, at the Calvary Gospel Church\, 55 Queen Street\, Blind River from 2:00 – 3:30 p.m.  For more information please call Tanya\, First Link Coordinator\, at 705-848-8145.
URL:https://huronshores.ca/event/alzheimer-info-discussion-group-2/2018-12-09/
LOCATION:Ontario
CATEGORIES:Community News
ATTACH;FMTTYPE=image/jpeg:https://huronshores.ca/wp-content/uploads/2013/01/Alzheimers-Disease.jpg
END:VEVENT
BEGIN:VEVENT
DTSTART;TZID=America/Toronto:20181209T190000
DTEND;TZID=America/Toronto:20181209T190000
DTSTAMP:20260424T003018
CREATED:20181116T153559Z
LAST-MODIFIED:20181116T153559Z
UID:10021353-1544382000-1544382000@huronshores.ca
SUMMARY:Annual Thessalon Lions' Club Christmas Concert
DESCRIPTION:The Thessalon Lions Club hosts its Annual Christmas Concert\, December 9/18\, 7:00 p.m. at the Thessalon Public School Gymnasium.  Admission is by free will donation to the Lions Christmas Hamper campaign.  To submit your name for a Hamper\, please call Blair at 705-842-0592\, up to Monday\, December 10/18
URL:https://huronshores.ca/event/annual-thessalon-lions-club-christmas-concert/
LOCATION:Ontario
CATEGORIES:Community News
ATTACH;FMTTYPE=image/jpeg:https://huronshores.ca/wp-content/uploads/2015/11/Christmas-Concert.jpg
END:VEVENT
BEGIN:VEVENT
DTSTART;TZID=America/Toronto:20181210T140000
DTEND;TZID=America/Toronto:20181210T153000
DTSTAMP:20260424T003018
CREATED:20151021T181815Z
LAST-MODIFIED:20151021T181815Z
UID:10016883-1544450400-1544455800@huronshores.ca
SUMMARY:Alzheimer Info & Discussion Group
DESCRIPTION:The Alzheimer Society of Sault Ste. Marie & Algoma District hosts an Information & Discussion Group on the 2nd Wednesday of each month\, at the Calvary Gospel Church\, 55 Queen Street\, Blind River from 2:00 – 3:30 p.m.  For more information please call Tanya\, First Link Coordinator\, at 705-848-8145.
URL:https://huronshores.ca/event/alzheimer-info-discussion-group-2/2018-12-10/
LOCATION:Ontario
CATEGORIES:Community News
ATTACH;FMTTYPE=image/jpeg:https://huronshores.ca/wp-content/uploads/2013/01/Alzheimers-Disease.jpg
END:VEVENT
BEGIN:VEVENT
DTSTART;TZID=America/Toronto:20181211T140000
DTEND;TZID=America/Toronto:20181211T153000
DTSTAMP:20260424T003018
CREATED:20151021T181815Z
LAST-MODIFIED:20151021T181815Z
UID:10016884-1544536800-1544542200@huronshores.ca
SUMMARY:Alzheimer Info & Discussion Group
DESCRIPTION:The Alzheimer Society of Sault Ste. Marie & Algoma District hosts an Information & Discussion Group on the 2nd Wednesday of each month\, at the Calvary Gospel Church\, 55 Queen Street\, Blind River from 2:00 – 3:30 p.m.  For more information please call Tanya\, First Link Coordinator\, at 705-848-8145.
URL:https://huronshores.ca/event/alzheimer-info-discussion-group-2/2018-12-11/
LOCATION:Ontario
CATEGORIES:Community News
ATTACH;FMTTYPE=image/jpeg:https://huronshores.ca/wp-content/uploads/2013/01/Alzheimers-Disease.jpg
END:VEVENT
BEGIN:VEVENT
DTSTART;TZID=America/Toronto:20181212T140000
DTEND;TZID=America/Toronto:20181212T153000
DTSTAMP:20260424T003018
CREATED:20151021T181815Z
LAST-MODIFIED:20151021T181815Z
UID:10016885-1544623200-1544628600@huronshores.ca
SUMMARY:Alzheimer Info & Discussion Group
DESCRIPTION:The Alzheimer Society of Sault Ste. Marie & Algoma District hosts an Information & Discussion Group on the 2nd Wednesday of each month\, at the Calvary Gospel Church\, 55 Queen Street\, Blind River from 2:00 – 3:30 p.m.  For more information please call Tanya\, First Link Coordinator\, at 705-848-8145.
URL:https://huronshores.ca/event/alzheimer-info-discussion-group-2/2018-12-12/
LOCATION:Ontario
CATEGORIES:Community News
ATTACH;FMTTYPE=image/jpeg:https://huronshores.ca/wp-content/uploads/2013/01/Alzheimers-Disease.jpg
END:VEVENT
BEGIN:VEVENT
DTSTART;TZID=America/Toronto:20181213T140000
DTEND;TZID=America/Toronto:20181213T153000
DTSTAMP:20260424T003018
CREATED:20151021T181815Z
LAST-MODIFIED:20151021T181815Z
UID:10016886-1544709600-1544715000@huronshores.ca
SUMMARY:Alzheimer Info & Discussion Group
DESCRIPTION:The Alzheimer Society of Sault Ste. Marie & Algoma District hosts an Information & Discussion Group on the 2nd Wednesday of each month\, at the Calvary Gospel Church\, 55 Queen Street\, Blind River from 2:00 – 3:30 p.m.  For more information please call Tanya\, First Link Coordinator\, at 705-848-8145.
URL:https://huronshores.ca/event/alzheimer-info-discussion-group-2/2018-12-13/
LOCATION:Ontario
CATEGORIES:Community News
ATTACH;FMTTYPE=image/jpeg:https://huronshores.ca/wp-content/uploads/2013/01/Alzheimers-Disease.jpg
END:VEVENT
BEGIN:VEVENT
DTSTART;TZID=America/Toronto:20181214T140000
DTEND;TZID=America/Toronto:20181214T153000
DTSTAMP:20260424T003018
CREATED:20151021T181815Z
LAST-MODIFIED:20151021T181815Z
UID:10016887-1544796000-1544801400@huronshores.ca
SUMMARY:Alzheimer Info & Discussion Group
DESCRIPTION:The Alzheimer Society of Sault Ste. Marie & Algoma District hosts an Information & Discussion Group on the 2nd Wednesday of each month\, at the Calvary Gospel Church\, 55 Queen Street\, Blind River from 2:00 – 3:30 p.m.  For more information please call Tanya\, First Link Coordinator\, at 705-848-8145.
URL:https://huronshores.ca/event/alzheimer-info-discussion-group-2/2018-12-14/
LOCATION:Ontario
CATEGORIES:Community News
ATTACH;FMTTYPE=image/jpeg:https://huronshores.ca/wp-content/uploads/2013/01/Alzheimers-Disease.jpg
END:VEVENT
BEGIN:VEVENT
DTSTART;TZID=America/Toronto:20181214T190000
DTEND;TZID=America/Toronto:20181214T210000
DTSTAMP:20260424T003018
CREATED:20181214T195851Z
LAST-MODIFIED:20181214T195851Z
UID:10021380-1544814000-1544821200@huronshores.ca
SUMMARY:Christmas Music - Thessalon Library
DESCRIPTION:An evening of Christmas Music will be hosted by the Thessalon Public Library\, Main St.\, 7:00 – 9:00 p.m.  Come out & enjoy refreshments & feel free to bring a small sample of your Christmas baking.
URL:https://huronshores.ca/event/christmas-music-thessalon-library/
LOCATION:Ontario
CATEGORIES:Community News
ATTACH;FMTTYPE=image/jpeg:https://huronshores.ca/wp-content/uploads/2018/12/christmas-music-vector-clipart_k16986270.jpg
END:VEVENT
BEGIN:VEVENT
DTSTART;TZID=America/Toronto:20181215T140000
DTEND;TZID=America/Toronto:20181215T153000
DTSTAMP:20260424T003018
CREATED:20151021T181815Z
LAST-MODIFIED:20151021T181815Z
UID:10016888-1544882400-1544887800@huronshores.ca
SUMMARY:Alzheimer Info & Discussion Group
DESCRIPTION:The Alzheimer Society of Sault Ste. Marie & Algoma District hosts an Information & Discussion Group on the 2nd Wednesday of each month\, at the Calvary Gospel Church\, 55 Queen Street\, Blind River from 2:00 – 3:30 p.m.  For more information please call Tanya\, First Link Coordinator\, at 705-848-8145.
URL:https://huronshores.ca/event/alzheimer-info-discussion-group-2/2018-12-15/
LOCATION:Ontario
CATEGORIES:Community News
ATTACH;FMTTYPE=image/jpeg:https://huronshores.ca/wp-content/uploads/2013/01/Alzheimers-Disease.jpg
END:VEVENT
END:VCALENDAR