BEGIN:VCALENDAR
VERSION:2.0
PRODID:-//Huron Shores - ECPv6.15.11//NONSGML v1.0//EN
CALSCALE:GREGORIAN
METHOD:PUBLISH
X-ORIGINAL-URL:https://huronshores.ca
X-WR-CALDESC:Events for Huron Shores
REFRESH-INTERVAL;VALUE=DURATION:PT1H
X-Robots-Tag:noindex
X-PUBLISHED-TTL:PT1H
BEGIN:VTIMEZONE
TZID:America/Toronto
BEGIN:DAYLIGHT
TZOFFSETFROM:-0500
TZOFFSETTO:-0400
TZNAME:EDT
DTSTART:20160313T070000
END:DAYLIGHT
BEGIN:STANDARD
TZOFFSETFROM:-0400
TZOFFSETTO:-0500
TZNAME:EST
DTSTART:20161106T060000
END:STANDARD
BEGIN:DAYLIGHT
TZOFFSETFROM:-0500
TZOFFSETTO:-0400
TZNAME:EDT
DTSTART:20170312T070000
END:DAYLIGHT
BEGIN:STANDARD
TZOFFSETFROM:-0400
TZOFFSETTO:-0500
TZNAME:EST
DTSTART:20171105T060000
END:STANDARD
BEGIN:DAYLIGHT
TZOFFSETFROM:-0500
TZOFFSETTO:-0400
TZNAME:EDT
DTSTART:20180311T070000
END:DAYLIGHT
BEGIN:STANDARD
TZOFFSETFROM:-0400
TZOFFSETTO:-0500
TZNAME:EST
DTSTART:20181104T060000
END:STANDARD
END:VTIMEZONE
BEGIN:VEVENT
DTSTART;TZID=America/Toronto:20170927T140000
DTEND;TZID=America/Toronto:20170927T153000
DTSTAMP:20260425T074501
CREATED:20151021T181815Z
LAST-MODIFIED:20151021T181815Z
UID:10016443-1506520800-1506526200@huronshores.ca
SUMMARY:Alzheimer Info & Discussion Group
DESCRIPTION:The Alzheimer Society of Sault Ste. Marie & Algoma District hosts an Information & Discussion Group on the 2nd Wednesday of each month\, at the Calvary Gospel Church\, 55 Queen Street\, Blind River from 2:00 – 3:30 p.m.  For more information please call Tanya\, First Link Coordinator\, at 705-848-8145.
URL:https://huronshores.ca/event/alzheimer-info-discussion-group-2/2017-09-27/
LOCATION:Ontario
CATEGORIES:Community News
ATTACH;FMTTYPE=image/jpeg:https://huronshores.ca/wp-content/uploads/2013/01/Alzheimers-Disease.jpg
END:VEVENT
BEGIN:VEVENT
DTSTART;TZID=America/Toronto:20170928T140000
DTEND;TZID=America/Toronto:20170928T153000
DTSTAMP:20260425T074501
CREATED:20151021T181815Z
LAST-MODIFIED:20151021T181815Z
UID:10016444-1506607200-1506612600@huronshores.ca
SUMMARY:Alzheimer Info & Discussion Group
DESCRIPTION:The Alzheimer Society of Sault Ste. Marie & Algoma District hosts an Information & Discussion Group on the 2nd Wednesday of each month\, at the Calvary Gospel Church\, 55 Queen Street\, Blind River from 2:00 – 3:30 p.m.  For more information please call Tanya\, First Link Coordinator\, at 705-848-8145.
URL:https://huronshores.ca/event/alzheimer-info-discussion-group-2/2017-09-28/
LOCATION:Ontario
CATEGORIES:Community News
ATTACH;FMTTYPE=image/jpeg:https://huronshores.ca/wp-content/uploads/2013/01/Alzheimers-Disease.jpg
END:VEVENT
BEGIN:VEVENT
DTSTART;TZID=America/Toronto:20170929T140000
DTEND;TZID=America/Toronto:20170929T153000
DTSTAMP:20260425T074501
CREATED:20151021T181815Z
LAST-MODIFIED:20151021T181815Z
UID:10016445-1506693600-1506699000@huronshores.ca
SUMMARY:Alzheimer Info & Discussion Group
DESCRIPTION:The Alzheimer Society of Sault Ste. Marie & Algoma District hosts an Information & Discussion Group on the 2nd Wednesday of each month\, at the Calvary Gospel Church\, 55 Queen Street\, Blind River from 2:00 – 3:30 p.m.  For more information please call Tanya\, First Link Coordinator\, at 705-848-8145.
URL:https://huronshores.ca/event/alzheimer-info-discussion-group-2/2017-09-29/
LOCATION:Ontario
CATEGORIES:Community News
ATTACH;FMTTYPE=image/jpeg:https://huronshores.ca/wp-content/uploads/2013/01/Alzheimers-Disease.jpg
END:VEVENT
BEGIN:VEVENT
DTSTART;TZID=America/Toronto:20170930T090000
DTEND;TZID=America/Toronto:20170930T140000
DTSTAMP:20260425T074501
CREATED:20170608T201421Z
LAST-MODIFIED:20170608T201421Z
UID:10020170-1506762000-1506780000@huronshores.ca
SUMMARY:Iron Bridge Farmers' Market
DESCRIPTION:The Iron Bridge Farmers’ Market is on Saturdays\, from 9:00 a.m. to 2:00 p.m. in the covered gazebo at the Iron Bridge Historical Museum\, 1 James Street.  Markets will be held weekly until the end of September.  Items available will include farm produce\, book and yard sale items\, as well\, consignment items may also be included (depending on storage availability). Table rentals are $5/table/day. Contact Carl at 705-843-2486 for details. The Museum is open daily from mid-June to September.
URL:https://huronshores.ca/event/iron-bridge-farmers-market-2/2017-09-30/
LOCATION:Ontario
CATEGORIES:Community News,Farmers' Markets,Local Food
ATTACH;FMTTYPE=image/jpeg:https://huronshores.ca/wp-content/uploads/2012/03/Ward-3-Museum-Welcome-sign-Web-large.jpg
END:VEVENT
BEGIN:VEVENT
DTSTART;TZID=America/Toronto:20170930T140000
DTEND;TZID=America/Toronto:20170930T153000
DTSTAMP:20260425T074501
CREATED:20151021T181815Z
LAST-MODIFIED:20151021T181815Z
UID:10016446-1506780000-1506785400@huronshores.ca
SUMMARY:Alzheimer Info & Discussion Group
DESCRIPTION:The Alzheimer Society of Sault Ste. Marie & Algoma District hosts an Information & Discussion Group on the 2nd Wednesday of each month\, at the Calvary Gospel Church\, 55 Queen Street\, Blind River from 2:00 – 3:30 p.m.  For more information please call Tanya\, First Link Coordinator\, at 705-848-8145.
URL:https://huronshores.ca/event/alzheimer-info-discussion-group-2/2017-09-30/
LOCATION:Ontario
CATEGORIES:Community News
ATTACH;FMTTYPE=image/jpeg:https://huronshores.ca/wp-content/uploads/2013/01/Alzheimers-Disease.jpg
END:VEVENT
BEGIN:VEVENT
DTSTART;TZID=America/Toronto:20171001T140000
DTEND;TZID=America/Toronto:20171001T153000
DTSTAMP:20260425T074501
CREATED:20151021T181815Z
LAST-MODIFIED:20151021T181815Z
UID:10016447-1506866400-1506871800@huronshores.ca
SUMMARY:Alzheimer Info & Discussion Group
DESCRIPTION:The Alzheimer Society of Sault Ste. Marie & Algoma District hosts an Information & Discussion Group on the 2nd Wednesday of each month\, at the Calvary Gospel Church\, 55 Queen Street\, Blind River from 2:00 – 3:30 p.m.  For more information please call Tanya\, First Link Coordinator\, at 705-848-8145.
URL:https://huronshores.ca/event/alzheimer-info-discussion-group-2/2017-10-01/
LOCATION:Ontario
CATEGORIES:Community News
ATTACH;FMTTYPE=image/jpeg:https://huronshores.ca/wp-content/uploads/2013/01/Alzheimers-Disease.jpg
END:VEVENT
BEGIN:VEVENT
DTSTART;TZID=America/Toronto:20171002T140000
DTEND;TZID=America/Toronto:20171002T153000
DTSTAMP:20260425T074501
CREATED:20151021T181815Z
LAST-MODIFIED:20151021T181815Z
UID:10016448-1506952800-1506958200@huronshores.ca
SUMMARY:Alzheimer Info & Discussion Group
DESCRIPTION:The Alzheimer Society of Sault Ste. Marie & Algoma District hosts an Information & Discussion Group on the 2nd Wednesday of each month\, at the Calvary Gospel Church\, 55 Queen Street\, Blind River from 2:00 – 3:30 p.m.  For more information please call Tanya\, First Link Coordinator\, at 705-848-8145.
URL:https://huronshores.ca/event/alzheimer-info-discussion-group-2/2017-10-02/
LOCATION:Ontario
CATEGORIES:Community News
ATTACH;FMTTYPE=image/jpeg:https://huronshores.ca/wp-content/uploads/2013/01/Alzheimers-Disease.jpg
END:VEVENT
BEGIN:VEVENT
DTSTART;TZID=America/Toronto:20171002T190000
DTEND;TZID=America/Toronto:20171002T210000
DTSTAMP:20260425T074501
CREATED:20170918T185929Z
LAST-MODIFIED:20170918T185929Z
UID:10020333-1506970800-1506978000@huronshores.ca
SUMMARY:Blind River Curling Club - Free Curling from Oct. 2-6/17
DESCRIPTION:Never curled before?  Try Free Curling at the Blind River Curling Club from October 2nd to 6th\, 7:00-9:00 p.m. Equipment is available at no charge. Join the Blind River Curling Club and bring a friend!  Fun and exercise for all ages! \nLeague Curling: \n\nMonday to Thursday for Ladies’\, Mens’ or Mixed.  Join as a single or as a team.\nWednesday Afternoons at 1:00 p.m.\nFriday Fun Nights at 7:00 p.m.\n\nRegistration Nights:  Wednesdays\, September 27th and October 4th.  Formore information contact Jerry Jensen 705-356-1028 \nClub newsletter and registration forms are available by clicking on the following links: \n\nRegistration Form\nBlind River Curling Club Newsletter
URL:https://huronshores.ca/event/blind-river-curling-club-free-curling-oct-2-617/2017-10-02/
LOCATION:Ontario
CATEGORIES:Community News,Recreation
ATTACH;FMTTYPE=image/jpeg:https://huronshores.ca/wp-content/uploads/2015/10/curling.jpg
END:VEVENT
BEGIN:VEVENT
DTSTART;TZID=America/Toronto:20171003T140000
DTEND;TZID=America/Toronto:20171003T153000
DTSTAMP:20260425T074501
CREATED:20151021T181815Z
LAST-MODIFIED:20151021T181815Z
UID:10016449-1507039200-1507044600@huronshores.ca
SUMMARY:Alzheimer Info & Discussion Group
DESCRIPTION:The Alzheimer Society of Sault Ste. Marie & Algoma District hosts an Information & Discussion Group on the 2nd Wednesday of each month\, at the Calvary Gospel Church\, 55 Queen Street\, Blind River from 2:00 – 3:30 p.m.  For more information please call Tanya\, First Link Coordinator\, at 705-848-8145.
URL:https://huronshores.ca/event/alzheimer-info-discussion-group-2/2017-10-03/
LOCATION:Ontario
CATEGORIES:Community News
ATTACH;FMTTYPE=image/jpeg:https://huronshores.ca/wp-content/uploads/2013/01/Alzheimers-Disease.jpg
END:VEVENT
BEGIN:VEVENT
DTSTART;TZID=America/Toronto:20171003T160000
DTEND;TZID=America/Toronto:20171003T200000
DTSTAMP:20260425T074501
CREATED:20170918T202717Z
LAST-MODIFIED:20170918T202717Z
UID:10020357-1507046400-1507060800@huronshores.ca
SUMMARY:October 3 - Blood Donor Clinic
DESCRIPTION:
URL:https://huronshores.ca/event/october-3-blood-donor-clinic/
LOCATION:Ontario
CATEGORIES:Community News
END:VEVENT
BEGIN:VEVENT
DTSTART;TZID=America/Toronto:20171003T190000
DTEND;TZID=America/Toronto:20171003T210000
DTSTAMP:20260425T074501
CREATED:20170918T185929Z
LAST-MODIFIED:20170918T185929Z
UID:10020334-1507057200-1507064400@huronshores.ca
SUMMARY:Blind River Curling Club - Free Curling from Oct. 2-6/17
DESCRIPTION:Never curled before?  Try Free Curling at the Blind River Curling Club from October 2nd to 6th\, 7:00-9:00 p.m. Equipment is available at no charge. Join the Blind River Curling Club and bring a friend!  Fun and exercise for all ages! \nLeague Curling: \n\nMonday to Thursday for Ladies’\, Mens’ or Mixed.  Join as a single or as a team.\nWednesday Afternoons at 1:00 p.m.\nFriday Fun Nights at 7:00 p.m.\n\nRegistration Nights:  Wednesdays\, September 27th and October 4th.  Formore information contact Jerry Jensen 705-356-1028 \nClub newsletter and registration forms are available by clicking on the following links: \n\nRegistration Form\nBlind River Curling Club Newsletter
URL:https://huronshores.ca/event/blind-river-curling-club-free-curling-oct-2-617/2017-10-03/
LOCATION:Ontario
CATEGORIES:Community News,Recreation
ATTACH;FMTTYPE=image/jpeg:https://huronshores.ca/wp-content/uploads/2015/10/curling.jpg
END:VEVENT
BEGIN:VEVENT
DTSTART;TZID=America/Toronto:20171004T140000
DTEND;TZID=America/Toronto:20171004T153000
DTSTAMP:20260425T074501
CREATED:20151021T181815Z
LAST-MODIFIED:20151021T181815Z
UID:10016450-1507125600-1507131000@huronshores.ca
SUMMARY:Alzheimer Info & Discussion Group
DESCRIPTION:The Alzheimer Society of Sault Ste. Marie & Algoma District hosts an Information & Discussion Group on the 2nd Wednesday of each month\, at the Calvary Gospel Church\, 55 Queen Street\, Blind River from 2:00 – 3:30 p.m.  For more information please call Tanya\, First Link Coordinator\, at 705-848-8145.
URL:https://huronshores.ca/event/alzheimer-info-discussion-group-2/2017-10-04/
LOCATION:Ontario
CATEGORIES:Community News
ATTACH;FMTTYPE=image/jpeg:https://huronshores.ca/wp-content/uploads/2013/01/Alzheimers-Disease.jpg
END:VEVENT
BEGIN:VEVENT
DTSTART;TZID=America/Toronto:20171004T190000
DTEND;TZID=America/Toronto:20171004T210000
DTSTAMP:20260425T074501
CREATED:20170918T185929Z
LAST-MODIFIED:20170918T185929Z
UID:10020335-1507143600-1507150800@huronshores.ca
SUMMARY:Blind River Curling Club - Free Curling from Oct. 2-6/17
DESCRIPTION:Never curled before?  Try Free Curling at the Blind River Curling Club from October 2nd to 6th\, 7:00-9:00 p.m. Equipment is available at no charge. Join the Blind River Curling Club and bring a friend!  Fun and exercise for all ages! \nLeague Curling: \n\nMonday to Thursday for Ladies’\, Mens’ or Mixed.  Join as a single or as a team.\nWednesday Afternoons at 1:00 p.m.\nFriday Fun Nights at 7:00 p.m.\n\nRegistration Nights:  Wednesdays\, September 27th and October 4th.  Formore information contact Jerry Jensen 705-356-1028 \nClub newsletter and registration forms are available by clicking on the following links: \n\nRegistration Form\nBlind River Curling Club Newsletter
URL:https://huronshores.ca/event/blind-river-curling-club-free-curling-oct-2-617/2017-10-04/
LOCATION:Ontario
CATEGORIES:Community News,Recreation
ATTACH;FMTTYPE=image/jpeg:https://huronshores.ca/wp-content/uploads/2015/10/curling.jpg
END:VEVENT
BEGIN:VEVENT
DTSTART;TZID=America/Toronto:20171005T140000
DTEND;TZID=America/Toronto:20171005T153000
DTSTAMP:20260425T074501
CREATED:20151021T181815Z
LAST-MODIFIED:20151021T181815Z
UID:10016451-1507212000-1507217400@huronshores.ca
SUMMARY:Alzheimer Info & Discussion Group
DESCRIPTION:The Alzheimer Society of Sault Ste. Marie & Algoma District hosts an Information & Discussion Group on the 2nd Wednesday of each month\, at the Calvary Gospel Church\, 55 Queen Street\, Blind River from 2:00 – 3:30 p.m.  For more information please call Tanya\, First Link Coordinator\, at 705-848-8145.
URL:https://huronshores.ca/event/alzheimer-info-discussion-group-2/2017-10-05/
LOCATION:Ontario
CATEGORIES:Community News
ATTACH;FMTTYPE=image/jpeg:https://huronshores.ca/wp-content/uploads/2013/01/Alzheimers-Disease.jpg
END:VEVENT
BEGIN:VEVENT
DTSTART;TZID=America/Toronto:20171005T190000
DTEND;TZID=America/Toronto:20171005T210000
DTSTAMP:20260425T074501
CREATED:20170918T185929Z
LAST-MODIFIED:20170918T185929Z
UID:10020336-1507230000-1507237200@huronshores.ca
SUMMARY:Blind River Curling Club - Free Curling from Oct. 2-6/17
DESCRIPTION:Never curled before?  Try Free Curling at the Blind River Curling Club from October 2nd to 6th\, 7:00-9:00 p.m. Equipment is available at no charge. Join the Blind River Curling Club and bring a friend!  Fun and exercise for all ages! \nLeague Curling: \n\nMonday to Thursday for Ladies’\, Mens’ or Mixed.  Join as a single or as a team.\nWednesday Afternoons at 1:00 p.m.\nFriday Fun Nights at 7:00 p.m.\n\nRegistration Nights:  Wednesdays\, September 27th and October 4th.  Formore information contact Jerry Jensen 705-356-1028 \nClub newsletter and registration forms are available by clicking on the following links: \n\nRegistration Form\nBlind River Curling Club Newsletter
URL:https://huronshores.ca/event/blind-river-curling-club-free-curling-oct-2-617/2017-10-05/
LOCATION:Ontario
CATEGORIES:Community News,Recreation
ATTACH;FMTTYPE=image/jpeg:https://huronshores.ca/wp-content/uploads/2015/10/curling.jpg
END:VEVENT
BEGIN:VEVENT
DTSTART;TZID=America/Toronto:20171006T140000
DTEND;TZID=America/Toronto:20171006T153000
DTSTAMP:20260425T074501
CREATED:20151021T181815Z
LAST-MODIFIED:20151021T181815Z
UID:10016452-1507298400-1507303800@huronshores.ca
SUMMARY:Alzheimer Info & Discussion Group
DESCRIPTION:The Alzheimer Society of Sault Ste. Marie & Algoma District hosts an Information & Discussion Group on the 2nd Wednesday of each month\, at the Calvary Gospel Church\, 55 Queen Street\, Blind River from 2:00 – 3:30 p.m.  For more information please call Tanya\, First Link Coordinator\, at 705-848-8145.
URL:https://huronshores.ca/event/alzheimer-info-discussion-group-2/2017-10-06/
LOCATION:Ontario
CATEGORIES:Community News
ATTACH;FMTTYPE=image/jpeg:https://huronshores.ca/wp-content/uploads/2013/01/Alzheimers-Disease.jpg
END:VEVENT
BEGIN:VEVENT
DTSTART;TZID=America/Toronto:20171006T190000
DTEND;TZID=America/Toronto:20171006T210000
DTSTAMP:20260425T074501
CREATED:20170918T185929Z
LAST-MODIFIED:20170918T185929Z
UID:10020337-1507316400-1507323600@huronshores.ca
SUMMARY:Blind River Curling Club - Free Curling from Oct. 2-6/17
DESCRIPTION:Never curled before?  Try Free Curling at the Blind River Curling Club from October 2nd to 6th\, 7:00-9:00 p.m. Equipment is available at no charge. Join the Blind River Curling Club and bring a friend!  Fun and exercise for all ages! \nLeague Curling: \n\nMonday to Thursday for Ladies’\, Mens’ or Mixed.  Join as a single or as a team.\nWednesday Afternoons at 1:00 p.m.\nFriday Fun Nights at 7:00 p.m.\n\nRegistration Nights:  Wednesdays\, September 27th and October 4th.  Formore information contact Jerry Jensen 705-356-1028 \nClub newsletter and registration forms are available by clicking on the following links: \n\nRegistration Form\nBlind River Curling Club Newsletter
URL:https://huronshores.ca/event/blind-river-curling-club-free-curling-oct-2-617/2017-10-06/
LOCATION:Ontario
CATEGORIES:Community News,Recreation
ATTACH;FMTTYPE=image/jpeg:https://huronshores.ca/wp-content/uploads/2015/10/curling.jpg
END:VEVENT
BEGIN:VEVENT
DTSTART;TZID=America/Toronto:20171007T140000
DTEND;TZID=America/Toronto:20171007T153000
DTSTAMP:20260425T074501
CREATED:20151021T181815Z
LAST-MODIFIED:20151021T181815Z
UID:10016453-1507384800-1507390200@huronshores.ca
SUMMARY:Alzheimer Info & Discussion Group
DESCRIPTION:The Alzheimer Society of Sault Ste. Marie & Algoma District hosts an Information & Discussion Group on the 2nd Wednesday of each month\, at the Calvary Gospel Church\, 55 Queen Street\, Blind River from 2:00 – 3:30 p.m.  For more information please call Tanya\, First Link Coordinator\, at 705-848-8145.
URL:https://huronshores.ca/event/alzheimer-info-discussion-group-2/2017-10-07/
LOCATION:Ontario
CATEGORIES:Community News
ATTACH;FMTTYPE=image/jpeg:https://huronshores.ca/wp-content/uploads/2013/01/Alzheimers-Disease.jpg
END:VEVENT
BEGIN:VEVENT
DTSTART;VALUE=DATE:20171008
DTEND;VALUE=DATE:20171015
DTSTAMP:20260425T074501
CREATED:20171004T175819Z
LAST-MODIFIED:20171004T175819Z
UID:10020359-1507420800-1508025599@huronshores.ca
SUMMARY:Fire Prevention Week 2017
DESCRIPTION:
URL:https://huronshores.ca/event/fire-prevention-week-2017/
LOCATION:Ontario
CATEGORIES:Community News,Fire Department,Health & Safety
ATTACH;FMTTYPE=image/jpeg:https://huronshores.ca/wp-content/uploads/2017/10/2017-Fire-Prevention-Week-Web-Banner.jpg
END:VEVENT
BEGIN:VEVENT
DTSTART;TZID=America/Toronto:20171008T140000
DTEND;TZID=America/Toronto:20171008T153000
DTSTAMP:20260425T074501
CREATED:20151021T181815Z
LAST-MODIFIED:20151021T181815Z
UID:10016454-1507471200-1507476600@huronshores.ca
SUMMARY:Alzheimer Info & Discussion Group
DESCRIPTION:The Alzheimer Society of Sault Ste. Marie & Algoma District hosts an Information & Discussion Group on the 2nd Wednesday of each month\, at the Calvary Gospel Church\, 55 Queen Street\, Blind River from 2:00 – 3:30 p.m.  For more information please call Tanya\, First Link Coordinator\, at 705-848-8145.
URL:https://huronshores.ca/event/alzheimer-info-discussion-group-2/2017-10-08/
LOCATION:Ontario
CATEGORIES:Community News
ATTACH;FMTTYPE=image/jpeg:https://huronshores.ca/wp-content/uploads/2013/01/Alzheimers-Disease.jpg
END:VEVENT
BEGIN:VEVENT
DTSTART;TZID=America/Toronto:20171009T140000
DTEND;TZID=America/Toronto:20171009T153000
DTSTAMP:20260425T074501
CREATED:20151021T181815Z
LAST-MODIFIED:20151021T181815Z
UID:10016455-1507557600-1507563000@huronshores.ca
SUMMARY:Alzheimer Info & Discussion Group
DESCRIPTION:The Alzheimer Society of Sault Ste. Marie & Algoma District hosts an Information & Discussion Group on the 2nd Wednesday of each month\, at the Calvary Gospel Church\, 55 Queen Street\, Blind River from 2:00 – 3:30 p.m.  For more information please call Tanya\, First Link Coordinator\, at 705-848-8145.
URL:https://huronshores.ca/event/alzheimer-info-discussion-group-2/2017-10-09/
LOCATION:Ontario
CATEGORIES:Community News
ATTACH;FMTTYPE=image/jpeg:https://huronshores.ca/wp-content/uploads/2013/01/Alzheimers-Disease.jpg
END:VEVENT
BEGIN:VEVENT
DTSTART;TZID=America/Toronto:20171010T140000
DTEND;TZID=America/Toronto:20171010T153000
DTSTAMP:20260425T074501
CREATED:20151021T181815Z
LAST-MODIFIED:20151021T181815Z
UID:10016456-1507644000-1507649400@huronshores.ca
SUMMARY:Alzheimer Info & Discussion Group
DESCRIPTION:The Alzheimer Society of Sault Ste. Marie & Algoma District hosts an Information & Discussion Group on the 2nd Wednesday of each month\, at the Calvary Gospel Church\, 55 Queen Street\, Blind River from 2:00 – 3:30 p.m.  For more information please call Tanya\, First Link Coordinator\, at 705-848-8145.
URL:https://huronshores.ca/event/alzheimer-info-discussion-group-2/2017-10-10/
LOCATION:Ontario
CATEGORIES:Community News
ATTACH;FMTTYPE=image/jpeg:https://huronshores.ca/wp-content/uploads/2013/01/Alzheimers-Disease.jpg
END:VEVENT
BEGIN:VEVENT
DTSTART;TZID=America/Toronto:20171010T160000
DTEND;TZID=America/Toronto:20171010T190000
DTSTAMP:20260425T074501
CREATED:20171004T181044Z
LAST-MODIFIED:20171004T181044Z
UID:10020360-1507651200-1507662000@huronshores.ca
SUMMARY:Fire Dept. Open House - Oct. 10 in Little Rapids
DESCRIPTION:The Huron Shores Fire Department will hold Open Houses the week of Fire Prevention Week (Oct. 8th-14th).  The Little Rapids Fire Hall (Stn. 1) will hold its Open House on Tuesday\, October 10th\, from 4:00 to 7:00 p.m.  The event will include tours of the Fire Hall\, equipment and safety demos. BBQ and Refreshments will also be available.  Everyone is welcome to stop by the Fire Hall and meet their volunteer fire fighter personnel.
URL:https://huronshores.ca/event/fire-dept-open-house-oct-10-in-little-rapids/
LOCATION:Ontario
CATEGORIES:Community News,Fire Department,Health & Safety
ATTACH;FMTTYPE=image/jpeg:https://huronshores.ca/wp-content/uploads/2017/10/2017-Fire-Prevention-Week-Web-Banner.jpg
END:VEVENT
BEGIN:VEVENT
DTSTART;TZID=America/Toronto:20171011T140000
DTEND;TZID=America/Toronto:20171011T153000
DTSTAMP:20260425T074501
CREATED:20151021T181815Z
LAST-MODIFIED:20151021T181815Z
UID:10016457-1507730400-1507735800@huronshores.ca
SUMMARY:Alzheimer Info & Discussion Group
DESCRIPTION:The Alzheimer Society of Sault Ste. Marie & Algoma District hosts an Information & Discussion Group on the 2nd Wednesday of each month\, at the Calvary Gospel Church\, 55 Queen Street\, Blind River from 2:00 – 3:30 p.m.  For more information please call Tanya\, First Link Coordinator\, at 705-848-8145.
URL:https://huronshores.ca/event/alzheimer-info-discussion-group-2/2017-10-11/
LOCATION:Ontario
CATEGORIES:Community News
ATTACH;FMTTYPE=image/jpeg:https://huronshores.ca/wp-content/uploads/2013/01/Alzheimers-Disease.jpg
END:VEVENT
BEGIN:VEVENT
DTSTART;TZID=America/Toronto:20171012T140000
DTEND;TZID=America/Toronto:20171012T153000
DTSTAMP:20260425T074501
CREATED:20151021T181815Z
LAST-MODIFIED:20151021T181815Z
UID:10016458-1507816800-1507822200@huronshores.ca
SUMMARY:Alzheimer Info & Discussion Group
DESCRIPTION:The Alzheimer Society of Sault Ste. Marie & Algoma District hosts an Information & Discussion Group on the 2nd Wednesday of each month\, at the Calvary Gospel Church\, 55 Queen Street\, Blind River from 2:00 – 3:30 p.m.  For more information please call Tanya\, First Link Coordinator\, at 705-848-8145.
URL:https://huronshores.ca/event/alzheimer-info-discussion-group-2/2017-10-12/
LOCATION:Ontario
CATEGORIES:Community News
ATTACH;FMTTYPE=image/jpeg:https://huronshores.ca/wp-content/uploads/2013/01/Alzheimers-Disease.jpg
END:VEVENT
BEGIN:VEVENT
DTSTART;TZID=America/Toronto:20171012T160000
DTEND;TZID=America/Toronto:20171012T190000
DTSTAMP:20260425T074501
CREATED:20171004T181510Z
LAST-MODIFIED:20171004T181510Z
UID:10020363-1507824000-1507834800@huronshores.ca
SUMMARY:Fire Dept. Open House:  Oct. 12 - Iron Bridge
DESCRIPTION:The Huron Shores Fire Department will hold Open Houses the week of Fire Prevention Week (Oct. 8th-14th).  The Iron Bridge Fire Hall (Stn. 2) will hold its Open House on Thursday\, October 12th\, from 4:00 to 7:00 p.m.  The event will include tours of the Fire Hall\, equipment and safety demos. BBQ and Refreshments will also be available.  Everyone is welcome to stop by the Fire Hall and meet their volunteer fire fighter personnel.
URL:https://huronshores.ca/event/13877/
LOCATION:Ontario
CATEGORIES:Community News,Fire Department,Health & Safety
ATTACH;FMTTYPE=image/jpeg:https://huronshores.ca/wp-content/uploads/2017/10/2017-Fire-Prevention-Week-Web-Banner.jpg
END:VEVENT
BEGIN:VEVENT
DTSTART;TZID=America/Toronto:20171013T140000
DTEND;TZID=America/Toronto:20171013T153000
DTSTAMP:20260425T074501
CREATED:20151021T181815Z
LAST-MODIFIED:20151021T181815Z
UID:10016459-1507903200-1507908600@huronshores.ca
SUMMARY:Alzheimer Info & Discussion Group
DESCRIPTION:The Alzheimer Society of Sault Ste. Marie & Algoma District hosts an Information & Discussion Group on the 2nd Wednesday of each month\, at the Calvary Gospel Church\, 55 Queen Street\, Blind River from 2:00 – 3:30 p.m.  For more information please call Tanya\, First Link Coordinator\, at 705-848-8145.
URL:https://huronshores.ca/event/alzheimer-info-discussion-group-2/2017-10-13/
LOCATION:Ontario
CATEGORIES:Community News
ATTACH;FMTTYPE=image/jpeg:https://huronshores.ca/wp-content/uploads/2013/01/Alzheimers-Disease.jpg
END:VEVENT
BEGIN:VEVENT
DTSTART;TZID=America/Toronto:20171014T140000
DTEND;TZID=America/Toronto:20171014T153000
DTSTAMP:20260425T074501
CREATED:20151021T181815Z
LAST-MODIFIED:20151021T181815Z
UID:10016460-1507989600-1507995000@huronshores.ca
SUMMARY:Alzheimer Info & Discussion Group
DESCRIPTION:The Alzheimer Society of Sault Ste. Marie & Algoma District hosts an Information & Discussion Group on the 2nd Wednesday of each month\, at the Calvary Gospel Church\, 55 Queen Street\, Blind River from 2:00 – 3:30 p.m.  For more information please call Tanya\, First Link Coordinator\, at 705-848-8145.
URL:https://huronshores.ca/event/alzheimer-info-discussion-group-2/2017-10-14/
LOCATION:Ontario
CATEGORIES:Community News
ATTACH;FMTTYPE=image/jpeg:https://huronshores.ca/wp-content/uploads/2013/01/Alzheimers-Disease.jpg
END:VEVENT
BEGIN:VEVENT
DTSTART;TZID=America/Toronto:20171015T140000
DTEND;TZID=America/Toronto:20171015T153000
DTSTAMP:20260425T074501
CREATED:20151021T181815Z
LAST-MODIFIED:20151021T181815Z
UID:10016461-1508076000-1508081400@huronshores.ca
SUMMARY:Alzheimer Info & Discussion Group
DESCRIPTION:The Alzheimer Society of Sault Ste. Marie & Algoma District hosts an Information & Discussion Group on the 2nd Wednesday of each month\, at the Calvary Gospel Church\, 55 Queen Street\, Blind River from 2:00 – 3:30 p.m.  For more information please call Tanya\, First Link Coordinator\, at 705-848-8145.
URL:https://huronshores.ca/event/alzheimer-info-discussion-group-2/2017-10-15/
LOCATION:Ontario
CATEGORIES:Community News
ATTACH;FMTTYPE=image/jpeg:https://huronshores.ca/wp-content/uploads/2013/01/Alzheimers-Disease.jpg
END:VEVENT
BEGIN:VEVENT
DTSTART;TZID=America/Toronto:20171016T140000
DTEND;TZID=America/Toronto:20171016T153000
DTSTAMP:20260425T074501
CREATED:20151021T181815Z
LAST-MODIFIED:20151021T181815Z
UID:10016462-1508162400-1508167800@huronshores.ca
SUMMARY:Alzheimer Info & Discussion Group
DESCRIPTION:The Alzheimer Society of Sault Ste. Marie & Algoma District hosts an Information & Discussion Group on the 2nd Wednesday of each month\, at the Calvary Gospel Church\, 55 Queen Street\, Blind River from 2:00 – 3:30 p.m.  For more information please call Tanya\, First Link Coordinator\, at 705-848-8145.
URL:https://huronshores.ca/event/alzheimer-info-discussion-group-2/2017-10-16/
LOCATION:Ontario
CATEGORIES:Community News
ATTACH;FMTTYPE=image/jpeg:https://huronshores.ca/wp-content/uploads/2013/01/Alzheimers-Disease.jpg
END:VEVENT
END:VCALENDAR