BEGIN:VCALENDAR
VERSION:2.0
PRODID:-//Huron Shores - ECPv6.15.11//NONSGML v1.0//EN
CALSCALE:GREGORIAN
METHOD:PUBLISH
X-WR-CALNAME:Huron Shores
X-ORIGINAL-URL:https://huronshores.ca
X-WR-CALDESC:Events for Huron Shores
REFRESH-INTERVAL;VALUE=DURATION:PT1H
X-Robots-Tag:noindex
X-PUBLISHED-TTL:PT1H
BEGIN:VTIMEZONE
TZID:America/Toronto
BEGIN:DAYLIGHT
TZOFFSETFROM:-0500
TZOFFSETTO:-0400
TZNAME:EDT
DTSTART:20160313T070000
END:DAYLIGHT
BEGIN:STANDARD
TZOFFSETFROM:-0400
TZOFFSETTO:-0500
TZNAME:EST
DTSTART:20161106T060000
END:STANDARD
BEGIN:DAYLIGHT
TZOFFSETFROM:-0500
TZOFFSETTO:-0400
TZNAME:EDT
DTSTART:20170312T070000
END:DAYLIGHT
BEGIN:STANDARD
TZOFFSETFROM:-0400
TZOFFSETTO:-0500
TZNAME:EST
DTSTART:20171105T060000
END:STANDARD
BEGIN:DAYLIGHT
TZOFFSETFROM:-0500
TZOFFSETTO:-0400
TZNAME:EDT
DTSTART:20180311T070000
END:DAYLIGHT
BEGIN:STANDARD
TZOFFSETFROM:-0400
TZOFFSETTO:-0500
TZNAME:EST
DTSTART:20181104T060000
END:STANDARD
END:VTIMEZONE
BEGIN:VEVENT
DTSTART;TZID=America/Toronto:20170611T140000
DTEND;TZID=America/Toronto:20170611T153000
DTSTAMP:20260425T170826
CREATED:20151021T181815Z
LAST-MODIFIED:20151021T181815Z
UID:10016335-1497189600-1497195000@huronshores.ca
SUMMARY:Alzheimer Info & Discussion Group
DESCRIPTION:The Alzheimer Society of Sault Ste. Marie & Algoma District hosts an Information & Discussion Group on the 2nd Wednesday of each month\, at the Calvary Gospel Church\, 55 Queen Street\, Blind River from 2:00 – 3:30 p.m.  For more information please call Tanya\, First Link Coordinator\, at 705-848-8145.
URL:https://huronshores.ca/event/alzheimer-info-discussion-group-2/2017-06-11/
LOCATION:Ontario
CATEGORIES:Community News
ATTACH;FMTTYPE=image/jpeg:https://huronshores.ca/wp-content/uploads/2013/01/Alzheimers-Disease.jpg
END:VEVENT
BEGIN:VEVENT
DTSTART;TZID=America/Toronto:20170612T140000
DTEND;TZID=America/Toronto:20170612T153000
DTSTAMP:20260425T170826
CREATED:20151021T181815Z
LAST-MODIFIED:20151021T181815Z
UID:10016336-1497276000-1497281400@huronshores.ca
SUMMARY:Alzheimer Info & Discussion Group
DESCRIPTION:The Alzheimer Society of Sault Ste. Marie & Algoma District hosts an Information & Discussion Group on the 2nd Wednesday of each month\, at the Calvary Gospel Church\, 55 Queen Street\, Blind River from 2:00 – 3:30 p.m.  For more information please call Tanya\, First Link Coordinator\, at 705-848-8145.
URL:https://huronshores.ca/event/alzheimer-info-discussion-group-2/2017-06-12/
LOCATION:Ontario
CATEGORIES:Community News
ATTACH;FMTTYPE=image/jpeg:https://huronshores.ca/wp-content/uploads/2013/01/Alzheimers-Disease.jpg
END:VEVENT
BEGIN:VEVENT
DTSTART;TZID=America/Toronto:20170613T140000
DTEND;TZID=America/Toronto:20170613T153000
DTSTAMP:20260425T170826
CREATED:20151021T181815Z
LAST-MODIFIED:20151021T181815Z
UID:10016337-1497362400-1497367800@huronshores.ca
SUMMARY:Alzheimer Info & Discussion Group
DESCRIPTION:The Alzheimer Society of Sault Ste. Marie & Algoma District hosts an Information & Discussion Group on the 2nd Wednesday of each month\, at the Calvary Gospel Church\, 55 Queen Street\, Blind River from 2:00 – 3:30 p.m.  For more information please call Tanya\, First Link Coordinator\, at 705-848-8145.
URL:https://huronshores.ca/event/alzheimer-info-discussion-group-2/2017-06-13/
LOCATION:Ontario
CATEGORIES:Community News
ATTACH;FMTTYPE=image/jpeg:https://huronshores.ca/wp-content/uploads/2013/01/Alzheimers-Disease.jpg
END:VEVENT
BEGIN:VEVENT
DTSTART;TZID=America/Toronto:20170614T140000
DTEND;TZID=America/Toronto:20170614T153000
DTSTAMP:20260425T170826
CREATED:20151021T181815Z
LAST-MODIFIED:20151021T181815Z
UID:10016338-1497448800-1497454200@huronshores.ca
SUMMARY:Alzheimer Info & Discussion Group
DESCRIPTION:The Alzheimer Society of Sault Ste. Marie & Algoma District hosts an Information & Discussion Group on the 2nd Wednesday of each month\, at the Calvary Gospel Church\, 55 Queen Street\, Blind River from 2:00 – 3:30 p.m.  For more information please call Tanya\, First Link Coordinator\, at 705-848-8145.
URL:https://huronshores.ca/event/alzheimer-info-discussion-group-2/2017-06-14/
LOCATION:Ontario
CATEGORIES:Community News
ATTACH;FMTTYPE=image/jpeg:https://huronshores.ca/wp-content/uploads/2013/01/Alzheimers-Disease.jpg
END:VEVENT
BEGIN:VEVENT
DTSTART;TZID=America/Toronto:20170615T140000
DTEND;TZID=America/Toronto:20170615T153000
DTSTAMP:20260425T170826
CREATED:20151021T181815Z
LAST-MODIFIED:20151021T181815Z
UID:10016339-1497535200-1497540600@huronshores.ca
SUMMARY:Alzheimer Info & Discussion Group
DESCRIPTION:The Alzheimer Society of Sault Ste. Marie & Algoma District hosts an Information & Discussion Group on the 2nd Wednesday of each month\, at the Calvary Gospel Church\, 55 Queen Street\, Blind River from 2:00 – 3:30 p.m.  For more information please call Tanya\, First Link Coordinator\, at 705-848-8145.
URL:https://huronshores.ca/event/alzheimer-info-discussion-group-2/2017-06-15/
LOCATION:Ontario
CATEGORIES:Community News
ATTACH;FMTTYPE=image/jpeg:https://huronshores.ca/wp-content/uploads/2013/01/Alzheimers-Disease.jpg
END:VEVENT
BEGIN:VEVENT
DTSTART;TZID=America/Toronto:20170616T140000
DTEND;TZID=America/Toronto:20170616T153000
DTSTAMP:20260425T170826
CREATED:20151021T181815Z
LAST-MODIFIED:20151021T181815Z
UID:10016340-1497621600-1497627000@huronshores.ca
SUMMARY:Alzheimer Info & Discussion Group
DESCRIPTION:The Alzheimer Society of Sault Ste. Marie & Algoma District hosts an Information & Discussion Group on the 2nd Wednesday of each month\, at the Calvary Gospel Church\, 55 Queen Street\, Blind River from 2:00 – 3:30 p.m.  For more information please call Tanya\, First Link Coordinator\, at 705-848-8145.
URL:https://huronshores.ca/event/alzheimer-info-discussion-group-2/2017-06-16/
LOCATION:Ontario
CATEGORIES:Community News
ATTACH;FMTTYPE=image/jpeg:https://huronshores.ca/wp-content/uploads/2013/01/Alzheimers-Disease.jpg
END:VEVENT
BEGIN:VEVENT
DTSTART;TZID=America/Toronto:20170617T090000
DTEND;TZID=America/Toronto:20170617T140000
DTSTAMP:20260425T170826
CREATED:20170608T201421Z
LAST-MODIFIED:20170608T201421Z
UID:10020155-1497690000-1497708000@huronshores.ca
SUMMARY:Iron Bridge Farmers' Market
DESCRIPTION:The Iron Bridge Farmers’ Market is on Saturdays\, from 9:00 a.m. to 2:00 p.m. in the covered gazebo at the Iron Bridge Historical Museum\, 1 James Street.  Markets will be held weekly until the end of September.  Items available will include farm produce\, book and yard sale items\, as well\, consignment items may also be included (depending on storage availability). Table rentals are $5/table/day. Contact Carl at 705-843-2486 for details. The Museum is open daily from mid-June to September.
URL:https://huronshores.ca/event/iron-bridge-farmers-market-2/2017-06-17/
LOCATION:Ontario
CATEGORIES:Community News,Farmers' Markets,Local Food
ATTACH;FMTTYPE=image/jpeg:https://huronshores.ca/wp-content/uploads/2012/03/Ward-3-Museum-Welcome-sign-Web-large.jpg
END:VEVENT
BEGIN:VEVENT
DTSTART;TZID=America/Toronto:20170617T140000
DTEND;TZID=America/Toronto:20170617T153000
DTSTAMP:20260425T170826
CREATED:20151021T181815Z
LAST-MODIFIED:20151021T181815Z
UID:10016341-1497708000-1497713400@huronshores.ca
SUMMARY:Alzheimer Info & Discussion Group
DESCRIPTION:The Alzheimer Society of Sault Ste. Marie & Algoma District hosts an Information & Discussion Group on the 2nd Wednesday of each month\, at the Calvary Gospel Church\, 55 Queen Street\, Blind River from 2:00 – 3:30 p.m.  For more information please call Tanya\, First Link Coordinator\, at 705-848-8145.
URL:https://huronshores.ca/event/alzheimer-info-discussion-group-2/2017-06-17/
LOCATION:Ontario
CATEGORIES:Community News
ATTACH;FMTTYPE=image/jpeg:https://huronshores.ca/wp-content/uploads/2013/01/Alzheimers-Disease.jpg
END:VEVENT
BEGIN:VEVENT
DTSTART;TZID=America/Toronto:20170617T140000
DTEND;TZID=America/Toronto:20170617T230000
DTSTAMP:20260425T170826
CREATED:20170613T192709Z
LAST-MODIFIED:20170613T192709Z
UID:10020171-1497708000-1497740400@huronshores.ca
SUMMARY:Iron Bridge Music Fest
DESCRIPTION:The 5th Annual Iron Bridge Music Fest will be held on Saturday\, June 17/17 from 2:00 to 11:00 p.m. at the Iron Bridge Recreation Centre (1 Chiblow Lake Rd.)  Guest artists include:  Robbie Shawana\, Summer Thunder\, Women in Song\, Back Road Country\, and Nostalgia Live.  Tickets available at select locations in Iron Bridge\, Thessalon\, and Blind River $20\, until June 11.  Tickets at the door:  $25/person (Children under 12 Free) Refreshments available.  Licenced under LLBO.
URL:https://huronshores.ca/event/iron-bridge-music-fest-2/
LOCATION:Ontario
CATEGORIES:Community News
ATTACH;FMTTYPE=image/jpeg:https://huronshores.ca/wp-content/uploads/2017/06/Music-Fest.jpg
END:VEVENT
BEGIN:VEVENT
DTSTART;VALUE=DATE:20170618
DTEND;VALUE=DATE:20170619
DTSTAMP:20260425T170826
CREATED:20161219T152856Z
LAST-MODIFIED:20161219T152856Z
UID:10019495-1497744000-1497830399@huronshores.ca
SUMMARY:Happy Father's Day!
DESCRIPTION:Happy Father’s Day to all the dads!
URL:https://huronshores.ca/event/happy-fathers-day/
LOCATION:Ontario
CATEGORIES:Community News
ATTACH;FMTTYPE=image/jpeg:https://huronshores.ca/wp-content/uploads/2016/01/Fathers-Day.jpg
END:VEVENT
BEGIN:VEVENT
DTSTART;TZID=America/Toronto:20170618T140000
DTEND;TZID=America/Toronto:20170618T153000
DTSTAMP:20260425T170826
CREATED:20151021T181815Z
LAST-MODIFIED:20151021T181815Z
UID:10016342-1497794400-1497799800@huronshores.ca
SUMMARY:Alzheimer Info & Discussion Group
DESCRIPTION:The Alzheimer Society of Sault Ste. Marie & Algoma District hosts an Information & Discussion Group on the 2nd Wednesday of each month\, at the Calvary Gospel Church\, 55 Queen Street\, Blind River from 2:00 – 3:30 p.m.  For more information please call Tanya\, First Link Coordinator\, at 705-848-8145.
URL:https://huronshores.ca/event/alzheimer-info-discussion-group-2/2017-06-18/
LOCATION:Ontario
CATEGORIES:Community News
ATTACH;FMTTYPE=image/jpeg:https://huronshores.ca/wp-content/uploads/2013/01/Alzheimers-Disease.jpg
END:VEVENT
BEGIN:VEVENT
DTSTART;TZID=America/Toronto:20170619T140000
DTEND;TZID=America/Toronto:20170619T153000
DTSTAMP:20260425T170826
CREATED:20151021T181815Z
LAST-MODIFIED:20151021T181815Z
UID:10016343-1497880800-1497886200@huronshores.ca
SUMMARY:Alzheimer Info & Discussion Group
DESCRIPTION:The Alzheimer Society of Sault Ste. Marie & Algoma District hosts an Information & Discussion Group on the 2nd Wednesday of each month\, at the Calvary Gospel Church\, 55 Queen Street\, Blind River from 2:00 – 3:30 p.m.  For more information please call Tanya\, First Link Coordinator\, at 705-848-8145.
URL:https://huronshores.ca/event/alzheimer-info-discussion-group-2/2017-06-19/
LOCATION:Ontario
CATEGORIES:Community News
ATTACH;FMTTYPE=image/jpeg:https://huronshores.ca/wp-content/uploads/2013/01/Alzheimers-Disease.jpg
END:VEVENT
BEGIN:VEVENT
DTSTART;TZID=America/Toronto:20170620T140000
DTEND;TZID=America/Toronto:20170620T153000
DTSTAMP:20260425T170826
CREATED:20151021T181815Z
LAST-MODIFIED:20151021T181815Z
UID:10016344-1497967200-1497972600@huronshores.ca
SUMMARY:Alzheimer Info & Discussion Group
DESCRIPTION:The Alzheimer Society of Sault Ste. Marie & Algoma District hosts an Information & Discussion Group on the 2nd Wednesday of each month\, at the Calvary Gospel Church\, 55 Queen Street\, Blind River from 2:00 – 3:30 p.m.  For more information please call Tanya\, First Link Coordinator\, at 705-848-8145.
URL:https://huronshores.ca/event/alzheimer-info-discussion-group-2/2017-06-20/
LOCATION:Ontario
CATEGORIES:Community News
ATTACH;FMTTYPE=image/jpeg:https://huronshores.ca/wp-content/uploads/2013/01/Alzheimers-Disease.jpg
END:VEVENT
BEGIN:VEVENT
DTSTART;TZID=America/Toronto:20170621T140000
DTEND;TZID=America/Toronto:20170621T153000
DTSTAMP:20260425T170826
CREATED:20151021T181815Z
LAST-MODIFIED:20151021T181815Z
UID:10016345-1498053600-1498059000@huronshores.ca
SUMMARY:Alzheimer Info & Discussion Group
DESCRIPTION:The Alzheimer Society of Sault Ste. Marie & Algoma District hosts an Information & Discussion Group on the 2nd Wednesday of each month\, at the Calvary Gospel Church\, 55 Queen Street\, Blind River from 2:00 – 3:30 p.m.  For more information please call Tanya\, First Link Coordinator\, at 705-848-8145.
URL:https://huronshores.ca/event/alzheimer-info-discussion-group-2/2017-06-21/
LOCATION:Ontario
CATEGORIES:Community News
ATTACH;FMTTYPE=image/jpeg:https://huronshores.ca/wp-content/uploads/2013/01/Alzheimers-Disease.jpg
END:VEVENT
BEGIN:VEVENT
DTSTART;TZID=America/Toronto:20170622T140000
DTEND;TZID=America/Toronto:20170622T153000
DTSTAMP:20260425T170826
CREATED:20151021T181815Z
LAST-MODIFIED:20151021T181815Z
UID:10016346-1498140000-1498145400@huronshores.ca
SUMMARY:Alzheimer Info & Discussion Group
DESCRIPTION:The Alzheimer Society of Sault Ste. Marie & Algoma District hosts an Information & Discussion Group on the 2nd Wednesday of each month\, at the Calvary Gospel Church\, 55 Queen Street\, Blind River from 2:00 – 3:30 p.m.  For more information please call Tanya\, First Link Coordinator\, at 705-848-8145.
URL:https://huronshores.ca/event/alzheimer-info-discussion-group-2/2017-06-22/
LOCATION:Ontario
CATEGORIES:Community News
ATTACH;FMTTYPE=image/jpeg:https://huronshores.ca/wp-content/uploads/2013/01/Alzheimers-Disease.jpg
END:VEVENT
BEGIN:VEVENT
DTSTART;TZID=America/Toronto:20170623T140000
DTEND;TZID=America/Toronto:20170623T153000
DTSTAMP:20260425T170826
CREATED:20151021T181815Z
LAST-MODIFIED:20151021T181815Z
UID:10016347-1498226400-1498231800@huronshores.ca
SUMMARY:Alzheimer Info & Discussion Group
DESCRIPTION:The Alzheimer Society of Sault Ste. Marie & Algoma District hosts an Information & Discussion Group on the 2nd Wednesday of each month\, at the Calvary Gospel Church\, 55 Queen Street\, Blind River from 2:00 – 3:30 p.m.  For more information please call Tanya\, First Link Coordinator\, at 705-848-8145.
URL:https://huronshores.ca/event/alzheimer-info-discussion-group-2/2017-06-23/
LOCATION:Ontario
CATEGORIES:Community News
ATTACH;FMTTYPE=image/jpeg:https://huronshores.ca/wp-content/uploads/2013/01/Alzheimers-Disease.jpg
END:VEVENT
BEGIN:VEVENT
DTSTART;TZID=America/Toronto:20170624T090000
DTEND;TZID=America/Toronto:20170624T140000
DTSTAMP:20260425T170826
CREATED:20170608T201421Z
LAST-MODIFIED:20170608T201421Z
UID:10020156-1498294800-1498312800@huronshores.ca
SUMMARY:Iron Bridge Farmers' Market
DESCRIPTION:The Iron Bridge Farmers’ Market is on Saturdays\, from 9:00 a.m. to 2:00 p.m. in the covered gazebo at the Iron Bridge Historical Museum\, 1 James Street.  Markets will be held weekly until the end of September.  Items available will include farm produce\, book and yard sale items\, as well\, consignment items may also be included (depending on storage availability). Table rentals are $5/table/day. Contact Carl at 705-843-2486 for details. The Museum is open daily from mid-June to September.
URL:https://huronshores.ca/event/iron-bridge-farmers-market-2/2017-06-24/
LOCATION:Ontario
CATEGORIES:Community News,Farmers' Markets,Local Food
ATTACH;FMTTYPE=image/jpeg:https://huronshores.ca/wp-content/uploads/2012/03/Ward-3-Museum-Welcome-sign-Web-large.jpg
END:VEVENT
BEGIN:VEVENT
DTSTART;TZID=America/Toronto:20170624T140000
DTEND;TZID=America/Toronto:20170624T153000
DTSTAMP:20260425T170826
CREATED:20151021T181815Z
LAST-MODIFIED:20151021T181815Z
UID:10016348-1498312800-1498318200@huronshores.ca
SUMMARY:Alzheimer Info & Discussion Group
DESCRIPTION:The Alzheimer Society of Sault Ste. Marie & Algoma District hosts an Information & Discussion Group on the 2nd Wednesday of each month\, at the Calvary Gospel Church\, 55 Queen Street\, Blind River from 2:00 – 3:30 p.m.  For more information please call Tanya\, First Link Coordinator\, at 705-848-8145.
URL:https://huronshores.ca/event/alzheimer-info-discussion-group-2/2017-06-24/
LOCATION:Ontario
CATEGORIES:Community News
ATTACH;FMTTYPE=image/jpeg:https://huronshores.ca/wp-content/uploads/2013/01/Alzheimers-Disease.jpg
END:VEVENT
BEGIN:VEVENT
DTSTART;TZID=America/Toronto:20170625T140000
DTEND;TZID=America/Toronto:20170625T153000
DTSTAMP:20260425T170826
CREATED:20151021T181815Z
LAST-MODIFIED:20151021T181815Z
UID:10016349-1498399200-1498404600@huronshores.ca
SUMMARY:Alzheimer Info & Discussion Group
DESCRIPTION:The Alzheimer Society of Sault Ste. Marie & Algoma District hosts an Information & Discussion Group on the 2nd Wednesday of each month\, at the Calvary Gospel Church\, 55 Queen Street\, Blind River from 2:00 – 3:30 p.m.  For more information please call Tanya\, First Link Coordinator\, at 705-848-8145.
URL:https://huronshores.ca/event/alzheimer-info-discussion-group-2/2017-06-25/
LOCATION:Ontario
CATEGORIES:Community News
ATTACH;FMTTYPE=image/jpeg:https://huronshores.ca/wp-content/uploads/2013/01/Alzheimers-Disease.jpg
END:VEVENT
BEGIN:VEVENT
DTSTART;TZID=America/Toronto:20170626T140000
DTEND;TZID=America/Toronto:20170626T153000
DTSTAMP:20260425T170826
CREATED:20151021T181815Z
LAST-MODIFIED:20151021T181815Z
UID:10016350-1498485600-1498491000@huronshores.ca
SUMMARY:Alzheimer Info & Discussion Group
DESCRIPTION:The Alzheimer Society of Sault Ste. Marie & Algoma District hosts an Information & Discussion Group on the 2nd Wednesday of each month\, at the Calvary Gospel Church\, 55 Queen Street\, Blind River from 2:00 – 3:30 p.m.  For more information please call Tanya\, First Link Coordinator\, at 705-848-8145.
URL:https://huronshores.ca/event/alzheimer-info-discussion-group-2/2017-06-26/
LOCATION:Ontario
CATEGORIES:Community News
ATTACH;FMTTYPE=image/jpeg:https://huronshores.ca/wp-content/uploads/2013/01/Alzheimers-Disease.jpg
END:VEVENT
BEGIN:VEVENT
DTSTART;TZID=America/Toronto:20170627T140000
DTEND;TZID=America/Toronto:20170627T153000
DTSTAMP:20260425T170826
CREATED:20151021T181815Z
LAST-MODIFIED:20151021T181815Z
UID:10016351-1498572000-1498577400@huronshores.ca
SUMMARY:Alzheimer Info & Discussion Group
DESCRIPTION:The Alzheimer Society of Sault Ste. Marie & Algoma District hosts an Information & Discussion Group on the 2nd Wednesday of each month\, at the Calvary Gospel Church\, 55 Queen Street\, Blind River from 2:00 – 3:30 p.m.  For more information please call Tanya\, First Link Coordinator\, at 705-848-8145.
URL:https://huronshores.ca/event/alzheimer-info-discussion-group-2/2017-06-27/
LOCATION:Ontario
CATEGORIES:Community News
ATTACH;FMTTYPE=image/jpeg:https://huronshores.ca/wp-content/uploads/2013/01/Alzheimers-Disease.jpg
END:VEVENT
BEGIN:VEVENT
DTSTART;TZID=America/Toronto:20170627T183000
DTEND;TZID=America/Toronto:20170627T200000
DTSTAMP:20260425T170826
CREATED:20170502T195428Z
LAST-MODIFIED:20170502T195428Z
UID:10020110-1498588200-1498593600@huronshores.ca
SUMMARY:Family Fun Time!
DESCRIPTION:The Iron Bridge Rec Committee hosts Family Fun Time on Tuesday evenings from 6:30 – 8:00 p.m. at the Rec Centre\, 1 Chiblow Lake Rd.  Activities for all ages.  Everyone welcome!
URL:https://huronshores.ca/event/family-fun-time/2017-06-27/
LOCATION:Ontario
CATEGORIES:Community News,Recreation
ATTACH;FMTTYPE=image/jpeg:https://huronshores.ca/wp-content/uploads/2015/09/Family-Activities.jpeg
END:VEVENT
BEGIN:VEVENT
DTSTART;TZID=America/Toronto:20170628T140000
DTEND;TZID=America/Toronto:20170628T153000
DTSTAMP:20260425T170826
CREATED:20151021T181815Z
LAST-MODIFIED:20151021T181815Z
UID:10016352-1498658400-1498663800@huronshores.ca
SUMMARY:Alzheimer Info & Discussion Group
DESCRIPTION:The Alzheimer Society of Sault Ste. Marie & Algoma District hosts an Information & Discussion Group on the 2nd Wednesday of each month\, at the Calvary Gospel Church\, 55 Queen Street\, Blind River from 2:00 – 3:30 p.m.  For more information please call Tanya\, First Link Coordinator\, at 705-848-8145.
URL:https://huronshores.ca/event/alzheimer-info-discussion-group-2/2017-06-28/
LOCATION:Ontario
CATEGORIES:Community News
ATTACH;FMTTYPE=image/jpeg:https://huronshores.ca/wp-content/uploads/2013/01/Alzheimers-Disease.jpg
END:VEVENT
BEGIN:VEVENT
DTSTART;TZID=America/Toronto:20170629T140000
DTEND;TZID=America/Toronto:20170629T153000
DTSTAMP:20260425T170826
CREATED:20151021T181815Z
LAST-MODIFIED:20151021T181815Z
UID:10016353-1498744800-1498750200@huronshores.ca
SUMMARY:Alzheimer Info & Discussion Group
DESCRIPTION:The Alzheimer Society of Sault Ste. Marie & Algoma District hosts an Information & Discussion Group on the 2nd Wednesday of each month\, at the Calvary Gospel Church\, 55 Queen Street\, Blind River from 2:00 – 3:30 p.m.  For more information please call Tanya\, First Link Coordinator\, at 705-848-8145.
URL:https://huronshores.ca/event/alzheimer-info-discussion-group-2/2017-06-29/
LOCATION:Ontario
CATEGORIES:Community News
ATTACH;FMTTYPE=image/jpeg:https://huronshores.ca/wp-content/uploads/2013/01/Alzheimers-Disease.jpg
END:VEVENT
BEGIN:VEVENT
DTSTART;TZID=America/Toronto:20170630T140000
DTEND;TZID=America/Toronto:20170630T153000
DTSTAMP:20260425T170826
CREATED:20151021T181815Z
LAST-MODIFIED:20151021T181815Z
UID:10016354-1498831200-1498836600@huronshores.ca
SUMMARY:Alzheimer Info & Discussion Group
DESCRIPTION:The Alzheimer Society of Sault Ste. Marie & Algoma District hosts an Information & Discussion Group on the 2nd Wednesday of each month\, at the Calvary Gospel Church\, 55 Queen Street\, Blind River from 2:00 – 3:30 p.m.  For more information please call Tanya\, First Link Coordinator\, at 705-848-8145.
URL:https://huronshores.ca/event/alzheimer-info-discussion-group-2/2017-06-30/
LOCATION:Ontario
CATEGORIES:Community News
ATTACH;FMTTYPE=image/jpeg:https://huronshores.ca/wp-content/uploads/2013/01/Alzheimers-Disease.jpg
END:VEVENT
BEGIN:VEVENT
DTSTART;TZID=America/Toronto:20170630T170000
DTEND;TZID=America/Toronto:20170630T190000
DTSTAMP:20260425T170826
CREATED:20170223T155057Z
LAST-MODIFIED:20170223T155057Z
UID:10020094-1498842000-1498849200@huronshores.ca
SUMMARY:Friday Fish Fry
DESCRIPTION:The RC Legion Branch 182 in Thessalon hosts a Fish Fry from 5:00 p.m. to 7:00 p.m.   Take-out called in by 4:30 p.m. & picked up by 5:00 p.m. Call 705-842-2418.
URL:https://huronshores.ca/event/friday-fish-fry/2017-06-30/
LOCATION:Ontario
CATEGORIES:Community News,Local Food
ATTACH;FMTTYPE=image/jpeg:https://huronshores.ca/wp-content/uploads/2015/12/Friday-Fish-Fry.jpg
END:VEVENT
BEGIN:VEVENT
DTSTART;VALUE=DATE:20170701
DTEND;VALUE=DATE:20170702
DTSTAMP:20260425T170826
CREATED:20161219T152216Z
LAST-MODIFIED:20161219T152216Z
UID:10019493-1498867200-1498953599@huronshores.ca
SUMMARY:Canada Day
DESCRIPTION:All Waste Disposal &  Recycling Sites are closed in observance of Canada Day.  The Waste Sites will re-open at the regular time\, from 4:00 to 8:00 p.m.\, Monday\, July 3/17.  Please note that the Municipal Office will be closed on Monday\, July 3/17 in lieu of the Canada Day statutory holiday.  Happy Canada Day from Council\, staff and the fire department!
URL:https://huronshores.ca/event/canada-day-2/
LOCATION:Ontario
CATEGORIES:Community News,Waste Disposal
ATTACH;FMTTYPE=image/jpeg:https://huronshores.ca/wp-content/uploads/2016/01/Canada-Day-Beaver.jpg
END:VEVENT
BEGIN:VEVENT
DTSTART;TZID=America/Toronto:20170701T090000
DTEND;TZID=America/Toronto:20170701T140000
DTSTAMP:20260425T170826
CREATED:20170608T201421Z
LAST-MODIFIED:20170608T201421Z
UID:10020157-1498899600-1498917600@huronshores.ca
SUMMARY:Iron Bridge Farmers' Market
DESCRIPTION:The Iron Bridge Farmers’ Market is on Saturdays\, from 9:00 a.m. to 2:00 p.m. in the covered gazebo at the Iron Bridge Historical Museum\, 1 James Street.  Markets will be held weekly until the end of September.  Items available will include farm produce\, book and yard sale items\, as well\, consignment items may also be included (depending on storage availability). Table rentals are $5/table/day. Contact Carl at 705-843-2486 for details. The Museum is open daily from mid-June to September.
URL:https://huronshores.ca/event/iron-bridge-farmers-market-2/2017-07-01/
LOCATION:Ontario
CATEGORIES:Community News,Farmers' Markets,Local Food
ATTACH;FMTTYPE=image/jpeg:https://huronshores.ca/wp-content/uploads/2012/03/Ward-3-Museum-Welcome-sign-Web-large.jpg
END:VEVENT
BEGIN:VEVENT
DTSTART;TZID=America/Toronto:20170701T110000
DTEND;TZID=America/Toronto:20170701T150000
DTSTAMP:20260425T170826
CREATED:20170627T201604Z
LAST-MODIFIED:20170627T201604Z
UID:10020172-1498906800-1498921200@huronshores.ca
SUMMARY:Canada Day 150th Celebration BBQ
DESCRIPTION:The Village Inn Diner in Iron Bridge is hosting a Canada Day 150th Celebration Barbecue\, Saturday\, July 1/17 from 11:00 a.m. to 3:00 p.m.  BBQ features include homemade burgers\, hot dogs\, and pop. All proceeds will be donated to the Blind River Food Bank and the NEO Kids at Health Sciences North\, Sudbury.  Come show your support for a great Family Diner and help those that need it.  That’s what we’re all about in Canada!
URL:https://huronshores.ca/event/canada-day-150th-celebration-bbq/
LOCATION:Ontario
CATEGORIES:Community News
ATTACH;FMTTYPE=image/jpeg:https://huronshores.ca/wp-content/uploads/2016/01/Canada-Day-Beaver.jpg
END:VEVENT
BEGIN:VEVENT
DTSTART;TZID=America/Toronto:20170701T140000
DTEND;TZID=America/Toronto:20170701T153000
DTSTAMP:20260425T170826
CREATED:20151021T181815Z
LAST-MODIFIED:20151021T181815Z
UID:10016355-1498917600-1498923000@huronshores.ca
SUMMARY:Alzheimer Info & Discussion Group
DESCRIPTION:The Alzheimer Society of Sault Ste. Marie & Algoma District hosts an Information & Discussion Group on the 2nd Wednesday of each month\, at the Calvary Gospel Church\, 55 Queen Street\, Blind River from 2:00 – 3:30 p.m.  For more information please call Tanya\, First Link Coordinator\, at 705-848-8145.
URL:https://huronshores.ca/event/alzheimer-info-discussion-group-2/2017-07-01/
LOCATION:Ontario
CATEGORIES:Community News
ATTACH;FMTTYPE=image/jpeg:https://huronshores.ca/wp-content/uploads/2013/01/Alzheimers-Disease.jpg
END:VEVENT
END:VCALENDAR