BEGIN:VCALENDAR
VERSION:2.0
PRODID:-//Huron Shores - ECPv6.15.11//NONSGML v1.0//EN
CALSCALE:GREGORIAN
METHOD:PUBLISH
X-ORIGINAL-URL:https://huronshores.ca
X-WR-CALDESC:Events for Huron Shores
REFRESH-INTERVAL;VALUE=DURATION:PT1H
X-Robots-Tag:noindex
X-PUBLISHED-TTL:PT1H
BEGIN:VTIMEZONE
TZID:America/Toronto
BEGIN:DAYLIGHT
TZOFFSETFROM:-0500
TZOFFSETTO:-0400
TZNAME:EDT
DTSTART:20160313T070000
END:DAYLIGHT
BEGIN:STANDARD
TZOFFSETFROM:-0400
TZOFFSETTO:-0500
TZNAME:EST
DTSTART:20161106T060000
END:STANDARD
BEGIN:DAYLIGHT
TZOFFSETFROM:-0500
TZOFFSETTO:-0400
TZNAME:EDT
DTSTART:20170312T070000
END:DAYLIGHT
BEGIN:STANDARD
TZOFFSETFROM:-0400
TZOFFSETTO:-0500
TZNAME:EST
DTSTART:20171105T060000
END:STANDARD
BEGIN:DAYLIGHT
TZOFFSETFROM:-0500
TZOFFSETTO:-0400
TZNAME:EDT
DTSTART:20180311T070000
END:DAYLIGHT
BEGIN:STANDARD
TZOFFSETFROM:-0400
TZOFFSETTO:-0500
TZNAME:EST
DTSTART:20181104T060000
END:STANDARD
END:VTIMEZONE
BEGIN:VEVENT
DTSTART;TZID=America/Toronto:20170416T140000
DTEND;TZID=America/Toronto:20170416T153000
DTSTAMP:20260425T230258
CREATED:20151021T181815Z
LAST-MODIFIED:20151021T181815Z
UID:10016279-1492351200-1492356600@huronshores.ca
SUMMARY:Alzheimer Info & Discussion Group
DESCRIPTION:The Alzheimer Society of Sault Ste. Marie & Algoma District hosts an Information & Discussion Group on the 2nd Wednesday of each month\, at the Calvary Gospel Church\, 55 Queen Street\, Blind River from 2:00 – 3:30 p.m.  For more information please call Tanya\, First Link Coordinator\, at 705-848-8145.
URL:https://huronshores.ca/event/alzheimer-info-discussion-group-2/2017-04-16/
LOCATION:Ontario
CATEGORIES:Community News
ATTACH;FMTTYPE=image/jpeg:https://huronshores.ca/wp-content/uploads/2013/01/Alzheimers-Disease.jpg
END:VEVENT
BEGIN:VEVENT
DTSTART;TZID=America/Toronto:20170417T140000
DTEND;TZID=America/Toronto:20170417T153000
DTSTAMP:20260425T230258
CREATED:20151021T181815Z
LAST-MODIFIED:20151021T181815Z
UID:10016280-1492437600-1492443000@huronshores.ca
SUMMARY:Alzheimer Info & Discussion Group
DESCRIPTION:The Alzheimer Society of Sault Ste. Marie & Algoma District hosts an Information & Discussion Group on the 2nd Wednesday of each month\, at the Calvary Gospel Church\, 55 Queen Street\, Blind River from 2:00 – 3:30 p.m.  For more information please call Tanya\, First Link Coordinator\, at 705-848-8145.
URL:https://huronshores.ca/event/alzheimer-info-discussion-group-2/2017-04-17/
LOCATION:Ontario
CATEGORIES:Community News
ATTACH;FMTTYPE=image/jpeg:https://huronshores.ca/wp-content/uploads/2013/01/Alzheimers-Disease.jpg
END:VEVENT
BEGIN:VEVENT
DTSTART;TZID=America/Toronto:20170418T140000
DTEND;TZID=America/Toronto:20170418T153000
DTSTAMP:20260425T230258
CREATED:20151021T181815Z
LAST-MODIFIED:20151021T181815Z
UID:10016281-1492524000-1492529400@huronshores.ca
SUMMARY:Alzheimer Info & Discussion Group
DESCRIPTION:The Alzheimer Society of Sault Ste. Marie & Algoma District hosts an Information & Discussion Group on the 2nd Wednesday of each month\, at the Calvary Gospel Church\, 55 Queen Street\, Blind River from 2:00 – 3:30 p.m.  For more information please call Tanya\, First Link Coordinator\, at 705-848-8145.
URL:https://huronshores.ca/event/alzheimer-info-discussion-group-2/2017-04-18/
LOCATION:Ontario
CATEGORIES:Community News
ATTACH;FMTTYPE=image/jpeg:https://huronshores.ca/wp-content/uploads/2013/01/Alzheimers-Disease.jpg
END:VEVENT
BEGIN:VEVENT
DTSTART;TZID=America/Toronto:20170419T140000
DTEND;TZID=America/Toronto:20170419T153000
DTSTAMP:20260425T230259
CREATED:20151021T181815Z
LAST-MODIFIED:20151021T181815Z
UID:10016282-1492610400-1492615800@huronshores.ca
SUMMARY:Alzheimer Info & Discussion Group
DESCRIPTION:The Alzheimer Society of Sault Ste. Marie & Algoma District hosts an Information & Discussion Group on the 2nd Wednesday of each month\, at the Calvary Gospel Church\, 55 Queen Street\, Blind River from 2:00 – 3:30 p.m.  For more information please call Tanya\, First Link Coordinator\, at 705-848-8145.
URL:https://huronshores.ca/event/alzheimer-info-discussion-group-2/2017-04-19/
LOCATION:Ontario
CATEGORIES:Community News
ATTACH;FMTTYPE=image/jpeg:https://huronshores.ca/wp-content/uploads/2013/01/Alzheimers-Disease.jpg
END:VEVENT
BEGIN:VEVENT
DTSTART;TZID=America/Toronto:20170420T140000
DTEND;TZID=America/Toronto:20170420T153000
DTSTAMP:20260425T230259
CREATED:20151021T181815Z
LAST-MODIFIED:20151021T181815Z
UID:10016283-1492696800-1492702200@huronshores.ca
SUMMARY:Alzheimer Info & Discussion Group
DESCRIPTION:The Alzheimer Society of Sault Ste. Marie & Algoma District hosts an Information & Discussion Group on the 2nd Wednesday of each month\, at the Calvary Gospel Church\, 55 Queen Street\, Blind River from 2:00 – 3:30 p.m.  For more information please call Tanya\, First Link Coordinator\, at 705-848-8145.
URL:https://huronshores.ca/event/alzheimer-info-discussion-group-2/2017-04-20/
LOCATION:Ontario
CATEGORIES:Community News
ATTACH;FMTTYPE=image/jpeg:https://huronshores.ca/wp-content/uploads/2013/01/Alzheimers-Disease.jpg
END:VEVENT
BEGIN:VEVENT
DTSTART;TZID=America/Toronto:20170421T140000
DTEND;TZID=America/Toronto:20170421T153000
DTSTAMP:20260425T230259
CREATED:20151021T181815Z
LAST-MODIFIED:20151021T181815Z
UID:10016284-1492783200-1492788600@huronshores.ca
SUMMARY:Alzheimer Info & Discussion Group
DESCRIPTION:The Alzheimer Society of Sault Ste. Marie & Algoma District hosts an Information & Discussion Group on the 2nd Wednesday of each month\, at the Calvary Gospel Church\, 55 Queen Street\, Blind River from 2:00 – 3:30 p.m.  For more information please call Tanya\, First Link Coordinator\, at 705-848-8145.
URL:https://huronshores.ca/event/alzheimer-info-discussion-group-2/2017-04-21/
LOCATION:Ontario
CATEGORIES:Community News
ATTACH;FMTTYPE=image/jpeg:https://huronshores.ca/wp-content/uploads/2013/01/Alzheimers-Disease.jpg
END:VEVENT
BEGIN:VEVENT
DTSTART;TZID=America/Toronto:20170422T140000
DTEND;TZID=America/Toronto:20170422T153000
DTSTAMP:20260425T230259
CREATED:20151021T181815Z
LAST-MODIFIED:20151021T181815Z
UID:10016285-1492869600-1492875000@huronshores.ca
SUMMARY:Alzheimer Info & Discussion Group
DESCRIPTION:The Alzheimer Society of Sault Ste. Marie & Algoma District hosts an Information & Discussion Group on the 2nd Wednesday of each month\, at the Calvary Gospel Church\, 55 Queen Street\, Blind River from 2:00 – 3:30 p.m.  For more information please call Tanya\, First Link Coordinator\, at 705-848-8145.
URL:https://huronshores.ca/event/alzheimer-info-discussion-group-2/2017-04-22/
LOCATION:Ontario
CATEGORIES:Community News
ATTACH;FMTTYPE=image/jpeg:https://huronshores.ca/wp-content/uploads/2013/01/Alzheimers-Disease.jpg
END:VEVENT
BEGIN:VEVENT
DTSTART;TZID=America/Toronto:20170423T140000
DTEND;TZID=America/Toronto:20170423T153000
DTSTAMP:20260425T230259
CREATED:20151021T181815Z
LAST-MODIFIED:20151021T181815Z
UID:10016286-1492956000-1492961400@huronshores.ca
SUMMARY:Alzheimer Info & Discussion Group
DESCRIPTION:The Alzheimer Society of Sault Ste. Marie & Algoma District hosts an Information & Discussion Group on the 2nd Wednesday of each month\, at the Calvary Gospel Church\, 55 Queen Street\, Blind River from 2:00 – 3:30 p.m.  For more information please call Tanya\, First Link Coordinator\, at 705-848-8145.
URL:https://huronshores.ca/event/alzheimer-info-discussion-group-2/2017-04-23/
LOCATION:Ontario
CATEGORIES:Community News
ATTACH;FMTTYPE=image/jpeg:https://huronshores.ca/wp-content/uploads/2013/01/Alzheimers-Disease.jpg
END:VEVENT
BEGIN:VEVENT
DTSTART;TZID=America/Toronto:20170424T140000
DTEND;TZID=America/Toronto:20170424T153000
DTSTAMP:20260425T230259
CREATED:20151021T181815Z
LAST-MODIFIED:20151021T181815Z
UID:10016287-1493042400-1493047800@huronshores.ca
SUMMARY:Alzheimer Info & Discussion Group
DESCRIPTION:The Alzheimer Society of Sault Ste. Marie & Algoma District hosts an Information & Discussion Group on the 2nd Wednesday of each month\, at the Calvary Gospel Church\, 55 Queen Street\, Blind River from 2:00 – 3:30 p.m.  For more information please call Tanya\, First Link Coordinator\, at 705-848-8145.
URL:https://huronshores.ca/event/alzheimer-info-discussion-group-2/2017-04-24/
LOCATION:Ontario
CATEGORIES:Community News
ATTACH;FMTTYPE=image/jpeg:https://huronshores.ca/wp-content/uploads/2013/01/Alzheimers-Disease.jpg
END:VEVENT
BEGIN:VEVENT
DTSTART;TZID=America/Toronto:20170425T140000
DTEND;TZID=America/Toronto:20170425T153000
DTSTAMP:20260425T230259
CREATED:20151021T181815Z
LAST-MODIFIED:20151021T181815Z
UID:10016288-1493128800-1493134200@huronshores.ca
SUMMARY:Alzheimer Info & Discussion Group
DESCRIPTION:The Alzheimer Society of Sault Ste. Marie & Algoma District hosts an Information & Discussion Group on the 2nd Wednesday of each month\, at the Calvary Gospel Church\, 55 Queen Street\, Blind River from 2:00 – 3:30 p.m.  For more information please call Tanya\, First Link Coordinator\, at 705-848-8145.
URL:https://huronshores.ca/event/alzheimer-info-discussion-group-2/2017-04-25/
LOCATION:Ontario
CATEGORIES:Community News
ATTACH;FMTTYPE=image/jpeg:https://huronshores.ca/wp-content/uploads/2013/01/Alzheimers-Disease.jpg
END:VEVENT
BEGIN:VEVENT
DTSTART;TZID=America/Toronto:20170426T140000
DTEND;TZID=America/Toronto:20170426T153000
DTSTAMP:20260425T230259
CREATED:20151021T181815Z
LAST-MODIFIED:20151021T181815Z
UID:10016289-1493215200-1493220600@huronshores.ca
SUMMARY:Alzheimer Info & Discussion Group
DESCRIPTION:The Alzheimer Society of Sault Ste. Marie & Algoma District hosts an Information & Discussion Group on the 2nd Wednesday of each month\, at the Calvary Gospel Church\, 55 Queen Street\, Blind River from 2:00 – 3:30 p.m.  For more information please call Tanya\, First Link Coordinator\, at 705-848-8145.
URL:https://huronshores.ca/event/alzheimer-info-discussion-group-2/2017-04-26/
LOCATION:Ontario
CATEGORIES:Community News
ATTACH;FMTTYPE=image/jpeg:https://huronshores.ca/wp-content/uploads/2013/01/Alzheimers-Disease.jpg
END:VEVENT
BEGIN:VEVENT
DTSTART;TZID=America/Toronto:20170427T140000
DTEND;TZID=America/Toronto:20170427T153000
DTSTAMP:20260425T230259
CREATED:20151021T181815Z
LAST-MODIFIED:20151021T181815Z
UID:10016290-1493301600-1493307000@huronshores.ca
SUMMARY:Alzheimer Info & Discussion Group
DESCRIPTION:The Alzheimer Society of Sault Ste. Marie & Algoma District hosts an Information & Discussion Group on the 2nd Wednesday of each month\, at the Calvary Gospel Church\, 55 Queen Street\, Blind River from 2:00 – 3:30 p.m.  For more information please call Tanya\, First Link Coordinator\, at 705-848-8145.
URL:https://huronshores.ca/event/alzheimer-info-discussion-group-2/2017-04-27/
LOCATION:Ontario
CATEGORIES:Community News
ATTACH;FMTTYPE=image/jpeg:https://huronshores.ca/wp-content/uploads/2013/01/Alzheimers-Disease.jpg
END:VEVENT
BEGIN:VEVENT
DTSTART;TZID=America/Toronto:20170428T140000
DTEND;TZID=America/Toronto:20170428T153000
DTSTAMP:20260425T230259
CREATED:20151021T181815Z
LAST-MODIFIED:20151021T181815Z
UID:10016291-1493388000-1493393400@huronshores.ca
SUMMARY:Alzheimer Info & Discussion Group
DESCRIPTION:The Alzheimer Society of Sault Ste. Marie & Algoma District hosts an Information & Discussion Group on the 2nd Wednesday of each month\, at the Calvary Gospel Church\, 55 Queen Street\, Blind River from 2:00 – 3:30 p.m.  For more information please call Tanya\, First Link Coordinator\, at 705-848-8145.
URL:https://huronshores.ca/event/alzheimer-info-discussion-group-2/2017-04-28/
LOCATION:Ontario
CATEGORIES:Community News
ATTACH;FMTTYPE=image/jpeg:https://huronshores.ca/wp-content/uploads/2013/01/Alzheimers-Disease.jpg
END:VEVENT
BEGIN:VEVENT
DTSTART;TZID=America/Toronto:20170428T170000
DTEND;TZID=America/Toronto:20170428T190000
DTSTAMP:20260425T230259
CREATED:20170223T155057Z
LAST-MODIFIED:20170223T155057Z
UID:10020092-1493398800-1493406000@huronshores.ca
SUMMARY:Friday Fish Fry
DESCRIPTION:The RC Legion Branch 182 in Thessalon hosts a Fish Fry from 5:00 p.m. to 7:00 p.m.   Take-out called in by 4:30 p.m. & picked up by 5:00 p.m. Call 705-842-2418.
URL:https://huronshores.ca/event/friday-fish-fry/2017-04-28/
LOCATION:Ontario
CATEGORIES:Community News,Local Food
ATTACH;FMTTYPE=image/jpeg:https://huronshores.ca/wp-content/uploads/2015/12/Friday-Fish-Fry.jpg
END:VEVENT
BEGIN:VEVENT
DTSTART;TZID=America/Toronto:20170429T140000
DTEND;TZID=America/Toronto:20170429T153000
DTSTAMP:20260425T230259
CREATED:20151021T181815Z
LAST-MODIFIED:20151021T181815Z
UID:10016292-1493474400-1493479800@huronshores.ca
SUMMARY:Alzheimer Info & Discussion Group
DESCRIPTION:The Alzheimer Society of Sault Ste. Marie & Algoma District hosts an Information & Discussion Group on the 2nd Wednesday of each month\, at the Calvary Gospel Church\, 55 Queen Street\, Blind River from 2:00 – 3:30 p.m.  For more information please call Tanya\, First Link Coordinator\, at 705-848-8145.
URL:https://huronshores.ca/event/alzheimer-info-discussion-group-2/2017-04-29/
LOCATION:Ontario
CATEGORIES:Community News
ATTACH;FMTTYPE=image/jpeg:https://huronshores.ca/wp-content/uploads/2013/01/Alzheimers-Disease.jpg
END:VEVENT
BEGIN:VEVENT
DTSTART;TZID=America/Toronto:20170430T140000
DTEND;TZID=America/Toronto:20170430T153000
DTSTAMP:20260425T230259
CREATED:20151021T181815Z
LAST-MODIFIED:20151021T181815Z
UID:10016293-1493560800-1493566200@huronshores.ca
SUMMARY:Alzheimer Info & Discussion Group
DESCRIPTION:The Alzheimer Society of Sault Ste. Marie & Algoma District hosts an Information & Discussion Group on the 2nd Wednesday of each month\, at the Calvary Gospel Church\, 55 Queen Street\, Blind River from 2:00 – 3:30 p.m.  For more information please call Tanya\, First Link Coordinator\, at 705-848-8145.
URL:https://huronshores.ca/event/alzheimer-info-discussion-group-2/2017-04-30/
LOCATION:Ontario
CATEGORIES:Community News
ATTACH;FMTTYPE=image/jpeg:https://huronshores.ca/wp-content/uploads/2013/01/Alzheimers-Disease.jpg
END:VEVENT
BEGIN:VEVENT
DTSTART;TZID=America/Toronto:20170501T140000
DTEND;TZID=America/Toronto:20170501T153000
DTSTAMP:20260425T230259
CREATED:20151021T181815Z
LAST-MODIFIED:20151021T181815Z
UID:10016294-1493647200-1493652600@huronshores.ca
SUMMARY:Alzheimer Info & Discussion Group
DESCRIPTION:The Alzheimer Society of Sault Ste. Marie & Algoma District hosts an Information & Discussion Group on the 2nd Wednesday of each month\, at the Calvary Gospel Church\, 55 Queen Street\, Blind River from 2:00 – 3:30 p.m.  For more information please call Tanya\, First Link Coordinator\, at 705-848-8145.
URL:https://huronshores.ca/event/alzheimer-info-discussion-group-2/2017-05-01/
LOCATION:Ontario
CATEGORIES:Community News
ATTACH;FMTTYPE=image/jpeg:https://huronshores.ca/wp-content/uploads/2013/01/Alzheimers-Disease.jpg
END:VEVENT
BEGIN:VEVENT
DTSTART;TZID=America/Toronto:20170502T140000
DTEND;TZID=America/Toronto:20170502T153000
DTSTAMP:20260425T230259
CREATED:20151021T181815Z
LAST-MODIFIED:20151021T181815Z
UID:10016295-1493733600-1493739000@huronshores.ca
SUMMARY:Alzheimer Info & Discussion Group
DESCRIPTION:The Alzheimer Society of Sault Ste. Marie & Algoma District hosts an Information & Discussion Group on the 2nd Wednesday of each month\, at the Calvary Gospel Church\, 55 Queen Street\, Blind River from 2:00 – 3:30 p.m.  For more information please call Tanya\, First Link Coordinator\, at 705-848-8145.
URL:https://huronshores.ca/event/alzheimer-info-discussion-group-2/2017-05-02/
LOCATION:Ontario
CATEGORIES:Community News
ATTACH;FMTTYPE=image/jpeg:https://huronshores.ca/wp-content/uploads/2013/01/Alzheimers-Disease.jpg
END:VEVENT
BEGIN:VEVENT
DTSTART;TZID=America/Toronto:20170503T140000
DTEND;TZID=America/Toronto:20170503T153000
DTSTAMP:20260425T230259
CREATED:20151021T181815Z
LAST-MODIFIED:20151021T181815Z
UID:10016296-1493820000-1493825400@huronshores.ca
SUMMARY:Alzheimer Info & Discussion Group
DESCRIPTION:The Alzheimer Society of Sault Ste. Marie & Algoma District hosts an Information & Discussion Group on the 2nd Wednesday of each month\, at the Calvary Gospel Church\, 55 Queen Street\, Blind River from 2:00 – 3:30 p.m.  For more information please call Tanya\, First Link Coordinator\, at 705-848-8145.
URL:https://huronshores.ca/event/alzheimer-info-discussion-group-2/2017-05-03/
LOCATION:Ontario
CATEGORIES:Community News
ATTACH;FMTTYPE=image/jpeg:https://huronshores.ca/wp-content/uploads/2013/01/Alzheimers-Disease.jpg
END:VEVENT
BEGIN:VEVENT
DTSTART;TZID=America/Toronto:20170504T140000
DTEND;TZID=America/Toronto:20170504T153000
DTSTAMP:20260425T230259
CREATED:20151021T181815Z
LAST-MODIFIED:20151021T181815Z
UID:10016297-1493906400-1493911800@huronshores.ca
SUMMARY:Alzheimer Info & Discussion Group
DESCRIPTION:The Alzheimer Society of Sault Ste. Marie & Algoma District hosts an Information & Discussion Group on the 2nd Wednesday of each month\, at the Calvary Gospel Church\, 55 Queen Street\, Blind River from 2:00 – 3:30 p.m.  For more information please call Tanya\, First Link Coordinator\, at 705-848-8145.
URL:https://huronshores.ca/event/alzheimer-info-discussion-group-2/2017-05-04/
LOCATION:Ontario
CATEGORIES:Community News
ATTACH;FMTTYPE=image/jpeg:https://huronshores.ca/wp-content/uploads/2013/01/Alzheimers-Disease.jpg
END:VEVENT
BEGIN:VEVENT
DTSTART;TZID=America/Toronto:20170505T140000
DTEND;TZID=America/Toronto:20170505T153000
DTSTAMP:20260425T230259
CREATED:20151021T181815Z
LAST-MODIFIED:20151021T181815Z
UID:10016298-1493992800-1493998200@huronshores.ca
SUMMARY:Alzheimer Info & Discussion Group
DESCRIPTION:The Alzheimer Society of Sault Ste. Marie & Algoma District hosts an Information & Discussion Group on the 2nd Wednesday of each month\, at the Calvary Gospel Church\, 55 Queen Street\, Blind River from 2:00 – 3:30 p.m.  For more information please call Tanya\, First Link Coordinator\, at 705-848-8145.
URL:https://huronshores.ca/event/alzheimer-info-discussion-group-2/2017-05-05/
LOCATION:Ontario
CATEGORIES:Community News
ATTACH;FMTTYPE=image/jpeg:https://huronshores.ca/wp-content/uploads/2013/01/Alzheimers-Disease.jpg
END:VEVENT
BEGIN:VEVENT
DTSTART;TZID=America/Toronto:20170506T140000
DTEND;TZID=America/Toronto:20170506T153000
DTSTAMP:20260425T230259
CREATED:20151021T181815Z
LAST-MODIFIED:20151021T181815Z
UID:10016299-1494079200-1494084600@huronshores.ca
SUMMARY:Alzheimer Info & Discussion Group
DESCRIPTION:The Alzheimer Society of Sault Ste. Marie & Algoma District hosts an Information & Discussion Group on the 2nd Wednesday of each month\, at the Calvary Gospel Church\, 55 Queen Street\, Blind River from 2:00 – 3:30 p.m.  For more information please call Tanya\, First Link Coordinator\, at 705-848-8145.
URL:https://huronshores.ca/event/alzheimer-info-discussion-group-2/2017-05-06/
LOCATION:Ontario
CATEGORIES:Community News
ATTACH;FMTTYPE=image/jpeg:https://huronshores.ca/wp-content/uploads/2013/01/Alzheimers-Disease.jpg
END:VEVENT
BEGIN:VEVENT
DTSTART;TZID=America/Toronto:20170507T100000
DTEND;TZID=America/Toronto:20170507T100000
DTSTAMP:20260425T230259
CREATED:20170502T193539Z
LAST-MODIFIED:20170502T193539Z
UID:10019567-1494151200-1494151200@huronshores.ca
SUMMARY:Iron Bridge United Church 125th Anniversary
DESCRIPTION:Iron Bridge United Church is celebrating its 125th Anniversary on Sunday\, May 7/17 with a 10:00 a.m. service.  Guest speaker is Rev. John Brown (1966-71).  Potluck lunch and fellowship to follow.  Everyone welcome!
URL:https://huronshores.ca/event/iron-bridge-united-church-125th-anniversary/
LOCATION:Ontario
CATEGORIES:Community News
END:VEVENT
BEGIN:VEVENT
DTSTART;TZID=America/Toronto:20170507T140000
DTEND;TZID=America/Toronto:20170507T153000
DTSTAMP:20260425T230259
CREATED:20151021T181815Z
LAST-MODIFIED:20151021T181815Z
UID:10016300-1494165600-1494171000@huronshores.ca
SUMMARY:Alzheimer Info & Discussion Group
DESCRIPTION:The Alzheimer Society of Sault Ste. Marie & Algoma District hosts an Information & Discussion Group on the 2nd Wednesday of each month\, at the Calvary Gospel Church\, 55 Queen Street\, Blind River from 2:00 – 3:30 p.m.  For more information please call Tanya\, First Link Coordinator\, at 705-848-8145.
URL:https://huronshores.ca/event/alzheimer-info-discussion-group-2/2017-05-07/
LOCATION:Ontario
CATEGORIES:Community News
ATTACH;FMTTYPE=image/jpeg:https://huronshores.ca/wp-content/uploads/2013/01/Alzheimers-Disease.jpg
END:VEVENT
BEGIN:VEVENT
DTSTART;TZID=America/Toronto:20170508T140000
DTEND;TZID=America/Toronto:20170508T153000
DTSTAMP:20260425T230259
CREATED:20151021T181815Z
LAST-MODIFIED:20151021T181815Z
UID:10016301-1494252000-1494257400@huronshores.ca
SUMMARY:Alzheimer Info & Discussion Group
DESCRIPTION:The Alzheimer Society of Sault Ste. Marie & Algoma District hosts an Information & Discussion Group on the 2nd Wednesday of each month\, at the Calvary Gospel Church\, 55 Queen Street\, Blind River from 2:00 – 3:30 p.m.  For more information please call Tanya\, First Link Coordinator\, at 705-848-8145.
URL:https://huronshores.ca/event/alzheimer-info-discussion-group-2/2017-05-08/
LOCATION:Ontario
CATEGORIES:Community News
ATTACH;FMTTYPE=image/jpeg:https://huronshores.ca/wp-content/uploads/2013/01/Alzheimers-Disease.jpg
END:VEVENT
BEGIN:VEVENT
DTSTART;TZID=America/Toronto:20170509T140000
DTEND;TZID=America/Toronto:20170509T153000
DTSTAMP:20260425T230259
CREATED:20151021T181815Z
LAST-MODIFIED:20151021T181815Z
UID:10016302-1494338400-1494343800@huronshores.ca
SUMMARY:Alzheimer Info & Discussion Group
DESCRIPTION:The Alzheimer Society of Sault Ste. Marie & Algoma District hosts an Information & Discussion Group on the 2nd Wednesday of each month\, at the Calvary Gospel Church\, 55 Queen Street\, Blind River from 2:00 – 3:30 p.m.  For more information please call Tanya\, First Link Coordinator\, at 705-848-8145.
URL:https://huronshores.ca/event/alzheimer-info-discussion-group-2/2017-05-09/
LOCATION:Ontario
CATEGORIES:Community News
ATTACH;FMTTYPE=image/jpeg:https://huronshores.ca/wp-content/uploads/2013/01/Alzheimers-Disease.jpg
END:VEVENT
BEGIN:VEVENT
DTSTART;TZID=America/Toronto:20170510T140000
DTEND;TZID=America/Toronto:20170510T153000
DTSTAMP:20260425T230259
CREATED:20151021T181815Z
LAST-MODIFIED:20151021T181815Z
UID:10016303-1494424800-1494430200@huronshores.ca
SUMMARY:Alzheimer Info & Discussion Group
DESCRIPTION:The Alzheimer Society of Sault Ste. Marie & Algoma District hosts an Information & Discussion Group on the 2nd Wednesday of each month\, at the Calvary Gospel Church\, 55 Queen Street\, Blind River from 2:00 – 3:30 p.m.  For more information please call Tanya\, First Link Coordinator\, at 705-848-8145.
URL:https://huronshores.ca/event/alzheimer-info-discussion-group-2/2017-05-10/
LOCATION:Ontario
CATEGORIES:Community News
ATTACH;FMTTYPE=image/jpeg:https://huronshores.ca/wp-content/uploads/2013/01/Alzheimers-Disease.jpg
END:VEVENT
BEGIN:VEVENT
DTSTART;TZID=America/Toronto:20170511T110000
DTEND;TZID=America/Toronto:20170511T120000
DTSTAMP:20260425T230259
CREATED:20161129T195241Z
LAST-MODIFIED:20161129T195241Z
UID:10019990-1494500400-1494504000@huronshores.ca
SUMMARY:MP Carol Hughes Constituency Clinic
DESCRIPTION:Algoma-Manitoulin-Kapuskasing MP Carol Hughes will hold  Constituency Clinics in 2017 from 11:00 a.m. to Noon at the Municipal Office\, 7 Bridge St.\, Iron Bridge on the following Thursdays:  January 12\, March 9\, May 11\, September 7\, and November 9.  For further information please contact the Elliot Lake  Constituency Office as listed below.
URL:https://huronshores.ca/event/mp-carol-hughes-constituency-clinic/2017-05-11/
LOCATION:Ontario
CATEGORIES:Community News
ATTACH;FMTTYPE=image/jpeg:https://huronshores.ca/wp-content/uploads/2016/11/HughesCarol_NDP1.jpg
END:VEVENT
BEGIN:VEVENT
DTSTART;TZID=America/Toronto:20170511T113000
DTEND;TZID=America/Toronto:20170511T133000
DTSTAMP:20260425T230259
CREATED:20170502T194028Z
LAST-MODIFIED:20170502T194028Z
UID:10019568-1494502200-1494509400@huronshores.ca
SUMMARY:Spring Luncheon & Bake Sale
DESCRIPTION:The North Shore Health Network Auxiliary (Thessalon Site)  is hosting its annual Spring Luncheon & Bake Sale on Thursday\, May 11/17 from 11:30 a.m. – 1:30 p.m. at the IOOF Hall\, Main Street\, Thessalon.  Come out to celebrate Nurses’ Week & support your local hospital!
URL:https://huronshores.ca/event/spring-luncheon-bake-sale/
LOCATION:Ontario
CATEGORIES:Community News,Fundraiser
ATTACH;FMTTYPE=image/png:https://huronshores.ca/wp-content/uploads/2015/11/Bake-Sale.png
END:VEVENT
BEGIN:VEVENT
DTSTART;TZID=America/Toronto:20170511T140000
DTEND;TZID=America/Toronto:20170511T153000
DTSTAMP:20260425T230259
CREATED:20151021T181815Z
LAST-MODIFIED:20151021T181815Z
UID:10016304-1494511200-1494516600@huronshores.ca
SUMMARY:Alzheimer Info & Discussion Group
DESCRIPTION:The Alzheimer Society of Sault Ste. Marie & Algoma District hosts an Information & Discussion Group on the 2nd Wednesday of each month\, at the Calvary Gospel Church\, 55 Queen Street\, Blind River from 2:00 – 3:30 p.m.  For more information please call Tanya\, First Link Coordinator\, at 705-848-8145.
URL:https://huronshores.ca/event/alzheimer-info-discussion-group-2/2017-05-11/
LOCATION:Ontario
CATEGORIES:Community News
ATTACH;FMTTYPE=image/jpeg:https://huronshores.ca/wp-content/uploads/2013/01/Alzheimers-Disease.jpg
END:VEVENT
END:VCALENDAR