BEGIN:VCALENDAR
VERSION:2.0
PRODID:-//Huron Shores - ECPv6.15.11//NONSGML v1.0//EN
CALSCALE:GREGORIAN
METHOD:PUBLISH
X-ORIGINAL-URL:https://huronshores.ca
X-WR-CALDESC:Events for Huron Shores
REFRESH-INTERVAL;VALUE=DURATION:PT1H
X-Robots-Tag:noindex
X-PUBLISHED-TTL:PT1H
BEGIN:VTIMEZONE
TZID:America/Toronto
BEGIN:DAYLIGHT
TZOFFSETFROM:-0500
TZOFFSETTO:-0400
TZNAME:EDT
DTSTART:20170312T070000
END:DAYLIGHT
BEGIN:STANDARD
TZOFFSETFROM:-0400
TZOFFSETTO:-0500
TZNAME:EST
DTSTART:20171105T060000
END:STANDARD
BEGIN:DAYLIGHT
TZOFFSETFROM:-0500
TZOFFSETTO:-0400
TZNAME:EDT
DTSTART:20180311T070000
END:DAYLIGHT
BEGIN:STANDARD
TZOFFSETFROM:-0400
TZOFFSETTO:-0500
TZNAME:EST
DTSTART:20181104T060000
END:STANDARD
BEGIN:DAYLIGHT
TZOFFSETFROM:-0500
TZOFFSETTO:-0400
TZNAME:EDT
DTSTART:20190310T070000
END:DAYLIGHT
BEGIN:STANDARD
TZOFFSETFROM:-0400
TZOFFSETTO:-0500
TZNAME:EST
DTSTART:20191103T060000
END:STANDARD
END:VTIMEZONE
BEGIN:VEVENT
DTSTART;TZID=America/Toronto:20180117T100000
DTEND;TZID=America/Toronto:20180117T150000
DTSTAMP:20260425T074728
CREATED:20180110T194528Z
LAST-MODIFIED:20180110T194528Z
UID:10020525-1516183200-1516201200@huronshores.ca
SUMMARY:ASCIA AGM
DESCRIPTION:The Algoma Soil & Crop Improvement Association (ASCIA) will hold it Annual General Meeting on Wednesday\, January 17/18 from 10:00 a.m. – 3:00 p.m. at the Bruce Station Community Hall.  Doors open at 9:30 a.m.  Come early to register.  Cost is $15/person & includes hot lunch\, coffee breaks & membership.  Public is welcome.  Please RSVP by January 15/18 for food numbers.  To RSVP contact Tim Harris at 705-248-2891 or timharrisarts@icloud.com.
URL:https://huronshores.ca/event/ascia-agm/
LOCATION:Ontario
CATEGORIES:Community News,Local Food
ATTACH;FMTTYPE=image/png:https://huronshores.ca/wp-content/uploads/2018/01/OSCIAlogo.png
END:VEVENT
BEGIN:VEVENT
DTSTART;TZID=America/Toronto:20180117T140000
DTEND;TZID=America/Toronto:20180117T153000
DTSTAMP:20260425T074728
CREATED:20151021T181815Z
LAST-MODIFIED:20151021T181815Z
UID:10016556-1516197600-1516203000@huronshores.ca
SUMMARY:Alzheimer Info & Discussion Group
DESCRIPTION:The Alzheimer Society of Sault Ste. Marie & Algoma District hosts an Information & Discussion Group on the 2nd Wednesday of each month\, at the Calvary Gospel Church\, 55 Queen Street\, Blind River from 2:00 – 3:30 p.m.  For more information please call Tanya\, First Link Coordinator\, at 705-848-8145.
URL:https://huronshores.ca/event/alzheimer-info-discussion-group-2/2018-01-17/
LOCATION:Ontario
CATEGORIES:Community News
ATTACH;FMTTYPE=image/jpeg:https://huronshores.ca/wp-content/uploads/2013/01/Alzheimers-Disease.jpg
END:VEVENT
BEGIN:VEVENT
DTSTART;TZID=America/Toronto:20180117T190000
DTEND;TZID=America/Toronto:20180117T203000
DTSTAMP:20260425T074728
CREATED:20180104T142338Z
LAST-MODIFIED:20180104T142338Z
UID:10020443-1516215600-1516221000@huronshores.ca
SUMMARY:Public Skating
DESCRIPTION:Public skating at the Iron Bridge Rec Centre (1 Chiblow Lake Rd.)\, Wednesdays & Fridays 7:00-8:30 p.m. and Sunday afternoons 2:00-3:30 p.m. Admission $2/person.  Canteen is open for hot chocolate and treats.
URL:https://huronshores.ca/event/public-skating-3/2018-01-17/
LOCATION:Ontario
CATEGORIES:Community News
ATTACH;FMTTYPE=image/png:https://huronshores.ca/wp-content/uploads/2016/01/Public-Skating.png
END:VEVENT
BEGIN:VEVENT
DTSTART;TZID=America/Toronto:20180118T140000
DTEND;TZID=America/Toronto:20180118T153000
DTSTAMP:20260425T074728
CREATED:20151021T181815Z
LAST-MODIFIED:20151021T181815Z
UID:10016557-1516284000-1516289400@huronshores.ca
SUMMARY:Alzheimer Info & Discussion Group
DESCRIPTION:The Alzheimer Society of Sault Ste. Marie & Algoma District hosts an Information & Discussion Group on the 2nd Wednesday of each month\, at the Calvary Gospel Church\, 55 Queen Street\, Blind River from 2:00 – 3:30 p.m.  For more information please call Tanya\, First Link Coordinator\, at 705-848-8145.
URL:https://huronshores.ca/event/alzheimer-info-discussion-group-2/2018-01-18/
LOCATION:Ontario
CATEGORIES:Community News
ATTACH;FMTTYPE=image/jpeg:https://huronshores.ca/wp-content/uploads/2013/01/Alzheimers-Disease.jpg
END:VEVENT
BEGIN:VEVENT
DTSTART;TZID=America/Toronto:20180118T193000
DTEND;TZID=America/Toronto:20180118T193000
DTSTAMP:20260425T074728
CREATED:20180110T195217Z
LAST-MODIFIED:20180110T195217Z
UID:10020527-1516303800-1516303800@huronshores.ca
SUMMARY:Sowerby Square Dancing
DESCRIPTION:Thursday night square dancing at 7:30 p.m.\, Sowerby Hall\, 1410 Basswood Lake Road.  Beginners are welcome.  Hosted by the Sowerby Heritage Centre Committee.  For details contact Will 705-843-5567; David 705-842-6135; or Dennis 705-842-5534.
URL:https://huronshores.ca/event/sowerby-square-dancing/2018-01-18/
LOCATION:Ontario
CATEGORIES:Community News,Recreation
ATTACH;FMTTYPE=image/jpeg:https://huronshores.ca/wp-content/uploads/2016/01/square-dancing.jpg
END:VEVENT
BEGIN:VEVENT
DTSTART;TZID=America/Toronto:20180119T140000
DTEND;TZID=America/Toronto:20180119T153000
DTSTAMP:20260425T074728
CREATED:20151021T181815Z
LAST-MODIFIED:20151021T181815Z
UID:10016558-1516370400-1516375800@huronshores.ca
SUMMARY:Alzheimer Info & Discussion Group
DESCRIPTION:The Alzheimer Society of Sault Ste. Marie & Algoma District hosts an Information & Discussion Group on the 2nd Wednesday of each month\, at the Calvary Gospel Church\, 55 Queen Street\, Blind River from 2:00 – 3:30 p.m.  For more information please call Tanya\, First Link Coordinator\, at 705-848-8145.
URL:https://huronshores.ca/event/alzheimer-info-discussion-group-2/2018-01-19/
LOCATION:Ontario
CATEGORIES:Community News
ATTACH;FMTTYPE=image/jpeg:https://huronshores.ca/wp-content/uploads/2013/01/Alzheimers-Disease.jpg
END:VEVENT
BEGIN:VEVENT
DTSTART;TZID=America/Toronto:20180119T190000
DTEND;TZID=America/Toronto:20180119T203000
DTSTAMP:20260425T074728
CREATED:20180104T142624Z
LAST-MODIFIED:20180104T142624Z
UID:10020455-1516388400-1516393800@huronshores.ca
SUMMARY:Public Skating
DESCRIPTION:Public skating at the Iron Bridge Rec Centre (1 Chiblow Lake Rd.)\, Wednesdays & Fridays 7:00-8:30 p.m. and Sunday afternoons 2:00-3:30 p.m. Admission $2/person.  Canteen is open for hot chocolate and treats.
URL:https://huronshores.ca/event/public-skating-4/2018-01-19/
LOCATION:Ontario
CATEGORIES:Community News,Recreation
ATTACH;FMTTYPE=image/png:https://huronshores.ca/wp-content/uploads/2016/01/Public-Skating.png
END:VEVENT
BEGIN:VEVENT
DTSTART;TZID=America/Toronto:20180120T140000
DTEND;TZID=America/Toronto:20180120T153000
DTSTAMP:20260425T074728
CREATED:20151021T181815Z
LAST-MODIFIED:20151021T181815Z
UID:10016559-1516456800-1516462200@huronshores.ca
SUMMARY:Alzheimer Info & Discussion Group
DESCRIPTION:The Alzheimer Society of Sault Ste. Marie & Algoma District hosts an Information & Discussion Group on the 2nd Wednesday of each month\, at the Calvary Gospel Church\, 55 Queen Street\, Blind River from 2:00 – 3:30 p.m.  For more information please call Tanya\, First Link Coordinator\, at 705-848-8145.
URL:https://huronshores.ca/event/alzheimer-info-discussion-group-2/2018-01-20/
LOCATION:Ontario
CATEGORIES:Community News
ATTACH;FMTTYPE=image/jpeg:https://huronshores.ca/wp-content/uploads/2013/01/Alzheimers-Disease.jpg
END:VEVENT
BEGIN:VEVENT
DTSTART;TZID=America/Toronto:20180121T140000
DTEND;TZID=America/Toronto:20180121T153000
DTSTAMP:20260425T074728
CREATED:20151021T181815Z
LAST-MODIFIED:20151021T181815Z
UID:10016560-1516543200-1516548600@huronshores.ca
SUMMARY:Alzheimer Info & Discussion Group
DESCRIPTION:The Alzheimer Society of Sault Ste. Marie & Algoma District hosts an Information & Discussion Group on the 2nd Wednesday of each month\, at the Calvary Gospel Church\, 55 Queen Street\, Blind River from 2:00 – 3:30 p.m.  For more information please call Tanya\, First Link Coordinator\, at 705-848-8145.
URL:https://huronshores.ca/event/alzheimer-info-discussion-group-2/2018-01-21/
LOCATION:Ontario
CATEGORIES:Community News
ATTACH;FMTTYPE=image/jpeg:https://huronshores.ca/wp-content/uploads/2013/01/Alzheimers-Disease.jpg
END:VEVENT
BEGIN:VEVENT
DTSTART;TZID=America/Toronto:20180121T140000
DTEND;TZID=America/Toronto:20180121T153000
DTSTAMP:20260425T074728
CREATED:20180104T142904Z
LAST-MODIFIED:20180104T142904Z
UID:10020467-1516543200-1516548600@huronshores.ca
SUMMARY:Public Skating
DESCRIPTION:Public skating at the Iron Bridge Rec Centre (1 Chiblow Lake Rd.)\, Wednesdays & Fridays 7:00-8:30 p.m. and Sunday afternoons 2:00-3:30 p.m. Admission $2/person.  Canteen is open for hot chocolate and treats.
URL:https://huronshores.ca/event/public-skating-5/2018-01-21/
LOCATION:Ontario
CATEGORIES:Community News,Recreation
ATTACH;FMTTYPE=image/png:https://huronshores.ca/wp-content/uploads/2016/01/Penguin-Skating.png
END:VEVENT
BEGIN:VEVENT
DTSTART;TZID=America/Toronto:20180122T140000
DTEND;TZID=America/Toronto:20180122T153000
DTSTAMP:20260425T074728
CREATED:20151021T181815Z
LAST-MODIFIED:20151021T181815Z
UID:10016561-1516629600-1516635000@huronshores.ca
SUMMARY:Alzheimer Info & Discussion Group
DESCRIPTION:The Alzheimer Society of Sault Ste. Marie & Algoma District hosts an Information & Discussion Group on the 2nd Wednesday of each month\, at the Calvary Gospel Church\, 55 Queen Street\, Blind River from 2:00 – 3:30 p.m.  For more information please call Tanya\, First Link Coordinator\, at 705-848-8145.
URL:https://huronshores.ca/event/alzheimer-info-discussion-group-2/2018-01-22/
LOCATION:Ontario
CATEGORIES:Community News
ATTACH;FMTTYPE=image/jpeg:https://huronshores.ca/wp-content/uploads/2013/01/Alzheimers-Disease.jpg
END:VEVENT
BEGIN:VEVENT
DTSTART;TZID=America/Toronto:20180123T140000
DTEND;TZID=America/Toronto:20180123T153000
DTSTAMP:20260425T074728
CREATED:20151021T181815Z
LAST-MODIFIED:20151021T181815Z
UID:10016562-1516716000-1516721400@huronshores.ca
SUMMARY:Alzheimer Info & Discussion Group
DESCRIPTION:The Alzheimer Society of Sault Ste. Marie & Algoma District hosts an Information & Discussion Group on the 2nd Wednesday of each month\, at the Calvary Gospel Church\, 55 Queen Street\, Blind River from 2:00 – 3:30 p.m.  For more information please call Tanya\, First Link Coordinator\, at 705-848-8145.
URL:https://huronshores.ca/event/alzheimer-info-discussion-group-2/2018-01-23/
LOCATION:Ontario
CATEGORIES:Community News
ATTACH;FMTTYPE=image/jpeg:https://huronshores.ca/wp-content/uploads/2013/01/Alzheimers-Disease.jpg
END:VEVENT
BEGIN:VEVENT
DTSTART;TZID=America/Toronto:20180124T140000
DTEND;TZID=America/Toronto:20180124T153000
DTSTAMP:20260425T074728
CREATED:20151021T181815Z
LAST-MODIFIED:20151021T181815Z
UID:10016563-1516802400-1516807800@huronshores.ca
SUMMARY:Alzheimer Info & Discussion Group
DESCRIPTION:The Alzheimer Society of Sault Ste. Marie & Algoma District hosts an Information & Discussion Group on the 2nd Wednesday of each month\, at the Calvary Gospel Church\, 55 Queen Street\, Blind River from 2:00 – 3:30 p.m.  For more information please call Tanya\, First Link Coordinator\, at 705-848-8145.
URL:https://huronshores.ca/event/alzheimer-info-discussion-group-2/2018-01-24/
LOCATION:Ontario
CATEGORIES:Community News
ATTACH;FMTTYPE=image/jpeg:https://huronshores.ca/wp-content/uploads/2013/01/Alzheimers-Disease.jpg
END:VEVENT
BEGIN:VEVENT
DTSTART;TZID=America/Toronto:20180124T190000
DTEND;TZID=America/Toronto:20180124T203000
DTSTAMP:20260425T074728
CREATED:20180104T142338Z
LAST-MODIFIED:20180104T142338Z
UID:10020444-1516820400-1516825800@huronshores.ca
SUMMARY:Public Skating
DESCRIPTION:Public skating at the Iron Bridge Rec Centre (1 Chiblow Lake Rd.)\, Wednesdays & Fridays 7:00-8:30 p.m. and Sunday afternoons 2:00-3:30 p.m. Admission $2/person.  Canteen is open for hot chocolate and treats.
URL:https://huronshores.ca/event/public-skating-3/2018-01-24/
LOCATION:Ontario
CATEGORIES:Community News
ATTACH;FMTTYPE=image/png:https://huronshores.ca/wp-content/uploads/2016/01/Public-Skating.png
END:VEVENT
BEGIN:VEVENT
DTSTART;TZID=America/Toronto:20180125T100000
DTEND;TZID=America/Toronto:20180125T150000
DTSTAMP:20260425T074728
CREATED:20171120T195551Z
LAST-MODIFIED:20171120T195551Z
UID:10020396-1516874400-1516892400@huronshores.ca
SUMMARY:HNCEA Agriculture Summit
DESCRIPTION:The Huron North Community Economic Alliance (HNCEA) is holding 4 summits each with a focus on a different economic sector.  On January 25/18\, will be the Agriculture Summit\, at the Bruce Station Community Hall\, from 10:00 a.m. to 3:00 p.m.  A light lunch will be provided\, please RSVP. Contact Suzanne Faubert-Astles 705-356-3004; HNCEA Chair Edith Orr 705-541-1886; or Betty Ann Dunbar 705-356-5715.  The Agriculture summit will be facilitated by David Trivers from OMAFRA.
URL:https://huronshores.ca/event/hncea-agriculture-summit/
LOCATION:Ontario
CATEGORIES:Community News
ATTACH;FMTTYPE=image/jpeg:https://huronshores.ca/wp-content/uploads/2017/11/HNCEA-summits-poster.jpg
END:VEVENT
BEGIN:VEVENT
DTSTART;TZID=America/Toronto:20180125T140000
DTEND;TZID=America/Toronto:20180125T153000
DTSTAMP:20260425T074728
CREATED:20151021T181815Z
LAST-MODIFIED:20151021T181815Z
UID:10016564-1516888800-1516894200@huronshores.ca
SUMMARY:Alzheimer Info & Discussion Group
DESCRIPTION:The Alzheimer Society of Sault Ste. Marie & Algoma District hosts an Information & Discussion Group on the 2nd Wednesday of each month\, at the Calvary Gospel Church\, 55 Queen Street\, Blind River from 2:00 – 3:30 p.m.  For more information please call Tanya\, First Link Coordinator\, at 705-848-8145.
URL:https://huronshores.ca/event/alzheimer-info-discussion-group-2/2018-01-25/
LOCATION:Ontario
CATEGORIES:Community News
ATTACH;FMTTYPE=image/jpeg:https://huronshores.ca/wp-content/uploads/2013/01/Alzheimers-Disease.jpg
END:VEVENT
BEGIN:VEVENT
DTSTART;TZID=America/Toronto:20180125T193000
DTEND;TZID=America/Toronto:20180125T193000
DTSTAMP:20260425T074728
CREATED:20180110T195217Z
LAST-MODIFIED:20180110T195217Z
UID:10020528-1516908600-1516908600@huronshores.ca
SUMMARY:Sowerby Square Dancing
DESCRIPTION:Thursday night square dancing at 7:30 p.m.\, Sowerby Hall\, 1410 Basswood Lake Road.  Beginners are welcome.  Hosted by the Sowerby Heritage Centre Committee.  For details contact Will 705-843-5567; David 705-842-6135; or Dennis 705-842-5534.
URL:https://huronshores.ca/event/sowerby-square-dancing/2018-01-25/
LOCATION:Ontario
CATEGORIES:Community News,Recreation
ATTACH;FMTTYPE=image/jpeg:https://huronshores.ca/wp-content/uploads/2016/01/square-dancing.jpg
END:VEVENT
BEGIN:VEVENT
DTSTART;TZID=America/Toronto:20180126T140000
DTEND;TZID=America/Toronto:20180126T153000
DTSTAMP:20260425T074728
CREATED:20151021T181815Z
LAST-MODIFIED:20151021T181815Z
UID:10016565-1516975200-1516980600@huronshores.ca
SUMMARY:Alzheimer Info & Discussion Group
DESCRIPTION:The Alzheimer Society of Sault Ste. Marie & Algoma District hosts an Information & Discussion Group on the 2nd Wednesday of each month\, at the Calvary Gospel Church\, 55 Queen Street\, Blind River from 2:00 – 3:30 p.m.  For more information please call Tanya\, First Link Coordinator\, at 705-848-8145.
URL:https://huronshores.ca/event/alzheimer-info-discussion-group-2/2018-01-26/
LOCATION:Ontario
CATEGORIES:Community News
ATTACH;FMTTYPE=image/jpeg:https://huronshores.ca/wp-content/uploads/2013/01/Alzheimers-Disease.jpg
END:VEVENT
BEGIN:VEVENT
DTSTART;TZID=America/Toronto:20180126T170000
DTEND;TZID=America/Toronto:20180126T190000
DTSTAMP:20260425T074728
CREATED:20180110T195931Z
LAST-MODIFIED:20180110T195931Z
UID:10020533-1516986000-1516993200@huronshores.ca
SUMMARY:RC Legion Fish Fry
DESCRIPTION:The Thessalon RC Legion Branch 182 is hosting a Fish Fry from 5:00 – 7:00 p.m.  Take-out called in by 4:30 p.m. & picked up by 5:00 p.m. Call 705-842-2418.  Cash Bar.
URL:https://huronshores.ca/event/rc-legion-fish-fry/2018-01-26/
LOCATION:Ontario
CATEGORIES:Community News,Local Food
ATTACH;FMTTYPE=image/jpeg:https://huronshores.ca/wp-content/uploads/2015/12/Friday-Fish-Fry.jpg
END:VEVENT
BEGIN:VEVENT
DTSTART;TZID=America/Toronto:20180126T190000
DTEND;TZID=America/Toronto:20180126T203000
DTSTAMP:20260425T074728
CREATED:20180104T142624Z
LAST-MODIFIED:20180104T142624Z
UID:10020456-1516993200-1516998600@huronshores.ca
SUMMARY:Public Skating
DESCRIPTION:Public skating at the Iron Bridge Rec Centre (1 Chiblow Lake Rd.)\, Wednesdays & Fridays 7:00-8:30 p.m. and Sunday afternoons 2:00-3:30 p.m. Admission $2/person.  Canteen is open for hot chocolate and treats.
URL:https://huronshores.ca/event/public-skating-4/2018-01-26/
LOCATION:Ontario
CATEGORIES:Community News,Recreation
ATTACH;FMTTYPE=image/png:https://huronshores.ca/wp-content/uploads/2016/01/Public-Skating.png
END:VEVENT
BEGIN:VEVENT
DTSTART;TZID=America/Toronto:20180127T140000
DTEND;TZID=America/Toronto:20180127T153000
DTSTAMP:20260425T074728
CREATED:20151021T181815Z
LAST-MODIFIED:20151021T181815Z
UID:10016566-1517061600-1517067000@huronshores.ca
SUMMARY:Alzheimer Info & Discussion Group
DESCRIPTION:The Alzheimer Society of Sault Ste. Marie & Algoma District hosts an Information & Discussion Group on the 2nd Wednesday of each month\, at the Calvary Gospel Church\, 55 Queen Street\, Blind River from 2:00 – 3:30 p.m.  For more information please call Tanya\, First Link Coordinator\, at 705-848-8145.
URL:https://huronshores.ca/event/alzheimer-info-discussion-group-2/2018-01-27/
LOCATION:Ontario
CATEGORIES:Community News
ATTACH;FMTTYPE=image/jpeg:https://huronshores.ca/wp-content/uploads/2013/01/Alzheimers-Disease.jpg
END:VEVENT
BEGIN:VEVENT
DTSTART;TZID=America/Toronto:20180127T163000
DTEND;TZID=America/Toronto:20180127T183000
DTSTAMP:20260425T074728
CREATED:20180110T192447Z
LAST-MODIFIED:20180110T192447Z
UID:10020519-1517070600-1517077800@huronshores.ca
SUMMARY:Fish Fry
DESCRIPTION:The Iron Bridge Lions Club is hosting an All You Can Eat Saturday Fish Fry. Cost is $15/person; Children’s rates vary.  From 4:30-6:30 p.m.
URL:https://huronshores.ca/event/fish-fry-4/2018-01-27/
LOCATION:Ontario
CATEGORIES:Community News,Local Food
ATTACH;FMTTYPE=image/jpeg:https://huronshores.ca/wp-content/uploads/2015/12/Fish-Fry.jpg
END:VEVENT
BEGIN:VEVENT
DTSTART;TZID=America/Toronto:20180128T140000
DTEND;TZID=America/Toronto:20180128T153000
DTSTAMP:20260425T074728
CREATED:20151021T181815Z
LAST-MODIFIED:20151021T181815Z
UID:10016567-1517148000-1517153400@huronshores.ca
SUMMARY:Alzheimer Info & Discussion Group
DESCRIPTION:The Alzheimer Society of Sault Ste. Marie & Algoma District hosts an Information & Discussion Group on the 2nd Wednesday of each month\, at the Calvary Gospel Church\, 55 Queen Street\, Blind River from 2:00 – 3:30 p.m.  For more information please call Tanya\, First Link Coordinator\, at 705-848-8145.
URL:https://huronshores.ca/event/alzheimer-info-discussion-group-2/2018-01-28/
LOCATION:Ontario
CATEGORIES:Community News
ATTACH;FMTTYPE=image/jpeg:https://huronshores.ca/wp-content/uploads/2013/01/Alzheimers-Disease.jpg
END:VEVENT
BEGIN:VEVENT
DTSTART;TZID=America/Toronto:20180128T140000
DTEND;TZID=America/Toronto:20180128T153000
DTSTAMP:20260425T074728
CREATED:20180104T142904Z
LAST-MODIFIED:20180104T142904Z
UID:10020468-1517148000-1517153400@huronshores.ca
SUMMARY:Public Skating
DESCRIPTION:Public skating at the Iron Bridge Rec Centre (1 Chiblow Lake Rd.)\, Wednesdays & Fridays 7:00-8:30 p.m. and Sunday afternoons 2:00-3:30 p.m. Admission $2/person.  Canteen is open for hot chocolate and treats.
URL:https://huronshores.ca/event/public-skating-5/2018-01-28/
LOCATION:Ontario
CATEGORIES:Community News,Recreation
ATTACH;FMTTYPE=image/png:https://huronshores.ca/wp-content/uploads/2016/01/Penguin-Skating.png
END:VEVENT
BEGIN:VEVENT
DTSTART;TZID=America/Toronto:20180129T140000
DTEND;TZID=America/Toronto:20180129T153000
DTSTAMP:20260425T074728
CREATED:20151021T181815Z
LAST-MODIFIED:20151021T181815Z
UID:10016568-1517234400-1517239800@huronshores.ca
SUMMARY:Alzheimer Info & Discussion Group
DESCRIPTION:The Alzheimer Society of Sault Ste. Marie & Algoma District hosts an Information & Discussion Group on the 2nd Wednesday of each month\, at the Calvary Gospel Church\, 55 Queen Street\, Blind River from 2:00 – 3:30 p.m.  For more information please call Tanya\, First Link Coordinator\, at 705-848-8145.
URL:https://huronshores.ca/event/alzheimer-info-discussion-group-2/2018-01-29/
LOCATION:Ontario
CATEGORIES:Community News
ATTACH;FMTTYPE=image/jpeg:https://huronshores.ca/wp-content/uploads/2013/01/Alzheimers-Disease.jpg
END:VEVENT
BEGIN:VEVENT
DTSTART;TZID=America/Toronto:20180130T140000
DTEND;TZID=America/Toronto:20180130T153000
DTSTAMP:20260425T074728
CREATED:20151021T181815Z
LAST-MODIFIED:20151021T181815Z
UID:10016569-1517320800-1517326200@huronshores.ca
SUMMARY:Alzheimer Info & Discussion Group
DESCRIPTION:The Alzheimer Society of Sault Ste. Marie & Algoma District hosts an Information & Discussion Group on the 2nd Wednesday of each month\, at the Calvary Gospel Church\, 55 Queen Street\, Blind River from 2:00 – 3:30 p.m.  For more information please call Tanya\, First Link Coordinator\, at 705-848-8145.
URL:https://huronshores.ca/event/alzheimer-info-discussion-group-2/2018-01-30/
LOCATION:Ontario
CATEGORIES:Community News
ATTACH;FMTTYPE=image/jpeg:https://huronshores.ca/wp-content/uploads/2013/01/Alzheimers-Disease.jpg
END:VEVENT
BEGIN:VEVENT
DTSTART;TZID=America/Toronto:20180131T140000
DTEND;TZID=America/Toronto:20180131T153000
DTSTAMP:20260425T074728
CREATED:20151021T181815Z
LAST-MODIFIED:20151021T181815Z
UID:10016570-1517407200-1517412600@huronshores.ca
SUMMARY:Alzheimer Info & Discussion Group
DESCRIPTION:The Alzheimer Society of Sault Ste. Marie & Algoma District hosts an Information & Discussion Group on the 2nd Wednesday of each month\, at the Calvary Gospel Church\, 55 Queen Street\, Blind River from 2:00 – 3:30 p.m.  For more information please call Tanya\, First Link Coordinator\, at 705-848-8145.
URL:https://huronshores.ca/event/alzheimer-info-discussion-group-2/2018-01-31/
LOCATION:Ontario
CATEGORIES:Community News
ATTACH;FMTTYPE=image/jpeg:https://huronshores.ca/wp-content/uploads/2013/01/Alzheimers-Disease.jpg
END:VEVENT
BEGIN:VEVENT
DTSTART;TZID=America/Toronto:20180131T190000
DTEND;TZID=America/Toronto:20180131T203000
DTSTAMP:20260425T074728
CREATED:20180104T142338Z
LAST-MODIFIED:20180104T142338Z
UID:10020445-1517425200-1517430600@huronshores.ca
SUMMARY:Public Skating
DESCRIPTION:Public skating at the Iron Bridge Rec Centre (1 Chiblow Lake Rd.)\, Wednesdays & Fridays 7:00-8:30 p.m. and Sunday afternoons 2:00-3:30 p.m. Admission $2/person.  Canteen is open for hot chocolate and treats.
URL:https://huronshores.ca/event/public-skating-3/2018-01-31/
LOCATION:Ontario
CATEGORIES:Community News
ATTACH;FMTTYPE=image/png:https://huronshores.ca/wp-content/uploads/2016/01/Public-Skating.png
END:VEVENT
BEGIN:VEVENT
DTSTART;TZID=America/Toronto:20180201T140000
DTEND;TZID=America/Toronto:20180201T153000
DTSTAMP:20260425T074728
CREATED:20151021T181815Z
LAST-MODIFIED:20151021T181815Z
UID:10016571-1517493600-1517499000@huronshores.ca
SUMMARY:Alzheimer Info & Discussion Group
DESCRIPTION:The Alzheimer Society of Sault Ste. Marie & Algoma District hosts an Information & Discussion Group on the 2nd Wednesday of each month\, at the Calvary Gospel Church\, 55 Queen Street\, Blind River from 2:00 – 3:30 p.m.  For more information please call Tanya\, First Link Coordinator\, at 705-848-8145.
URL:https://huronshores.ca/event/alzheimer-info-discussion-group-2/2018-02-01/
LOCATION:Ontario
CATEGORIES:Community News
ATTACH;FMTTYPE=image/jpeg:https://huronshores.ca/wp-content/uploads/2013/01/Alzheimers-Disease.jpg
END:VEVENT
BEGIN:VEVENT
DTSTART;TZID=America/Toronto:20180201T193000
DTEND;TZID=America/Toronto:20180201T193000
DTSTAMP:20260425T074728
CREATED:20180110T195217Z
LAST-MODIFIED:20180110T195217Z
UID:10020529-1517513400-1517513400@huronshores.ca
SUMMARY:Sowerby Square Dancing
DESCRIPTION:Thursday night square dancing at 7:30 p.m.\, Sowerby Hall\, 1410 Basswood Lake Road.  Beginners are welcome.  Hosted by the Sowerby Heritage Centre Committee.  For details contact Will 705-843-5567; David 705-842-6135; or Dennis 705-842-5534.
URL:https://huronshores.ca/event/sowerby-square-dancing/2018-02-01/
LOCATION:Ontario
CATEGORIES:Community News,Recreation
ATTACH;FMTTYPE=image/jpeg:https://huronshores.ca/wp-content/uploads/2016/01/square-dancing.jpg
END:VEVENT
END:VCALENDAR