BEGIN:VCALENDAR
VERSION:2.0
PRODID:-//Huron Shores - ECPv6.15.11//NONSGML v1.0//EN
CALSCALE:GREGORIAN
METHOD:PUBLISH
X-ORIGINAL-URL:https://huronshores.ca
X-WR-CALDESC:Events for Huron Shores
REFRESH-INTERVAL;VALUE=DURATION:PT1H
X-Robots-Tag:noindex
X-PUBLISHED-TTL:PT1H
BEGIN:VTIMEZONE
TZID:America/Toronto
BEGIN:DAYLIGHT
TZOFFSETFROM:-0500
TZOFFSETTO:-0400
TZNAME:EDT
DTSTART:20170312T070000
END:DAYLIGHT
BEGIN:STANDARD
TZOFFSETFROM:-0400
TZOFFSETTO:-0500
TZNAME:EST
DTSTART:20171105T060000
END:STANDARD
BEGIN:DAYLIGHT
TZOFFSETFROM:-0500
TZOFFSETTO:-0400
TZNAME:EDT
DTSTART:20180311T070000
END:DAYLIGHT
BEGIN:STANDARD
TZOFFSETFROM:-0400
TZOFFSETTO:-0500
TZNAME:EST
DTSTART:20181104T060000
END:STANDARD
BEGIN:DAYLIGHT
TZOFFSETFROM:-0500
TZOFFSETTO:-0400
TZNAME:EDT
DTSTART:20190310T070000
END:DAYLIGHT
BEGIN:STANDARD
TZOFFSETFROM:-0400
TZOFFSETTO:-0500
TZNAME:EST
DTSTART:20191103T060000
END:STANDARD
END:VTIMEZONE
BEGIN:VEVENT
DTSTART;TZID=America/Toronto:20180919T140000
DTEND;TZID=America/Toronto:20180919T153000
DTSTAMP:20260424T201500
CREATED:20151021T181815Z
LAST-MODIFIED:20151021T181815Z
UID:10016801-1537365600-1537371000@huronshores.ca
SUMMARY:Alzheimer Info & Discussion Group
DESCRIPTION:The Alzheimer Society of Sault Ste. Marie & Algoma District hosts an Information & Discussion Group on the 2nd Wednesday of each month\, at the Calvary Gospel Church\, 55 Queen Street\, Blind River from 2:00 – 3:30 p.m.  For more information please call Tanya\, First Link Coordinator\, at 705-848-8145.
URL:https://huronshores.ca/event/alzheimer-info-discussion-group-2/2018-09-19/
LOCATION:Ontario
CATEGORIES:Community News
ATTACH;FMTTYPE=image/jpeg:https://huronshores.ca/wp-content/uploads/2013/01/Alzheimers-Disease.jpg
END:VEVENT
BEGIN:VEVENT
DTSTART;TZID=America/Toronto:20180920T140000
DTEND;TZID=America/Toronto:20180920T153000
DTSTAMP:20260424T201500
CREATED:20151021T181815Z
LAST-MODIFIED:20151021T181815Z
UID:10016802-1537452000-1537457400@huronshores.ca
SUMMARY:Alzheimer Info & Discussion Group
DESCRIPTION:The Alzheimer Society of Sault Ste. Marie & Algoma District hosts an Information & Discussion Group on the 2nd Wednesday of each month\, at the Calvary Gospel Church\, 55 Queen Street\, Blind River from 2:00 – 3:30 p.m.  For more information please call Tanya\, First Link Coordinator\, at 705-848-8145.
URL:https://huronshores.ca/event/alzheimer-info-discussion-group-2/2018-09-20/
LOCATION:Ontario
CATEGORIES:Community News
ATTACH;FMTTYPE=image/jpeg:https://huronshores.ca/wp-content/uploads/2013/01/Alzheimers-Disease.jpg
END:VEVENT
BEGIN:VEVENT
DTSTART;TZID=America/Toronto:20180921T140000
DTEND;TZID=America/Toronto:20180921T153000
DTSTAMP:20260424T201500
CREATED:20151021T181815Z
LAST-MODIFIED:20151021T181815Z
UID:10016803-1537538400-1537543800@huronshores.ca
SUMMARY:Alzheimer Info & Discussion Group
DESCRIPTION:The Alzheimer Society of Sault Ste. Marie & Algoma District hosts an Information & Discussion Group on the 2nd Wednesday of each month\, at the Calvary Gospel Church\, 55 Queen Street\, Blind River from 2:00 – 3:30 p.m.  For more information please call Tanya\, First Link Coordinator\, at 705-848-8145.
URL:https://huronshores.ca/event/alzheimer-info-discussion-group-2/2018-09-21/
LOCATION:Ontario
CATEGORIES:Community News
ATTACH;FMTTYPE=image/jpeg:https://huronshores.ca/wp-content/uploads/2013/01/Alzheimers-Disease.jpg
END:VEVENT
BEGIN:VEVENT
DTSTART;TZID=America/Toronto:20180922T090000
DTEND;TZID=America/Toronto:20180922T140000
DTSTAMP:20260424T201500
CREATED:20180109T194134Z
LAST-MODIFIED:20180109T194134Z
UID:10020504-1537606800-1537624800@huronshores.ca
SUMMARY:Sowerby Farmers' Market
DESCRIPTION:The Farmers’ Market is held on Saturdays from 9:00 a.m. to 2:00 p.m. from mid-June to October at the Historic Cordukes/Weber 12-Sided Barn located at 1410 Basswood Lake Rd.\, just north of the intersection with Highway 17 in Sowerby.
URL:https://huronshores.ca/event/sowerby-farmers-market-4/2018-09-22/
LOCATION:Ontario
CATEGORIES:Community News,Local Food
ATTACH;FMTTYPE=image/jpeg:https://huronshores.ca/wp-content/uploads/2011/08/Historic-Cordukes-Weber-12-Sided-Barn-Sign1.jpg
END:VEVENT
BEGIN:VEVENT
DTSTART;TZID=America/Toronto:20180922T140000
DTEND;TZID=America/Toronto:20180922T153000
DTSTAMP:20260424T201500
CREATED:20151021T181815Z
LAST-MODIFIED:20151021T181815Z
UID:10016804-1537624800-1537630200@huronshores.ca
SUMMARY:Alzheimer Info & Discussion Group
DESCRIPTION:The Alzheimer Society of Sault Ste. Marie & Algoma District hosts an Information & Discussion Group on the 2nd Wednesday of each month\, at the Calvary Gospel Church\, 55 Queen Street\, Blind River from 2:00 – 3:30 p.m.  For more information please call Tanya\, First Link Coordinator\, at 705-848-8145.
URL:https://huronshores.ca/event/alzheimer-info-discussion-group-2/2018-09-22/
LOCATION:Ontario
CATEGORIES:Community News
ATTACH;FMTTYPE=image/jpeg:https://huronshores.ca/wp-content/uploads/2013/01/Alzheimers-Disease.jpg
END:VEVENT
BEGIN:VEVENT
DTSTART;TZID=America/Toronto:20180923T140000
DTEND;TZID=America/Toronto:20180923T153000
DTSTAMP:20260424T201500
CREATED:20151021T181815Z
LAST-MODIFIED:20151021T181815Z
UID:10016805-1537711200-1537716600@huronshores.ca
SUMMARY:Alzheimer Info & Discussion Group
DESCRIPTION:The Alzheimer Society of Sault Ste. Marie & Algoma District hosts an Information & Discussion Group on the 2nd Wednesday of each month\, at the Calvary Gospel Church\, 55 Queen Street\, Blind River from 2:00 – 3:30 p.m.  For more information please call Tanya\, First Link Coordinator\, at 705-848-8145.
URL:https://huronshores.ca/event/alzheimer-info-discussion-group-2/2018-09-23/
LOCATION:Ontario
CATEGORIES:Community News
ATTACH;FMTTYPE=image/jpeg:https://huronshores.ca/wp-content/uploads/2013/01/Alzheimers-Disease.jpg
END:VEVENT
BEGIN:VEVENT
DTSTART;TZID=America/Toronto:20180924T140000
DTEND;TZID=America/Toronto:20180924T153000
DTSTAMP:20260424T201500
CREATED:20151021T181815Z
LAST-MODIFIED:20151021T181815Z
UID:10016806-1537797600-1537803000@huronshores.ca
SUMMARY:Alzheimer Info & Discussion Group
DESCRIPTION:The Alzheimer Society of Sault Ste. Marie & Algoma District hosts an Information & Discussion Group on the 2nd Wednesday of each month\, at the Calvary Gospel Church\, 55 Queen Street\, Blind River from 2:00 – 3:30 p.m.  For more information please call Tanya\, First Link Coordinator\, at 705-848-8145.
URL:https://huronshores.ca/event/alzheimer-info-discussion-group-2/2018-09-24/
LOCATION:Ontario
CATEGORIES:Community News
ATTACH;FMTTYPE=image/jpeg:https://huronshores.ca/wp-content/uploads/2013/01/Alzheimers-Disease.jpg
END:VEVENT
BEGIN:VEVENT
DTSTART;TZID=America/Toronto:20180925T140000
DTEND;TZID=America/Toronto:20180925T153000
DTSTAMP:20260424T201500
CREATED:20151021T181815Z
LAST-MODIFIED:20151021T181815Z
UID:10016807-1537884000-1537889400@huronshores.ca
SUMMARY:Alzheimer Info & Discussion Group
DESCRIPTION:The Alzheimer Society of Sault Ste. Marie & Algoma District hosts an Information & Discussion Group on the 2nd Wednesday of each month\, at the Calvary Gospel Church\, 55 Queen Street\, Blind River from 2:00 – 3:30 p.m.  For more information please call Tanya\, First Link Coordinator\, at 705-848-8145.
URL:https://huronshores.ca/event/alzheimer-info-discussion-group-2/2018-09-25/
LOCATION:Ontario
CATEGORIES:Community News
ATTACH;FMTTYPE=image/jpeg:https://huronshores.ca/wp-content/uploads/2013/01/Alzheimers-Disease.jpg
END:VEVENT
BEGIN:VEVENT
DTSTART;TZID=America/Toronto:20180926T140000
DTEND;TZID=America/Toronto:20180926T153000
DTSTAMP:20260424T201500
CREATED:20151021T181815Z
LAST-MODIFIED:20151021T181815Z
UID:10016808-1537970400-1537975800@huronshores.ca
SUMMARY:Alzheimer Info & Discussion Group
DESCRIPTION:The Alzheimer Society of Sault Ste. Marie & Algoma District hosts an Information & Discussion Group on the 2nd Wednesday of each month\, at the Calvary Gospel Church\, 55 Queen Street\, Blind River from 2:00 – 3:30 p.m.  For more information please call Tanya\, First Link Coordinator\, at 705-848-8145.
URL:https://huronshores.ca/event/alzheimer-info-discussion-group-2/2018-09-26/
LOCATION:Ontario
CATEGORIES:Community News
ATTACH;FMTTYPE=image/jpeg:https://huronshores.ca/wp-content/uploads/2013/01/Alzheimers-Disease.jpg
END:VEVENT
BEGIN:VEVENT
DTSTART;TZID=America/Toronto:20180927T140000
DTEND;TZID=America/Toronto:20180927T153000
DTSTAMP:20260424T201500
CREATED:20151021T181815Z
LAST-MODIFIED:20151021T181815Z
UID:10016809-1538056800-1538062200@huronshores.ca
SUMMARY:Alzheimer Info & Discussion Group
DESCRIPTION:The Alzheimer Society of Sault Ste. Marie & Algoma District hosts an Information & Discussion Group on the 2nd Wednesday of each month\, at the Calvary Gospel Church\, 55 Queen Street\, Blind River from 2:00 – 3:30 p.m.  For more information please call Tanya\, First Link Coordinator\, at 705-848-8145.
URL:https://huronshores.ca/event/alzheimer-info-discussion-group-2/2018-09-27/
LOCATION:Ontario
CATEGORIES:Community News
ATTACH;FMTTYPE=image/jpeg:https://huronshores.ca/wp-content/uploads/2013/01/Alzheimers-Disease.jpg
END:VEVENT
BEGIN:VEVENT
DTSTART;TZID=America/Toronto:20180928T140000
DTEND;TZID=America/Toronto:20180928T153000
DTSTAMP:20260424T201500
CREATED:20151021T181815Z
LAST-MODIFIED:20151021T181815Z
UID:10016810-1538143200-1538148600@huronshores.ca
SUMMARY:Alzheimer Info & Discussion Group
DESCRIPTION:The Alzheimer Society of Sault Ste. Marie & Algoma District hosts an Information & Discussion Group on the 2nd Wednesday of each month\, at the Calvary Gospel Church\, 55 Queen Street\, Blind River from 2:00 – 3:30 p.m.  For more information please call Tanya\, First Link Coordinator\, at 705-848-8145.
URL:https://huronshores.ca/event/alzheimer-info-discussion-group-2/2018-09-28/
LOCATION:Ontario
CATEGORIES:Community News
ATTACH;FMTTYPE=image/jpeg:https://huronshores.ca/wp-content/uploads/2013/01/Alzheimers-Disease.jpg
END:VEVENT
BEGIN:VEVENT
DTSTART;TZID=America/Toronto:20180929T090000
DTEND;TZID=America/Toronto:20180929T140000
DTSTAMP:20260424T201500
CREATED:20180109T194134Z
LAST-MODIFIED:20180109T194134Z
UID:10020505-1538211600-1538229600@huronshores.ca
SUMMARY:Sowerby Farmers' Market
DESCRIPTION:The Farmers’ Market is held on Saturdays from 9:00 a.m. to 2:00 p.m. from mid-June to October at the Historic Cordukes/Weber 12-Sided Barn located at 1410 Basswood Lake Rd.\, just north of the intersection with Highway 17 in Sowerby.
URL:https://huronshores.ca/event/sowerby-farmers-market-4/2018-09-29/
LOCATION:Ontario
CATEGORIES:Community News,Local Food
ATTACH;FMTTYPE=image/jpeg:https://huronshores.ca/wp-content/uploads/2011/08/Historic-Cordukes-Weber-12-Sided-Barn-Sign1.jpg
END:VEVENT
BEGIN:VEVENT
DTSTART;TZID=America/Toronto:20180929T140000
DTEND;TZID=America/Toronto:20180929T153000
DTSTAMP:20260424T201500
CREATED:20151021T181815Z
LAST-MODIFIED:20151021T181815Z
UID:10016811-1538229600-1538235000@huronshores.ca
SUMMARY:Alzheimer Info & Discussion Group
DESCRIPTION:The Alzheimer Society of Sault Ste. Marie & Algoma District hosts an Information & Discussion Group on the 2nd Wednesday of each month\, at the Calvary Gospel Church\, 55 Queen Street\, Blind River from 2:00 – 3:30 p.m.  For more information please call Tanya\, First Link Coordinator\, at 705-848-8145.
URL:https://huronshores.ca/event/alzheimer-info-discussion-group-2/2018-09-29/
LOCATION:Ontario
CATEGORIES:Community News
ATTACH;FMTTYPE=image/jpeg:https://huronshores.ca/wp-content/uploads/2013/01/Alzheimers-Disease.jpg
END:VEVENT
BEGIN:VEVENT
DTSTART;TZID=America/Toronto:20180930T140000
DTEND;TZID=America/Toronto:20180930T153000
DTSTAMP:20260424T201500
CREATED:20151021T181815Z
LAST-MODIFIED:20151021T181815Z
UID:10016812-1538316000-1538321400@huronshores.ca
SUMMARY:Alzheimer Info & Discussion Group
DESCRIPTION:The Alzheimer Society of Sault Ste. Marie & Algoma District hosts an Information & Discussion Group on the 2nd Wednesday of each month\, at the Calvary Gospel Church\, 55 Queen Street\, Blind River from 2:00 – 3:30 p.m.  For more information please call Tanya\, First Link Coordinator\, at 705-848-8145.
URL:https://huronshores.ca/event/alzheimer-info-discussion-group-2/2018-09-30/
LOCATION:Ontario
CATEGORIES:Community News
ATTACH;FMTTYPE=image/jpeg:https://huronshores.ca/wp-content/uploads/2013/01/Alzheimers-Disease.jpg
END:VEVENT
BEGIN:VEVENT
DTSTART;TZID=America/Toronto:20181001T140000
DTEND;TZID=America/Toronto:20181001T153000
DTSTAMP:20260424T201500
CREATED:20151021T181815Z
LAST-MODIFIED:20151021T181815Z
UID:10016813-1538402400-1538407800@huronshores.ca
SUMMARY:Alzheimer Info & Discussion Group
DESCRIPTION:The Alzheimer Society of Sault Ste. Marie & Algoma District hosts an Information & Discussion Group on the 2nd Wednesday of each month\, at the Calvary Gospel Church\, 55 Queen Street\, Blind River from 2:00 – 3:30 p.m.  For more information please call Tanya\, First Link Coordinator\, at 705-848-8145.
URL:https://huronshores.ca/event/alzheimer-info-discussion-group-2/2018-10-01/
LOCATION:Ontario
CATEGORIES:Community News
ATTACH;FMTTYPE=image/jpeg:https://huronshores.ca/wp-content/uploads/2013/01/Alzheimers-Disease.jpg
END:VEVENT
BEGIN:VEVENT
DTSTART;TZID=America/Toronto:20181002T140000
DTEND;TZID=America/Toronto:20181002T153000
DTSTAMP:20260424T201500
CREATED:20151021T181815Z
LAST-MODIFIED:20151021T181815Z
UID:10016814-1538488800-1538494200@huronshores.ca
SUMMARY:Alzheimer Info & Discussion Group
DESCRIPTION:The Alzheimer Society of Sault Ste. Marie & Algoma District hosts an Information & Discussion Group on the 2nd Wednesday of each month\, at the Calvary Gospel Church\, 55 Queen Street\, Blind River from 2:00 – 3:30 p.m.  For more information please call Tanya\, First Link Coordinator\, at 705-848-8145.
URL:https://huronshores.ca/event/alzheimer-info-discussion-group-2/2018-10-02/
LOCATION:Ontario
CATEGORIES:Community News
ATTACH;FMTTYPE=image/jpeg:https://huronshores.ca/wp-content/uploads/2013/01/Alzheimers-Disease.jpg
END:VEVENT
BEGIN:VEVENT
DTSTART;TZID=America/Toronto:20181003T140000
DTEND;TZID=America/Toronto:20181003T153000
DTSTAMP:20260424T201500
CREATED:20151021T181815Z
LAST-MODIFIED:20151021T181815Z
UID:10016815-1538575200-1538580600@huronshores.ca
SUMMARY:Alzheimer Info & Discussion Group
DESCRIPTION:The Alzheimer Society of Sault Ste. Marie & Algoma District hosts an Information & Discussion Group on the 2nd Wednesday of each month\, at the Calvary Gospel Church\, 55 Queen Street\, Blind River from 2:00 – 3:30 p.m.  For more information please call Tanya\, First Link Coordinator\, at 705-848-8145.
URL:https://huronshores.ca/event/alzheimer-info-discussion-group-2/2018-10-03/
LOCATION:Ontario
CATEGORIES:Community News
ATTACH;FMTTYPE=image/jpeg:https://huronshores.ca/wp-content/uploads/2013/01/Alzheimers-Disease.jpg
END:VEVENT
BEGIN:VEVENT
DTSTART;TZID=America/Toronto:20181004T140000
DTEND;TZID=America/Toronto:20181004T153000
DTSTAMP:20260424T201500
CREATED:20151021T181815Z
LAST-MODIFIED:20151021T181815Z
UID:10016816-1538661600-1538667000@huronshores.ca
SUMMARY:Alzheimer Info & Discussion Group
DESCRIPTION:The Alzheimer Society of Sault Ste. Marie & Algoma District hosts an Information & Discussion Group on the 2nd Wednesday of each month\, at the Calvary Gospel Church\, 55 Queen Street\, Blind River from 2:00 – 3:30 p.m.  For more information please call Tanya\, First Link Coordinator\, at 705-848-8145.
URL:https://huronshores.ca/event/alzheimer-info-discussion-group-2/2018-10-04/
LOCATION:Ontario
CATEGORIES:Community News
ATTACH;FMTTYPE=image/jpeg:https://huronshores.ca/wp-content/uploads/2013/01/Alzheimers-Disease.jpg
END:VEVENT
BEGIN:VEVENT
DTSTART;TZID=America/Toronto:20181005T140000
DTEND;TZID=America/Toronto:20181005T153000
DTSTAMP:20260424T201500
CREATED:20151021T181815Z
LAST-MODIFIED:20151021T181815Z
UID:10016817-1538748000-1538753400@huronshores.ca
SUMMARY:Alzheimer Info & Discussion Group
DESCRIPTION:The Alzheimer Society of Sault Ste. Marie & Algoma District hosts an Information & Discussion Group on the 2nd Wednesday of each month\, at the Calvary Gospel Church\, 55 Queen Street\, Blind River from 2:00 – 3:30 p.m.  For more information please call Tanya\, First Link Coordinator\, at 705-848-8145.
URL:https://huronshores.ca/event/alzheimer-info-discussion-group-2/2018-10-05/
LOCATION:Ontario
CATEGORIES:Community News
ATTACH;FMTTYPE=image/jpeg:https://huronshores.ca/wp-content/uploads/2013/01/Alzheimers-Disease.jpg
END:VEVENT
BEGIN:VEVENT
DTSTART;TZID=America/Toronto:20181006T090000
DTEND;TZID=America/Toronto:20181006T140000
DTSTAMP:20260424T201500
CREATED:20180109T194134Z
LAST-MODIFIED:20180109T194134Z
UID:10020506-1538816400-1538834400@huronshores.ca
SUMMARY:Sowerby Farmers' Market
DESCRIPTION:The Farmers’ Market is held on Saturdays from 9:00 a.m. to 2:00 p.m. from mid-June to October at the Historic Cordukes/Weber 12-Sided Barn located at 1410 Basswood Lake Rd.\, just north of the intersection with Highway 17 in Sowerby.
URL:https://huronshores.ca/event/sowerby-farmers-market-4/2018-10-06/
LOCATION:Ontario
CATEGORIES:Community News,Local Food
ATTACH;FMTTYPE=image/jpeg:https://huronshores.ca/wp-content/uploads/2011/08/Historic-Cordukes-Weber-12-Sided-Barn-Sign1.jpg
END:VEVENT
BEGIN:VEVENT
DTSTART;TZID=America/Toronto:20181006T140000
DTEND;TZID=America/Toronto:20181006T153000
DTSTAMP:20260424T201500
CREATED:20151021T181815Z
LAST-MODIFIED:20151021T181815Z
UID:10016818-1538834400-1538839800@huronshores.ca
SUMMARY:Alzheimer Info & Discussion Group
DESCRIPTION:The Alzheimer Society of Sault Ste. Marie & Algoma District hosts an Information & Discussion Group on the 2nd Wednesday of each month\, at the Calvary Gospel Church\, 55 Queen Street\, Blind River from 2:00 – 3:30 p.m.  For more information please call Tanya\, First Link Coordinator\, at 705-848-8145.
URL:https://huronshores.ca/event/alzheimer-info-discussion-group-2/2018-10-06/
LOCATION:Ontario
CATEGORIES:Community News
ATTACH;FMTTYPE=image/jpeg:https://huronshores.ca/wp-content/uploads/2013/01/Alzheimers-Disease.jpg
END:VEVENT
BEGIN:VEVENT
DTSTART;VALUE=DATE:20181007
DTEND;VALUE=DATE:20181014
DTSTAMP:20260424T201500
CREATED:20181001T181258Z
LAST-MODIFIED:20181001T181258Z
UID:10020076-1538870400-1539475199@huronshores.ca
SUMMARY:Fire Prevention Week
DESCRIPTION:
URL:https://huronshores.ca/event/fire-prevention-week-3/
LOCATION:Ontario
CATEGORIES:Community News,Fire Department,Health & Safety
ATTACH;FMTTYPE=image/jpeg:https://huronshores.ca/wp-content/uploads/2018/10/OFM-FPW-2018-Look-Listen-Learn-ENGLISH-Accessible.jpg
END:VEVENT
BEGIN:VEVENT
DTSTART;TZID=America/Toronto:20181007T140000
DTEND;TZID=America/Toronto:20181007T153000
DTSTAMP:20260424T201500
CREATED:20151021T181815Z
LAST-MODIFIED:20151021T181815Z
UID:10016819-1538920800-1538926200@huronshores.ca
SUMMARY:Alzheimer Info & Discussion Group
DESCRIPTION:The Alzheimer Society of Sault Ste. Marie & Algoma District hosts an Information & Discussion Group on the 2nd Wednesday of each month\, at the Calvary Gospel Church\, 55 Queen Street\, Blind River from 2:00 – 3:30 p.m.  For more information please call Tanya\, First Link Coordinator\, at 705-848-8145.
URL:https://huronshores.ca/event/alzheimer-info-discussion-group-2/2018-10-07/
LOCATION:Ontario
CATEGORIES:Community News
ATTACH;FMTTYPE=image/jpeg:https://huronshores.ca/wp-content/uploads/2013/01/Alzheimers-Disease.jpg
END:VEVENT
BEGIN:VEVENT
DTSTART;VALUE=DATE:20181008
DTEND;VALUE=DATE:20181009
DTSTAMP:20260424T201500
CREATED:20171129T204425Z
LAST-MODIFIED:20171129T204425Z
UID:10020424-1538956800-1539043199@huronshores.ca
SUMMARY:Thanksgiving
DESCRIPTION:The Municipal Office and all Waste Sites will be CLOSED for the Thanksgiving Holiday Monday.  The Office will re-open on Tuesday\, Oct. 9/18 at 8:30 a.m.; the Waste Sites on Wednesday\, Oct. 10/18 at 2:00 p.m.  Happy Thanksgiving from Council and staff of Huron Shores!
URL:https://huronshores.ca/event/thanksgiving/
LOCATION:Ontario
CATEGORIES:Community News,Office Closure,Waste Disposal
ATTACH;FMTTYPE=image/jpeg:https://huronshores.ca/wp-content/uploads/2015/07/happy-thanksgiving.jpg
END:VEVENT
BEGIN:VEVENT
DTSTART;TZID=America/Toronto:20181008T140000
DTEND;TZID=America/Toronto:20181008T153000
DTSTAMP:20260424T201500
CREATED:20151021T181815Z
LAST-MODIFIED:20151021T181815Z
UID:10016820-1539007200-1539012600@huronshores.ca
SUMMARY:Alzheimer Info & Discussion Group
DESCRIPTION:The Alzheimer Society of Sault Ste. Marie & Algoma District hosts an Information & Discussion Group on the 2nd Wednesday of each month\, at the Calvary Gospel Church\, 55 Queen Street\, Blind River from 2:00 – 3:30 p.m.  For more information please call Tanya\, First Link Coordinator\, at 705-848-8145.
URL:https://huronshores.ca/event/alzheimer-info-discussion-group-2/2018-10-08/
LOCATION:Ontario
CATEGORIES:Community News
ATTACH;FMTTYPE=image/jpeg:https://huronshores.ca/wp-content/uploads/2013/01/Alzheimers-Disease.jpg
END:VEVENT
BEGIN:VEVENT
DTSTART;TZID=America/Toronto:20181009T140000
DTEND;TZID=America/Toronto:20181009T153000
DTSTAMP:20260424T201500
CREATED:20151021T181815Z
LAST-MODIFIED:20151021T181815Z
UID:10016821-1539093600-1539099000@huronshores.ca
SUMMARY:Alzheimer Info & Discussion Group
DESCRIPTION:The Alzheimer Society of Sault Ste. Marie & Algoma District hosts an Information & Discussion Group on the 2nd Wednesday of each month\, at the Calvary Gospel Church\, 55 Queen Street\, Blind River from 2:00 – 3:30 p.m.  For more information please call Tanya\, First Link Coordinator\, at 705-848-8145.
URL:https://huronshores.ca/event/alzheimer-info-discussion-group-2/2018-10-09/
LOCATION:Ontario
CATEGORIES:Community News
ATTACH;FMTTYPE=image/jpeg:https://huronshores.ca/wp-content/uploads/2013/01/Alzheimers-Disease.jpg
END:VEVENT
BEGIN:VEVENT
DTSTART;TZID=America/Toronto:20181010T140000
DTEND;TZID=America/Toronto:20181010T153000
DTSTAMP:20260424T201500
CREATED:20151021T181815Z
LAST-MODIFIED:20151021T181815Z
UID:10016822-1539180000-1539185400@huronshores.ca
SUMMARY:Alzheimer Info & Discussion Group
DESCRIPTION:The Alzheimer Society of Sault Ste. Marie & Algoma District hosts an Information & Discussion Group on the 2nd Wednesday of each month\, at the Calvary Gospel Church\, 55 Queen Street\, Blind River from 2:00 – 3:30 p.m.  For more information please call Tanya\, First Link Coordinator\, at 705-848-8145.
URL:https://huronshores.ca/event/alzheimer-info-discussion-group-2/2018-10-10/
LOCATION:Ontario
CATEGORIES:Community News
ATTACH;FMTTYPE=image/jpeg:https://huronshores.ca/wp-content/uploads/2013/01/Alzheimers-Disease.jpg
END:VEVENT
BEGIN:VEVENT
DTSTART;TZID=America/Toronto:20181011T140000
DTEND;TZID=America/Toronto:20181011T153000
DTSTAMP:20260424T201500
CREATED:20151021T181815Z
LAST-MODIFIED:20151021T181815Z
UID:10016823-1539266400-1539271800@huronshores.ca
SUMMARY:Alzheimer Info & Discussion Group
DESCRIPTION:The Alzheimer Society of Sault Ste. Marie & Algoma District hosts an Information & Discussion Group on the 2nd Wednesday of each month\, at the Calvary Gospel Church\, 55 Queen Street\, Blind River from 2:00 – 3:30 p.m.  For more information please call Tanya\, First Link Coordinator\, at 705-848-8145.
URL:https://huronshores.ca/event/alzheimer-info-discussion-group-2/2018-10-11/
LOCATION:Ontario
CATEGORIES:Community News
ATTACH;FMTTYPE=image/jpeg:https://huronshores.ca/wp-content/uploads/2013/01/Alzheimers-Disease.jpg
END:VEVENT
BEGIN:VEVENT
DTSTART;TZID=America/Toronto:20181012T140000
DTEND;TZID=America/Toronto:20181012T153000
DTSTAMP:20260424T201500
CREATED:20151021T181815Z
LAST-MODIFIED:20151021T181815Z
UID:10016824-1539352800-1539358200@huronshores.ca
SUMMARY:Alzheimer Info & Discussion Group
DESCRIPTION:The Alzheimer Society of Sault Ste. Marie & Algoma District hosts an Information & Discussion Group on the 2nd Wednesday of each month\, at the Calvary Gospel Church\, 55 Queen Street\, Blind River from 2:00 – 3:30 p.m.  For more information please call Tanya\, First Link Coordinator\, at 705-848-8145.
URL:https://huronshores.ca/event/alzheimer-info-discussion-group-2/2018-10-12/
LOCATION:Ontario
CATEGORIES:Community News
ATTACH;FMTTYPE=image/jpeg:https://huronshores.ca/wp-content/uploads/2013/01/Alzheimers-Disease.jpg
END:VEVENT
BEGIN:VEVENT
DTSTART;TZID=America/Toronto:20181012T163000
DTEND;TZID=America/Toronto:20181012T163000
DTSTAMP:20260424T201500
CREATED:20180918T134034Z
LAST-MODIFIED:20180918T134034Z
UID:10020074-1539361800-1539361800@huronshores.ca
SUMMARY:Blind River Fall Festival - Circus
DESCRIPTION:Blind River will host The Great Benjamin Circus\, Friday\, October 12/18.  Two shows:  4:30 p.m. and 7:00 p.m. at the Blind River Town Park.   The Circus features clowns\, juggling\, acrobats\, daredevils and much more!  Entertainment for children of all ages!  Please visit the website below for more info.
URL:https://huronshores.ca/event/blind-river-fall-festival-circus/
LOCATION:Ontario
CATEGORIES:Community News
ATTACH;FMTTYPE=image/png:https://huronshores.ca/wp-content/uploads/2018/09/Great-Benjamin-Circus.png
END:VEVENT
END:VCALENDAR