BEGIN:VCALENDAR
VERSION:2.0
PRODID:-//Huron Shores - ECPv6.15.11//NONSGML v1.0//EN
CALSCALE:GREGORIAN
METHOD:PUBLISH
X-WR-CALNAME:Huron Shores
X-ORIGINAL-URL:https://huronshores.ca
X-WR-CALDESC:Events for Huron Shores
REFRESH-INTERVAL;VALUE=DURATION:PT1H
X-Robots-Tag:noindex
X-PUBLISHED-TTL:PT1H
BEGIN:VTIMEZONE
TZID:America/Toronto
BEGIN:DAYLIGHT
TZOFFSETFROM:-0500
TZOFFSETTO:-0400
TZNAME:EDT
DTSTART:20150308T070000
END:DAYLIGHT
BEGIN:STANDARD
TZOFFSETFROM:-0400
TZOFFSETTO:-0500
TZNAME:EST
DTSTART:20151101T060000
END:STANDARD
BEGIN:DAYLIGHT
TZOFFSETFROM:-0500
TZOFFSETTO:-0400
TZNAME:EDT
DTSTART:20160313T070000
END:DAYLIGHT
BEGIN:STANDARD
TZOFFSETFROM:-0400
TZOFFSETTO:-0500
TZNAME:EST
DTSTART:20161106T060000
END:STANDARD
BEGIN:DAYLIGHT
TZOFFSETFROM:-0500
TZOFFSETTO:-0400
TZNAME:EDT
DTSTART:20170312T070000
END:DAYLIGHT
BEGIN:STANDARD
TZOFFSETFROM:-0400
TZOFFSETTO:-0500
TZNAME:EST
DTSTART:20171105T060000
END:STANDARD
END:VTIMEZONE
BEGIN:VEVENT
DTSTART;VALUE=DATE:20160108
DTEND;VALUE=DATE:20160111
DTSTAMP:20260425T203717
CREATED:20160106T195200Z
LAST-MODIFIED:20160106T195200Z
UID:10019418-1452211200-1452470399@huronshores.ca
SUMMARY:Bantam Curling Regionals
DESCRIPTION:The Thessalon Curling Centre is hosting the Bantam Regionals from Friday\, January 8th – Sunday\, the 10th\, 2016.  Come cheer the two local teams:  Team Soulliere & Team Bos.  Don’t forget to buy a lucky rock and be a winner!
URL:https://huronshores.ca/event/bantam-curling-regionals/
LOCATION:ON
CATEGORIES:Community News,Recreation
ATTACH;FMTTYPE=image/jpeg:https://huronshores.ca/wp-content/uploads/2015/10/curling.jpg
END:VEVENT
BEGIN:VEVENT
DTSTART;TZID=America/Toronto:20160108T140000
DTEND;TZID=America/Toronto:20160108T153000
DTSTAMP:20260425T203717
CREATED:20151021T181815Z
LAST-MODIFIED:20151021T181815Z
UID:10015814-1452261600-1452267000@huronshores.ca
SUMMARY:Alzheimer Info & Discussion Group
DESCRIPTION:The Alzheimer Society of Sault Ste. Marie & Algoma District hosts an Information & Discussion Group on the 2nd Wednesday of each month\, at the Calvary Gospel Church\, 55 Queen Street\, Blind River from 2:00 – 3:30 p.m.  For more information please call Tanya\, First Link Coordinator\, at 705-848-8145.
URL:https://huronshores.ca/event/alzheimer-info-discussion-group-2/2016-01-08/
LOCATION:ON
CATEGORIES:Community News
ATTACH;FMTTYPE=image/jpeg:https://huronshores.ca/wp-content/uploads/2013/01/Alzheimers-Disease.jpg
END:VEVENT
BEGIN:VEVENT
DTSTART;TZID=America/Toronto:20160108T180000
DTEND;TZID=America/Toronto:20160108T230000
DTSTAMP:20260425T203717
CREATED:20160106T193208Z
LAST-MODIFIED:20160106T193208Z
UID:10019414-1452276000-1452294000@huronshores.ca
SUMMARY:Wing Nite
DESCRIPTION:The Thessalon Curling Centre hosts Wing Nite on the first Friday of the month.  Doors open at 6:00 p.m. All you can eat; everyone welcome.  Draw to the Button contest.  See you there!
URL:https://huronshores.ca/event/wing-nite/2016-01-08/
LOCATION:ON
CATEGORIES:Community News,Recreation
ATTACH;FMTTYPE=image/jpeg:https://huronshores.ca/wp-content/uploads/2014/02/Wing-Night.jpg
END:VEVENT
BEGIN:VEVENT
DTSTART;TZID=America/Toronto:20160109T140000
DTEND;TZID=America/Toronto:20160109T153000
DTSTAMP:20260425T203717
CREATED:20151021T181815Z
LAST-MODIFIED:20151021T181815Z
UID:10015815-1452348000-1452353400@huronshores.ca
SUMMARY:Alzheimer Info & Discussion Group
DESCRIPTION:The Alzheimer Society of Sault Ste. Marie & Algoma District hosts an Information & Discussion Group on the 2nd Wednesday of each month\, at the Calvary Gospel Church\, 55 Queen Street\, Blind River from 2:00 – 3:30 p.m.  For more information please call Tanya\, First Link Coordinator\, at 705-848-8145.
URL:https://huronshores.ca/event/alzheimer-info-discussion-group-2/2016-01-09/
LOCATION:ON
CATEGORIES:Community News
ATTACH;FMTTYPE=image/jpeg:https://huronshores.ca/wp-content/uploads/2013/01/Alzheimers-Disease.jpg
END:VEVENT
BEGIN:VEVENT
DTSTART;TZID=America/Toronto:20160110T140000
DTEND;TZID=America/Toronto:20160110T153000
DTSTAMP:20260425T203717
CREATED:20151021T181815Z
LAST-MODIFIED:20151021T181815Z
UID:10015816-1452434400-1452439800@huronshores.ca
SUMMARY:Alzheimer Info & Discussion Group
DESCRIPTION:The Alzheimer Society of Sault Ste. Marie & Algoma District hosts an Information & Discussion Group on the 2nd Wednesday of each month\, at the Calvary Gospel Church\, 55 Queen Street\, Blind River from 2:00 – 3:30 p.m.  For more information please call Tanya\, First Link Coordinator\, at 705-848-8145.
URL:https://huronshores.ca/event/alzheimer-info-discussion-group-2/2016-01-10/
LOCATION:ON
CATEGORIES:Community News
ATTACH;FMTTYPE=image/jpeg:https://huronshores.ca/wp-content/uploads/2013/01/Alzheimers-Disease.jpg
END:VEVENT
BEGIN:VEVENT
DTSTART;TZID=America/Toronto:20160111T140000
DTEND;TZID=America/Toronto:20160111T153000
DTSTAMP:20260425T203717
CREATED:20151021T181815Z
LAST-MODIFIED:20151021T181815Z
UID:10015817-1452520800-1452526200@huronshores.ca
SUMMARY:Alzheimer Info & Discussion Group
DESCRIPTION:The Alzheimer Society of Sault Ste. Marie & Algoma District hosts an Information & Discussion Group on the 2nd Wednesday of each month\, at the Calvary Gospel Church\, 55 Queen Street\, Blind River from 2:00 – 3:30 p.m.  For more information please call Tanya\, First Link Coordinator\, at 705-848-8145.
URL:https://huronshores.ca/event/alzheimer-info-discussion-group-2/2016-01-11/
LOCATION:ON
CATEGORIES:Community News
ATTACH;FMTTYPE=image/jpeg:https://huronshores.ca/wp-content/uploads/2013/01/Alzheimers-Disease.jpg
END:VEVENT
BEGIN:VEVENT
DTSTART;TZID=America/Toronto:20160112T140000
DTEND;TZID=America/Toronto:20160112T153000
DTSTAMP:20260425T203717
CREATED:20151021T181815Z
LAST-MODIFIED:20151021T181815Z
UID:10015818-1452607200-1452612600@huronshores.ca
SUMMARY:Alzheimer Info & Discussion Group
DESCRIPTION:The Alzheimer Society of Sault Ste. Marie & Algoma District hosts an Information & Discussion Group on the 2nd Wednesday of each month\, at the Calvary Gospel Church\, 55 Queen Street\, Blind River from 2:00 – 3:30 p.m.  For more information please call Tanya\, First Link Coordinator\, at 705-848-8145.
URL:https://huronshores.ca/event/alzheimer-info-discussion-group-2/2016-01-12/
LOCATION:ON
CATEGORIES:Community News
ATTACH;FMTTYPE=image/jpeg:https://huronshores.ca/wp-content/uploads/2013/01/Alzheimers-Disease.jpg
END:VEVENT
BEGIN:VEVENT
DTSTART;TZID=America/Toronto:20160113T140000
DTEND;TZID=America/Toronto:20160113T153000
DTSTAMP:20260425T203717
CREATED:20151021T181815Z
LAST-MODIFIED:20151021T181815Z
UID:10015819-1452693600-1452699000@huronshores.ca
SUMMARY:Alzheimer Info & Discussion Group
DESCRIPTION:The Alzheimer Society of Sault Ste. Marie & Algoma District hosts an Information & Discussion Group on the 2nd Wednesday of each month\, at the Calvary Gospel Church\, 55 Queen Street\, Blind River from 2:00 – 3:30 p.m.  For more information please call Tanya\, First Link Coordinator\, at 705-848-8145.
URL:https://huronshores.ca/event/alzheimer-info-discussion-group-2/2016-01-13/
LOCATION:ON
CATEGORIES:Community News
ATTACH;FMTTYPE=image/jpeg:https://huronshores.ca/wp-content/uploads/2013/01/Alzheimers-Disease.jpg
END:VEVENT
BEGIN:VEVENT
DTSTART;TZID=America/Toronto:20160114T140000
DTEND;TZID=America/Toronto:20160114T153000
DTSTAMP:20260425T203717
CREATED:20151021T181815Z
LAST-MODIFIED:20151021T181815Z
UID:10015820-1452780000-1452785400@huronshores.ca
SUMMARY:Alzheimer Info & Discussion Group
DESCRIPTION:The Alzheimer Society of Sault Ste. Marie & Algoma District hosts an Information & Discussion Group on the 2nd Wednesday of each month\, at the Calvary Gospel Church\, 55 Queen Street\, Blind River from 2:00 – 3:30 p.m.  For more information please call Tanya\, First Link Coordinator\, at 705-848-8145.
URL:https://huronshores.ca/event/alzheimer-info-discussion-group-2/2016-01-14/
LOCATION:ON
CATEGORIES:Community News
ATTACH;FMTTYPE=image/jpeg:https://huronshores.ca/wp-content/uploads/2013/01/Alzheimers-Disease.jpg
END:VEVENT
BEGIN:VEVENT
DTSTART;TZID=America/Toronto:20160114T193000
DTEND;TZID=America/Toronto:20160114T220000
DTSTAMP:20260425T203717
CREATED:20160107T191117Z
LAST-MODIFIED:20160107T191117Z
UID:10019420-1452799800-1452808800@huronshores.ca
SUMMARY:Square Dancing
DESCRIPTION:Thursday Night Square Dancing at Sowerby Hall\, 1410 Basswood Lake Road at 7:30 p.m.  Cost:  $30/couple for 6 weeks or $3/person/night.  For info call Will 705-843-5567\, David 705-842-6135\, or Dennis 705-842-5534.
URL:https://huronshores.ca/event/square-dancing/2016-01-14/
LOCATION:ON
CATEGORIES:Community News
ATTACH;FMTTYPE=image/jpeg:https://huronshores.ca/wp-content/uploads/2016/01/square-dancing.jpg
END:VEVENT
BEGIN:VEVENT
DTSTART;TZID=America/Toronto:20160115T140000
DTEND;TZID=America/Toronto:20160115T153000
DTSTAMP:20260425T203717
CREATED:20151021T181815Z
LAST-MODIFIED:20151021T181815Z
UID:10015821-1452866400-1452871800@huronshores.ca
SUMMARY:Alzheimer Info & Discussion Group
DESCRIPTION:The Alzheimer Society of Sault Ste. Marie & Algoma District hosts an Information & Discussion Group on the 2nd Wednesday of each month\, at the Calvary Gospel Church\, 55 Queen Street\, Blind River from 2:00 – 3:30 p.m.  For more information please call Tanya\, First Link Coordinator\, at 705-848-8145.
URL:https://huronshores.ca/event/alzheimer-info-discussion-group-2/2016-01-15/
LOCATION:ON
CATEGORIES:Community News
ATTACH;FMTTYPE=image/jpeg:https://huronshores.ca/wp-content/uploads/2013/01/Alzheimers-Disease.jpg
END:VEVENT
BEGIN:VEVENT
DTSTART;TZID=America/Toronto:20160116T140000
DTEND;TZID=America/Toronto:20160116T153000
DTSTAMP:20260425T203717
CREATED:20151021T181815Z
LAST-MODIFIED:20151021T181815Z
UID:10015822-1452952800-1452958200@huronshores.ca
SUMMARY:Alzheimer Info & Discussion Group
DESCRIPTION:The Alzheimer Society of Sault Ste. Marie & Algoma District hosts an Information & Discussion Group on the 2nd Wednesday of each month\, at the Calvary Gospel Church\, 55 Queen Street\, Blind River from 2:00 – 3:30 p.m.  For more information please call Tanya\, First Link Coordinator\, at 705-848-8145.
URL:https://huronshores.ca/event/alzheimer-info-discussion-group-2/2016-01-16/
LOCATION:ON
CATEGORIES:Community News
ATTACH;FMTTYPE=image/jpeg:https://huronshores.ca/wp-content/uploads/2013/01/Alzheimers-Disease.jpg
END:VEVENT
BEGIN:VEVENT
DTSTART;TZID=America/Toronto:20160117T140000
DTEND;TZID=America/Toronto:20160117T153000
DTSTAMP:20260425T203717
CREATED:20151021T181815Z
LAST-MODIFIED:20151021T181815Z
UID:10015823-1453039200-1453044600@huronshores.ca
SUMMARY:Alzheimer Info & Discussion Group
DESCRIPTION:The Alzheimer Society of Sault Ste. Marie & Algoma District hosts an Information & Discussion Group on the 2nd Wednesday of each month\, at the Calvary Gospel Church\, 55 Queen Street\, Blind River from 2:00 – 3:30 p.m.  For more information please call Tanya\, First Link Coordinator\, at 705-848-8145.
URL:https://huronshores.ca/event/alzheimer-info-discussion-group-2/2016-01-17/
LOCATION:ON
CATEGORIES:Community News
ATTACH;FMTTYPE=image/jpeg:https://huronshores.ca/wp-content/uploads/2013/01/Alzheimers-Disease.jpg
END:VEVENT
BEGIN:VEVENT
DTSTART;TZID=America/Toronto:20160118T140000
DTEND;TZID=America/Toronto:20160118T153000
DTSTAMP:20260425T203717
CREATED:20151021T181815Z
LAST-MODIFIED:20151021T181815Z
UID:10015824-1453125600-1453131000@huronshores.ca
SUMMARY:Alzheimer Info & Discussion Group
DESCRIPTION:The Alzheimer Society of Sault Ste. Marie & Algoma District hosts an Information & Discussion Group on the 2nd Wednesday of each month\, at the Calvary Gospel Church\, 55 Queen Street\, Blind River from 2:00 – 3:30 p.m.  For more information please call Tanya\, First Link Coordinator\, at 705-848-8145.
URL:https://huronshores.ca/event/alzheimer-info-discussion-group-2/2016-01-18/
LOCATION:ON
CATEGORIES:Community News
ATTACH;FMTTYPE=image/jpeg:https://huronshores.ca/wp-content/uploads/2013/01/Alzheimers-Disease.jpg
END:VEVENT
BEGIN:VEVENT
DTSTART;TZID=America/Toronto:20160119T140000
DTEND;TZID=America/Toronto:20160119T153000
DTSTAMP:20260425T203717
CREATED:20151021T181815Z
LAST-MODIFIED:20151021T181815Z
UID:10015825-1453212000-1453217400@huronshores.ca
SUMMARY:Alzheimer Info & Discussion Group
DESCRIPTION:The Alzheimer Society of Sault Ste. Marie & Algoma District hosts an Information & Discussion Group on the 2nd Wednesday of each month\, at the Calvary Gospel Church\, 55 Queen Street\, Blind River from 2:00 – 3:30 p.m.  For more information please call Tanya\, First Link Coordinator\, at 705-848-8145.
URL:https://huronshores.ca/event/alzheimer-info-discussion-group-2/2016-01-19/
LOCATION:ON
CATEGORIES:Community News
ATTACH;FMTTYPE=image/jpeg:https://huronshores.ca/wp-content/uploads/2013/01/Alzheimers-Disease.jpg
END:VEVENT
BEGIN:VEVENT
DTSTART;TZID=America/Toronto:20160120T140000
DTEND;TZID=America/Toronto:20160120T153000
DTSTAMP:20260425T203717
CREATED:20151021T181815Z
LAST-MODIFIED:20151021T181815Z
UID:10015826-1453298400-1453303800@huronshores.ca
SUMMARY:Alzheimer Info & Discussion Group
DESCRIPTION:The Alzheimer Society of Sault Ste. Marie & Algoma District hosts an Information & Discussion Group on the 2nd Wednesday of each month\, at the Calvary Gospel Church\, 55 Queen Street\, Blind River from 2:00 – 3:30 p.m.  For more information please call Tanya\, First Link Coordinator\, at 705-848-8145.
URL:https://huronshores.ca/event/alzheimer-info-discussion-group-2/2016-01-20/
LOCATION:ON
CATEGORIES:Community News
ATTACH;FMTTYPE=image/jpeg:https://huronshores.ca/wp-content/uploads/2013/01/Alzheimers-Disease.jpg
END:VEVENT
BEGIN:VEVENT
DTSTART;TZID=America/Toronto:20160121T140000
DTEND;TZID=America/Toronto:20160121T153000
DTSTAMP:20260425T203717
CREATED:20151021T181815Z
LAST-MODIFIED:20151021T181815Z
UID:10015827-1453384800-1453390200@huronshores.ca
SUMMARY:Alzheimer Info & Discussion Group
DESCRIPTION:The Alzheimer Society of Sault Ste. Marie & Algoma District hosts an Information & Discussion Group on the 2nd Wednesday of each month\, at the Calvary Gospel Church\, 55 Queen Street\, Blind River from 2:00 – 3:30 p.m.  For more information please call Tanya\, First Link Coordinator\, at 705-848-8145.
URL:https://huronshores.ca/event/alzheimer-info-discussion-group-2/2016-01-21/
LOCATION:ON
CATEGORIES:Community News
ATTACH;FMTTYPE=image/jpeg:https://huronshores.ca/wp-content/uploads/2013/01/Alzheimers-Disease.jpg
END:VEVENT
BEGIN:VEVENT
DTSTART;TZID=America/Toronto:20160121T193000
DTEND;TZID=America/Toronto:20160121T220000
DTSTAMP:20260425T203717
CREATED:20160107T191117Z
LAST-MODIFIED:20160107T191117Z
UID:10019421-1453404600-1453413600@huronshores.ca
SUMMARY:Square Dancing
DESCRIPTION:Thursday Night Square Dancing at Sowerby Hall\, 1410 Basswood Lake Road at 7:30 p.m.  Cost:  $30/couple for 6 weeks or $3/person/night.  For info call Will 705-843-5567\, David 705-842-6135\, or Dennis 705-842-5534.
URL:https://huronshores.ca/event/square-dancing/2016-01-21/
LOCATION:ON
CATEGORIES:Community News
ATTACH;FMTTYPE=image/jpeg:https://huronshores.ca/wp-content/uploads/2016/01/square-dancing.jpg
END:VEVENT
BEGIN:VEVENT
DTSTART;TZID=America/Toronto:20160122T140000
DTEND;TZID=America/Toronto:20160122T153000
DTSTAMP:20260425T203717
CREATED:20151021T181815Z
LAST-MODIFIED:20151021T181815Z
UID:10015828-1453471200-1453476600@huronshores.ca
SUMMARY:Alzheimer Info & Discussion Group
DESCRIPTION:The Alzheimer Society of Sault Ste. Marie & Algoma District hosts an Information & Discussion Group on the 2nd Wednesday of each month\, at the Calvary Gospel Church\, 55 Queen Street\, Blind River from 2:00 – 3:30 p.m.  For more information please call Tanya\, First Link Coordinator\, at 705-848-8145.
URL:https://huronshores.ca/event/alzheimer-info-discussion-group-2/2016-01-22/
LOCATION:ON
CATEGORIES:Community News
ATTACH;FMTTYPE=image/jpeg:https://huronshores.ca/wp-content/uploads/2013/01/Alzheimers-Disease.jpg
END:VEVENT
BEGIN:VEVENT
DTSTART;TZID=America/Toronto:20160123T140000
DTEND;TZID=America/Toronto:20160123T153000
DTSTAMP:20260425T203717
CREATED:20151021T181815Z
LAST-MODIFIED:20151021T181815Z
UID:10015829-1453557600-1453563000@huronshores.ca
SUMMARY:Alzheimer Info & Discussion Group
DESCRIPTION:The Alzheimer Society of Sault Ste. Marie & Algoma District hosts an Information & Discussion Group on the 2nd Wednesday of each month\, at the Calvary Gospel Church\, 55 Queen Street\, Blind River from 2:00 – 3:30 p.m.  For more information please call Tanya\, First Link Coordinator\, at 705-848-8145.
URL:https://huronshores.ca/event/alzheimer-info-discussion-group-2/2016-01-23/
LOCATION:ON
CATEGORIES:Community News
ATTACH;FMTTYPE=image/jpeg:https://huronshores.ca/wp-content/uploads/2013/01/Alzheimers-Disease.jpg
END:VEVENT
BEGIN:VEVENT
DTSTART;TZID=America/Toronto:20160123T163000
DTEND;TZID=America/Toronto:20160123T190000
DTSTAMP:20260425T203717
CREATED:20160114T193722Z
LAST-MODIFIED:20160114T193722Z
UID:10019431-1453566600-1453575600@huronshores.ca
SUMMARY:Lions' Club Fish Fry
DESCRIPTION:It’s ‘all you can eat fish fry’ time again at the Iron Bridge Lions’ Hall\, 10 Clarissa Street:  January 23\, February 6 & 20\, March 5 & 19/16; 4:30 to 7:00 p.m.  Cost:  $15/person\, varied rates for children\, depending on age.  Everyone welcome!
URL:https://huronshores.ca/event/lions-club-fish-fry/2016-01-23/
LOCATION:ON
CATEGORIES:Community News,Local Food
ATTACH;FMTTYPE=image/jpeg:https://huronshores.ca/wp-content/uploads/2015/12/Fish-Fry.jpg
END:VEVENT
BEGIN:VEVENT
DTSTART;TZID=America/Toronto:20160123T173000
DTEND;TZID=America/Toronto:20160123T173000
DTSTAMP:20260425T203717
CREATED:20160122T164142Z
LAST-MODIFIED:20160122T164142Z
UID:10019506-1453570200-1453570200@huronshores.ca
SUMMARY:Community Stew Supper
DESCRIPTION:The Iron Bridge Gospel Fellowship Church is hosting a free community stew supper\, Saturday\, January 23/16 at 5:30 p.m  All are welcome.
URL:https://huronshores.ca/event/community-stew-supper/
LOCATION:ON
CATEGORIES:Community News,Local Food
ATTACH;FMTTYPE=image/jpeg:https://huronshores.ca/wp-content/uploads/2016/01/Stew-Supper.jpg
END:VEVENT
BEGIN:VEVENT
DTSTART;TZID=America/Toronto:20160124T140000
DTEND;TZID=America/Toronto:20160124T153000
DTSTAMP:20260425T203717
CREATED:20151021T181815Z
LAST-MODIFIED:20151021T181815Z
UID:10015830-1453644000-1453649400@huronshores.ca
SUMMARY:Alzheimer Info & Discussion Group
DESCRIPTION:The Alzheimer Society of Sault Ste. Marie & Algoma District hosts an Information & Discussion Group on the 2nd Wednesday of each month\, at the Calvary Gospel Church\, 55 Queen Street\, Blind River from 2:00 – 3:30 p.m.  For more information please call Tanya\, First Link Coordinator\, at 705-848-8145.
URL:https://huronshores.ca/event/alzheimer-info-discussion-group-2/2016-01-24/
LOCATION:ON
CATEGORIES:Community News
ATTACH;FMTTYPE=image/jpeg:https://huronshores.ca/wp-content/uploads/2013/01/Alzheimers-Disease.jpg
END:VEVENT
BEGIN:VEVENT
DTSTART;TZID=America/Toronto:20160125T140000
DTEND;TZID=America/Toronto:20160125T153000
DTSTAMP:20260425T203717
CREATED:20151021T181815Z
LAST-MODIFIED:20151021T181815Z
UID:10015831-1453730400-1453735800@huronshores.ca
SUMMARY:Alzheimer Info & Discussion Group
DESCRIPTION:The Alzheimer Society of Sault Ste. Marie & Algoma District hosts an Information & Discussion Group on the 2nd Wednesday of each month\, at the Calvary Gospel Church\, 55 Queen Street\, Blind River from 2:00 – 3:30 p.m.  For more information please call Tanya\, First Link Coordinator\, at 705-848-8145.
URL:https://huronshores.ca/event/alzheimer-info-discussion-group-2/2016-01-25/
LOCATION:ON
CATEGORIES:Community News
ATTACH;FMTTYPE=image/jpeg:https://huronshores.ca/wp-content/uploads/2013/01/Alzheimers-Disease.jpg
END:VEVENT
BEGIN:VEVENT
DTSTART;TZID=America/Toronto:20160126T140000
DTEND;TZID=America/Toronto:20160126T153000
DTSTAMP:20260425T203717
CREATED:20151021T181815Z
LAST-MODIFIED:20151021T181815Z
UID:10015832-1453816800-1453822200@huronshores.ca
SUMMARY:Alzheimer Info & Discussion Group
DESCRIPTION:The Alzheimer Society of Sault Ste. Marie & Algoma District hosts an Information & Discussion Group on the 2nd Wednesday of each month\, at the Calvary Gospel Church\, 55 Queen Street\, Blind River from 2:00 – 3:30 p.m.  For more information please call Tanya\, First Link Coordinator\, at 705-848-8145.
URL:https://huronshores.ca/event/alzheimer-info-discussion-group-2/2016-01-26/
LOCATION:ON
CATEGORIES:Community News
ATTACH;FMTTYPE=image/jpeg:https://huronshores.ca/wp-content/uploads/2013/01/Alzheimers-Disease.jpg
END:VEVENT
BEGIN:VEVENT
DTSTART;TZID=America/Toronto:20160126T180000
DTEND;TZID=America/Toronto:20160126T180000
DTSTAMP:20260425T203717
CREATED:20160114T193012Z
LAST-MODIFIED:20160114T193012Z
UID:10019430-1453831200-1453831200@huronshores.ca
SUMMARY:BRDHC Board of Trustees Meeting
DESCRIPTION:The Blind River District Health Centre (BRDHC) Board of Trustees will meet at 6:00 p.m.\, Tuesday\, January 26/16 at the BRDHC Board Room.  Members of the public are welcome to attend.
URL:https://huronshores.ca/event/brdhc-board-of-trustees-meeting-3/
LOCATION:ON
CATEGORIES:Community News
ATTACH;FMTTYPE=image/jpeg:https://huronshores.ca/wp-content/uploads/2012/10/BRDHC-Logo.jpg
END:VEVENT
BEGIN:VEVENT
DTSTART;TZID=America/Toronto:20160127T140000
DTEND;TZID=America/Toronto:20160127T153000
DTSTAMP:20260425T203717
CREATED:20151021T181815Z
LAST-MODIFIED:20151021T181815Z
UID:10015833-1453903200-1453908600@huronshores.ca
SUMMARY:Alzheimer Info & Discussion Group
DESCRIPTION:The Alzheimer Society of Sault Ste. Marie & Algoma District hosts an Information & Discussion Group on the 2nd Wednesday of each month\, at the Calvary Gospel Church\, 55 Queen Street\, Blind River from 2:00 – 3:30 p.m.  For more information please call Tanya\, First Link Coordinator\, at 705-848-8145.
URL:https://huronshores.ca/event/alzheimer-info-discussion-group-2/2016-01-27/
LOCATION:ON
CATEGORIES:Community News
ATTACH;FMTTYPE=image/jpeg:https://huronshores.ca/wp-content/uploads/2013/01/Alzheimers-Disease.jpg
END:VEVENT
BEGIN:VEVENT
DTSTART;TZID=America/Toronto:20160128T140000
DTEND;TZID=America/Toronto:20160128T153000
DTSTAMP:20260425T203717
CREATED:20151021T181815Z
LAST-MODIFIED:20151021T181815Z
UID:10015834-1453989600-1453995000@huronshores.ca
SUMMARY:Alzheimer Info & Discussion Group
DESCRIPTION:The Alzheimer Society of Sault Ste. Marie & Algoma District hosts an Information & Discussion Group on the 2nd Wednesday of each month\, at the Calvary Gospel Church\, 55 Queen Street\, Blind River from 2:00 – 3:30 p.m.  For more information please call Tanya\, First Link Coordinator\, at 705-848-8145.
URL:https://huronshores.ca/event/alzheimer-info-discussion-group-2/2016-01-28/
LOCATION:ON
CATEGORIES:Community News
ATTACH;FMTTYPE=image/jpeg:https://huronshores.ca/wp-content/uploads/2013/01/Alzheimers-Disease.jpg
END:VEVENT
BEGIN:VEVENT
DTSTART;TZID=America/Toronto:20160128T193000
DTEND;TZID=America/Toronto:20160128T220000
DTSTAMP:20260425T203717
CREATED:20160107T191117Z
LAST-MODIFIED:20160107T191117Z
UID:10019422-1454009400-1454018400@huronshores.ca
SUMMARY:Square Dancing
DESCRIPTION:Thursday Night Square Dancing at Sowerby Hall\, 1410 Basswood Lake Road at 7:30 p.m.  Cost:  $30/couple for 6 weeks or $3/person/night.  For info call Will 705-843-5567\, David 705-842-6135\, or Dennis 705-842-5534.
URL:https://huronshores.ca/event/square-dancing/2016-01-28/
LOCATION:ON
CATEGORIES:Community News
ATTACH;FMTTYPE=image/jpeg:https://huronshores.ca/wp-content/uploads/2016/01/square-dancing.jpg
END:VEVENT
BEGIN:VEVENT
DTSTART;TZID=America/Toronto:20160129T140000
DTEND;TZID=America/Toronto:20160129T153000
DTSTAMP:20260425T203717
CREATED:20151021T181815Z
LAST-MODIFIED:20151021T181815Z
UID:10015835-1454076000-1454081400@huronshores.ca
SUMMARY:Alzheimer Info & Discussion Group
DESCRIPTION:The Alzheimer Society of Sault Ste. Marie & Algoma District hosts an Information & Discussion Group on the 2nd Wednesday of each month\, at the Calvary Gospel Church\, 55 Queen Street\, Blind River from 2:00 – 3:30 p.m.  For more information please call Tanya\, First Link Coordinator\, at 705-848-8145.
URL:https://huronshores.ca/event/alzheimer-info-discussion-group-2/2016-01-29/
LOCATION:ON
CATEGORIES:Community News
ATTACH;FMTTYPE=image/jpeg:https://huronshores.ca/wp-content/uploads/2013/01/Alzheimers-Disease.jpg
END:VEVENT
END:VCALENDAR