BEGIN:VCALENDAR
VERSION:2.0
PRODID:-//Huron Shores - ECPv6.15.11//NONSGML v1.0//EN
CALSCALE:GREGORIAN
METHOD:PUBLISH
X-WR-CALNAME:Huron Shores
X-ORIGINAL-URL:https://huronshores.ca
X-WR-CALDESC:Events for Huron Shores
REFRESH-INTERVAL;VALUE=DURATION:PT1H
X-Robots-Tag:noindex
X-PUBLISHED-TTL:PT1H
BEGIN:VTIMEZONE
TZID:America/Toronto
BEGIN:DAYLIGHT
TZOFFSETFROM:-0500
TZOFFSETTO:-0400
TZNAME:EDT
DTSTART:20150308T070000
END:DAYLIGHT
BEGIN:STANDARD
TZOFFSETFROM:-0400
TZOFFSETTO:-0500
TZNAME:EST
DTSTART:20151101T060000
END:STANDARD
BEGIN:DAYLIGHT
TZOFFSETFROM:-0500
TZOFFSETTO:-0400
TZNAME:EDT
DTSTART:20160313T070000
END:DAYLIGHT
BEGIN:STANDARD
TZOFFSETFROM:-0400
TZOFFSETTO:-0500
TZNAME:EST
DTSTART:20161106T060000
END:STANDARD
BEGIN:DAYLIGHT
TZOFFSETFROM:-0500
TZOFFSETTO:-0400
TZNAME:EDT
DTSTART:20170312T070000
END:DAYLIGHT
BEGIN:STANDARD
TZOFFSETFROM:-0400
TZOFFSETTO:-0500
TZNAME:EST
DTSTART:20171105T060000
END:STANDARD
END:VTIMEZONE
BEGIN:VEVENT
DTSTART;TZID=America/Toronto:20160608T140000
DTEND;TZID=America/Toronto:20160608T153000
DTSTAMP:20260425T112342
CREATED:20151021T181815Z
LAST-MODIFIED:20151021T181815Z
UID:10015967-1465394400-1465399800@huronshores.ca
SUMMARY:Alzheimer Info & Discussion Group
DESCRIPTION:The Alzheimer Society of Sault Ste. Marie & Algoma District hosts an Information & Discussion Group on the 2nd Wednesday of each month\, at the Calvary Gospel Church\, 55 Queen Street\, Blind River from 2:00 – 3:30 p.m.  For more information please call Tanya\, First Link Coordinator\, at 705-848-8145.
URL:https://huronshores.ca/event/alzheimer-info-discussion-group-2/2016-06-08/
LOCATION:ON
CATEGORIES:Community News
ATTACH;FMTTYPE=image/jpeg:https://huronshores.ca/wp-content/uploads/2013/01/Alzheimers-Disease.jpg
END:VEVENT
BEGIN:VEVENT
DTSTART;TZID=America/Toronto:20160609T140000
DTEND;TZID=America/Toronto:20160609T153000
DTSTAMP:20260425T112342
CREATED:20151021T181815Z
LAST-MODIFIED:20151021T181815Z
UID:10015968-1465480800-1465486200@huronshores.ca
SUMMARY:Alzheimer Info & Discussion Group
DESCRIPTION:The Alzheimer Society of Sault Ste. Marie & Algoma District hosts an Information & Discussion Group on the 2nd Wednesday of each month\, at the Calvary Gospel Church\, 55 Queen Street\, Blind River from 2:00 – 3:30 p.m.  For more information please call Tanya\, First Link Coordinator\, at 705-848-8145.
URL:https://huronshores.ca/event/alzheimer-info-discussion-group-2/2016-06-09/
LOCATION:ON
CATEGORIES:Community News
ATTACH;FMTTYPE=image/jpeg:https://huronshores.ca/wp-content/uploads/2013/01/Alzheimers-Disease.jpg
END:VEVENT
BEGIN:VEVENT
DTSTART;TZID=America/Toronto:20160610T100000
DTEND;TZID=America/Toronto:20160610T100000
DTSTAMP:20260425T112342
CREATED:20160601T184109Z
LAST-MODIFIED:20160601T184109Z
UID:10019606-1465552800-1465552800@huronshores.ca
SUMMARY:Bake Sale
DESCRIPTION:A Bake Sale will be held Friday\, June 10/16 at 10:00 a.m.\, Northern Credit Union\, Thessalon.  All proceeds from this event benefit the Algoma Manor Nursing Home Family Barbecue.
URL:https://huronshores.ca/event/bake-sale-2/
LOCATION:ON
CATEGORIES:Community News,Fundraiser
ATTACH;FMTTYPE=image/png:https://huronshores.ca/wp-content/uploads/2015/11/Bake-Sale.png
END:VEVENT
BEGIN:VEVENT
DTSTART;TZID=America/Toronto:20160610T140000
DTEND;TZID=America/Toronto:20160610T153000
DTSTAMP:20260425T112342
CREATED:20151021T181815Z
LAST-MODIFIED:20151021T181815Z
UID:10015969-1465567200-1465572600@huronshores.ca
SUMMARY:Alzheimer Info & Discussion Group
DESCRIPTION:The Alzheimer Society of Sault Ste. Marie & Algoma District hosts an Information & Discussion Group on the 2nd Wednesday of each month\, at the Calvary Gospel Church\, 55 Queen Street\, Blind River from 2:00 – 3:30 p.m.  For more information please call Tanya\, First Link Coordinator\, at 705-848-8145.
URL:https://huronshores.ca/event/alzheimer-info-discussion-group-2/2016-06-10/
LOCATION:ON
CATEGORIES:Community News
ATTACH;FMTTYPE=image/jpeg:https://huronshores.ca/wp-content/uploads/2013/01/Alzheimers-Disease.jpg
END:VEVENT
BEGIN:VEVENT
DTSTART;TZID=America/Toronto:20160611T090000
DTEND;TZID=America/Toronto:20160611T140000
DTSTAMP:20260425T112342
CREATED:20160601T181327Z
LAST-MODIFIED:20160601T181327Z
UID:10019587-1465635600-1465653600@huronshores.ca
SUMMARY:Sowerby Farmers' Market
DESCRIPTION:The Farmers’ Market in Sowerby is held every Saturday from 9:00 a.m. to 2:00 p.m.\, June to September\, at the Historic Cordukes/Weber 12-Sided Barn\, 1410 Basswood Lake Road\, just north of the intersection with Highway 17.
URL:https://huronshores.ca/event/sowerby-farmers-market-2/2016-06-11/
LOCATION:ON
CATEGORIES:Community News,Farmers' Markets
ATTACH;FMTTYPE=image/jpeg:https://huronshores.ca/wp-content/uploads/2014/02/farmers-market-623x200-1.jpg
END:VEVENT
BEGIN:VEVENT
DTSTART;TZID=America/Toronto:20160611T140000
DTEND;TZID=America/Toronto:20160611T153000
DTSTAMP:20260425T112342
CREATED:20151021T181815Z
LAST-MODIFIED:20151021T181815Z
UID:10015970-1465653600-1465659000@huronshores.ca
SUMMARY:Alzheimer Info & Discussion Group
DESCRIPTION:The Alzheimer Society of Sault Ste. Marie & Algoma District hosts an Information & Discussion Group on the 2nd Wednesday of each month\, at the Calvary Gospel Church\, 55 Queen Street\, Blind River from 2:00 – 3:30 p.m.  For more information please call Tanya\, First Link Coordinator\, at 705-848-8145.
URL:https://huronshores.ca/event/alzheimer-info-discussion-group-2/2016-06-11/
LOCATION:ON
CATEGORIES:Community News
ATTACH;FMTTYPE=image/jpeg:https://huronshores.ca/wp-content/uploads/2013/01/Alzheimers-Disease.jpg
END:VEVENT
BEGIN:VEVENT
DTSTART;TZID=America/Toronto:20160612T140000
DTEND;TZID=America/Toronto:20160612T153000
DTSTAMP:20260425T112342
CREATED:20151021T181815Z
LAST-MODIFIED:20151021T181815Z
UID:10015971-1465740000-1465745400@huronshores.ca
SUMMARY:Alzheimer Info & Discussion Group
DESCRIPTION:The Alzheimer Society of Sault Ste. Marie & Algoma District hosts an Information & Discussion Group on the 2nd Wednesday of each month\, at the Calvary Gospel Church\, 55 Queen Street\, Blind River from 2:00 – 3:30 p.m.  For more information please call Tanya\, First Link Coordinator\, at 705-848-8145.
URL:https://huronshores.ca/event/alzheimer-info-discussion-group-2/2016-06-12/
LOCATION:ON
CATEGORIES:Community News
ATTACH;FMTTYPE=image/jpeg:https://huronshores.ca/wp-content/uploads/2013/01/Alzheimers-Disease.jpg
END:VEVENT
BEGIN:VEVENT
DTSTART;TZID=America/Toronto:20160613T140000
DTEND;TZID=America/Toronto:20160613T153000
DTSTAMP:20260425T112342
CREATED:20151021T181815Z
LAST-MODIFIED:20151021T181815Z
UID:10015972-1465826400-1465831800@huronshores.ca
SUMMARY:Alzheimer Info & Discussion Group
DESCRIPTION:The Alzheimer Society of Sault Ste. Marie & Algoma District hosts an Information & Discussion Group on the 2nd Wednesday of each month\, at the Calvary Gospel Church\, 55 Queen Street\, Blind River from 2:00 – 3:30 p.m.  For more information please call Tanya\, First Link Coordinator\, at 705-848-8145.
URL:https://huronshores.ca/event/alzheimer-info-discussion-group-2/2016-06-13/
LOCATION:ON
CATEGORIES:Community News
ATTACH;FMTTYPE=image/jpeg:https://huronshores.ca/wp-content/uploads/2013/01/Alzheimers-Disease.jpg
END:VEVENT
BEGIN:VEVENT
DTSTART;TZID=America/Toronto:20160614T140000
DTEND;TZID=America/Toronto:20160614T153000
DTSTAMP:20260425T112342
CREATED:20151021T181815Z
LAST-MODIFIED:20151021T181815Z
UID:10015973-1465912800-1465918200@huronshores.ca
SUMMARY:Alzheimer Info & Discussion Group
DESCRIPTION:The Alzheimer Society of Sault Ste. Marie & Algoma District hosts an Information & Discussion Group on the 2nd Wednesday of each month\, at the Calvary Gospel Church\, 55 Queen Street\, Blind River from 2:00 – 3:30 p.m.  For more information please call Tanya\, First Link Coordinator\, at 705-848-8145.
URL:https://huronshores.ca/event/alzheimer-info-discussion-group-2/2016-06-14/
LOCATION:ON
CATEGORIES:Community News
ATTACH;FMTTYPE=image/jpeg:https://huronshores.ca/wp-content/uploads/2013/01/Alzheimers-Disease.jpg
END:VEVENT
BEGIN:VEVENT
DTSTART;TZID=America/Toronto:20160614T190000
DTEND;TZID=America/Toronto:20160614T203000
DTSTAMP:20260425T112342
CREATED:20160510T195506Z
LAST-MODIFIED:20160510T195506Z
UID:10019580-1465930800-1465936200@huronshores.ca
SUMMARY:Family Fun Night
DESCRIPTION:The North Channel Healthy Kids Community Challenge Committee and the Iron Bridge Recreation Committee host Family Fun Night on Tuesdays from 7:00 to 8:30 p.m. at the Iron Bridge Rec Centre (1 Chiblow Lake Rd.).  Come on out and get movin’ with the whole family!
URL:https://huronshores.ca/event/family-fun-night-3/2016-06-14/
LOCATION:ON
CATEGORIES:Community News,Recreation
ATTACH;FMTTYPE=image/jpeg:https://huronshores.ca/wp-content/uploads/2015/09/Family-Activities.jpeg
END:VEVENT
BEGIN:VEVENT
DTSTART;TZID=America/Toronto:20160615T140000
DTEND;TZID=America/Toronto:20160615T153000
DTSTAMP:20260425T112342
CREATED:20151021T181815Z
LAST-MODIFIED:20151021T181815Z
UID:10015974-1465999200-1466004600@huronshores.ca
SUMMARY:Alzheimer Info & Discussion Group
DESCRIPTION:The Alzheimer Society of Sault Ste. Marie & Algoma District hosts an Information & Discussion Group on the 2nd Wednesday of each month\, at the Calvary Gospel Church\, 55 Queen Street\, Blind River from 2:00 – 3:30 p.m.  For more information please call Tanya\, First Link Coordinator\, at 705-848-8145.
URL:https://huronshores.ca/event/alzheimer-info-discussion-group-2/2016-06-15/
LOCATION:ON
CATEGORIES:Community News
ATTACH;FMTTYPE=image/jpeg:https://huronshores.ca/wp-content/uploads/2013/01/Alzheimers-Disease.jpg
END:VEVENT
BEGIN:VEVENT
DTSTART;TZID=America/Toronto:20160615T160000
DTEND;TZID=America/Toronto:20160615T200000
DTSTAMP:20260425T112342
CREATED:20160610T175013Z
LAST-MODIFIED:20160610T175013Z
UID:10019609-1466006400-1466020800@huronshores.ca
SUMMARY:Blood Donor Clinic
DESCRIPTION:A Blood Donor Clinic will be held Wednesday\, June 15th from 4:00 – 8:00 p.m. at the Blind River Community Centre.  Contact Canadian Blood Services to book your appointment (1 888 2 DONATE or 1-888-236-6283).
URL:https://huronshores.ca/event/blood-donor-clinic/
LOCATION:ON
CATEGORIES:Community News
ATTACH;FMTTYPE=image/png:https://huronshores.ca/wp-content/uploads/2015/01/blood-home-logo.png
END:VEVENT
BEGIN:VEVENT
DTSTART;TZID=America/Toronto:20160616T140000
DTEND;TZID=America/Toronto:20160616T153000
DTSTAMP:20260425T112342
CREATED:20151021T181815Z
LAST-MODIFIED:20151021T181815Z
UID:10015975-1466085600-1466091000@huronshores.ca
SUMMARY:Alzheimer Info & Discussion Group
DESCRIPTION:The Alzheimer Society of Sault Ste. Marie & Algoma District hosts an Information & Discussion Group on the 2nd Wednesday of each month\, at the Calvary Gospel Church\, 55 Queen Street\, Blind River from 2:00 – 3:30 p.m.  For more information please call Tanya\, First Link Coordinator\, at 705-848-8145.
URL:https://huronshores.ca/event/alzheimer-info-discussion-group-2/2016-06-16/
LOCATION:ON
CATEGORIES:Community News
ATTACH;FMTTYPE=image/jpeg:https://huronshores.ca/wp-content/uploads/2013/01/Alzheimers-Disease.jpg
END:VEVENT
BEGIN:VEVENT
DTSTART;TZID=America/Toronto:20160617T140000
DTEND;TZID=America/Toronto:20160617T153000
DTSTAMP:20260425T112343
CREATED:20151021T181815Z
LAST-MODIFIED:20151021T181815Z
UID:10015976-1466172000-1466177400@huronshores.ca
SUMMARY:Alzheimer Info & Discussion Group
DESCRIPTION:The Alzheimer Society of Sault Ste. Marie & Algoma District hosts an Information & Discussion Group on the 2nd Wednesday of each month\, at the Calvary Gospel Church\, 55 Queen Street\, Blind River from 2:00 – 3:30 p.m.  For more information please call Tanya\, First Link Coordinator\, at 705-848-8145.
URL:https://huronshores.ca/event/alzheimer-info-discussion-group-2/2016-06-17/
LOCATION:ON
CATEGORIES:Community News
ATTACH;FMTTYPE=image/jpeg:https://huronshores.ca/wp-content/uploads/2013/01/Alzheimers-Disease.jpg
END:VEVENT
BEGIN:VEVENT
DTSTART;TZID=America/Toronto:20160618T090000
DTEND;TZID=America/Toronto:20160618T140000
DTSTAMP:20260425T112343
CREATED:20160601T181327Z
LAST-MODIFIED:20160601T181327Z
UID:10019588-1466240400-1466258400@huronshores.ca
SUMMARY:Sowerby Farmers' Market
DESCRIPTION:The Farmers’ Market in Sowerby is held every Saturday from 9:00 a.m. to 2:00 p.m.\, June to September\, at the Historic Cordukes/Weber 12-Sided Barn\, 1410 Basswood Lake Road\, just north of the intersection with Highway 17.
URL:https://huronshores.ca/event/sowerby-farmers-market-2/2016-06-18/
LOCATION:ON
CATEGORIES:Community News,Farmers' Markets
ATTACH;FMTTYPE=image/jpeg:https://huronshores.ca/wp-content/uploads/2014/02/farmers-market-623x200-1.jpg
END:VEVENT
BEGIN:VEVENT
DTSTART;TZID=America/Toronto:20160618T140000
DTEND;TZID=America/Toronto:20160618T153000
DTSTAMP:20260425T112343
CREATED:20151021T181815Z
LAST-MODIFIED:20151021T181815Z
UID:10015977-1466258400-1466263800@huronshores.ca
SUMMARY:Alzheimer Info & Discussion Group
DESCRIPTION:The Alzheimer Society of Sault Ste. Marie & Algoma District hosts an Information & Discussion Group on the 2nd Wednesday of each month\, at the Calvary Gospel Church\, 55 Queen Street\, Blind River from 2:00 – 3:30 p.m.  For more information please call Tanya\, First Link Coordinator\, at 705-848-8145.
URL:https://huronshores.ca/event/alzheimer-info-discussion-group-2/2016-06-18/
LOCATION:ON
CATEGORIES:Community News
ATTACH;FMTTYPE=image/jpeg:https://huronshores.ca/wp-content/uploads/2013/01/Alzheimers-Disease.jpg
END:VEVENT
BEGIN:VEVENT
DTSTART;TZID=America/Toronto:20160618T140000
DTEND;TZID=America/Toronto:20160619T015900
DTSTAMP:20260425T112343
CREATED:20160120T152402Z
LAST-MODIFIED:20160120T152402Z
UID:10019382-1466258400-1466301540@huronshores.ca
SUMMARY:Iron Bridge Music Fest
DESCRIPTION:The Fourth Annual Iron Bridge Music Fest will be held Saturday\, June 18/16\, from 2:00 p.m. – 1:00 a.m.\, at the Iron Bridge Recreation Centre (1 Chiblow Lake Rd.)  Featuring Canadian country music recording artist Ty Baynton\, plus groups from Sault Ste. Marie\, Blind River\, Thessalon & Iron Bridge.  Tickets at the door:  $20/person (Children under 12 free).  Refreshments available.  Licenced under LLBO.  Sponsored by the Iron Bridge Agricultural Society.
URL:https://huronshores.ca/event/iron-bridge-music-fest/
LOCATION:ON
CATEGORIES:Community News
ATTACH;FMTTYPE=image/jpeg:https://huronshores.ca/wp-content/uploads/2016/01/IB-Ag-Society.jpg
END:VEVENT
BEGIN:VEVENT
DTSTART;VALUE=DATE:20160619
DTEND;VALUE=DATE:20160620
DTSTAMP:20260425T112343
CREATED:20160115T164003Z
LAST-MODIFIED:20160115T164003Z
UID:10019474-1466294400-1466380799@huronshores.ca
SUMMARY:Father's Day
DESCRIPTION:Happy Father’s Day from Council & Staff of Huron Shores!
URL:https://huronshores.ca/event/fathers-day/
LOCATION:ON
CATEGORIES:Community News
ATTACH;FMTTYPE=image/jpeg:https://huronshores.ca/wp-content/uploads/2016/01/Fathers-Day.jpg
END:VEVENT
BEGIN:VEVENT
DTSTART;TZID=America/Toronto:20160619T140000
DTEND;TZID=America/Toronto:20160619T153000
DTSTAMP:20260425T112343
CREATED:20151021T181815Z
LAST-MODIFIED:20151021T181815Z
UID:10015978-1466344800-1466350200@huronshores.ca
SUMMARY:Alzheimer Info & Discussion Group
DESCRIPTION:The Alzheimer Society of Sault Ste. Marie & Algoma District hosts an Information & Discussion Group on the 2nd Wednesday of each month\, at the Calvary Gospel Church\, 55 Queen Street\, Blind River from 2:00 – 3:30 p.m.  For more information please call Tanya\, First Link Coordinator\, at 705-848-8145.
URL:https://huronshores.ca/event/alzheimer-info-discussion-group-2/2016-06-19/
LOCATION:ON
CATEGORIES:Community News
ATTACH;FMTTYPE=image/jpeg:https://huronshores.ca/wp-content/uploads/2013/01/Alzheimers-Disease.jpg
END:VEVENT
BEGIN:VEVENT
DTSTART;TZID=America/Toronto:20160619T163000
DTEND;TZID=America/Toronto:20160619T163000
DTSTAMP:20260425T112343
CREATED:20160601T184536Z
LAST-MODIFIED:20160601T184536Z
UID:10019607-1466353800-1466353800@huronshores.ca
SUMMARY:Fish Fry & Chicken Dinner
DESCRIPTION:A Fish Fry and Chicken Dinner will be held Sunday\, June 19/16 at the Wharncliffe Community Hall\, Hwy. 129\, north of Thessalon.  Seatings at 4:30 and 5:30 p.m.  For reservations call 705-254-8119.  Sponsored by the Wharncliffe Citizen’s Committee.
URL:https://huronshores.ca/event/fish-fry-chicken-dinner/
LOCATION:ON
CATEGORIES:Community News
ATTACH;FMTTYPE=image/jpeg:https://huronshores.ca/wp-content/uploads/2015/12/Fish-Fry.jpg
END:VEVENT
BEGIN:VEVENT
DTSTART;TZID=America/Toronto:20160620T140000
DTEND;TZID=America/Toronto:20160620T153000
DTSTAMP:20260425T112343
CREATED:20151021T181815Z
LAST-MODIFIED:20151021T181815Z
UID:10015979-1466431200-1466436600@huronshores.ca
SUMMARY:Alzheimer Info & Discussion Group
DESCRIPTION:The Alzheimer Society of Sault Ste. Marie & Algoma District hosts an Information & Discussion Group on the 2nd Wednesday of each month\, at the Calvary Gospel Church\, 55 Queen Street\, Blind River from 2:00 – 3:30 p.m.  For more information please call Tanya\, First Link Coordinator\, at 705-848-8145.
URL:https://huronshores.ca/event/alzheimer-info-discussion-group-2/2016-06-20/
LOCATION:ON
CATEGORIES:Community News
ATTACH;FMTTYPE=image/jpeg:https://huronshores.ca/wp-content/uploads/2013/01/Alzheimers-Disease.jpg
END:VEVENT
BEGIN:VEVENT
DTSTART;TZID=America/Toronto:20160621T140000
DTEND;TZID=America/Toronto:20160621T153000
DTSTAMP:20260425T112343
CREATED:20151021T181815Z
LAST-MODIFIED:20151021T181815Z
UID:10015980-1466517600-1466523000@huronshores.ca
SUMMARY:Alzheimer Info & Discussion Group
DESCRIPTION:The Alzheimer Society of Sault Ste. Marie & Algoma District hosts an Information & Discussion Group on the 2nd Wednesday of each month\, at the Calvary Gospel Church\, 55 Queen Street\, Blind River from 2:00 – 3:30 p.m.  For more information please call Tanya\, First Link Coordinator\, at 705-848-8145.
URL:https://huronshores.ca/event/alzheimer-info-discussion-group-2/2016-06-21/
LOCATION:ON
CATEGORIES:Community News
ATTACH;FMTTYPE=image/jpeg:https://huronshores.ca/wp-content/uploads/2013/01/Alzheimers-Disease.jpg
END:VEVENT
BEGIN:VEVENT
DTSTART;TZID=America/Toronto:20160621T190000
DTEND;TZID=America/Toronto:20160621T203000
DTSTAMP:20260425T112343
CREATED:20160510T195506Z
LAST-MODIFIED:20160510T195506Z
UID:10019581-1466535600-1466541000@huronshores.ca
SUMMARY:Family Fun Night
DESCRIPTION:The North Channel Healthy Kids Community Challenge Committee and the Iron Bridge Recreation Committee host Family Fun Night on Tuesdays from 7:00 to 8:30 p.m. at the Iron Bridge Rec Centre (1 Chiblow Lake Rd.).  Come on out and get movin’ with the whole family!
URL:https://huronshores.ca/event/family-fun-night-3/2016-06-21/
LOCATION:ON
CATEGORIES:Community News,Recreation
ATTACH;FMTTYPE=image/jpeg:https://huronshores.ca/wp-content/uploads/2015/09/Family-Activities.jpeg
END:VEVENT
BEGIN:VEVENT
DTSTART;TZID=America/Toronto:20160622T140000
DTEND;TZID=America/Toronto:20160622T153000
DTSTAMP:20260425T112343
CREATED:20151021T181815Z
LAST-MODIFIED:20151021T181815Z
UID:10015981-1466604000-1466609400@huronshores.ca
SUMMARY:Alzheimer Info & Discussion Group
DESCRIPTION:The Alzheimer Society of Sault Ste. Marie & Algoma District hosts an Information & Discussion Group on the 2nd Wednesday of each month\, at the Calvary Gospel Church\, 55 Queen Street\, Blind River from 2:00 – 3:30 p.m.  For more information please call Tanya\, First Link Coordinator\, at 705-848-8145.
URL:https://huronshores.ca/event/alzheimer-info-discussion-group-2/2016-06-22/
LOCATION:ON
CATEGORIES:Community News
ATTACH;FMTTYPE=image/jpeg:https://huronshores.ca/wp-content/uploads/2013/01/Alzheimers-Disease.jpg
END:VEVENT
BEGIN:VEVENT
DTSTART;TZID=America/Toronto:20160623T140000
DTEND;TZID=America/Toronto:20160623T153000
DTSTAMP:20260425T112343
CREATED:20151021T181815Z
LAST-MODIFIED:20151021T181815Z
UID:10015982-1466690400-1466695800@huronshores.ca
SUMMARY:Alzheimer Info & Discussion Group
DESCRIPTION:The Alzheimer Society of Sault Ste. Marie & Algoma District hosts an Information & Discussion Group on the 2nd Wednesday of each month\, at the Calvary Gospel Church\, 55 Queen Street\, Blind River from 2:00 – 3:30 p.m.  For more information please call Tanya\, First Link Coordinator\, at 705-848-8145.
URL:https://huronshores.ca/event/alzheimer-info-discussion-group-2/2016-06-23/
LOCATION:ON
CATEGORIES:Community News
ATTACH;FMTTYPE=image/jpeg:https://huronshores.ca/wp-content/uploads/2013/01/Alzheimers-Disease.jpg
END:VEVENT
BEGIN:VEVENT
DTSTART;TZID=America/Toronto:20160624T140000
DTEND;TZID=America/Toronto:20160624T153000
DTSTAMP:20260425T112343
CREATED:20151021T181815Z
LAST-MODIFIED:20151021T181815Z
UID:10015983-1466776800-1466782200@huronshores.ca
SUMMARY:Alzheimer Info & Discussion Group
DESCRIPTION:The Alzheimer Society of Sault Ste. Marie & Algoma District hosts an Information & Discussion Group on the 2nd Wednesday of each month\, at the Calvary Gospel Church\, 55 Queen Street\, Blind River from 2:00 – 3:30 p.m.  For more information please call Tanya\, First Link Coordinator\, at 705-848-8145.
URL:https://huronshores.ca/event/alzheimer-info-discussion-group-2/2016-06-24/
LOCATION:ON
CATEGORIES:Community News
ATTACH;FMTTYPE=image/jpeg:https://huronshores.ca/wp-content/uploads/2013/01/Alzheimers-Disease.jpg
END:VEVENT
BEGIN:VEVENT
DTSTART;TZID=America/Toronto:20160624T170000
DTEND;TZID=America/Toronto:20160624T190000
DTSTAMP:20260425T112343
CREATED:20160310T214110Z
LAST-MODIFIED:20160310T214110Z
UID:10019409-1466787600-1466794800@huronshores.ca
SUMMARY:Legion Fish Fry
DESCRIPTION:The Thessalon Royal Canadian Legion Branch 182 hosts a fish fry\, Friday\, June 24\, 5:00  to 7:00 p.m.  Takeout called in by 4:30 p.m. & picked up by 5:00 p.m.  Call 705-842-2418.
URL:https://huronshores.ca/event/legion-fish-fry-4/
LOCATION:ON
CATEGORIES:Community News
ATTACH;FMTTYPE=image/jpeg:https://huronshores.ca/wp-content/uploads/2015/12/Friday-Fish-Fry.jpg
END:VEVENT
BEGIN:VEVENT
DTSTART;TZID=America/Toronto:20160625T090000
DTEND;TZID=America/Toronto:20160625T140000
DTSTAMP:20260425T112343
CREATED:20160601T181327Z
LAST-MODIFIED:20160601T181327Z
UID:10019589-1466845200-1466863200@huronshores.ca
SUMMARY:Sowerby Farmers' Market
DESCRIPTION:The Farmers’ Market in Sowerby is held every Saturday from 9:00 a.m. to 2:00 p.m.\, June to September\, at the Historic Cordukes/Weber 12-Sided Barn\, 1410 Basswood Lake Road\, just north of the intersection with Highway 17.
URL:https://huronshores.ca/event/sowerby-farmers-market-2/2016-06-25/
LOCATION:ON
CATEGORIES:Community News,Farmers' Markets
ATTACH;FMTTYPE=image/jpeg:https://huronshores.ca/wp-content/uploads/2014/02/farmers-market-623x200-1.jpg
END:VEVENT
BEGIN:VEVENT
DTSTART;TZID=America/Toronto:20160625T090000
DTEND;TZID=America/Toronto:20160625T140000
DTSTAMP:20260425T112343
CREATED:20160627T141148Z
LAST-MODIFIED:20160627T141148Z
UID:10019610-1466845200-1466863200@huronshores.ca
SUMMARY:Iron Bridge Farmers' Market
DESCRIPTION:The Iron Bridge Farmers’ Market is held on Saturdays from 9:00 a.m. to 2:00 p.m. in the Gazebo at the Iron Bridge Historical Museum\, 1 James Street (at the intersection with Hwy. 17).  Come out and try our vendors fresh local produce\, mouth-watering baking\, preserves\, and handicrafts.   Take time to browse the museum exhibits depicting the proud pioneer heritage of our area.
URL:https://huronshores.ca/event/iron-bridge-farmers-market/2016-06-25/
LOCATION:ON
CATEGORIES:Community News,Farmers' Markets
ATTACH;FMTTYPE=image/jpeg:https://huronshores.ca/wp-content/uploads/2014/02/farmers-market-623x200-1.jpg
END:VEVENT
BEGIN:VEVENT
DTSTART;TZID=America/Toronto:20160625T140000
DTEND;TZID=America/Toronto:20160625T153000
DTSTAMP:20260425T112343
CREATED:20151021T181815Z
LAST-MODIFIED:20151021T181815Z
UID:10015984-1466863200-1466868600@huronshores.ca
SUMMARY:Alzheimer Info & Discussion Group
DESCRIPTION:The Alzheimer Society of Sault Ste. Marie & Algoma District hosts an Information & Discussion Group on the 2nd Wednesday of each month\, at the Calvary Gospel Church\, 55 Queen Street\, Blind River from 2:00 – 3:30 p.m.  For more information please call Tanya\, First Link Coordinator\, at 705-848-8145.
URL:https://huronshores.ca/event/alzheimer-info-discussion-group-2/2016-06-25/
LOCATION:ON
CATEGORIES:Community News
ATTACH;FMTTYPE=image/jpeg:https://huronshores.ca/wp-content/uploads/2013/01/Alzheimers-Disease.jpg
END:VEVENT
END:VCALENDAR