BEGIN:VCALENDAR
VERSION:2.0
PRODID:-//Huron Shores - ECPv6.15.11//NONSGML v1.0//EN
CALSCALE:GREGORIAN
METHOD:PUBLISH
X-ORIGINAL-URL:https://huronshores.ca
X-WR-CALDESC:Events for Huron Shores
REFRESH-INTERVAL;VALUE=DURATION:PT1H
X-Robots-Tag:noindex
X-PUBLISHED-TTL:PT1H
BEGIN:VTIMEZONE
TZID:America/Toronto
BEGIN:DAYLIGHT
TZOFFSETFROM:-0500
TZOFFSETTO:-0400
TZNAME:EDT
DTSTART:20170312T070000
END:DAYLIGHT
BEGIN:STANDARD
TZOFFSETFROM:-0400
TZOFFSETTO:-0500
TZNAME:EST
DTSTART:20171105T060000
END:STANDARD
BEGIN:DAYLIGHT
TZOFFSETFROM:-0500
TZOFFSETTO:-0400
TZNAME:EDT
DTSTART:20180311T070000
END:DAYLIGHT
BEGIN:STANDARD
TZOFFSETFROM:-0400
TZOFFSETTO:-0500
TZNAME:EST
DTSTART:20181104T060000
END:STANDARD
BEGIN:DAYLIGHT
TZOFFSETFROM:-0500
TZOFFSETTO:-0400
TZNAME:EDT
DTSTART:20190310T070000
END:DAYLIGHT
BEGIN:STANDARD
TZOFFSETFROM:-0400
TZOFFSETTO:-0500
TZNAME:EST
DTSTART:20191103T060000
END:STANDARD
END:VTIMEZONE
BEGIN:VEVENT
DTSTART;TZID=America/Toronto:20180207T190000
DTEND;TZID=America/Toronto:20180207T203000
DTSTAMP:20260423T230020
CREATED:20180104T142338Z
LAST-MODIFIED:20180104T142338Z
UID:10020446-1518030000-1518035400@huronshores.ca
SUMMARY:Public Skating
DESCRIPTION:Public skating at the Iron Bridge Rec Centre (1 Chiblow Lake Rd.)\, Wednesdays & Fridays 7:00-8:30 p.m. and Sunday afternoons 2:00-3:30 p.m. Admission $2/person.  Canteen is open for hot chocolate and treats.
URL:https://huronshores.ca/event/public-skating-3/2018-02-07/
LOCATION:ON
CATEGORIES:Community News
ATTACH;FMTTYPE=image/png:https://huronshores.ca/wp-content/uploads/2016/01/Public-Skating.png
END:VEVENT
BEGIN:VEVENT
DTSTART;TZID=America/Toronto:20180208T140000
DTEND;TZID=America/Toronto:20180208T153000
DTSTAMP:20260423T230020
CREATED:20151021T181815Z
LAST-MODIFIED:20151021T181815Z
UID:10016578-1518098400-1518103800@huronshores.ca
SUMMARY:Alzheimer Info & Discussion Group
DESCRIPTION:The Alzheimer Society of Sault Ste. Marie & Algoma District hosts an Information & Discussion Group on the 2nd Wednesday of each month\, at the Calvary Gospel Church\, 55 Queen Street\, Blind River from 2:00 – 3:30 p.m.  For more information please call Tanya\, First Link Coordinator\, at 705-848-8145.
URL:https://huronshores.ca/event/alzheimer-info-discussion-group-2/2018-02-08/
LOCATION:ON
CATEGORIES:Community News
ATTACH;FMTTYPE=image/jpeg:https://huronshores.ca/wp-content/uploads/2013/01/Alzheimers-Disease.jpg
END:VEVENT
BEGIN:VEVENT
DTSTART;TZID=America/Toronto:20180208T193000
DTEND;TZID=America/Toronto:20180208T193000
DTSTAMP:20260423T230020
CREATED:20180110T195217Z
LAST-MODIFIED:20180110T195217Z
UID:10020530-1518118200-1518118200@huronshores.ca
SUMMARY:Sowerby Square Dancing
DESCRIPTION:Thursday night square dancing at 7:30 p.m.\, Sowerby Hall\, 1410 Basswood Lake Road.  Beginners are welcome.  Hosted by the Sowerby Heritage Centre Committee.  For details contact Will 705-843-5567; David 705-842-6135; or Dennis 705-842-5534.
URL:https://huronshores.ca/event/sowerby-square-dancing/2018-02-08/
LOCATION:ON
CATEGORIES:Community News,Recreation
ATTACH;FMTTYPE=image/jpeg:https://huronshores.ca/wp-content/uploads/2016/01/square-dancing.jpg
END:VEVENT
BEGIN:VEVENT
DTSTART;TZID=America/Toronto:20180209T140000
DTEND;TZID=America/Toronto:20180209T153000
DTSTAMP:20260423T230020
CREATED:20151021T181815Z
LAST-MODIFIED:20151021T181815Z
UID:10016579-1518184800-1518190200@huronshores.ca
SUMMARY:Alzheimer Info & Discussion Group
DESCRIPTION:The Alzheimer Society of Sault Ste. Marie & Algoma District hosts an Information & Discussion Group on the 2nd Wednesday of each month\, at the Calvary Gospel Church\, 55 Queen Street\, Blind River from 2:00 – 3:30 p.m.  For more information please call Tanya\, First Link Coordinator\, at 705-848-8145.
URL:https://huronshores.ca/event/alzheimer-info-discussion-group-2/2018-02-09/
LOCATION:ON
CATEGORIES:Community News
ATTACH;FMTTYPE=image/jpeg:https://huronshores.ca/wp-content/uploads/2013/01/Alzheimers-Disease.jpg
END:VEVENT
BEGIN:VEVENT
DTSTART;TZID=America/Toronto:20180209T190000
DTEND;TZID=America/Toronto:20180209T203000
DTSTAMP:20260423T230020
CREATED:20180104T142624Z
LAST-MODIFIED:20180104T142624Z
UID:10020458-1518202800-1518208200@huronshores.ca
SUMMARY:Public Skating
DESCRIPTION:Public skating at the Iron Bridge Rec Centre (1 Chiblow Lake Rd.)\, Wednesdays & Fridays 7:00-8:30 p.m. and Sunday afternoons 2:00-3:30 p.m. Admission $2/person.  Canteen is open for hot chocolate and treats.
URL:https://huronshores.ca/event/public-skating-4/2018-02-09/
LOCATION:ON
CATEGORIES:Community News,Recreation
ATTACH;FMTTYPE=image/png:https://huronshores.ca/wp-content/uploads/2016/01/Public-Skating.png
END:VEVENT
BEGIN:VEVENT
DTSTART;TZID=America/Toronto:20180210T140000
DTEND;TZID=America/Toronto:20180210T153000
DTSTAMP:20260423T230020
CREATED:20151021T181815Z
LAST-MODIFIED:20151021T181815Z
UID:10016580-1518271200-1518276600@huronshores.ca
SUMMARY:Alzheimer Info & Discussion Group
DESCRIPTION:The Alzheimer Society of Sault Ste. Marie & Algoma District hosts an Information & Discussion Group on the 2nd Wednesday of each month\, at the Calvary Gospel Church\, 55 Queen Street\, Blind River from 2:00 – 3:30 p.m.  For more information please call Tanya\, First Link Coordinator\, at 705-848-8145.
URL:https://huronshores.ca/event/alzheimer-info-discussion-group-2/2018-02-10/
LOCATION:ON
CATEGORIES:Community News
ATTACH;FMTTYPE=image/jpeg:https://huronshores.ca/wp-content/uploads/2013/01/Alzheimers-Disease.jpg
END:VEVENT
BEGIN:VEVENT
DTSTART;TZID=America/Toronto:20180210T163000
DTEND;TZID=America/Toronto:20180210T183000
DTSTAMP:20260423T230020
CREATED:20180110T192447Z
LAST-MODIFIED:20180110T192447Z
UID:10020520-1518280200-1518287400@huronshores.ca
SUMMARY:Fish Fry
DESCRIPTION:The Iron Bridge Lions Club is hosting an All You Can Eat Saturday Fish Fry. Cost is $15/person; Children’s rates vary.  From 4:30-6:30 p.m.
URL:https://huronshores.ca/event/fish-fry-4/2018-02-10/
LOCATION:ON
CATEGORIES:Community News,Local Food
ATTACH;FMTTYPE=image/jpeg:https://huronshores.ca/wp-content/uploads/2015/12/Fish-Fry.jpg
END:VEVENT
BEGIN:VEVENT
DTSTART;TZID=America/Toronto:20180211T140000
DTEND;TZID=America/Toronto:20180211T153000
DTSTAMP:20260423T230020
CREATED:20151021T181815Z
LAST-MODIFIED:20151021T181815Z
UID:10016581-1518357600-1518363000@huronshores.ca
SUMMARY:Alzheimer Info & Discussion Group
DESCRIPTION:The Alzheimer Society of Sault Ste. Marie & Algoma District hosts an Information & Discussion Group on the 2nd Wednesday of each month\, at the Calvary Gospel Church\, 55 Queen Street\, Blind River from 2:00 – 3:30 p.m.  For more information please call Tanya\, First Link Coordinator\, at 705-848-8145.
URL:https://huronshores.ca/event/alzheimer-info-discussion-group-2/2018-02-11/
LOCATION:ON
CATEGORIES:Community News
ATTACH;FMTTYPE=image/jpeg:https://huronshores.ca/wp-content/uploads/2013/01/Alzheimers-Disease.jpg
END:VEVENT
BEGIN:VEVENT
DTSTART;TZID=America/Toronto:20180211T140000
DTEND;TZID=America/Toronto:20180211T153000
DTSTAMP:20260423T230020
CREATED:20180104T142904Z
LAST-MODIFIED:20180104T142904Z
UID:10020470-1518357600-1518363000@huronshores.ca
SUMMARY:Public Skating
DESCRIPTION:Public skating at the Iron Bridge Rec Centre (1 Chiblow Lake Rd.)\, Wednesdays & Fridays 7:00-8:30 p.m. and Sunday afternoons 2:00-3:30 p.m. Admission $2/person.  Canteen is open for hot chocolate and treats.
URL:https://huronshores.ca/event/public-skating-5/2018-02-11/
LOCATION:ON
CATEGORIES:Community News,Recreation
ATTACH;FMTTYPE=image/png:https://huronshores.ca/wp-content/uploads/2016/01/Penguin-Skating.png
END:VEVENT
BEGIN:VEVENT
DTSTART;TZID=America/Toronto:20180212T140000
DTEND;TZID=America/Toronto:20180212T153000
DTSTAMP:20260423T230020
CREATED:20151021T181815Z
LAST-MODIFIED:20151021T181815Z
UID:10016582-1518444000-1518449400@huronshores.ca
SUMMARY:Alzheimer Info & Discussion Group
DESCRIPTION:The Alzheimer Society of Sault Ste. Marie & Algoma District hosts an Information & Discussion Group on the 2nd Wednesday of each month\, at the Calvary Gospel Church\, 55 Queen Street\, Blind River from 2:00 – 3:30 p.m.  For more information please call Tanya\, First Link Coordinator\, at 705-848-8145.
URL:https://huronshores.ca/event/alzheimer-info-discussion-group-2/2018-02-12/
LOCATION:ON
CATEGORIES:Community News
ATTACH;FMTTYPE=image/jpeg:https://huronshores.ca/wp-content/uploads/2013/01/Alzheimers-Disease.jpg
END:VEVENT
BEGIN:VEVENT
DTSTART;TZID=America/Toronto:20180213T140000
DTEND;TZID=America/Toronto:20180213T153000
DTSTAMP:20260423T230020
CREATED:20151021T181815Z
LAST-MODIFIED:20151021T181815Z
UID:10016583-1518530400-1518535800@huronshores.ca
SUMMARY:Alzheimer Info & Discussion Group
DESCRIPTION:The Alzheimer Society of Sault Ste. Marie & Algoma District hosts an Information & Discussion Group on the 2nd Wednesday of each month\, at the Calvary Gospel Church\, 55 Queen Street\, Blind River from 2:00 – 3:30 p.m.  For more information please call Tanya\, First Link Coordinator\, at 705-848-8145.
URL:https://huronshores.ca/event/alzheimer-info-discussion-group-2/2018-02-13/
LOCATION:ON
CATEGORIES:Community News
ATTACH;FMTTYPE=image/jpeg:https://huronshores.ca/wp-content/uploads/2013/01/Alzheimers-Disease.jpg
END:VEVENT
BEGIN:VEVENT
DTSTART;TZID=America/Toronto:20180214T140000
DTEND;TZID=America/Toronto:20180214T153000
DTSTAMP:20260423T230020
CREATED:20151021T181815Z
LAST-MODIFIED:20151021T181815Z
UID:10016584-1518616800-1518622200@huronshores.ca
SUMMARY:Alzheimer Info & Discussion Group
DESCRIPTION:The Alzheimer Society of Sault Ste. Marie & Algoma District hosts an Information & Discussion Group on the 2nd Wednesday of each month\, at the Calvary Gospel Church\, 55 Queen Street\, Blind River from 2:00 – 3:30 p.m.  For more information please call Tanya\, First Link Coordinator\, at 705-848-8145.
URL:https://huronshores.ca/event/alzheimer-info-discussion-group-2/2018-02-14/
LOCATION:ON
CATEGORIES:Community News
ATTACH;FMTTYPE=image/jpeg:https://huronshores.ca/wp-content/uploads/2013/01/Alzheimers-Disease.jpg
END:VEVENT
BEGIN:VEVENT
DTSTART;TZID=America/Toronto:20180214T190000
DTEND;TZID=America/Toronto:20180214T203000
DTSTAMP:20260423T230020
CREATED:20180104T142338Z
LAST-MODIFIED:20180104T142338Z
UID:10020447-1518634800-1518640200@huronshores.ca
SUMMARY:Public Skating
DESCRIPTION:Public skating at the Iron Bridge Rec Centre (1 Chiblow Lake Rd.)\, Wednesdays & Fridays 7:00-8:30 p.m. and Sunday afternoons 2:00-3:30 p.m. Admission $2/person.  Canteen is open for hot chocolate and treats.
URL:https://huronshores.ca/event/public-skating-3/2018-02-14/
LOCATION:ON
CATEGORIES:Community News
ATTACH;FMTTYPE=image/png:https://huronshores.ca/wp-content/uploads/2016/01/Public-Skating.png
END:VEVENT
BEGIN:VEVENT
DTSTART;TZID=America/Toronto:20180215T140000
DTEND;TZID=America/Toronto:20180215T153000
DTSTAMP:20260423T230020
CREATED:20151021T181815Z
LAST-MODIFIED:20151021T181815Z
UID:10016585-1518703200-1518708600@huronshores.ca
SUMMARY:Alzheimer Info & Discussion Group
DESCRIPTION:The Alzheimer Society of Sault Ste. Marie & Algoma District hosts an Information & Discussion Group on the 2nd Wednesday of each month\, at the Calvary Gospel Church\, 55 Queen Street\, Blind River from 2:00 – 3:30 p.m.  For more information please call Tanya\, First Link Coordinator\, at 705-848-8145.
URL:https://huronshores.ca/event/alzheimer-info-discussion-group-2/2018-02-15/
LOCATION:ON
CATEGORIES:Community News
ATTACH;FMTTYPE=image/jpeg:https://huronshores.ca/wp-content/uploads/2013/01/Alzheimers-Disease.jpg
END:VEVENT
BEGIN:VEVENT
DTSTART;TZID=America/Toronto:20180215T193000
DTEND;TZID=America/Toronto:20180215T193000
DTSTAMP:20260423T230020
CREATED:20180110T195217Z
LAST-MODIFIED:20180110T195217Z
UID:10020531-1518723000-1518723000@huronshores.ca
SUMMARY:Sowerby Square Dancing
DESCRIPTION:Thursday night square dancing at 7:30 p.m.\, Sowerby Hall\, 1410 Basswood Lake Road.  Beginners are welcome.  Hosted by the Sowerby Heritage Centre Committee.  For details contact Will 705-843-5567; David 705-842-6135; or Dennis 705-842-5534.
URL:https://huronshores.ca/event/sowerby-square-dancing/2018-02-15/
LOCATION:ON
CATEGORIES:Community News,Recreation
ATTACH;FMTTYPE=image/jpeg:https://huronshores.ca/wp-content/uploads/2016/01/square-dancing.jpg
END:VEVENT
BEGIN:VEVENT
DTSTART;TZID=America/Toronto:20180216T140000
DTEND;TZID=America/Toronto:20180216T153000
DTSTAMP:20260423T230020
CREATED:20151021T181815Z
LAST-MODIFIED:20151021T181815Z
UID:10016586-1518789600-1518795000@huronshores.ca
SUMMARY:Alzheimer Info & Discussion Group
DESCRIPTION:The Alzheimer Society of Sault Ste. Marie & Algoma District hosts an Information & Discussion Group on the 2nd Wednesday of each month\, at the Calvary Gospel Church\, 55 Queen Street\, Blind River from 2:00 – 3:30 p.m.  For more information please call Tanya\, First Link Coordinator\, at 705-848-8145.
URL:https://huronshores.ca/event/alzheimer-info-discussion-group-2/2018-02-16/
LOCATION:ON
CATEGORIES:Community News
ATTACH;FMTTYPE=image/jpeg:https://huronshores.ca/wp-content/uploads/2013/01/Alzheimers-Disease.jpg
END:VEVENT
BEGIN:VEVENT
DTSTART;TZID=America/Toronto:20180216T190000
DTEND;TZID=America/Toronto:20180216T203000
DTSTAMP:20260423T230020
CREATED:20180104T142624Z
LAST-MODIFIED:20180104T142624Z
UID:10020459-1518807600-1518813000@huronshores.ca
SUMMARY:Public Skating
DESCRIPTION:Public skating at the Iron Bridge Rec Centre (1 Chiblow Lake Rd.)\, Wednesdays & Fridays 7:00-8:30 p.m. and Sunday afternoons 2:00-3:30 p.m. Admission $2/person.  Canteen is open for hot chocolate and treats.
URL:https://huronshores.ca/event/public-skating-4/2018-02-16/
LOCATION:ON
CATEGORIES:Community News,Recreation
ATTACH;FMTTYPE=image/png:https://huronshores.ca/wp-content/uploads/2016/01/Public-Skating.png
END:VEVENT
BEGIN:VEVENT
DTSTART;TZID=America/Toronto:20180217T140000
DTEND;TZID=America/Toronto:20180217T153000
DTSTAMP:20260423T230020
CREATED:20151021T181815Z
LAST-MODIFIED:20151021T181815Z
UID:10016587-1518876000-1518881400@huronshores.ca
SUMMARY:Alzheimer Info & Discussion Group
DESCRIPTION:The Alzheimer Society of Sault Ste. Marie & Algoma District hosts an Information & Discussion Group on the 2nd Wednesday of each month\, at the Calvary Gospel Church\, 55 Queen Street\, Blind River from 2:00 – 3:30 p.m.  For more information please call Tanya\, First Link Coordinator\, at 705-848-8145.
URL:https://huronshores.ca/event/alzheimer-info-discussion-group-2/2018-02-17/
LOCATION:ON
CATEGORIES:Community News
ATTACH;FMTTYPE=image/jpeg:https://huronshores.ca/wp-content/uploads/2013/01/Alzheimers-Disease.jpg
END:VEVENT
BEGIN:VEVENT
DTSTART;TZID=America/Toronto:20180218T140000
DTEND;TZID=America/Toronto:20180218T153000
DTSTAMP:20260423T230020
CREATED:20151021T181815Z
LAST-MODIFIED:20151021T181815Z
UID:10016588-1518962400-1518967800@huronshores.ca
SUMMARY:Alzheimer Info & Discussion Group
DESCRIPTION:The Alzheimer Society of Sault Ste. Marie & Algoma District hosts an Information & Discussion Group on the 2nd Wednesday of each month\, at the Calvary Gospel Church\, 55 Queen Street\, Blind River from 2:00 – 3:30 p.m.  For more information please call Tanya\, First Link Coordinator\, at 705-848-8145.
URL:https://huronshores.ca/event/alzheimer-info-discussion-group-2/2018-02-18/
LOCATION:ON
CATEGORIES:Community News
ATTACH;FMTTYPE=image/jpeg:https://huronshores.ca/wp-content/uploads/2013/01/Alzheimers-Disease.jpg
END:VEVENT
BEGIN:VEVENT
DTSTART;TZID=America/Toronto:20180218T140000
DTEND;TZID=America/Toronto:20180218T153000
DTSTAMP:20260423T230020
CREATED:20180104T142904Z
LAST-MODIFIED:20180104T142904Z
UID:10020471-1518962400-1518967800@huronshores.ca
SUMMARY:Public Skating
DESCRIPTION:Public skating at the Iron Bridge Rec Centre (1 Chiblow Lake Rd.)\, Wednesdays & Fridays 7:00-8:30 p.m. and Sunday afternoons 2:00-3:30 p.m. Admission $2/person.  Canteen is open for hot chocolate and treats.
URL:https://huronshores.ca/event/public-skating-5/2018-02-18/
LOCATION:ON
CATEGORIES:Community News,Recreation
ATTACH;FMTTYPE=image/png:https://huronshores.ca/wp-content/uploads/2016/01/Penguin-Skating.png
END:VEVENT
BEGIN:VEVENT
DTSTART;TZID=America/Toronto:20180219T140000
DTEND;TZID=America/Toronto:20180219T153000
DTSTAMP:20260423T230020
CREATED:20151021T181815Z
LAST-MODIFIED:20151021T181815Z
UID:10016589-1519048800-1519054200@huronshores.ca
SUMMARY:Alzheimer Info & Discussion Group
DESCRIPTION:The Alzheimer Society of Sault Ste. Marie & Algoma District hosts an Information & Discussion Group on the 2nd Wednesday of each month\, at the Calvary Gospel Church\, 55 Queen Street\, Blind River from 2:00 – 3:30 p.m.  For more information please call Tanya\, First Link Coordinator\, at 705-848-8145.
URL:https://huronshores.ca/event/alzheimer-info-discussion-group-2/2018-02-19/
LOCATION:ON
CATEGORIES:Community News
ATTACH;FMTTYPE=image/jpeg:https://huronshores.ca/wp-content/uploads/2013/01/Alzheimers-Disease.jpg
END:VEVENT
BEGIN:VEVENT
DTSTART;TZID=America/Toronto:20180219T193000
DTEND;TZID=America/Toronto:20180219T193000
DTSTAMP:20260423T230020
CREATED:20180109T193038Z
LAST-MODIFIED:20180109T193038Z
UID:10020488-1519068600-1519068600@huronshores.ca
SUMMARY:Pioneer Night
DESCRIPTION:Thessalon Township Heritage Association’s annual Pioneer Night is Monday\, February 19/18\, 7:30 p.m. at the Thessalon Twp. Community Centre (4 Little Rapids Rd.)  An evening of old-time entertainment – A trip down memory lane\, historical activity\, live music\, local talent\, door prizes.  An old-fashioned lunch following the program.   Everyone welcome!
URL:https://huronshores.ca/event/pioneer-night-3/
LOCATION:ON
CATEGORIES:Community News
ATTACH;FMTTYPE=image/bmp:https://huronshores.ca/wp-content/uploads/2012/07/Thessalon-Twp-2-resized1.bmp
END:VEVENT
BEGIN:VEVENT
DTSTART;TZID=America/Toronto:20180220T140000
DTEND;TZID=America/Toronto:20180220T153000
DTSTAMP:20260423T230020
CREATED:20151021T181815Z
LAST-MODIFIED:20151021T181815Z
UID:10016590-1519135200-1519140600@huronshores.ca
SUMMARY:Alzheimer Info & Discussion Group
DESCRIPTION:The Alzheimer Society of Sault Ste. Marie & Algoma District hosts an Information & Discussion Group on the 2nd Wednesday of each month\, at the Calvary Gospel Church\, 55 Queen Street\, Blind River from 2:00 – 3:30 p.m.  For more information please call Tanya\, First Link Coordinator\, at 705-848-8145.
URL:https://huronshores.ca/event/alzheimer-info-discussion-group-2/2018-02-20/
LOCATION:ON
CATEGORIES:Community News
ATTACH;FMTTYPE=image/jpeg:https://huronshores.ca/wp-content/uploads/2013/01/Alzheimers-Disease.jpg
END:VEVENT
BEGIN:VEVENT
DTSTART;TZID=America/Toronto:20180221T140000
DTEND;TZID=America/Toronto:20180221T153000
DTSTAMP:20260423T230020
CREATED:20151021T181815Z
LAST-MODIFIED:20151021T181815Z
UID:10016591-1519221600-1519227000@huronshores.ca
SUMMARY:Alzheimer Info & Discussion Group
DESCRIPTION:The Alzheimer Society of Sault Ste. Marie & Algoma District hosts an Information & Discussion Group on the 2nd Wednesday of each month\, at the Calvary Gospel Church\, 55 Queen Street\, Blind River from 2:00 – 3:30 p.m.  For more information please call Tanya\, First Link Coordinator\, at 705-848-8145.
URL:https://huronshores.ca/event/alzheimer-info-discussion-group-2/2018-02-21/
LOCATION:ON
CATEGORIES:Community News
ATTACH;FMTTYPE=image/jpeg:https://huronshores.ca/wp-content/uploads/2013/01/Alzheimers-Disease.jpg
END:VEVENT
BEGIN:VEVENT
DTSTART;TZID=America/Toronto:20180221T190000
DTEND;TZID=America/Toronto:20180221T203000
DTSTAMP:20260423T230020
CREATED:20180104T142338Z
LAST-MODIFIED:20180104T142338Z
UID:10020448-1519239600-1519245000@huronshores.ca
SUMMARY:Public Skating
DESCRIPTION:Public skating at the Iron Bridge Rec Centre (1 Chiblow Lake Rd.)\, Wednesdays & Fridays 7:00-8:30 p.m. and Sunday afternoons 2:00-3:30 p.m. Admission $2/person.  Canteen is open for hot chocolate and treats.
URL:https://huronshores.ca/event/public-skating-3/2018-02-21/
LOCATION:ON
CATEGORIES:Community News
ATTACH;FMTTYPE=image/png:https://huronshores.ca/wp-content/uploads/2016/01/Public-Skating.png
END:VEVENT
BEGIN:VEVENT
DTSTART;VALUE=DATE:20180222
DTEND;VALUE=DATE:20180223
DTSTAMP:20260423T230020
CREATED:20171120T200218Z
LAST-MODIFIED:20171120T200218Z
UID:10020397-1519257600-1519343999@huronshores.ca
SUMMARY:HNCEA Summary Summit
DESCRIPTION:The Huron North Community Economic Alliance (HNCEA) is holding 4 summits each with a focus on a different economic sector.  On February 22/18\, the final summit will be held in order to summarize the information collected from the previous 3 summits – business development\, tourism and agriculture\, respectively. The location and time are yet to be determined.  Contact Suzanne Faubert-Astles 705-356-3004; HNCEA Chair Edith Orr 705-541-1886; or Betty Ann Dunbar 705-356-5715 for further details.
URL:https://huronshores.ca/event/14128/
LOCATION:ON
CATEGORIES:Community News
ATTACH;FMTTYPE=image/jpeg:https://huronshores.ca/wp-content/uploads/2017/11/HNCEA-summits-poster.jpg
END:VEVENT
BEGIN:VEVENT
DTSTART;TZID=America/Toronto:20180222T140000
DTEND;TZID=America/Toronto:20180222T153000
DTSTAMP:20260423T230020
CREATED:20151021T181815Z
LAST-MODIFIED:20151021T181815Z
UID:10016592-1519308000-1519313400@huronshores.ca
SUMMARY:Alzheimer Info & Discussion Group
DESCRIPTION:The Alzheimer Society of Sault Ste. Marie & Algoma District hosts an Information & Discussion Group on the 2nd Wednesday of each month\, at the Calvary Gospel Church\, 55 Queen Street\, Blind River from 2:00 – 3:30 p.m.  For more information please call Tanya\, First Link Coordinator\, at 705-848-8145.
URL:https://huronshores.ca/event/alzheimer-info-discussion-group-2/2018-02-22/
LOCATION:ON
CATEGORIES:Community News
ATTACH;FMTTYPE=image/jpeg:https://huronshores.ca/wp-content/uploads/2013/01/Alzheimers-Disease.jpg
END:VEVENT
BEGIN:VEVENT
DTSTART;TZID=America/Toronto:20180222T193000
DTEND;TZID=America/Toronto:20180222T193000
DTSTAMP:20260423T230020
CREATED:20180110T195217Z
LAST-MODIFIED:20180110T195217Z
UID:10020532-1519327800-1519327800@huronshores.ca
SUMMARY:Sowerby Square Dancing
DESCRIPTION:Thursday night square dancing at 7:30 p.m.\, Sowerby Hall\, 1410 Basswood Lake Road.  Beginners are welcome.  Hosted by the Sowerby Heritage Centre Committee.  For details contact Will 705-843-5567; David 705-842-6135; or Dennis 705-842-5534.
URL:https://huronshores.ca/event/sowerby-square-dancing/2018-02-22/
LOCATION:ON
CATEGORIES:Community News,Recreation
ATTACH;FMTTYPE=image/jpeg:https://huronshores.ca/wp-content/uploads/2016/01/square-dancing.jpg
END:VEVENT
BEGIN:VEVENT
DTSTART;TZID=America/Toronto:20180223T140000
DTEND;TZID=America/Toronto:20180223T153000
DTSTAMP:20260423T230020
CREATED:20151021T181815Z
LAST-MODIFIED:20151021T181815Z
UID:10016593-1519394400-1519399800@huronshores.ca
SUMMARY:Alzheimer Info & Discussion Group
DESCRIPTION:The Alzheimer Society of Sault Ste. Marie & Algoma District hosts an Information & Discussion Group on the 2nd Wednesday of each month\, at the Calvary Gospel Church\, 55 Queen Street\, Blind River from 2:00 – 3:30 p.m.  For more information please call Tanya\, First Link Coordinator\, at 705-848-8145.
URL:https://huronshores.ca/event/alzheimer-info-discussion-group-2/2018-02-23/
LOCATION:ON
CATEGORIES:Community News
ATTACH;FMTTYPE=image/jpeg:https://huronshores.ca/wp-content/uploads/2013/01/Alzheimers-Disease.jpg
END:VEVENT
BEGIN:VEVENT
DTSTART;TZID=America/Toronto:20180223T170000
DTEND;TZID=America/Toronto:20180223T190000
DTSTAMP:20260423T230020
CREATED:20180110T195931Z
LAST-MODIFIED:20180110T195931Z
UID:10020534-1519405200-1519412400@huronshores.ca
SUMMARY:RC Legion Fish Fry
DESCRIPTION:The Thessalon RC Legion Branch 182 is hosting a Fish Fry from 5:00 – 7:00 p.m.  Take-out called in by 4:30 p.m. & picked up by 5:00 p.m. Call 705-842-2418.  Cash Bar.
URL:https://huronshores.ca/event/rc-legion-fish-fry/2018-02-23/
LOCATION:ON
CATEGORIES:Community News,Local Food
ATTACH;FMTTYPE=image/jpeg:https://huronshores.ca/wp-content/uploads/2015/12/Friday-Fish-Fry.jpg
END:VEVENT
END:VCALENDAR