BEGIN:VCALENDAR
VERSION:2.0
PRODID:-//Huron Shores - ECPv6.15.11//NONSGML v1.0//EN
CALSCALE:GREGORIAN
METHOD:PUBLISH
X-ORIGINAL-URL:https://huronshores.ca
X-WR-CALDESC:Events for Huron Shores
REFRESH-INTERVAL;VALUE=DURATION:PT1H
X-Robots-Tag:noindex
X-PUBLISHED-TTL:PT1H
BEGIN:VTIMEZONE
TZID:America/Toronto
BEGIN:DAYLIGHT
TZOFFSETFROM:-0500
TZOFFSETTO:-0400
TZNAME:EDT
DTSTART:20170312T070000
END:DAYLIGHT
BEGIN:STANDARD
TZOFFSETFROM:-0400
TZOFFSETTO:-0500
TZNAME:EST
DTSTART:20171105T060000
END:STANDARD
BEGIN:DAYLIGHT
TZOFFSETFROM:-0500
TZOFFSETTO:-0400
TZNAME:EDT
DTSTART:20180311T070000
END:DAYLIGHT
BEGIN:STANDARD
TZOFFSETFROM:-0400
TZOFFSETTO:-0500
TZNAME:EST
DTSTART:20181104T060000
END:STANDARD
BEGIN:DAYLIGHT
TZOFFSETFROM:-0500
TZOFFSETTO:-0400
TZNAME:EDT
DTSTART:20190310T070000
END:DAYLIGHT
BEGIN:STANDARD
TZOFFSETFROM:-0400
TZOFFSETTO:-0500
TZNAME:EST
DTSTART:20191103T060000
END:STANDARD
END:VTIMEZONE
BEGIN:VEVENT
DTSTART;TZID=America/Toronto:20180511T140000
DTEND;TZID=America/Toronto:20180511T153000
DTSTAMP:20260423T170542
CREATED:20151021T181815Z
LAST-MODIFIED:20151021T181815Z
UID:10016670-1526047200-1526052600@huronshores.ca
SUMMARY:Alzheimer Info & Discussion Group
DESCRIPTION:The Alzheimer Society of Sault Ste. Marie & Algoma District hosts an Information & Discussion Group on the 2nd Wednesday of each month\, at the Calvary Gospel Church\, 55 Queen Street\, Blind River from 2:00 – 3:30 p.m.  For more information please call Tanya\, First Link Coordinator\, at 705-848-8145.
URL:https://huronshores.ca/event/alzheimer-info-discussion-group-2/2018-05-11/
LOCATION:ON
CATEGORIES:Community News
ATTACH;FMTTYPE=image/jpeg:https://huronshores.ca/wp-content/uploads/2013/01/Alzheimers-Disease.jpg
END:VEVENT
BEGIN:VEVENT
DTSTART;TZID=America/Toronto:20180512T140000
DTEND;TZID=America/Toronto:20180512T153000
DTSTAMP:20260423T170542
CREATED:20151021T181815Z
LAST-MODIFIED:20151021T181815Z
UID:10016671-1526133600-1526139000@huronshores.ca
SUMMARY:Alzheimer Info & Discussion Group
DESCRIPTION:The Alzheimer Society of Sault Ste. Marie & Algoma District hosts an Information & Discussion Group on the 2nd Wednesday of each month\, at the Calvary Gospel Church\, 55 Queen Street\, Blind River from 2:00 – 3:30 p.m.  For more information please call Tanya\, First Link Coordinator\, at 705-848-8145.
URL:https://huronshores.ca/event/alzheimer-info-discussion-group-2/2018-05-12/
LOCATION:ON
CATEGORIES:Community News
ATTACH;FMTTYPE=image/jpeg:https://huronshores.ca/wp-content/uploads/2013/01/Alzheimers-Disease.jpg
END:VEVENT
BEGIN:VEVENT
DTSTART;VALUE=DATE:20180513
DTEND;VALUE=DATE:20180514
DTSTAMP:20260423T170542
CREATED:20171129T195231Z
LAST-MODIFIED:20171129T195231Z
UID:10019954-1526169600-1526255999@huronshores.ca
SUMMARY:Mother's Day
DESCRIPTION:Happy Mother’s Day from Council and staff of Huron Shores!
URL:https://huronshores.ca/event/mothers-day-2/
LOCATION:ON
CATEGORIES:Community News
ATTACH;FMTTYPE=image/jpeg:https://huronshores.ca/wp-content/uploads/2016/01/Happy-Mothers-Day.jpg
END:VEVENT
BEGIN:VEVENT
DTSTART;TZID=America/Toronto:20180513T140000
DTEND;TZID=America/Toronto:20180513T153000
DTSTAMP:20260423T170542
CREATED:20151021T181815Z
LAST-MODIFIED:20151021T181815Z
UID:10016672-1526220000-1526225400@huronshores.ca
SUMMARY:Alzheimer Info & Discussion Group
DESCRIPTION:The Alzheimer Society of Sault Ste. Marie & Algoma District hosts an Information & Discussion Group on the 2nd Wednesday of each month\, at the Calvary Gospel Church\, 55 Queen Street\, Blind River from 2:00 – 3:30 p.m.  For more information please call Tanya\, First Link Coordinator\, at 705-848-8145.
URL:https://huronshores.ca/event/alzheimer-info-discussion-group-2/2018-05-13/
LOCATION:ON
CATEGORIES:Community News
ATTACH;FMTTYPE=image/jpeg:https://huronshores.ca/wp-content/uploads/2013/01/Alzheimers-Disease.jpg
END:VEVENT
BEGIN:VEVENT
DTSTART;TZID=America/Toronto:20180514T140000
DTEND;TZID=America/Toronto:20180514T153000
DTSTAMP:20260423T170542
CREATED:20151021T181815Z
LAST-MODIFIED:20151021T181815Z
UID:10016673-1526306400-1526311800@huronshores.ca
SUMMARY:Alzheimer Info & Discussion Group
DESCRIPTION:The Alzheimer Society of Sault Ste. Marie & Algoma District hosts an Information & Discussion Group on the 2nd Wednesday of each month\, at the Calvary Gospel Church\, 55 Queen Street\, Blind River from 2:00 – 3:30 p.m.  For more information please call Tanya\, First Link Coordinator\, at 705-848-8145.
URL:https://huronshores.ca/event/alzheimer-info-discussion-group-2/2018-05-14/
LOCATION:ON
CATEGORIES:Community News
ATTACH;FMTTYPE=image/jpeg:https://huronshores.ca/wp-content/uploads/2013/01/Alzheimers-Disease.jpg
END:VEVENT
BEGIN:VEVENT
DTSTART;TZID=America/Toronto:20180515T140000
DTEND;TZID=America/Toronto:20180515T153000
DTSTAMP:20260423T170542
CREATED:20151021T181815Z
LAST-MODIFIED:20151021T181815Z
UID:10016674-1526392800-1526398200@huronshores.ca
SUMMARY:Alzheimer Info & Discussion Group
DESCRIPTION:The Alzheimer Society of Sault Ste. Marie & Algoma District hosts an Information & Discussion Group on the 2nd Wednesday of each month\, at the Calvary Gospel Church\, 55 Queen Street\, Blind River from 2:00 – 3:30 p.m.  For more information please call Tanya\, First Link Coordinator\, at 705-848-8145.
URL:https://huronshores.ca/event/alzheimer-info-discussion-group-2/2018-05-15/
LOCATION:ON
CATEGORIES:Community News
ATTACH;FMTTYPE=image/jpeg:https://huronshores.ca/wp-content/uploads/2013/01/Alzheimers-Disease.jpg
END:VEVENT
BEGIN:VEVENT
DTSTART;TZID=America/Toronto:20180516T140000
DTEND;TZID=America/Toronto:20180516T153000
DTSTAMP:20260423T170542
CREATED:20151021T181815Z
LAST-MODIFIED:20151021T181815Z
UID:10016675-1526479200-1526484600@huronshores.ca
SUMMARY:Alzheimer Info & Discussion Group
DESCRIPTION:The Alzheimer Society of Sault Ste. Marie & Algoma District hosts an Information & Discussion Group on the 2nd Wednesday of each month\, at the Calvary Gospel Church\, 55 Queen Street\, Blind River from 2:00 – 3:30 p.m.  For more information please call Tanya\, First Link Coordinator\, at 705-848-8145.
URL:https://huronshores.ca/event/alzheimer-info-discussion-group-2/2018-05-16/
LOCATION:ON
CATEGORIES:Community News
ATTACH;FMTTYPE=image/jpeg:https://huronshores.ca/wp-content/uploads/2013/01/Alzheimers-Disease.jpg
END:VEVENT
BEGIN:VEVENT
DTSTART;TZID=America/Toronto:20180517T140000
DTEND;TZID=America/Toronto:20180517T153000
DTSTAMP:20260423T170542
CREATED:20151021T181815Z
LAST-MODIFIED:20151021T181815Z
UID:10016676-1526565600-1526571000@huronshores.ca
SUMMARY:Alzheimer Info & Discussion Group
DESCRIPTION:The Alzheimer Society of Sault Ste. Marie & Algoma District hosts an Information & Discussion Group on the 2nd Wednesday of each month\, at the Calvary Gospel Church\, 55 Queen Street\, Blind River from 2:00 – 3:30 p.m.  For more information please call Tanya\, First Link Coordinator\, at 705-848-8145.
URL:https://huronshores.ca/event/alzheimer-info-discussion-group-2/2018-05-17/
LOCATION:ON
CATEGORIES:Community News
ATTACH;FMTTYPE=image/jpeg:https://huronshores.ca/wp-content/uploads/2013/01/Alzheimers-Disease.jpg
END:VEVENT
BEGIN:VEVENT
DTSTART;TZID=America/Toronto:20180518T090000
DTEND;TZID=America/Toronto:20180518T120000
DTSTAMP:20260423T170542
CREATED:20180423T173202Z
LAST-MODIFIED:20180423T173202Z
UID:10020545-1526634000-1526644800@huronshores.ca
SUMMARY:RAIN Volunteer Tree-Planting Training
DESCRIPTION:
URL:https://huronshores.ca/event/rain-volunteer-tree-planting-training/
LOCATION:ON
CATEGORIES:Community News
ATTACH;FMTTYPE=image/jpeg:https://huronshores.ca/wp-content/uploads/2013/02/RAIN-Logo-re-sized.jpg
END:VEVENT
BEGIN:VEVENT
DTSTART;TZID=America/Toronto:20180518T140000
DTEND;TZID=America/Toronto:20180518T153000
DTSTAMP:20260423T170542
CREATED:20151021T181815Z
LAST-MODIFIED:20151021T181815Z
UID:10016677-1526652000-1526657400@huronshores.ca
SUMMARY:Alzheimer Info & Discussion Group
DESCRIPTION:The Alzheimer Society of Sault Ste. Marie & Algoma District hosts an Information & Discussion Group on the 2nd Wednesday of each month\, at the Calvary Gospel Church\, 55 Queen Street\, Blind River from 2:00 – 3:30 p.m.  For more information please call Tanya\, First Link Coordinator\, at 705-848-8145.
URL:https://huronshores.ca/event/alzheimer-info-discussion-group-2/2018-05-18/
LOCATION:ON
CATEGORIES:Community News
ATTACH;FMTTYPE=image/jpeg:https://huronshores.ca/wp-content/uploads/2013/01/Alzheimers-Disease.jpg
END:VEVENT
BEGIN:VEVENT
DTSTART;TZID=America/Toronto:20180519T140000
DTEND;TZID=America/Toronto:20180519T153000
DTSTAMP:20260423T170542
CREATED:20151021T181815Z
LAST-MODIFIED:20151021T181815Z
UID:10016678-1526738400-1526743800@huronshores.ca
SUMMARY:Alzheimer Info & Discussion Group
DESCRIPTION:The Alzheimer Society of Sault Ste. Marie & Algoma District hosts an Information & Discussion Group on the 2nd Wednesday of each month\, at the Calvary Gospel Church\, 55 Queen Street\, Blind River from 2:00 – 3:30 p.m.  For more information please call Tanya\, First Link Coordinator\, at 705-848-8145.
URL:https://huronshores.ca/event/alzheimer-info-discussion-group-2/2018-05-19/
LOCATION:ON
CATEGORIES:Community News
ATTACH;FMTTYPE=image/jpeg:https://huronshores.ca/wp-content/uploads/2013/01/Alzheimers-Disease.jpg
END:VEVENT
BEGIN:VEVENT
DTSTART;TZID=America/Toronto:20180520T140000
DTEND;TZID=America/Toronto:20180520T153000
DTSTAMP:20260423T170542
CREATED:20151021T181815Z
LAST-MODIFIED:20151021T181815Z
UID:10016679-1526824800-1526830200@huronshores.ca
SUMMARY:Alzheimer Info & Discussion Group
DESCRIPTION:The Alzheimer Society of Sault Ste. Marie & Algoma District hosts an Information & Discussion Group on the 2nd Wednesday of each month\, at the Calvary Gospel Church\, 55 Queen Street\, Blind River from 2:00 – 3:30 p.m.  For more information please call Tanya\, First Link Coordinator\, at 705-848-8145.
URL:https://huronshores.ca/event/alzheimer-info-discussion-group-2/2018-05-20/
LOCATION:ON
CATEGORIES:Community News
ATTACH;FMTTYPE=image/jpeg:https://huronshores.ca/wp-content/uploads/2013/01/Alzheimers-Disease.jpg
END:VEVENT
BEGIN:VEVENT
DTSTART;VALUE=DATE:20180521
DTEND;VALUE=DATE:20180522
DTSTAMP:20260423T170542
CREATED:20171129T194952Z
LAST-MODIFIED:20171129T194952Z
UID:10019951-1526860800-1526947199@huronshores.ca
SUMMARY:Victoria Day
DESCRIPTION:The Municipal Office and all Waste Sites will be CLOSED for the Victoria Day holiday Monday.  The Office will re-open on Tuesday\, May 22/18 at 8:30 a.m.; the Waste Sites on Wednesday\, May 23/18 at 4:00 p.m.  Happy Victoria Day from Council and Staff of Huron Shores!  Celebrate the 1st long weekend of summer!
URL:https://huronshores.ca/event/victoria-day-3/
LOCATION:ON
CATEGORIES:Community News,Office Closure,Waste Disposal
ATTACH;FMTTYPE=image/jpeg:https://huronshores.ca/wp-content/uploads/2015/05/Victoria-Day-2014.jpg
END:VEVENT
BEGIN:VEVENT
DTSTART;TZID=America/Toronto:20180521T140000
DTEND;TZID=America/Toronto:20180521T153000
DTSTAMP:20260423T170542
CREATED:20151021T181815Z
LAST-MODIFIED:20151021T181815Z
UID:10016680-1526911200-1526916600@huronshores.ca
SUMMARY:Alzheimer Info & Discussion Group
DESCRIPTION:The Alzheimer Society of Sault Ste. Marie & Algoma District hosts an Information & Discussion Group on the 2nd Wednesday of each month\, at the Calvary Gospel Church\, 55 Queen Street\, Blind River from 2:00 – 3:30 p.m.  For more information please call Tanya\, First Link Coordinator\, at 705-848-8145.
URL:https://huronshores.ca/event/alzheimer-info-discussion-group-2/2018-05-21/
LOCATION:ON
CATEGORIES:Community News
ATTACH;FMTTYPE=image/jpeg:https://huronshores.ca/wp-content/uploads/2013/01/Alzheimers-Disease.jpg
END:VEVENT
BEGIN:VEVENT
DTSTART;TZID=America/Toronto:20180522T140000
DTEND;TZID=America/Toronto:20180522T153000
DTSTAMP:20260423T170542
CREATED:20151021T181815Z
LAST-MODIFIED:20151021T181815Z
UID:10016681-1526997600-1527003000@huronshores.ca
SUMMARY:Alzheimer Info & Discussion Group
DESCRIPTION:The Alzheimer Society of Sault Ste. Marie & Algoma District hosts an Information & Discussion Group on the 2nd Wednesday of each month\, at the Calvary Gospel Church\, 55 Queen Street\, Blind River from 2:00 – 3:30 p.m.  For more information please call Tanya\, First Link Coordinator\, at 705-848-8145.
URL:https://huronshores.ca/event/alzheimer-info-discussion-group-2/2018-05-22/
LOCATION:ON
CATEGORIES:Community News
ATTACH;FMTTYPE=image/jpeg:https://huronshores.ca/wp-content/uploads/2013/01/Alzheimers-Disease.jpg
END:VEVENT
BEGIN:VEVENT
DTSTART;TZID=America/Toronto:20180523T140000
DTEND;TZID=America/Toronto:20180523T153000
DTSTAMP:20260423T170542
CREATED:20151021T181815Z
LAST-MODIFIED:20151021T181815Z
UID:10016682-1527084000-1527089400@huronshores.ca
SUMMARY:Alzheimer Info & Discussion Group
DESCRIPTION:The Alzheimer Society of Sault Ste. Marie & Algoma District hosts an Information & Discussion Group on the 2nd Wednesday of each month\, at the Calvary Gospel Church\, 55 Queen Street\, Blind River from 2:00 – 3:30 p.m.  For more information please call Tanya\, First Link Coordinator\, at 705-848-8145.
URL:https://huronshores.ca/event/alzheimer-info-discussion-group-2/2018-05-23/
LOCATION:ON
CATEGORIES:Community News
ATTACH;FMTTYPE=image/jpeg:https://huronshores.ca/wp-content/uploads/2013/01/Alzheimers-Disease.jpg
END:VEVENT
BEGIN:VEVENT
DTSTART;TZID=America/Toronto:20180523T163000
DTEND;TZID=America/Toronto:20180523T163000
DTSTAMP:20260423T170542
CREATED:20180508T135048Z
LAST-MODIFIED:20180508T135048Z
UID:10020011-1527093000-1527093000@huronshores.ca
SUMMARY:Summer Students Application Deadline
DESCRIPTION:The deadline to submit applications for summer student positions is today at 4:30 p.m.  Please click on the link below to view the post for details.
URL:https://huronshores.ca/event/summer-students-application-deadline/
LOCATION:ON
CATEGORIES:Community News,Employment Opportunities
ATTACH;FMTTYPE=image/png:https://huronshores.ca/wp-content/uploads/2018/03/crest.png
END:VEVENT
BEGIN:VEVENT
DTSTART;TZID=America/Toronto:20180524T140000
DTEND;TZID=America/Toronto:20180524T153000
DTSTAMP:20260423T170542
CREATED:20151021T181815Z
LAST-MODIFIED:20151021T181815Z
UID:10016683-1527170400-1527175800@huronshores.ca
SUMMARY:Alzheimer Info & Discussion Group
DESCRIPTION:The Alzheimer Society of Sault Ste. Marie & Algoma District hosts an Information & Discussion Group on the 2nd Wednesday of each month\, at the Calvary Gospel Church\, 55 Queen Street\, Blind River from 2:00 – 3:30 p.m.  For more information please call Tanya\, First Link Coordinator\, at 705-848-8145.
URL:https://huronshores.ca/event/alzheimer-info-discussion-group-2/2018-05-24/
LOCATION:ON
CATEGORIES:Community News
ATTACH;FMTTYPE=image/jpeg:https://huronshores.ca/wp-content/uploads/2013/01/Alzheimers-Disease.jpg
END:VEVENT
BEGIN:VEVENT
DTSTART;TZID=America/Toronto:20180525T140000
DTEND;TZID=America/Toronto:20180525T153000
DTSTAMP:20260423T170542
CREATED:20151021T181815Z
LAST-MODIFIED:20151021T181815Z
UID:10016684-1527256800-1527262200@huronshores.ca
SUMMARY:Alzheimer Info & Discussion Group
DESCRIPTION:The Alzheimer Society of Sault Ste. Marie & Algoma District hosts an Information & Discussion Group on the 2nd Wednesday of each month\, at the Calvary Gospel Church\, 55 Queen Street\, Blind River from 2:00 – 3:30 p.m.  For more information please call Tanya\, First Link Coordinator\, at 705-848-8145.
URL:https://huronshores.ca/event/alzheimer-info-discussion-group-2/2018-05-25/
LOCATION:ON
CATEGORIES:Community News
ATTACH;FMTTYPE=image/jpeg:https://huronshores.ca/wp-content/uploads/2013/01/Alzheimers-Disease.jpg
END:VEVENT
BEGIN:VEVENT
DTSTART;TZID=America/Toronto:20180525T170000
DTEND;TZID=America/Toronto:20180525T190000
DTSTAMP:20260423T170542
CREATED:20180110T195931Z
LAST-MODIFIED:20180110T195931Z
UID:10020537-1527267600-1527274800@huronshores.ca
SUMMARY:RC Legion Fish Fry
DESCRIPTION:The Thessalon RC Legion Branch 182 is hosting a Fish Fry from 5:00 – 7:00 p.m.  Take-out called in by 4:30 p.m. & picked up by 5:00 p.m. Call 705-842-2418.  Cash Bar.
URL:https://huronshores.ca/event/rc-legion-fish-fry/2018-05-25/
LOCATION:ON
CATEGORIES:Community News,Local Food
ATTACH;FMTTYPE=image/jpeg:https://huronshores.ca/wp-content/uploads/2015/12/Friday-Fish-Fry.jpg
END:VEVENT
BEGIN:VEVENT
DTSTART;VALUE=DATE:20180526
DTEND;VALUE=DATE:20180527
DTSTAMP:20260423T170542
CREATED:20180514T180541Z
LAST-MODIFIED:20180514T180541Z
UID:10020549-1527292800-1527379199@huronshores.ca
SUMMARY:Annual ATV Run
DESCRIPTION:
URL:https://huronshores.ca/event/annual-atv-run/
LOCATION:ON
CATEGORIES:Community News,Recreation
ATTACH;FMTTYPE=image/jpeg:https://huronshores.ca/wp-content/uploads/2013/06/ATV-Rider.jpg
END:VEVENT
BEGIN:VEVENT
DTSTART;TZID=America/Toronto:20180526T140000
DTEND;TZID=America/Toronto:20180526T153000
DTSTAMP:20260423T170542
CREATED:20151021T181815Z
LAST-MODIFIED:20151021T181815Z
UID:10016685-1527343200-1527348600@huronshores.ca
SUMMARY:Alzheimer Info & Discussion Group
DESCRIPTION:The Alzheimer Society of Sault Ste. Marie & Algoma District hosts an Information & Discussion Group on the 2nd Wednesday of each month\, at the Calvary Gospel Church\, 55 Queen Street\, Blind River from 2:00 – 3:30 p.m.  For more information please call Tanya\, First Link Coordinator\, at 705-848-8145.
URL:https://huronshores.ca/event/alzheimer-info-discussion-group-2/2018-05-26/
LOCATION:ON
CATEGORIES:Community News
ATTACH;FMTTYPE=image/jpeg:https://huronshores.ca/wp-content/uploads/2013/01/Alzheimers-Disease.jpg
END:VEVENT
BEGIN:VEVENT
DTSTART;TZID=America/Toronto:20180526T140000
DTEND;TZID=America/Toronto:20180526T230000
DTSTAMP:20260423T170542
CREATED:20171129T212312Z
LAST-MODIFIED:20171129T212312Z
UID:10020439-1527343200-1527375600@huronshores.ca
SUMMARY:Iron Bridge Music Fest
DESCRIPTION:The Iron Bridge Music Fest will be held from 2:00 – 11:00 p.m. on Saturday\, May 26/18 at the Iron Bridge Recreation Centre. Featuring inductees of the Great Northern Opry Back in Tyme; Women & Song; Don Discher & The Sundowners\, plus Brendan Hodgson introducing original music from his debut CD.  Also appearing The Classhicks; This is Us; and Nostalgia Live.  Advance Tickets available at select locations in Iron Bridge\, Thessalon and Blind River $20 until May 21.  Tickets at the door:  $25/person (Children under 12 Free).  Refreshments available.  Licensed under LLBO.  Please click on the link below to purchase tickets at “Eventbrite.ca”
URL:https://huronshores.ca/event/iron-bridge-music-fest-3/
LOCATION:ON
CATEGORIES:Community News
ATTACH;FMTTYPE=image/jpeg:https://huronshores.ca/wp-content/uploads/2017/06/Music-Fest.jpg
END:VEVENT
BEGIN:VEVENT
DTSTART;TZID=America/Toronto:20180527T140000
DTEND;TZID=America/Toronto:20180527T153000
DTSTAMP:20260423T170542
CREATED:20151021T181815Z
LAST-MODIFIED:20151021T181815Z
UID:10016686-1527429600-1527435000@huronshores.ca
SUMMARY:Alzheimer Info & Discussion Group
DESCRIPTION:The Alzheimer Society of Sault Ste. Marie & Algoma District hosts an Information & Discussion Group on the 2nd Wednesday of each month\, at the Calvary Gospel Church\, 55 Queen Street\, Blind River from 2:00 – 3:30 p.m.  For more information please call Tanya\, First Link Coordinator\, at 705-848-8145.
URL:https://huronshores.ca/event/alzheimer-info-discussion-group-2/2018-05-27/
LOCATION:ON
CATEGORIES:Community News
ATTACH;FMTTYPE=image/jpeg:https://huronshores.ca/wp-content/uploads/2013/01/Alzheimers-Disease.jpg
END:VEVENT
BEGIN:VEVENT
DTSTART;TZID=America/Toronto:20180528T140000
DTEND;TZID=America/Toronto:20180528T153000
DTSTAMP:20260423T170542
CREATED:20151021T181815Z
LAST-MODIFIED:20151021T181815Z
UID:10016687-1527516000-1527521400@huronshores.ca
SUMMARY:Alzheimer Info & Discussion Group
DESCRIPTION:The Alzheimer Society of Sault Ste. Marie & Algoma District hosts an Information & Discussion Group on the 2nd Wednesday of each month\, at the Calvary Gospel Church\, 55 Queen Street\, Blind River from 2:00 – 3:30 p.m.  For more information please call Tanya\, First Link Coordinator\, at 705-848-8145.
URL:https://huronshores.ca/event/alzheimer-info-discussion-group-2/2018-05-28/
LOCATION:ON
CATEGORIES:Community News
ATTACH;FMTTYPE=image/jpeg:https://huronshores.ca/wp-content/uploads/2013/01/Alzheimers-Disease.jpg
END:VEVENT
BEGIN:VEVENT
DTSTART;TZID=America/Toronto:20180529T140000
DTEND;TZID=America/Toronto:20180529T153000
DTSTAMP:20260423T170542
CREATED:20151021T181815Z
LAST-MODIFIED:20151021T181815Z
UID:10016688-1527602400-1527607800@huronshores.ca
SUMMARY:Alzheimer Info & Discussion Group
DESCRIPTION:The Alzheimer Society of Sault Ste. Marie & Algoma District hosts an Information & Discussion Group on the 2nd Wednesday of each month\, at the Calvary Gospel Church\, 55 Queen Street\, Blind River from 2:00 – 3:30 p.m.  For more information please call Tanya\, First Link Coordinator\, at 705-848-8145.
URL:https://huronshores.ca/event/alzheimer-info-discussion-group-2/2018-05-29/
LOCATION:ON
CATEGORIES:Community News
ATTACH;FMTTYPE=image/jpeg:https://huronshores.ca/wp-content/uploads/2013/01/Alzheimers-Disease.jpg
END:VEVENT
BEGIN:VEVENT
DTSTART;TZID=America/Toronto:20180530T140000
DTEND;TZID=America/Toronto:20180530T153000
DTSTAMP:20260423T170542
CREATED:20151021T181815Z
LAST-MODIFIED:20151021T181815Z
UID:10016689-1527688800-1527694200@huronshores.ca
SUMMARY:Alzheimer Info & Discussion Group
DESCRIPTION:The Alzheimer Society of Sault Ste. Marie & Algoma District hosts an Information & Discussion Group on the 2nd Wednesday of each month\, at the Calvary Gospel Church\, 55 Queen Street\, Blind River from 2:00 – 3:30 p.m.  For more information please call Tanya\, First Link Coordinator\, at 705-848-8145.
URL:https://huronshores.ca/event/alzheimer-info-discussion-group-2/2018-05-30/
LOCATION:ON
CATEGORIES:Community News
ATTACH;FMTTYPE=image/jpeg:https://huronshores.ca/wp-content/uploads/2013/01/Alzheimers-Disease.jpg
END:VEVENT
BEGIN:VEVENT
DTSTART;TZID=America/Toronto:20180531T140000
DTEND;TZID=America/Toronto:20180531T153000
DTSTAMP:20260423T170542
CREATED:20151021T181815Z
LAST-MODIFIED:20151021T181815Z
UID:10016690-1527775200-1527780600@huronshores.ca
SUMMARY:Alzheimer Info & Discussion Group
DESCRIPTION:The Alzheimer Society of Sault Ste. Marie & Algoma District hosts an Information & Discussion Group on the 2nd Wednesday of each month\, at the Calvary Gospel Church\, 55 Queen Street\, Blind River from 2:00 – 3:30 p.m.  For more information please call Tanya\, First Link Coordinator\, at 705-848-8145.
URL:https://huronshores.ca/event/alzheimer-info-discussion-group-2/2018-05-31/
LOCATION:ON
CATEGORIES:Community News
ATTACH;FMTTYPE=image/jpeg:https://huronshores.ca/wp-content/uploads/2013/01/Alzheimers-Disease.jpg
END:VEVENT
BEGIN:VEVENT
DTSTART;TZID=America/Toronto:20180601T140000
DTEND;TZID=America/Toronto:20180601T153000
DTSTAMP:20260423T170542
CREATED:20151021T181815Z
LAST-MODIFIED:20151021T181815Z
UID:10016691-1527861600-1527867000@huronshores.ca
SUMMARY:Alzheimer Info & Discussion Group
DESCRIPTION:The Alzheimer Society of Sault Ste. Marie & Algoma District hosts an Information & Discussion Group on the 2nd Wednesday of each month\, at the Calvary Gospel Church\, 55 Queen Street\, Blind River from 2:00 – 3:30 p.m.  For more information please call Tanya\, First Link Coordinator\, at 705-848-8145.
URL:https://huronshores.ca/event/alzheimer-info-discussion-group-2/2018-06-01/
LOCATION:ON
CATEGORIES:Community News
ATTACH;FMTTYPE=image/jpeg:https://huronshores.ca/wp-content/uploads/2013/01/Alzheimers-Disease.jpg
END:VEVENT
BEGIN:VEVENT
DTSTART;TZID=America/Toronto:20180602T090000
DTEND;TZID=America/Toronto:20180602T140000
DTSTAMP:20260423T170542
CREATED:20180530T154912Z
LAST-MODIFIED:20180530T154912Z
UID:10020562-1527930000-1527948000@huronshores.ca
SUMMARY:Sustain Algoma Expo
DESCRIPTION:Sustain Algoma Expo will be held at the Johnson Twp. Community Centre\, Desbarats\, from 9:00 a.m. – 2:00 p.m. on Saturday\, June 2/18  The event will feature unique initiatives and products including food\, agriculture\, wood products\, water management\, social enterprise and arts and culture.  Hosted by the Kensington Conservancy\, Clean North\, Central Algoma Freshwater Coalition\, Early Detection & Rapid Response Network\, Johnson Farmers’ Market\, Stuff Lubricants\, and the St. Mary’s River Remedial Action Plan.
URL:https://huronshores.ca/event/sustain-algoma-expo-3/
LOCATION:ON
CATEGORIES:Community News,Farmers' Markets,Local Food
ATTACH;FMTTYPE=image/jpeg:https://huronshores.ca/wp-content/uploads/2016/03/Johnson-Farmers-Market-Logo.jpg
END:VEVENT
END:VCALENDAR