BEGIN:VCALENDAR
VERSION:2.0
PRODID:-//Huron Shores - ECPv6.15.11//NONSGML v1.0//EN
CALSCALE:GREGORIAN
METHOD:PUBLISH
X-WR-CALNAME:Huron Shores
X-ORIGINAL-URL:https://huronshores.ca
X-WR-CALDESC:Events for Huron Shores
REFRESH-INTERVAL;VALUE=DURATION:PT1H
X-Robots-Tag:noindex
X-PUBLISHED-TTL:PT1H
BEGIN:VTIMEZONE
TZID:America/Toronto
BEGIN:DAYLIGHT
TZOFFSETFROM:-0500
TZOFFSETTO:-0400
TZNAME:EDT
DTSTART:20140309T070000
END:DAYLIGHT
BEGIN:STANDARD
TZOFFSETFROM:-0400
TZOFFSETTO:-0500
TZNAME:EST
DTSTART:20141102T060000
END:STANDARD
BEGIN:DAYLIGHT
TZOFFSETFROM:-0500
TZOFFSETTO:-0400
TZNAME:EDT
DTSTART:20150308T070000
END:DAYLIGHT
BEGIN:STANDARD
TZOFFSETFROM:-0400
TZOFFSETTO:-0500
TZNAME:EST
DTSTART:20151101T060000
END:STANDARD
BEGIN:DAYLIGHT
TZOFFSETFROM:-0500
TZOFFSETTO:-0400
TZNAME:EDT
DTSTART:20160313T070000
END:DAYLIGHT
BEGIN:STANDARD
TZOFFSETFROM:-0400
TZOFFSETTO:-0500
TZNAME:EST
DTSTART:20161106T060000
END:STANDARD
BEGIN:DAYLIGHT
TZOFFSETFROM:-0500
TZOFFSETTO:-0400
TZNAME:EDT
DTSTART:20170312T070000
END:DAYLIGHT
BEGIN:STANDARD
TZOFFSETFROM:-0400
TZOFFSETTO:-0500
TZNAME:EST
DTSTART:20171105T060000
END:STANDARD
END:VTIMEZONE
BEGIN:VEVENT
DTSTART;TZID=America/Toronto:20151220T090000
DTEND;TZID=America/Toronto:20151220T140000
DTSTAMP:20260426T003546
CREATED:20151210T193651Z
LAST-MODIFIED:20151210T193651Z
UID:10019406-1450602000-1450620000@huronshores.ca
SUMMARY:Pancake Breakfast & Bake Sale
DESCRIPTION:The CASS Wrestling Team is hosting a pancake breakfast and bake sale\, Sunday\, December 20/15\, 9:00 a.m. – 2:00 p.m. at the RC Legion Branch 182 Hall\, Thessalon.  Adults $10; Children 12 & under $5; aged 4 & under Free.  Come & get all your Christmas baking while enjoying a delicious pancake breakfast.  Tickets available from Sam or Eliza 705-971-9107; or 705-206-9235.  Cooking decorating for the children – $1.00.
URL:https://huronshores.ca/event/pancake-breakfast-bake-sale/
LOCATION:Ontario
CATEGORIES:Community News
ATTACH;FMTTYPE=image/png:https://huronshores.ca/wp-content/uploads/2014/03/Pancakes.png
END:VEVENT
BEGIN:VEVENT
DTSTART;TZID=America/Toronto:20151220T140000
DTEND;TZID=America/Toronto:20151220T153000
DTSTAMP:20260426T003546
CREATED:20151021T181815Z
LAST-MODIFIED:20151021T181815Z
UID:10015795-1450620000-1450625400@huronshores.ca
SUMMARY:Alzheimer Info & Discussion Group
DESCRIPTION:The Alzheimer Society of Sault Ste. Marie & Algoma District hosts an Information & Discussion Group on the 2nd Wednesday of each month\, at the Calvary Gospel Church\, 55 Queen Street\, Blind River from 2:00 – 3:30 p.m.  For more information please call Tanya\, First Link Coordinator\, at 705-848-8145.
URL:https://huronshores.ca/event/alzheimer-info-discussion-group-2/2015-12-20/
LOCATION:Ontario
CATEGORIES:Community News
ATTACH;FMTTYPE=image/jpeg:https://huronshores.ca/wp-content/uploads/2013/01/Alzheimers-Disease.jpg
END:VEVENT
BEGIN:VEVENT
DTSTART;TZID=America/Toronto:20151221T140000
DTEND;TZID=America/Toronto:20151221T153000
DTSTAMP:20260426T003546
CREATED:20151021T181815Z
LAST-MODIFIED:20151021T181815Z
UID:10015796-1450706400-1450711800@huronshores.ca
SUMMARY:Alzheimer Info & Discussion Group
DESCRIPTION:The Alzheimer Society of Sault Ste. Marie & Algoma District hosts an Information & Discussion Group on the 2nd Wednesday of each month\, at the Calvary Gospel Church\, 55 Queen Street\, Blind River from 2:00 – 3:30 p.m.  For more information please call Tanya\, First Link Coordinator\, at 705-848-8145.
URL:https://huronshores.ca/event/alzheimer-info-discussion-group-2/2015-12-21/
LOCATION:Ontario
CATEGORIES:Community News
ATTACH;FMTTYPE=image/jpeg:https://huronshores.ca/wp-content/uploads/2013/01/Alzheimers-Disease.jpg
END:VEVENT
BEGIN:VEVENT
DTSTART;TZID=America/Toronto:20151222T140000
DTEND;TZID=America/Toronto:20151222T153000
DTSTAMP:20260426T003547
CREATED:20151021T181815Z
LAST-MODIFIED:20151021T181815Z
UID:10015797-1450792800-1450798200@huronshores.ca
SUMMARY:Alzheimer Info & Discussion Group
DESCRIPTION:The Alzheimer Society of Sault Ste. Marie & Algoma District hosts an Information & Discussion Group on the 2nd Wednesday of each month\, at the Calvary Gospel Church\, 55 Queen Street\, Blind River from 2:00 – 3:30 p.m.  For more information please call Tanya\, First Link Coordinator\, at 705-848-8145.
URL:https://huronshores.ca/event/alzheimer-info-discussion-group-2/2015-12-22/
LOCATION:Ontario
CATEGORIES:Community News
ATTACH;FMTTYPE=image/jpeg:https://huronshores.ca/wp-content/uploads/2013/01/Alzheimers-Disease.jpg
END:VEVENT
BEGIN:VEVENT
DTSTART;TZID=America/Toronto:20151223T140000
DTEND;TZID=America/Toronto:20151223T153000
DTSTAMP:20260426T003547
CREATED:20151021T181815Z
LAST-MODIFIED:20151021T181815Z
UID:10015798-1450879200-1450884600@huronshores.ca
SUMMARY:Alzheimer Info & Discussion Group
DESCRIPTION:The Alzheimer Society of Sault Ste. Marie & Algoma District hosts an Information & Discussion Group on the 2nd Wednesday of each month\, at the Calvary Gospel Church\, 55 Queen Street\, Blind River from 2:00 – 3:30 p.m.  For more information please call Tanya\, First Link Coordinator\, at 705-848-8145.
URL:https://huronshores.ca/event/alzheimer-info-discussion-group-2/2015-12-23/
LOCATION:Ontario
CATEGORIES:Community News
ATTACH;FMTTYPE=image/jpeg:https://huronshores.ca/wp-content/uploads/2013/01/Alzheimers-Disease.jpg
END:VEVENT
BEGIN:VEVENT
DTSTART;TZID=America/Toronto:20151224T120000
DTEND;TZID=America/Toronto:20160104T083000
DTSTAMP:20260426T003547
CREATED:20150814T144041Z
LAST-MODIFIED:20150814T144041Z
UID:10019328-1450958400-1451896200@huronshores.ca
SUMMARY:Christmas Office Closure
DESCRIPTION:The Municipal Office will be CLOSED from Noon on Thursday\, December 24th\, 2015 to Friday\, January 1st\, 2016\, inclusive.  The Office will re-open on Monday\, January 4th\, 2016\, at 8:30 a.m.  The Waste Disposal Sites will be CLOSED on Saturday\, December 26th\, for the Boxing Day holiday.  Merry Christmas and a Happy\, Healthy and Safe New Year from Council\, Staff\, and the Fire Department of Huron Shores!
URL:https://huronshores.ca/event/christmas-office-closure/
LOCATION:Ontario
CATEGORIES:Community News
ATTACH;FMTTYPE=image/jpeg:https://huronshores.ca/wp-content/uploads/2011/07/Christmas-Wishes-Home-Page.jpg
END:VEVENT
BEGIN:VEVENT
DTSTART;TZID=America/Toronto:20151224T140000
DTEND;TZID=America/Toronto:20151224T153000
DTSTAMP:20260426T003547
CREATED:20151021T181815Z
LAST-MODIFIED:20151021T181815Z
UID:10015799-1450965600-1450971000@huronshores.ca
SUMMARY:Alzheimer Info & Discussion Group
DESCRIPTION:The Alzheimer Society of Sault Ste. Marie & Algoma District hosts an Information & Discussion Group on the 2nd Wednesday of each month\, at the Calvary Gospel Church\, 55 Queen Street\, Blind River from 2:00 – 3:30 p.m.  For more information please call Tanya\, First Link Coordinator\, at 705-848-8145.
URL:https://huronshores.ca/event/alzheimer-info-discussion-group-2/2015-12-24/
LOCATION:Ontario
CATEGORIES:Community News
ATTACH;FMTTYPE=image/jpeg:https://huronshores.ca/wp-content/uploads/2013/01/Alzheimers-Disease.jpg
END:VEVENT
BEGIN:VEVENT
DTSTART;VALUE=DATE:20151225
DTEND;VALUE=DATE:20151226
DTSTAMP:20260426T003547
CREATED:20150814T152806Z
LAST-MODIFIED:20150814T152806Z
UID:10019329-1451001600-1451087999@huronshores.ca
SUMMARY:Christmas Day
DESCRIPTION:Merry Christmas from Council & Staff of Huron Shores!
URL:https://huronshores.ca/event/christmas-day/
LOCATION:Ontario
CATEGORIES:Community News
ATTACH;FMTTYPE=image/jpeg:https://huronshores.ca/wp-content/uploads/2013/12/snowman1.jpg
END:VEVENT
BEGIN:VEVENT
DTSTART;TZID=America/Toronto:20151225T140000
DTEND;TZID=America/Toronto:20151225T153000
DTSTAMP:20260426T003547
CREATED:20151021T181815Z
LAST-MODIFIED:20151021T181815Z
UID:10015800-1451052000-1451057400@huronshores.ca
SUMMARY:Alzheimer Info & Discussion Group
DESCRIPTION:The Alzheimer Society of Sault Ste. Marie & Algoma District hosts an Information & Discussion Group on the 2nd Wednesday of each month\, at the Calvary Gospel Church\, 55 Queen Street\, Blind River from 2:00 – 3:30 p.m.  For more information please call Tanya\, First Link Coordinator\, at 705-848-8145.
URL:https://huronshores.ca/event/alzheimer-info-discussion-group-2/2015-12-25/
LOCATION:Ontario
CATEGORIES:Community News
ATTACH;FMTTYPE=image/jpeg:https://huronshores.ca/wp-content/uploads/2013/01/Alzheimers-Disease.jpg
END:VEVENT
BEGIN:VEVENT
DTSTART;VALUE=DATE:20151226
DTEND;VALUE=DATE:20151227
DTSTAMP:20260426T003547
CREATED:20150814T153148Z
LAST-MODIFIED:20150814T153148Z
UID:10019332-1451088000-1451174399@huronshores.ca
SUMMARY:Boxing Day
DESCRIPTION:The Waste Sites are CLOSED for the Boxing Day holiday.  They will re-open on Monday\, December 28th at 2:00 p.m.  Happy holidays!
URL:https://huronshores.ca/event/boxing-day/
LOCATION:Ontario
CATEGORIES:Community News,Waste Disposal
ATTACH;FMTTYPE=image/jpeg:https://huronshores.ca/wp-content/uploads/2012/12/christmas-tree.jpg
END:VEVENT
BEGIN:VEVENT
DTSTART;TZID=America/Toronto:20151226T140000
DTEND;TZID=America/Toronto:20151226T153000
DTSTAMP:20260426T003547
CREATED:20151021T181815Z
LAST-MODIFIED:20151021T181815Z
UID:10015801-1451138400-1451143800@huronshores.ca
SUMMARY:Alzheimer Info & Discussion Group
DESCRIPTION:The Alzheimer Society of Sault Ste. Marie & Algoma District hosts an Information & Discussion Group on the 2nd Wednesday of each month\, at the Calvary Gospel Church\, 55 Queen Street\, Blind River from 2:00 – 3:30 p.m.  For more information please call Tanya\, First Link Coordinator\, at 705-848-8145.
URL:https://huronshores.ca/event/alzheimer-info-discussion-group-2/2015-12-26/
LOCATION:Ontario
CATEGORIES:Community News
ATTACH;FMTTYPE=image/jpeg:https://huronshores.ca/wp-content/uploads/2013/01/Alzheimers-Disease.jpg
END:VEVENT
BEGIN:VEVENT
DTSTART;TZID=America/Toronto:20151227T140000
DTEND;TZID=America/Toronto:20151227T153000
DTSTAMP:20260426T003547
CREATED:20151021T181815Z
LAST-MODIFIED:20151021T181815Z
UID:10015802-1451224800-1451230200@huronshores.ca
SUMMARY:Alzheimer Info & Discussion Group
DESCRIPTION:The Alzheimer Society of Sault Ste. Marie & Algoma District hosts an Information & Discussion Group on the 2nd Wednesday of each month\, at the Calvary Gospel Church\, 55 Queen Street\, Blind River from 2:00 – 3:30 p.m.  For more information please call Tanya\, First Link Coordinator\, at 705-848-8145.
URL:https://huronshores.ca/event/alzheimer-info-discussion-group-2/2015-12-27/
LOCATION:Ontario
CATEGORIES:Community News
ATTACH;FMTTYPE=image/jpeg:https://huronshores.ca/wp-content/uploads/2013/01/Alzheimers-Disease.jpg
END:VEVENT
BEGIN:VEVENT
DTSTART;TZID=America/Toronto:20151228T140000
DTEND;TZID=America/Toronto:20151228T153000
DTSTAMP:20260426T003547
CREATED:20151021T181815Z
LAST-MODIFIED:20151021T181815Z
UID:10015803-1451311200-1451316600@huronshores.ca
SUMMARY:Alzheimer Info & Discussion Group
DESCRIPTION:The Alzheimer Society of Sault Ste. Marie & Algoma District hosts an Information & Discussion Group on the 2nd Wednesday of each month\, at the Calvary Gospel Church\, 55 Queen Street\, Blind River from 2:00 – 3:30 p.m.  For more information please call Tanya\, First Link Coordinator\, at 705-848-8145.
URL:https://huronshores.ca/event/alzheimer-info-discussion-group-2/2015-12-28/
LOCATION:Ontario
CATEGORIES:Community News
ATTACH;FMTTYPE=image/jpeg:https://huronshores.ca/wp-content/uploads/2013/01/Alzheimers-Disease.jpg
END:VEVENT
BEGIN:VEVENT
DTSTART;TZID=America/Toronto:20151229T140000
DTEND;TZID=America/Toronto:20151229T153000
DTSTAMP:20260426T003547
CREATED:20151021T181815Z
LAST-MODIFIED:20151021T181815Z
UID:10015804-1451397600-1451403000@huronshores.ca
SUMMARY:Alzheimer Info & Discussion Group
DESCRIPTION:The Alzheimer Society of Sault Ste. Marie & Algoma District hosts an Information & Discussion Group on the 2nd Wednesday of each month\, at the Calvary Gospel Church\, 55 Queen Street\, Blind River from 2:00 – 3:30 p.m.  For more information please call Tanya\, First Link Coordinator\, at 705-848-8145.
URL:https://huronshores.ca/event/alzheimer-info-discussion-group-2/2015-12-29/
LOCATION:Ontario
CATEGORIES:Community News
ATTACH;FMTTYPE=image/jpeg:https://huronshores.ca/wp-content/uploads/2013/01/Alzheimers-Disease.jpg
END:VEVENT
BEGIN:VEVENT
DTSTART;TZID=America/Toronto:20151230T140000
DTEND;TZID=America/Toronto:20151230T153000
DTSTAMP:20260426T003547
CREATED:20151021T181815Z
LAST-MODIFIED:20151021T181815Z
UID:10015805-1451484000-1451489400@huronshores.ca
SUMMARY:Alzheimer Info & Discussion Group
DESCRIPTION:The Alzheimer Society of Sault Ste. Marie & Algoma District hosts an Information & Discussion Group on the 2nd Wednesday of each month\, at the Calvary Gospel Church\, 55 Queen Street\, Blind River from 2:00 – 3:30 p.m.  For more information please call Tanya\, First Link Coordinator\, at 705-848-8145.
URL:https://huronshores.ca/event/alzheimer-info-discussion-group-2/2015-12-30/
LOCATION:Ontario
CATEGORIES:Community News
ATTACH;FMTTYPE=image/jpeg:https://huronshores.ca/wp-content/uploads/2013/01/Alzheimers-Disease.jpg
END:VEVENT
BEGIN:VEVENT
DTSTART;TZID=America/Toronto:20151231T140000
DTEND;TZID=America/Toronto:20151231T153000
DTSTAMP:20260426T003547
CREATED:20151021T181815Z
LAST-MODIFIED:20151021T181815Z
UID:10015806-1451570400-1451575800@huronshores.ca
SUMMARY:Alzheimer Info & Discussion Group
DESCRIPTION:The Alzheimer Society of Sault Ste. Marie & Algoma District hosts an Information & Discussion Group on the 2nd Wednesday of each month\, at the Calvary Gospel Church\, 55 Queen Street\, Blind River from 2:00 – 3:30 p.m.  For more information please call Tanya\, First Link Coordinator\, at 705-848-8145.
URL:https://huronshores.ca/event/alzheimer-info-discussion-group-2/2015-12-31/
LOCATION:Ontario
CATEGORIES:Community News
ATTACH;FMTTYPE=image/jpeg:https://huronshores.ca/wp-content/uploads/2013/01/Alzheimers-Disease.jpg
END:VEVENT
BEGIN:VEVENT
DTSTART;TZID=America/Toronto:20151231T210000
DTEND;TZID=America/Toronto:20160101T020000
DTSTAMP:20260426T003547
CREATED:20151222T152126Z
LAST-MODIFIED:20151222T152126Z
UID:10019413-1451595600-1451613600@huronshores.ca
SUMMARY:New Year's Eve Party
DESCRIPTION:The Iron Bridge Lions Club is hosting a New Year’s Eve Party at the Hall\, 10 Chiblow Lake Road\, Thursday\, December 31/15 from 9:00 p.m. to 2:00 a.m.  Come ring in 2016 with a dance and a meal (served at Midnight).  Music provided by DJ EFR Studios.  Party favours included.  Tickets are $20/person or $35/couple.  Call Janet at 705-843-2208 to reserve your tickets or purchase them at the door.
URL:https://huronshores.ca/event/new-years-eve-party/
LOCATION:Ontario
CATEGORIES:Community News
ATTACH;FMTTYPE=image/jpeg:https://huronshores.ca/wp-content/uploads/2015/12/New-Years-Eve-Party.jpg
END:VEVENT
BEGIN:VEVENT
DTSTART;VALUE=DATE:20160101
DTEND;VALUE=DATE:20160102
DTSTAMP:20260426T003547
CREATED:20150903T181922Z
LAST-MODIFIED:20150903T181922Z
UID:10015718-1451606400-1451692799@huronshores.ca
SUMMARY:New Year's Day
DESCRIPTION:Happy New Year from Council & Staff!
URL:https://huronshores.ca/event/new-years-day/2016-01-01/
LOCATION:Ontario
CATEGORIES:Community News
ATTACH;FMTTYPE=image/jpeg:https://huronshores.ca/wp-content/uploads/2015/09/Happy-New-Year-Snowman.jpg
END:VEVENT
BEGIN:VEVENT
DTSTART;TZID=America/Toronto:20160101T140000
DTEND;TZID=America/Toronto:20160101T153000
DTSTAMP:20260426T003547
CREATED:20151021T181815Z
LAST-MODIFIED:20151021T181815Z
UID:10015807-1451656800-1451662200@huronshores.ca
SUMMARY:Alzheimer Info & Discussion Group
DESCRIPTION:The Alzheimer Society of Sault Ste. Marie & Algoma District hosts an Information & Discussion Group on the 2nd Wednesday of each month\, at the Calvary Gospel Church\, 55 Queen Street\, Blind River from 2:00 – 3:30 p.m.  For more information please call Tanya\, First Link Coordinator\, at 705-848-8145.
URL:https://huronshores.ca/event/alzheimer-info-discussion-group-2/2016-01-01/
LOCATION:Ontario
CATEGORIES:Community News
ATTACH;FMTTYPE=image/jpeg:https://huronshores.ca/wp-content/uploads/2013/01/Alzheimers-Disease.jpg
END:VEVENT
BEGIN:VEVENT
DTSTART;TZID=America/Toronto:20160101T153000
DTEND;TZID=America/Toronto:20160101T153000
DTSTAMP:20260426T003547
CREATED:20151210T192448Z
LAST-MODIFIED:20151210T192448Z
UID:10019403-1451662200-1451662200@huronshores.ca
SUMMARY:Turkey Dinner
DESCRIPTION:You are invited to join us for fun\, friendship and a turkey dinner on January 1/16\, \, Games 3:30 p.m.; Dinner 5:00 p.m. at the IOOF Hall\, across from the Thessalon Post Office.  Contact Clarence Catling\, for more info 705-842-1226.  Donations will be given to charity for furtherance of the Gospel of Christ.
URL:https://huronshores.ca/event/turkey-dinner/
LOCATION:Ontario
CATEGORIES:Community News
ATTACH;FMTTYPE=image/jpeg:https://huronshores.ca/wp-content/uploads/2015/09/Turkey-Supper.jpg
END:VEVENT
BEGIN:VEVENT
DTSTART;TZID=America/Toronto:20160102T140000
DTEND;TZID=America/Toronto:20160102T153000
DTSTAMP:20260426T003547
CREATED:20151021T181815Z
LAST-MODIFIED:20151021T181815Z
UID:10015808-1451743200-1451748600@huronshores.ca
SUMMARY:Alzheimer Info & Discussion Group
DESCRIPTION:The Alzheimer Society of Sault Ste. Marie & Algoma District hosts an Information & Discussion Group on the 2nd Wednesday of each month\, at the Calvary Gospel Church\, 55 Queen Street\, Blind River from 2:00 – 3:30 p.m.  For more information please call Tanya\, First Link Coordinator\, at 705-848-8145.
URL:https://huronshores.ca/event/alzheimer-info-discussion-group-2/2016-01-02/
LOCATION:Ontario
CATEGORIES:Community News
ATTACH;FMTTYPE=image/jpeg:https://huronshores.ca/wp-content/uploads/2013/01/Alzheimers-Disease.jpg
END:VEVENT
BEGIN:VEVENT
DTSTART;TZID=America/Toronto:20160103T140000
DTEND;TZID=America/Toronto:20160103T153000
DTSTAMP:20260426T003547
CREATED:20151021T181815Z
LAST-MODIFIED:20151021T181815Z
UID:10015809-1451829600-1451835000@huronshores.ca
SUMMARY:Alzheimer Info & Discussion Group
DESCRIPTION:The Alzheimer Society of Sault Ste. Marie & Algoma District hosts an Information & Discussion Group on the 2nd Wednesday of each month\, at the Calvary Gospel Church\, 55 Queen Street\, Blind River from 2:00 – 3:30 p.m.  For more information please call Tanya\, First Link Coordinator\, at 705-848-8145.
URL:https://huronshores.ca/event/alzheimer-info-discussion-group-2/2016-01-03/
LOCATION:Ontario
CATEGORIES:Community News
ATTACH;FMTTYPE=image/jpeg:https://huronshores.ca/wp-content/uploads/2013/01/Alzheimers-Disease.jpg
END:VEVENT
BEGIN:VEVENT
DTSTART;TZID=America/Toronto:20160104T140000
DTEND;TZID=America/Toronto:20160104T153000
DTSTAMP:20260426T003547
CREATED:20151021T181815Z
LAST-MODIFIED:20151021T181815Z
UID:10015810-1451916000-1451921400@huronshores.ca
SUMMARY:Alzheimer Info & Discussion Group
DESCRIPTION:The Alzheimer Society of Sault Ste. Marie & Algoma District hosts an Information & Discussion Group on the 2nd Wednesday of each month\, at the Calvary Gospel Church\, 55 Queen Street\, Blind River from 2:00 – 3:30 p.m.  For more information please call Tanya\, First Link Coordinator\, at 705-848-8145.
URL:https://huronshores.ca/event/alzheimer-info-discussion-group-2/2016-01-04/
LOCATION:Ontario
CATEGORIES:Community News
ATTACH;FMTTYPE=image/jpeg:https://huronshores.ca/wp-content/uploads/2013/01/Alzheimers-Disease.jpg
END:VEVENT
BEGIN:VEVENT
DTSTART;TZID=America/Toronto:20160105T140000
DTEND;TZID=America/Toronto:20160105T153000
DTSTAMP:20260426T003547
CREATED:20151021T181815Z
LAST-MODIFIED:20151021T181815Z
UID:10015811-1452002400-1452007800@huronshores.ca
SUMMARY:Alzheimer Info & Discussion Group
DESCRIPTION:The Alzheimer Society of Sault Ste. Marie & Algoma District hosts an Information & Discussion Group on the 2nd Wednesday of each month\, at the Calvary Gospel Church\, 55 Queen Street\, Blind River from 2:00 – 3:30 p.m.  For more information please call Tanya\, First Link Coordinator\, at 705-848-8145.
URL:https://huronshores.ca/event/alzheimer-info-discussion-group-2/2016-01-05/
LOCATION:Ontario
CATEGORIES:Community News
ATTACH;FMTTYPE=image/jpeg:https://huronshores.ca/wp-content/uploads/2013/01/Alzheimers-Disease.jpg
END:VEVENT
BEGIN:VEVENT
DTSTART;TZID=America/Toronto:20160106T140000
DTEND;TZID=America/Toronto:20160106T153000
DTSTAMP:20260426T003547
CREATED:20151021T181815Z
LAST-MODIFIED:20151021T181815Z
UID:10015812-1452088800-1452094200@huronshores.ca
SUMMARY:Alzheimer Info & Discussion Group
DESCRIPTION:The Alzheimer Society of Sault Ste. Marie & Algoma District hosts an Information & Discussion Group on the 2nd Wednesday of each month\, at the Calvary Gospel Church\, 55 Queen Street\, Blind River from 2:00 – 3:30 p.m.  For more information please call Tanya\, First Link Coordinator\, at 705-848-8145.
URL:https://huronshores.ca/event/alzheimer-info-discussion-group-2/2016-01-06/
LOCATION:Ontario
CATEGORIES:Community News
ATTACH;FMTTYPE=image/jpeg:https://huronshores.ca/wp-content/uploads/2013/01/Alzheimers-Disease.jpg
END:VEVENT
BEGIN:VEVENT
DTSTART;TZID=America/Toronto:20160107T140000
DTEND;TZID=America/Toronto:20160107T153000
DTSTAMP:20260426T003547
CREATED:20151021T181815Z
LAST-MODIFIED:20151021T181815Z
UID:10015813-1452175200-1452180600@huronshores.ca
SUMMARY:Alzheimer Info & Discussion Group
DESCRIPTION:The Alzheimer Society of Sault Ste. Marie & Algoma District hosts an Information & Discussion Group on the 2nd Wednesday of each month\, at the Calvary Gospel Church\, 55 Queen Street\, Blind River from 2:00 – 3:30 p.m.  For more information please call Tanya\, First Link Coordinator\, at 705-848-8145.
URL:https://huronshores.ca/event/alzheimer-info-discussion-group-2/2016-01-07/
LOCATION:Ontario
CATEGORIES:Community News
ATTACH;FMTTYPE=image/jpeg:https://huronshores.ca/wp-content/uploads/2013/01/Alzheimers-Disease.jpg
END:VEVENT
BEGIN:VEVENT
DTSTART;TZID=America/Toronto:20160107T193000
DTEND;TZID=America/Toronto:20160107T220000
DTSTAMP:20260426T003547
CREATED:20160107T191117Z
LAST-MODIFIED:20160107T191117Z
UID:10019419-1452195000-1452204000@huronshores.ca
SUMMARY:Square Dancing
DESCRIPTION:Thursday Night Square Dancing at Sowerby Hall\, 1410 Basswood Lake Road at 7:30 p.m.  Cost:  $30/couple for 6 weeks or $3/person/night.  For info call Will 705-843-5567\, David 705-842-6135\, or Dennis 705-842-5534.
URL:https://huronshores.ca/event/square-dancing/2016-01-07/
LOCATION:Ontario
CATEGORIES:Community News
ATTACH;FMTTYPE=image/jpeg:https://huronshores.ca/wp-content/uploads/2016/01/square-dancing.jpg
END:VEVENT
BEGIN:VEVENT
DTSTART;VALUE=DATE:20160108
DTEND;VALUE=DATE:20160111
DTSTAMP:20260426T003547
CREATED:20160106T195200Z
LAST-MODIFIED:20160106T195200Z
UID:10019418-1452211200-1452470399@huronshores.ca
SUMMARY:Bantam Curling Regionals
DESCRIPTION:The Thessalon Curling Centre is hosting the Bantam Regionals from Friday\, January 8th – Sunday\, the 10th\, 2016.  Come cheer the two local teams:  Team Soulliere & Team Bos.  Don’t forget to buy a lucky rock and be a winner!
URL:https://huronshores.ca/event/bantam-curling-regionals/
LOCATION:Ontario
CATEGORIES:Community News,Recreation
ATTACH;FMTTYPE=image/jpeg:https://huronshores.ca/wp-content/uploads/2015/10/curling.jpg
END:VEVENT
BEGIN:VEVENT
DTSTART;TZID=America/Toronto:20160108T140000
DTEND;TZID=America/Toronto:20160108T153000
DTSTAMP:20260426T003547
CREATED:20151021T181815Z
LAST-MODIFIED:20151021T181815Z
UID:10015814-1452261600-1452267000@huronshores.ca
SUMMARY:Alzheimer Info & Discussion Group
DESCRIPTION:The Alzheimer Society of Sault Ste. Marie & Algoma District hosts an Information & Discussion Group on the 2nd Wednesday of each month\, at the Calvary Gospel Church\, 55 Queen Street\, Blind River from 2:00 – 3:30 p.m.  For more information please call Tanya\, First Link Coordinator\, at 705-848-8145.
URL:https://huronshores.ca/event/alzheimer-info-discussion-group-2/2016-01-08/
LOCATION:Ontario
CATEGORIES:Community News
ATTACH;FMTTYPE=image/jpeg:https://huronshores.ca/wp-content/uploads/2013/01/Alzheimers-Disease.jpg
END:VEVENT
BEGIN:VEVENT
DTSTART;TZID=America/Toronto:20160108T180000
DTEND;TZID=America/Toronto:20160108T230000
DTSTAMP:20260426T003547
CREATED:20160106T193208Z
LAST-MODIFIED:20160106T193208Z
UID:10019414-1452276000-1452294000@huronshores.ca
SUMMARY:Wing Nite
DESCRIPTION:The Thessalon Curling Centre hosts Wing Nite on the first Friday of the month.  Doors open at 6:00 p.m. All you can eat; everyone welcome.  Draw to the Button contest.  See you there!
URL:https://huronshores.ca/event/wing-nite/2016-01-08/
LOCATION:Ontario
CATEGORIES:Community News,Recreation
ATTACH;FMTTYPE=image/jpeg:https://huronshores.ca/wp-content/uploads/2014/02/Wing-Night.jpg
END:VEVENT
END:VCALENDAR