BEGIN:VCALENDAR
VERSION:2.0
PRODID:-//Huron Shores - ECPv6.15.11//NONSGML v1.0//EN
CALSCALE:GREGORIAN
METHOD:PUBLISH
X-ORIGINAL-URL:https://huronshores.ca
X-WR-CALDESC:Events for Huron Shores
REFRESH-INTERVAL;VALUE=DURATION:PT1H
X-Robots-Tag:noindex
X-PUBLISHED-TTL:PT1H
BEGIN:VTIMEZONE
TZID:America/Toronto
BEGIN:DAYLIGHT
TZOFFSETFROM:-0500
TZOFFSETTO:-0400
TZNAME:EDT
DTSTART:20180311T070000
END:DAYLIGHT
BEGIN:STANDARD
TZOFFSETFROM:-0400
TZOFFSETTO:-0500
TZNAME:EST
DTSTART:20181104T060000
END:STANDARD
BEGIN:DAYLIGHT
TZOFFSETFROM:-0500
TZOFFSETTO:-0400
TZNAME:EDT
DTSTART:20190310T070000
END:DAYLIGHT
BEGIN:STANDARD
TZOFFSETFROM:-0400
TZOFFSETTO:-0500
TZNAME:EST
DTSTART:20191103T060000
END:STANDARD
BEGIN:DAYLIGHT
TZOFFSETFROM:-0500
TZOFFSETTO:-0400
TZNAME:EDT
DTSTART:20200308T070000
END:DAYLIGHT
BEGIN:STANDARD
TZOFFSETFROM:-0400
TZOFFSETTO:-0500
TZNAME:EST
DTSTART:20201101T060000
END:STANDARD
END:VTIMEZONE
BEGIN:VEVENT
DTSTART;TZID=America/Toronto:20190121T130000
DTEND;TZID=America/Toronto:20190121T140000
DTSTAMP:20260422T220640
CREATED:20190109T151542Z
LAST-MODIFIED:20190109T151542Z
UID:10021400-1548075600-1548079200@huronshores.ca
SUMMARY:MPP Michael Mantha - Constituency Clinic
DESCRIPTION:Algoma-Manitoulin MPP Michael Mantha will hold a Constituency Clinic\, Monday\, January 21/19 in the Council Chambers\, 7 Bridge St. \, Iron Bridge\, from 1:00 – 2:00 p.m.  Please contact his office below for further details.
URL:https://huronshores.ca/event/mpp-michael-mantha-constituency-clinic/
LOCATION:Ontario
CATEGORIES:Community News
ATTACH;FMTTYPE=image/jpeg:https://huronshores.ca/wp-content/uploads/2015/12/Michael_Mantha.jpg
END:VEVENT
BEGIN:VEVENT
DTSTART;TZID=America/Toronto:20190121T140000
DTEND;TZID=America/Toronto:20190121T153000
DTSTAMP:20260422T220640
CREATED:20151021T181815Z
LAST-MODIFIED:20151021T181815Z
UID:10016925-1548079200-1548084600@huronshores.ca
SUMMARY:Alzheimer Info & Discussion Group
DESCRIPTION:The Alzheimer Society of Sault Ste. Marie & Algoma District hosts an Information & Discussion Group on the 2nd Wednesday of each month\, at the Calvary Gospel Church\, 55 Queen Street\, Blind River from 2:00 – 3:30 p.m.  For more information please call Tanya\, First Link Coordinator\, at 705-848-8145.
URL:https://huronshores.ca/event/alzheimer-info-discussion-group-2/2019-01-21/
LOCATION:Ontario
CATEGORIES:Community News
ATTACH;FMTTYPE=image/jpeg:https://huronshores.ca/wp-content/uploads/2013/01/Alzheimers-Disease.jpg
END:VEVENT
BEGIN:VEVENT
DTSTART;TZID=America/Toronto:20190122T130000
DTEND;TZID=America/Toronto:20190122T130000
DTSTAMP:20260422T220640
CREATED:20181220T141326Z
LAST-MODIFIED:20181220T141326Z
UID:10021388-1548162000-1548162000@huronshores.ca
SUMMARY:Library Crafting/Social Club
DESCRIPTION:The Huron Shores Public Library hosts a Crafting/Social Club on Tuesdays\, at 1:00 p.m. in the downstairs meeting room.  There’s no fee to participate.  Refreshments provided.  Everyone welcome!  The Library is open on Tuesdays and Fridays from 1:00 – 7:00 p.m.  Please click on the link below to learn more about our Library services.
URL:https://huronshores.ca/event/library-crafting-social-club/2019-01-22/
LOCATION:Ontario
CATEGORIES:Community News,Recreation
ATTACH;FMTTYPE=image/png:https://huronshores.ca/wp-content/uploads/2012/03/Huron-Shores-Public-Library-Logo-Re-sized.png
END:VEVENT
BEGIN:VEVENT
DTSTART;TZID=America/Toronto:20190122T140000
DTEND;TZID=America/Toronto:20190122T153000
DTSTAMP:20260422T220640
CREATED:20151021T181815Z
LAST-MODIFIED:20151021T181815Z
UID:10016926-1548165600-1548171000@huronshores.ca
SUMMARY:Alzheimer Info & Discussion Group
DESCRIPTION:The Alzheimer Society of Sault Ste. Marie & Algoma District hosts an Information & Discussion Group on the 2nd Wednesday of each month\, at the Calvary Gospel Church\, 55 Queen Street\, Blind River from 2:00 – 3:30 p.m.  For more information please call Tanya\, First Link Coordinator\, at 705-848-8145.
URL:https://huronshores.ca/event/alzheimer-info-discussion-group-2/2019-01-22/
LOCATION:Ontario
CATEGORIES:Community News
ATTACH;FMTTYPE=image/jpeg:https://huronshores.ca/wp-content/uploads/2013/01/Alzheimers-Disease.jpg
END:VEVENT
BEGIN:VEVENT
DTSTART;TZID=America/Toronto:20190123T140000
DTEND;TZID=America/Toronto:20190123T153000
DTSTAMP:20260422T220640
CREATED:20151021T181815Z
LAST-MODIFIED:20151021T181815Z
UID:10016927-1548252000-1548257400@huronshores.ca
SUMMARY:Alzheimer Info & Discussion Group
DESCRIPTION:The Alzheimer Society of Sault Ste. Marie & Algoma District hosts an Information & Discussion Group on the 2nd Wednesday of each month\, at the Calvary Gospel Church\, 55 Queen Street\, Blind River from 2:00 – 3:30 p.m.  For more information please call Tanya\, First Link Coordinator\, at 705-848-8145.
URL:https://huronshores.ca/event/alzheimer-info-discussion-group-2/2019-01-23/
LOCATION:Ontario
CATEGORIES:Community News
ATTACH;FMTTYPE=image/jpeg:https://huronshores.ca/wp-content/uploads/2013/01/Alzheimers-Disease.jpg
END:VEVENT
BEGIN:VEVENT
DTSTART;TZID=America/Toronto:20190124T140000
DTEND;TZID=America/Toronto:20190124T153000
DTSTAMP:20260422T220640
CREATED:20151021T181815Z
LAST-MODIFIED:20151021T181815Z
UID:10016928-1548338400-1548343800@huronshores.ca
SUMMARY:Alzheimer Info & Discussion Group
DESCRIPTION:The Alzheimer Society of Sault Ste. Marie & Algoma District hosts an Information & Discussion Group on the 2nd Wednesday of each month\, at the Calvary Gospel Church\, 55 Queen Street\, Blind River from 2:00 – 3:30 p.m.  For more information please call Tanya\, First Link Coordinator\, at 705-848-8145.
URL:https://huronshores.ca/event/alzheimer-info-discussion-group-2/2019-01-24/
LOCATION:Ontario
CATEGORIES:Community News
ATTACH;FMTTYPE=image/jpeg:https://huronshores.ca/wp-content/uploads/2013/01/Alzheimers-Disease.jpg
END:VEVENT
BEGIN:VEVENT
DTSTART;TZID=America/Toronto:20190125T140000
DTEND;TZID=America/Toronto:20190125T153000
DTSTAMP:20260422T220640
CREATED:20151021T181815Z
LAST-MODIFIED:20151021T181815Z
UID:10016929-1548424800-1548430200@huronshores.ca
SUMMARY:Alzheimer Info & Discussion Group
DESCRIPTION:The Alzheimer Society of Sault Ste. Marie & Algoma District hosts an Information & Discussion Group on the 2nd Wednesday of each month\, at the Calvary Gospel Church\, 55 Queen Street\, Blind River from 2:00 – 3:30 p.m.  For more information please call Tanya\, First Link Coordinator\, at 705-848-8145.
URL:https://huronshores.ca/event/alzheimer-info-discussion-group-2/2019-01-25/
LOCATION:Ontario
CATEGORIES:Community News
ATTACH;FMTTYPE=image/jpeg:https://huronshores.ca/wp-content/uploads/2013/01/Alzheimers-Disease.jpg
END:VEVENT
BEGIN:VEVENT
DTSTART;TZID=America/Toronto:20190125T170000
DTEND;TZID=America/Toronto:20190125T190000
DTSTAMP:20260422T220640
CREATED:20181009T185730Z
LAST-MODIFIED:20181009T185730Z
UID:10021338-1548435600-1548442800@huronshores.ca
SUMMARY:Fish Fry
DESCRIPTION:Thessalon RC Legion Branch 182 hosts a Fish Fry\, Friday\, January 25/19 from 5:00-7:00 p.m.  Take-outs should be called in by 4:30 p.m. & picked up by 5:00 p.m. Call 705-842-2418.
URL:https://huronshores.ca/event/fish-fry-7/
LOCATION:Ontario
CATEGORIES:Community News,Local Food
ATTACH;FMTTYPE=image/jpeg:https://huronshores.ca/wp-content/uploads/2015/12/Friday-Fish-Fry.jpg
END:VEVENT
BEGIN:VEVENT
DTSTART;TZID=America/Toronto:20190126T140000
DTEND;TZID=America/Toronto:20190126T153000
DTSTAMP:20260422T220640
CREATED:20151021T181815Z
LAST-MODIFIED:20151021T181815Z
UID:10016930-1548511200-1548516600@huronshores.ca
SUMMARY:Alzheimer Info & Discussion Group
DESCRIPTION:The Alzheimer Society of Sault Ste. Marie & Algoma District hosts an Information & Discussion Group on the 2nd Wednesday of each month\, at the Calvary Gospel Church\, 55 Queen Street\, Blind River from 2:00 – 3:30 p.m.  For more information please call Tanya\, First Link Coordinator\, at 705-848-8145.
URL:https://huronshores.ca/event/alzheimer-info-discussion-group-2/2019-01-26/
LOCATION:Ontario
CATEGORIES:Community News
ATTACH;FMTTYPE=image/jpeg:https://huronshores.ca/wp-content/uploads/2013/01/Alzheimers-Disease.jpg
END:VEVENT
BEGIN:VEVENT
DTSTART;TZID=America/Toronto:20190126T163000
DTEND;TZID=America/Toronto:20190126T183000
DTSTAMP:20260422T220640
CREATED:20181119T163218Z
LAST-MODIFIED:20181119T163218Z
UID:10021359-1548520200-1548527400@huronshores.ca
SUMMARY:Lions Fish Fry
DESCRIPTION:The Iron Bridge Lions Club hosts a Fish Fry  on the following dates:  January 26\, February 9\, March 9 & March 23/19.  $18/person at the Iron Bridge Lions Club Hall\, 10 Clarissa St.; 4:30-6:30 p.m.  For more info\, contact the Club at 705-843-2667 or ironbridgelions@yahoo.ca.
URL:https://huronshores.ca/event/lions-fish-fry/
LOCATION:Ontario
CATEGORIES:Community News,Local Food
ATTACH;FMTTYPE=image/jpeg:https://huronshores.ca/wp-content/uploads/2015/12/Fish-Fry.jpg
END:VEVENT
BEGIN:VEVENT
DTSTART;TZID=America/Toronto:20190127T140000
DTEND;TZID=America/Toronto:20190127T153000
DTSTAMP:20260422T220640
CREATED:20151021T181815Z
LAST-MODIFIED:20151021T181815Z
UID:10016931-1548597600-1548603000@huronshores.ca
SUMMARY:Alzheimer Info & Discussion Group
DESCRIPTION:The Alzheimer Society of Sault Ste. Marie & Algoma District hosts an Information & Discussion Group on the 2nd Wednesday of each month\, at the Calvary Gospel Church\, 55 Queen Street\, Blind River from 2:00 – 3:30 p.m.  For more information please call Tanya\, First Link Coordinator\, at 705-848-8145.
URL:https://huronshores.ca/event/alzheimer-info-discussion-group-2/2019-01-27/
LOCATION:Ontario
CATEGORIES:Community News
ATTACH;FMTTYPE=image/jpeg:https://huronshores.ca/wp-content/uploads/2013/01/Alzheimers-Disease.jpg
END:VEVENT
BEGIN:VEVENT
DTSTART;TZID=America/Toronto:20190128T140000
DTEND;TZID=America/Toronto:20190128T153000
DTSTAMP:20260422T220640
CREATED:20151021T181815Z
LAST-MODIFIED:20151021T181815Z
UID:10016932-1548684000-1548689400@huronshores.ca
SUMMARY:Alzheimer Info & Discussion Group
DESCRIPTION:The Alzheimer Society of Sault Ste. Marie & Algoma District hosts an Information & Discussion Group on the 2nd Wednesday of each month\, at the Calvary Gospel Church\, 55 Queen Street\, Blind River from 2:00 – 3:30 p.m.  For more information please call Tanya\, First Link Coordinator\, at 705-848-8145.
URL:https://huronshores.ca/event/alzheimer-info-discussion-group-2/2019-01-28/
LOCATION:Ontario
CATEGORIES:Community News
ATTACH;FMTTYPE=image/jpeg:https://huronshores.ca/wp-content/uploads/2013/01/Alzheimers-Disease.jpg
END:VEVENT
BEGIN:VEVENT
DTSTART;TZID=America/Toronto:20190129T130000
DTEND;TZID=America/Toronto:20190129T130000
DTSTAMP:20260422T220640
CREATED:20181220T141326Z
LAST-MODIFIED:20181220T141326Z
UID:10021389-1548766800-1548766800@huronshores.ca
SUMMARY:Library Crafting/Social Club
DESCRIPTION:The Huron Shores Public Library hosts a Crafting/Social Club on Tuesdays\, at 1:00 p.m. in the downstairs meeting room.  There’s no fee to participate.  Refreshments provided.  Everyone welcome!  The Library is open on Tuesdays and Fridays from 1:00 – 7:00 p.m.  Please click on the link below to learn more about our Library services.
URL:https://huronshores.ca/event/library-crafting-social-club/2019-01-29/
LOCATION:Ontario
CATEGORIES:Community News,Recreation
ATTACH;FMTTYPE=image/png:https://huronshores.ca/wp-content/uploads/2012/03/Huron-Shores-Public-Library-Logo-Re-sized.png
END:VEVENT
BEGIN:VEVENT
DTSTART;TZID=America/Toronto:20190129T140000
DTEND;TZID=America/Toronto:20190129T153000
DTSTAMP:20260422T220640
CREATED:20151021T181815Z
LAST-MODIFIED:20151021T181815Z
UID:10016933-1548770400-1548775800@huronshores.ca
SUMMARY:Alzheimer Info & Discussion Group
DESCRIPTION:The Alzheimer Society of Sault Ste. Marie & Algoma District hosts an Information & Discussion Group on the 2nd Wednesday of each month\, at the Calvary Gospel Church\, 55 Queen Street\, Blind River from 2:00 – 3:30 p.m.  For more information please call Tanya\, First Link Coordinator\, at 705-848-8145.
URL:https://huronshores.ca/event/alzheimer-info-discussion-group-2/2019-01-29/
LOCATION:Ontario
CATEGORIES:Community News
ATTACH;FMTTYPE=image/jpeg:https://huronshores.ca/wp-content/uploads/2013/01/Alzheimers-Disease.jpg
END:VEVENT
BEGIN:VEVENT
DTSTART;VALUE=DATE:20190130
DTEND;VALUE=DATE:20190131
DTSTAMP:20260422T220640
CREATED:20190117T210943Z
LAST-MODIFIED:20190117T210943Z
UID:10021408-1548806400-1548892799@huronshores.ca
SUMMARY:Bell Let's Talk Day
DESCRIPTION:
URL:https://huronshores.ca/event/bell-lets-talk-day-2/
LOCATION:Ontario
CATEGORIES:Community News,Health & Safety
ATTACH;FMTTYPE=image/jpeg:https://huronshores.ca/wp-content/uploads/2019/01/logo-of-the-bell-letstalk-day.jpg
END:VEVENT
BEGIN:VEVENT
DTSTART;TZID=America/Toronto:20190130T140000
DTEND;TZID=America/Toronto:20190130T153000
DTSTAMP:20260422T220640
CREATED:20151021T181815Z
LAST-MODIFIED:20151021T181815Z
UID:10016934-1548856800-1548862200@huronshores.ca
SUMMARY:Alzheimer Info & Discussion Group
DESCRIPTION:The Alzheimer Society of Sault Ste. Marie & Algoma District hosts an Information & Discussion Group on the 2nd Wednesday of each month\, at the Calvary Gospel Church\, 55 Queen Street\, Blind River from 2:00 – 3:30 p.m.  For more information please call Tanya\, First Link Coordinator\, at 705-848-8145.
URL:https://huronshores.ca/event/alzheimer-info-discussion-group-2/2019-01-30/
LOCATION:Ontario
CATEGORIES:Community News
ATTACH;FMTTYPE=image/jpeg:https://huronshores.ca/wp-content/uploads/2013/01/Alzheimers-Disease.jpg
END:VEVENT
BEGIN:VEVENT
DTSTART;TZID=America/Toronto:20190131T140000
DTEND;TZID=America/Toronto:20190131T153000
DTSTAMP:20260422T220640
CREATED:20151021T181815Z
LAST-MODIFIED:20151021T181815Z
UID:10016935-1548943200-1548948600@huronshores.ca
SUMMARY:Alzheimer Info & Discussion Group
DESCRIPTION:The Alzheimer Society of Sault Ste. Marie & Algoma District hosts an Information & Discussion Group on the 2nd Wednesday of each month\, at the Calvary Gospel Church\, 55 Queen Street\, Blind River from 2:00 – 3:30 p.m.  For more information please call Tanya\, First Link Coordinator\, at 705-848-8145.
URL:https://huronshores.ca/event/alzheimer-info-discussion-group-2/2019-01-31/
LOCATION:Ontario
CATEGORIES:Community News
ATTACH;FMTTYPE=image/jpeg:https://huronshores.ca/wp-content/uploads/2013/01/Alzheimers-Disease.jpg
END:VEVENT
BEGIN:VEVENT
DTSTART;VALUE=DATE:20190201
DTEND;VALUE=DATE:20190208
DTSTAMP:20260422T220640
CREATED:20190115T174958Z
LAST-MODIFIED:20190115T174958Z
UID:10021404-1548979200-1549583999@huronshores.ca
SUMMARY:Feb. 1-7:  Eating Disorder Awareness Week
DESCRIPTION:Eating Disorder Awareness Week (EDAW) is February 1-7\, 2019.  Please click on the link below to learn more about the National Eating Disorder Information Centre (NEDIC).
URL:https://huronshores.ca/event/feb-1-7-eating-disorder-awareness-week/
LOCATION:Ontario
CATEGORIES:Community News
ATTACH;FMTTYPE=image/gif:https://huronshores.ca/wp-content/uploads/2019/01/nedic20logo20transparent_0.gif
END:VEVENT
BEGIN:VEVENT
DTSTART;TZID=America/Toronto:20190201T140000
DTEND;TZID=America/Toronto:20190201T153000
DTSTAMP:20260422T220640
CREATED:20151021T181815Z
LAST-MODIFIED:20151021T181815Z
UID:10016936-1549029600-1549035000@huronshores.ca
SUMMARY:Alzheimer Info & Discussion Group
DESCRIPTION:The Alzheimer Society of Sault Ste. Marie & Algoma District hosts an Information & Discussion Group on the 2nd Wednesday of each month\, at the Calvary Gospel Church\, 55 Queen Street\, Blind River from 2:00 – 3:30 p.m.  For more information please call Tanya\, First Link Coordinator\, at 705-848-8145.
URL:https://huronshores.ca/event/alzheimer-info-discussion-group-2/2019-02-01/
LOCATION:Ontario
CATEGORIES:Community News
ATTACH;FMTTYPE=image/jpeg:https://huronshores.ca/wp-content/uploads/2013/01/Alzheimers-Disease.jpg
END:VEVENT
BEGIN:VEVENT
DTSTART;TZID=America/Toronto:20190202T140000
DTEND;TZID=America/Toronto:20190202T153000
DTSTAMP:20260422T220640
CREATED:20151021T181815Z
LAST-MODIFIED:20151021T181815Z
UID:10016937-1549116000-1549121400@huronshores.ca
SUMMARY:Alzheimer Info & Discussion Group
DESCRIPTION:The Alzheimer Society of Sault Ste. Marie & Algoma District hosts an Information & Discussion Group on the 2nd Wednesday of each month\, at the Calvary Gospel Church\, 55 Queen Street\, Blind River from 2:00 – 3:30 p.m.  For more information please call Tanya\, First Link Coordinator\, at 705-848-8145.
URL:https://huronshores.ca/event/alzheimer-info-discussion-group-2/2019-02-02/
LOCATION:Ontario
CATEGORIES:Community News
ATTACH;FMTTYPE=image/jpeg:https://huronshores.ca/wp-content/uploads/2013/01/Alzheimers-Disease.jpg
END:VEVENT
BEGIN:VEVENT
DTSTART;TZID=America/Toronto:20190203T140000
DTEND;TZID=America/Toronto:20190203T153000
DTSTAMP:20260422T220640
CREATED:20151021T181815Z
LAST-MODIFIED:20151021T181815Z
UID:10016938-1549202400-1549207800@huronshores.ca
SUMMARY:Alzheimer Info & Discussion Group
DESCRIPTION:The Alzheimer Society of Sault Ste. Marie & Algoma District hosts an Information & Discussion Group on the 2nd Wednesday of each month\, at the Calvary Gospel Church\, 55 Queen Street\, Blind River from 2:00 – 3:30 p.m.  For more information please call Tanya\, First Link Coordinator\, at 705-848-8145.
URL:https://huronshores.ca/event/alzheimer-info-discussion-group-2/2019-02-03/
LOCATION:Ontario
CATEGORIES:Community News
ATTACH;FMTTYPE=image/jpeg:https://huronshores.ca/wp-content/uploads/2013/01/Alzheimers-Disease.jpg
END:VEVENT
BEGIN:VEVENT
DTSTART;TZID=America/Toronto:20190204T140000
DTEND;TZID=America/Toronto:20190204T153000
DTSTAMP:20260422T220640
CREATED:20151021T181815Z
LAST-MODIFIED:20151021T181815Z
UID:10016939-1549288800-1549294200@huronshores.ca
SUMMARY:Alzheimer Info & Discussion Group
DESCRIPTION:The Alzheimer Society of Sault Ste. Marie & Algoma District hosts an Information & Discussion Group on the 2nd Wednesday of each month\, at the Calvary Gospel Church\, 55 Queen Street\, Blind River from 2:00 – 3:30 p.m.  For more information please call Tanya\, First Link Coordinator\, at 705-848-8145.
URL:https://huronshores.ca/event/alzheimer-info-discussion-group-2/2019-02-04/
LOCATION:Ontario
CATEGORIES:Community News
ATTACH;FMTTYPE=image/jpeg:https://huronshores.ca/wp-content/uploads/2013/01/Alzheimers-Disease.jpg
END:VEVENT
BEGIN:VEVENT
DTSTART;TZID=America/Toronto:20190205T130000
DTEND;TZID=America/Toronto:20190205T130000
DTSTAMP:20260422T220640
CREATED:20181220T141326Z
LAST-MODIFIED:20181220T141326Z
UID:10021390-1549371600-1549371600@huronshores.ca
SUMMARY:Library Crafting/Social Club
DESCRIPTION:The Huron Shores Public Library hosts a Crafting/Social Club on Tuesdays\, at 1:00 p.m. in the downstairs meeting room.  There’s no fee to participate.  Refreshments provided.  Everyone welcome!  The Library is open on Tuesdays and Fridays from 1:00 – 7:00 p.m.  Please click on the link below to learn more about our Library services.
URL:https://huronshores.ca/event/library-crafting-social-club/2019-02-05/
LOCATION:Ontario
CATEGORIES:Community News,Recreation
ATTACH;FMTTYPE=image/png:https://huronshores.ca/wp-content/uploads/2012/03/Huron-Shores-Public-Library-Logo-Re-sized.png
END:VEVENT
BEGIN:VEVENT
DTSTART;TZID=America/Toronto:20190205T140000
DTEND;TZID=America/Toronto:20190205T153000
DTSTAMP:20260422T220640
CREATED:20151021T181815Z
LAST-MODIFIED:20151021T181815Z
UID:10016940-1549375200-1549380600@huronshores.ca
SUMMARY:Alzheimer Info & Discussion Group
DESCRIPTION:The Alzheimer Society of Sault Ste. Marie & Algoma District hosts an Information & Discussion Group on the 2nd Wednesday of each month\, at the Calvary Gospel Church\, 55 Queen Street\, Blind River from 2:00 – 3:30 p.m.  For more information please call Tanya\, First Link Coordinator\, at 705-848-8145.
URL:https://huronshores.ca/event/alzheimer-info-discussion-group-2/2019-02-05/
LOCATION:Ontario
CATEGORIES:Community News
ATTACH;FMTTYPE=image/jpeg:https://huronshores.ca/wp-content/uploads/2013/01/Alzheimers-Disease.jpg
END:VEVENT
BEGIN:VEVENT
DTSTART;TZID=America/Toronto:20190206T140000
DTEND;TZID=America/Toronto:20190206T153000
DTSTAMP:20260422T220640
CREATED:20151021T181815Z
LAST-MODIFIED:20151021T181815Z
UID:10016941-1549461600-1549467000@huronshores.ca
SUMMARY:Alzheimer Info & Discussion Group
DESCRIPTION:The Alzheimer Society of Sault Ste. Marie & Algoma District hosts an Information & Discussion Group on the 2nd Wednesday of each month\, at the Calvary Gospel Church\, 55 Queen Street\, Blind River from 2:00 – 3:30 p.m.  For more information please call Tanya\, First Link Coordinator\, at 705-848-8145.
URL:https://huronshores.ca/event/alzheimer-info-discussion-group-2/2019-02-06/
LOCATION:Ontario
CATEGORIES:Community News
ATTACH;FMTTYPE=image/jpeg:https://huronshores.ca/wp-content/uploads/2013/01/Alzheimers-Disease.jpg
END:VEVENT
BEGIN:VEVENT
DTSTART;TZID=America/Toronto:20190207T140000
DTEND;TZID=America/Toronto:20190207T153000
DTSTAMP:20260422T220640
CREATED:20151021T181815Z
LAST-MODIFIED:20151021T181815Z
UID:10016942-1549548000-1549553400@huronshores.ca
SUMMARY:Alzheimer Info & Discussion Group
DESCRIPTION:The Alzheimer Society of Sault Ste. Marie & Algoma District hosts an Information & Discussion Group on the 2nd Wednesday of each month\, at the Calvary Gospel Church\, 55 Queen Street\, Blind River from 2:00 – 3:30 p.m.  For more information please call Tanya\, First Link Coordinator\, at 705-848-8145.
URL:https://huronshores.ca/event/alzheimer-info-discussion-group-2/2019-02-07/
LOCATION:Ontario
CATEGORIES:Community News
ATTACH;FMTTYPE=image/jpeg:https://huronshores.ca/wp-content/uploads/2013/01/Alzheimers-Disease.jpg
END:VEVENT
BEGIN:VEVENT
DTSTART;TZID=America/Toronto:20190208T140000
DTEND;TZID=America/Toronto:20190208T153000
DTSTAMP:20260422T220640
CREATED:20151021T181815Z
LAST-MODIFIED:20151021T181815Z
UID:10016943-1549634400-1549639800@huronshores.ca
SUMMARY:Alzheimer Info & Discussion Group
DESCRIPTION:The Alzheimer Society of Sault Ste. Marie & Algoma District hosts an Information & Discussion Group on the 2nd Wednesday of each month\, at the Calvary Gospel Church\, 55 Queen Street\, Blind River from 2:00 – 3:30 p.m.  For more information please call Tanya\, First Link Coordinator\, at 705-848-8145.
URL:https://huronshores.ca/event/alzheimer-info-discussion-group-2/2019-02-08/
LOCATION:Ontario
CATEGORIES:Community News
ATTACH;FMTTYPE=image/jpeg:https://huronshores.ca/wp-content/uploads/2013/01/Alzheimers-Disease.jpg
END:VEVENT
BEGIN:VEVENT
DTSTART;TZID=America/Toronto:20190209T140000
DTEND;TZID=America/Toronto:20190209T153000
DTSTAMP:20260422T220640
CREATED:20151021T181815Z
LAST-MODIFIED:20151021T181815Z
UID:10016944-1549720800-1549726200@huronshores.ca
SUMMARY:Alzheimer Info & Discussion Group
DESCRIPTION:The Alzheimer Society of Sault Ste. Marie & Algoma District hosts an Information & Discussion Group on the 2nd Wednesday of each month\, at the Calvary Gospel Church\, 55 Queen Street\, Blind River from 2:00 – 3:30 p.m.  For more information please call Tanya\, First Link Coordinator\, at 705-848-8145.
URL:https://huronshores.ca/event/alzheimer-info-discussion-group-2/2019-02-09/
LOCATION:Ontario
CATEGORIES:Community News
ATTACH;FMTTYPE=image/jpeg:https://huronshores.ca/wp-content/uploads/2013/01/Alzheimers-Disease.jpg
END:VEVENT
BEGIN:VEVENT
DTSTART;TZID=America/Toronto:20190209T163000
DTEND;TZID=America/Toronto:20190209T183000
DTSTAMP:20260422T220640
CREATED:20181119T163640Z
LAST-MODIFIED:20181119T163640Z
UID:10021360-1549729800-1549737000@huronshores.ca
SUMMARY:Lions Fish Fry
DESCRIPTION:The Iron Bridge Lions Club hosts a Fish Fry  on the following dates:  January 26\, February 9\, March 9 & March 23/19.  $18/person at the Iron Bridge Lions Club Hall\, 10 Clarissa St.; 4:30-6:30 p.m.  For more info\, contact the Club at 705-843-2667 or ironbridgelions@yahoo.ca.
URL:https://huronshores.ca/event/lions-fish-fry-2/2019-02-09/
LOCATION:Ontario
CATEGORIES:Community News,Local Food
ATTACH;FMTTYPE=image/jpeg:https://huronshores.ca/wp-content/uploads/2015/12/Fish-Fry.jpg
END:VEVENT
BEGIN:VEVENT
DTSTART;TZID=America/Toronto:20190210T140000
DTEND;TZID=America/Toronto:20190210T153000
DTSTAMP:20260422T220640
CREATED:20151021T181815Z
LAST-MODIFIED:20151021T181815Z
UID:10016945-1549807200-1549812600@huronshores.ca
SUMMARY:Alzheimer Info & Discussion Group
DESCRIPTION:The Alzheimer Society of Sault Ste. Marie & Algoma District hosts an Information & Discussion Group on the 2nd Wednesday of each month\, at the Calvary Gospel Church\, 55 Queen Street\, Blind River from 2:00 – 3:30 p.m.  For more information please call Tanya\, First Link Coordinator\, at 705-848-8145.
URL:https://huronshores.ca/event/alzheimer-info-discussion-group-2/2019-02-10/
LOCATION:Ontario
CATEGORIES:Community News
ATTACH;FMTTYPE=image/jpeg:https://huronshores.ca/wp-content/uploads/2013/01/Alzheimers-Disease.jpg
END:VEVENT
END:VCALENDAR