BEGIN:VCALENDAR
VERSION:2.0
PRODID:-//Huron Shores - ECPv6.15.11//NONSGML v1.0//EN
CALSCALE:GREGORIAN
METHOD:PUBLISH
X-WR-CALNAME:Huron Shores
X-ORIGINAL-URL:https://huronshores.ca
X-WR-CALDESC:Events for Huron Shores
REFRESH-INTERVAL;VALUE=DURATION:PT1H
X-Robots-Tag:noindex
X-PUBLISHED-TTL:PT1H
BEGIN:VTIMEZONE
TZID:America/Toronto
BEGIN:DAYLIGHT
TZOFFSETFROM:-0500
TZOFFSETTO:-0400
TZNAME:EDT
DTSTART:20150308T070000
END:DAYLIGHT
BEGIN:STANDARD
TZOFFSETFROM:-0400
TZOFFSETTO:-0500
TZNAME:EST
DTSTART:20151101T060000
END:STANDARD
BEGIN:DAYLIGHT
TZOFFSETFROM:-0500
TZOFFSETTO:-0400
TZNAME:EDT
DTSTART:20160313T070000
END:DAYLIGHT
BEGIN:STANDARD
TZOFFSETFROM:-0400
TZOFFSETTO:-0500
TZNAME:EST
DTSTART:20161106T060000
END:STANDARD
BEGIN:DAYLIGHT
TZOFFSETFROM:-0500
TZOFFSETTO:-0400
TZNAME:EDT
DTSTART:20170312T070000
END:DAYLIGHT
BEGIN:STANDARD
TZOFFSETFROM:-0400
TZOFFSETTO:-0500
TZNAME:EST
DTSTART:20171105T060000
END:STANDARD
END:VTIMEZONE
BEGIN:VEVENT
DTSTART;TZID=America/Toronto:20161026T140000
DTEND;TZID=America/Toronto:20161026T153000
DTSTAMP:20260425T074745
CREATED:20151021T181815Z
LAST-MODIFIED:20151021T181815Z
UID:10016107-1477490400-1477495800@huronshores.ca
SUMMARY:Alzheimer Info & Discussion Group
DESCRIPTION:The Alzheimer Society of Sault Ste. Marie & Algoma District hosts an Information & Discussion Group on the 2nd Wednesday of each month\, at the Calvary Gospel Church\, 55 Queen Street\, Blind River from 2:00 – 3:30 p.m.  For more information please call Tanya\, First Link Coordinator\, at 705-848-8145.
URL:https://huronshores.ca/event/alzheimer-info-discussion-group-2/2016-10-26/
LOCATION:ON
CATEGORIES:Community News
ATTACH;FMTTYPE=image/jpeg:https://huronshores.ca/wp-content/uploads/2013/01/Alzheimers-Disease.jpg
END:VEVENT
BEGIN:VEVENT
DTSTART;TZID=America/Toronto:20161027T140000
DTEND;TZID=America/Toronto:20161027T153000
DTSTAMP:20260425T074745
CREATED:20151021T181815Z
LAST-MODIFIED:20151021T181815Z
UID:10016108-1477576800-1477582200@huronshores.ca
SUMMARY:Alzheimer Info & Discussion Group
DESCRIPTION:The Alzheimer Society of Sault Ste. Marie & Algoma District hosts an Information & Discussion Group on the 2nd Wednesday of each month\, at the Calvary Gospel Church\, 55 Queen Street\, Blind River from 2:00 – 3:30 p.m.  For more information please call Tanya\, First Link Coordinator\, at 705-848-8145.
URL:https://huronshores.ca/event/alzheimer-info-discussion-group-2/2016-10-27/
LOCATION:ON
CATEGORIES:Community News
ATTACH;FMTTYPE=image/jpeg:https://huronshores.ca/wp-content/uploads/2013/01/Alzheimers-Disease.jpg
END:VEVENT
BEGIN:VEVENT
DTSTART;TZID=America/Toronto:20161028T083000
DTEND;TZID=America/Toronto:20161028T163000
DTSTAMP:20260425T074745
CREATED:20161006T202558Z
LAST-MODIFIED:20161006T202558Z
UID:10019945-1477643400-1477672200@huronshores.ca
SUMMARY:October 28:  Dress for the Cause
DESCRIPTION:To commemorate October as Breast Cancer Awareness Month\, on Friday\, October 28/16\, Municipal Office staff will participate in the “Dress for the Cause Day”.  Staff will wear pink and offer free coffee\, tea and baked goodies to anyone who comes into the Office and makes a donation.  Our Team Pink goal is to raise $100.00.  Please visit the Municipal Office\, 7 Bridge Street\, Iron Bridge\, during our regular office hours from 8:30 a.m. to 4:30 p.m.  and help us reach our goal!  Alternatively\, click on the link below to sponsor our team.  All donations go to the Breast Cancer Society of Canada.
URL:https://huronshores.ca/event/october-28-dress-for-the-cause/
LOCATION:ON
CATEGORIES:Community News
ATTACH;FMTTYPE=image/jpeg:https://huronshores.ca/wp-content/uploads/2016/08/Pink.jpg
END:VEVENT
BEGIN:VEVENT
DTSTART;TZID=America/Toronto:20161028T140000
DTEND;TZID=America/Toronto:20161028T153000
DTSTAMP:20260425T074745
CREATED:20151021T181815Z
LAST-MODIFIED:20151021T181815Z
UID:10016109-1477663200-1477668600@huronshores.ca
SUMMARY:Alzheimer Info & Discussion Group
DESCRIPTION:The Alzheimer Society of Sault Ste. Marie & Algoma District hosts an Information & Discussion Group on the 2nd Wednesday of each month\, at the Calvary Gospel Church\, 55 Queen Street\, Blind River from 2:00 – 3:30 p.m.  For more information please call Tanya\, First Link Coordinator\, at 705-848-8145.
URL:https://huronshores.ca/event/alzheimer-info-discussion-group-2/2016-10-28/
LOCATION:ON
CATEGORIES:Community News
ATTACH;FMTTYPE=image/jpeg:https://huronshores.ca/wp-content/uploads/2013/01/Alzheimers-Disease.jpg
END:VEVENT
BEGIN:VEVENT
DTSTART;TZID=America/Toronto:20161029T140000
DTEND;TZID=America/Toronto:20161029T153000
DTSTAMP:20260425T074745
CREATED:20151021T181815Z
LAST-MODIFIED:20151021T181815Z
UID:10016110-1477749600-1477755000@huronshores.ca
SUMMARY:Alzheimer Info & Discussion Group
DESCRIPTION:The Alzheimer Society of Sault Ste. Marie & Algoma District hosts an Information & Discussion Group on the 2nd Wednesday of each month\, at the Calvary Gospel Church\, 55 Queen Street\, Blind River from 2:00 – 3:30 p.m.  For more information please call Tanya\, First Link Coordinator\, at 705-848-8145.
URL:https://huronshores.ca/event/alzheimer-info-discussion-group-2/2016-10-29/
LOCATION:ON
CATEGORIES:Community News
ATTACH;FMTTYPE=image/jpeg:https://huronshores.ca/wp-content/uploads/2013/01/Alzheimers-Disease.jpg
END:VEVENT
BEGIN:VEVENT
DTSTART;TZID=America/Toronto:20161030T140000
DTEND;TZID=America/Toronto:20161030T153000
DTSTAMP:20260425T074745
CREATED:20151021T181815Z
LAST-MODIFIED:20151021T181815Z
UID:10016111-1477836000-1477841400@huronshores.ca
SUMMARY:Alzheimer Info & Discussion Group
DESCRIPTION:The Alzheimer Society of Sault Ste. Marie & Algoma District hosts an Information & Discussion Group on the 2nd Wednesday of each month\, at the Calvary Gospel Church\, 55 Queen Street\, Blind River from 2:00 – 3:30 p.m.  For more information please call Tanya\, First Link Coordinator\, at 705-848-8145.
URL:https://huronshores.ca/event/alzheimer-info-discussion-group-2/2016-10-30/
LOCATION:ON
CATEGORIES:Community News
ATTACH;FMTTYPE=image/jpeg:https://huronshores.ca/wp-content/uploads/2013/01/Alzheimers-Disease.jpg
END:VEVENT
BEGIN:VEVENT
DTSTART;TZID=America/Toronto:20161030T140000
DTEND;TZID=America/Toronto:20161030T160000
DTSTAMP:20260425T074745
CREATED:20160901T140913Z
LAST-MODIFIED:20160901T140913Z
UID:10019939-1477836000-1477843200@huronshores.ca
SUMMARY:Monster Mash
DESCRIPTION:The Iron Bridge Rec Committee is hosting its 2nd Annual Family Monster Bash\, a family Halloween party\, on Sunday\, October 30/16 at the Rec Centre from 2:00 – 4:00 p.m. Activities\, games and prizes.  Costumes are encouraged.  It’s spooktacular\, scary fun for the whole family!  Admission is by donation\, or a non-perishable food item for the Food Bank.
URL:https://huronshores.ca/event/monster-mash/
LOCATION:ON
CATEGORIES:Community News,Recreation
ATTACH;FMTTYPE=image/jpeg:https://huronshores.ca/wp-content/uploads/2015/09/Monster-Bash.jpg
END:VEVENT
BEGIN:VEVENT
DTSTART;VALUE=DATE:20161031
DTEND;VALUE=DATE:20161101
DTSTAMP:20260425T074745
CREATED:20160115T194536Z
LAST-MODIFIED:20160115T194536Z
UID:10019486-1477872000-1477958399@huronshores.ca
SUMMARY:Hallowe'en
DESCRIPTION:Hope your Hallowe’en is Spooktacular! Happy Hallowe’en from Council & Staff!
URL:https://huronshores.ca/event/halloween/
LOCATION:ON
CATEGORIES:Community News
ATTACH;FMTTYPE=image/jpeg:https://huronshores.ca/wp-content/uploads/2015/07/happy-Halloween.jpg
END:VEVENT
BEGIN:VEVENT
DTSTART;TZID=America/Toronto:20161031T140000
DTEND;TZID=America/Toronto:20161031T153000
DTSTAMP:20260425T074745
CREATED:20151021T181815Z
LAST-MODIFIED:20151021T181815Z
UID:10016112-1477922400-1477927800@huronshores.ca
SUMMARY:Alzheimer Info & Discussion Group
DESCRIPTION:The Alzheimer Society of Sault Ste. Marie & Algoma District hosts an Information & Discussion Group on the 2nd Wednesday of each month\, at the Calvary Gospel Church\, 55 Queen Street\, Blind River from 2:00 – 3:30 p.m.  For more information please call Tanya\, First Link Coordinator\, at 705-848-8145.
URL:https://huronshores.ca/event/alzheimer-info-discussion-group-2/2016-10-31/
LOCATION:ON
CATEGORIES:Community News
ATTACH;FMTTYPE=image/jpeg:https://huronshores.ca/wp-content/uploads/2013/01/Alzheimers-Disease.jpg
END:VEVENT
BEGIN:VEVENT
DTSTART;TZID=America/Toronto:20161101T140000
DTEND;TZID=America/Toronto:20161101T153000
DTSTAMP:20260425T074746
CREATED:20151021T181815Z
LAST-MODIFIED:20151021T181815Z
UID:10016113-1478008800-1478014200@huronshores.ca
SUMMARY:Alzheimer Info & Discussion Group
DESCRIPTION:The Alzheimer Society of Sault Ste. Marie & Algoma District hosts an Information & Discussion Group on the 2nd Wednesday of each month\, at the Calvary Gospel Church\, 55 Queen Street\, Blind River from 2:00 – 3:30 p.m.  For more information please call Tanya\, First Link Coordinator\, at 705-848-8145.
URL:https://huronshores.ca/event/alzheimer-info-discussion-group-2/2016-11-01/
LOCATION:ON
CATEGORIES:Community News
ATTACH;FMTTYPE=image/jpeg:https://huronshores.ca/wp-content/uploads/2013/01/Alzheimers-Disease.jpg
END:VEVENT
BEGIN:VEVENT
DTSTART;TZID=America/Toronto:20161102T140000
DTEND;TZID=America/Toronto:20161102T153000
DTSTAMP:20260425T074746
CREATED:20151021T181815Z
LAST-MODIFIED:20151021T181815Z
UID:10016114-1478095200-1478100600@huronshores.ca
SUMMARY:Alzheimer Info & Discussion Group
DESCRIPTION:The Alzheimer Society of Sault Ste. Marie & Algoma District hosts an Information & Discussion Group on the 2nd Wednesday of each month\, at the Calvary Gospel Church\, 55 Queen Street\, Blind River from 2:00 – 3:30 p.m.  For more information please call Tanya\, First Link Coordinator\, at 705-848-8145.
URL:https://huronshores.ca/event/alzheimer-info-discussion-group-2/2016-11-02/
LOCATION:ON
CATEGORIES:Community News
ATTACH;FMTTYPE=image/jpeg:https://huronshores.ca/wp-content/uploads/2013/01/Alzheimers-Disease.jpg
END:VEVENT
BEGIN:VEVENT
DTSTART;TZID=America/Toronto:20161103T140000
DTEND;TZID=America/Toronto:20161103T153000
DTSTAMP:20260425T074746
CREATED:20151021T181815Z
LAST-MODIFIED:20151021T181815Z
UID:10016115-1478181600-1478187000@huronshores.ca
SUMMARY:Alzheimer Info & Discussion Group
DESCRIPTION:The Alzheimer Society of Sault Ste. Marie & Algoma District hosts an Information & Discussion Group on the 2nd Wednesday of each month\, at the Calvary Gospel Church\, 55 Queen Street\, Blind River from 2:00 – 3:30 p.m.  For more information please call Tanya\, First Link Coordinator\, at 705-848-8145.
URL:https://huronshores.ca/event/alzheimer-info-discussion-group-2/2016-11-03/
LOCATION:ON
CATEGORIES:Community News
ATTACH;FMTTYPE=image/jpeg:https://huronshores.ca/wp-content/uploads/2013/01/Alzheimers-Disease.jpg
END:VEVENT
BEGIN:VEVENT
DTSTART;TZID=America/Toronto:20161104T140000
DTEND;TZID=America/Toronto:20161104T153000
DTSTAMP:20260425T074746
CREATED:20151021T181815Z
LAST-MODIFIED:20151021T181815Z
UID:10016116-1478268000-1478273400@huronshores.ca
SUMMARY:Alzheimer Info & Discussion Group
DESCRIPTION:The Alzheimer Society of Sault Ste. Marie & Algoma District hosts an Information & Discussion Group on the 2nd Wednesday of each month\, at the Calvary Gospel Church\, 55 Queen Street\, Blind River from 2:00 – 3:30 p.m.  For more information please call Tanya\, First Link Coordinator\, at 705-848-8145.
URL:https://huronshores.ca/event/alzheimer-info-discussion-group-2/2016-11-04/
LOCATION:ON
CATEGORIES:Community News
ATTACH;FMTTYPE=image/jpeg:https://huronshores.ca/wp-content/uploads/2013/01/Alzheimers-Disease.jpg
END:VEVENT
BEGIN:VEVENT
DTSTART;VALUE=DATE:20161105
DTEND;VALUE=DATE:20161112
DTSTAMP:20260425T074746
CREATED:20161102T163508Z
LAST-MODIFIED:20161102T163508Z
UID:10019960-1478304000-1478908799@huronshores.ca
SUMMARY:Remembrance Week
DESCRIPTION:Remembrance Week is November 5th to 11th.  To learn more please click on the link below to read the post.  Please note that the Municipal Office will be closed for Remembrance Day\, Friday\, November 11th.
URL:https://huronshores.ca/event/remembrance-week/
LOCATION:ON
CATEGORIES:Community News
ATTACH;FMTTYPE=image/jpeg:https://huronshores.ca/wp-content/uploads/2016/10/vw-poppy-slider.jpg
END:VEVENT
BEGIN:VEVENT
DTSTART;TZID=America/Toronto:20161105T140000
DTEND;TZID=America/Toronto:20161105T153000
DTSTAMP:20260425T074746
CREATED:20151021T181815Z
LAST-MODIFIED:20151021T181815Z
UID:10016117-1478354400-1478359800@huronshores.ca
SUMMARY:Alzheimer Info & Discussion Group
DESCRIPTION:The Alzheimer Society of Sault Ste. Marie & Algoma District hosts an Information & Discussion Group on the 2nd Wednesday of each month\, at the Calvary Gospel Church\, 55 Queen Street\, Blind River from 2:00 – 3:30 p.m.  For more information please call Tanya\, First Link Coordinator\, at 705-848-8145.
URL:https://huronshores.ca/event/alzheimer-info-discussion-group-2/2016-11-05/
LOCATION:ON
CATEGORIES:Community News
ATTACH;FMTTYPE=image/jpeg:https://huronshores.ca/wp-content/uploads/2013/01/Alzheimers-Disease.jpg
END:VEVENT
BEGIN:VEVENT
DTSTART;VALUE=DATE:20161106
DTEND;VALUE=DATE:20161107
DTSTAMP:20260425T074746
CREATED:20160115T195527Z
LAST-MODIFIED:20160115T195527Z
UID:10019489-1478390400-1478476799@huronshores.ca
SUMMARY:Daylight Saving Time Ends
DESCRIPTION:Don’t forget to ‘Fall Back’ when you go to bed on Saturday night!  Daylight Saving Time ends Sunday\, November 6/16.
URL:https://huronshores.ca/event/daylight-saving-time-ends-2/
LOCATION:ON
CATEGORIES:Community News
ATTACH;FMTTYPE=image/jpeg:https://huronshores.ca/wp-content/uploads/2015/07/fall-back.jpg
END:VEVENT
BEGIN:VEVENT
DTSTART;TZID=America/Toronto:20161106T140000
DTEND;TZID=America/Toronto:20161106T153000
DTSTAMP:20260425T074746
CREATED:20151021T181815Z
LAST-MODIFIED:20151021T181815Z
UID:10016118-1478440800-1478446200@huronshores.ca
SUMMARY:Alzheimer Info & Discussion Group
DESCRIPTION:The Alzheimer Society of Sault Ste. Marie & Algoma District hosts an Information & Discussion Group on the 2nd Wednesday of each month\, at the Calvary Gospel Church\, 55 Queen Street\, Blind River from 2:00 – 3:30 p.m.  For more information please call Tanya\, First Link Coordinator\, at 705-848-8145.
URL:https://huronshores.ca/event/alzheimer-info-discussion-group-2/2016-11-06/
LOCATION:ON
CATEGORIES:Community News
ATTACH;FMTTYPE=image/jpeg:https://huronshores.ca/wp-content/uploads/2013/01/Alzheimers-Disease.jpg
END:VEVENT
BEGIN:VEVENT
DTSTART;TZID=America/Toronto:20161107T140000
DTEND;TZID=America/Toronto:20161107T153000
DTSTAMP:20260425T074746
CREATED:20151021T181815Z
LAST-MODIFIED:20151021T181815Z
UID:10016119-1478527200-1478532600@huronshores.ca
SUMMARY:Alzheimer Info & Discussion Group
DESCRIPTION:The Alzheimer Society of Sault Ste. Marie & Algoma District hosts an Information & Discussion Group on the 2nd Wednesday of each month\, at the Calvary Gospel Church\, 55 Queen Street\, Blind River from 2:00 – 3:30 p.m.  For more information please call Tanya\, First Link Coordinator\, at 705-848-8145.
URL:https://huronshores.ca/event/alzheimer-info-discussion-group-2/2016-11-07/
LOCATION:ON
CATEGORIES:Community News
ATTACH;FMTTYPE=image/jpeg:https://huronshores.ca/wp-content/uploads/2013/01/Alzheimers-Disease.jpg
END:VEVENT
BEGIN:VEVENT
DTSTART;TZID=America/Toronto:20161108T140000
DTEND;TZID=America/Toronto:20161108T153000
DTSTAMP:20260425T074746
CREATED:20151021T181815Z
LAST-MODIFIED:20151021T181815Z
UID:10016120-1478613600-1478619000@huronshores.ca
SUMMARY:Alzheimer Info & Discussion Group
DESCRIPTION:The Alzheimer Society of Sault Ste. Marie & Algoma District hosts an Information & Discussion Group on the 2nd Wednesday of each month\, at the Calvary Gospel Church\, 55 Queen Street\, Blind River from 2:00 – 3:30 p.m.  For more information please call Tanya\, First Link Coordinator\, at 705-848-8145.
URL:https://huronshores.ca/event/alzheimer-info-discussion-group-2/2016-11-08/
LOCATION:ON
CATEGORIES:Community News
ATTACH;FMTTYPE=image/jpeg:https://huronshores.ca/wp-content/uploads/2013/01/Alzheimers-Disease.jpg
END:VEVENT
BEGIN:VEVENT
DTSTART;TZID=America/Toronto:20161109T093000
DTEND;TZID=America/Toronto:20161109T113000
DTSTAMP:20260425T074746
CREATED:20160916T200955Z
LAST-MODIFIED:20160916T200955Z
UID:10019463-1478683800-1478691000@huronshores.ca
SUMMARY:Coffee Time
DESCRIPTION:Join us for “Coffee Time” at Zion United Church\, in the lower level\, from 9:30 -11:30 a.m. on the second and fourth Wednesday of the month.  Enjoy coffee and fellowship.
URL:https://huronshores.ca/event/coffee-time/2016-11-09/
LOCATION:ON
CATEGORIES:Community News
ATTACH;FMTTYPE=image/jpeg:https://huronshores.ca/wp-content/uploads/2012/09/coffee_cup_clip_art_154678.jpg
END:VEVENT
BEGIN:VEVENT
DTSTART;TZID=America/Toronto:20161109T140000
DTEND;TZID=America/Toronto:20161109T153000
DTSTAMP:20260425T074746
CREATED:20151021T181815Z
LAST-MODIFIED:20151021T181815Z
UID:10016121-1478700000-1478705400@huronshores.ca
SUMMARY:Alzheimer Info & Discussion Group
DESCRIPTION:The Alzheimer Society of Sault Ste. Marie & Algoma District hosts an Information & Discussion Group on the 2nd Wednesday of each month\, at the Calvary Gospel Church\, 55 Queen Street\, Blind River from 2:00 – 3:30 p.m.  For more information please call Tanya\, First Link Coordinator\, at 705-848-8145.
URL:https://huronshores.ca/event/alzheimer-info-discussion-group-2/2016-11-09/
LOCATION:ON
CATEGORIES:Community News
ATTACH;FMTTYPE=image/jpeg:https://huronshores.ca/wp-content/uploads/2013/01/Alzheimers-Disease.jpg
END:VEVENT
BEGIN:VEVENT
DTSTART;TZID=America/Toronto:20161110T140000
DTEND;TZID=America/Toronto:20161110T153000
DTSTAMP:20260425T074746
CREATED:20151021T181815Z
LAST-MODIFIED:20151021T181815Z
UID:10016122-1478786400-1478791800@huronshores.ca
SUMMARY:Alzheimer Info & Discussion Group
DESCRIPTION:The Alzheimer Society of Sault Ste. Marie & Algoma District hosts an Information & Discussion Group on the 2nd Wednesday of each month\, at the Calvary Gospel Church\, 55 Queen Street\, Blind River from 2:00 – 3:30 p.m.  For more information please call Tanya\, First Link Coordinator\, at 705-848-8145.
URL:https://huronshores.ca/event/alzheimer-info-discussion-group-2/2016-11-10/
LOCATION:ON
CATEGORIES:Community News
ATTACH;FMTTYPE=image/jpeg:https://huronshores.ca/wp-content/uploads/2013/01/Alzheimers-Disease.jpg
END:VEVENT
BEGIN:VEVENT
DTSTART;TZID=America/Toronto:20161111T140000
DTEND;TZID=America/Toronto:20161111T153000
DTSTAMP:20260425T074746
CREATED:20151021T181815Z
LAST-MODIFIED:20151021T181815Z
UID:10016123-1478872800-1478878200@huronshores.ca
SUMMARY:Alzheimer Info & Discussion Group
DESCRIPTION:The Alzheimer Society of Sault Ste. Marie & Algoma District hosts an Information & Discussion Group on the 2nd Wednesday of each month\, at the Calvary Gospel Church\, 55 Queen Street\, Blind River from 2:00 – 3:30 p.m.  For more information please call Tanya\, First Link Coordinator\, at 705-848-8145.
URL:https://huronshores.ca/event/alzheimer-info-discussion-group-2/2016-11-11/
LOCATION:ON
CATEGORIES:Community News
ATTACH;FMTTYPE=image/jpeg:https://huronshores.ca/wp-content/uploads/2013/01/Alzheimers-Disease.jpg
END:VEVENT
BEGIN:VEVENT
DTSTART;TZID=America/Toronto:20161112T140000
DTEND;TZID=America/Toronto:20161112T153000
DTSTAMP:20260425T074746
CREATED:20151021T181815Z
LAST-MODIFIED:20151021T181815Z
UID:10016124-1478959200-1478964600@huronshores.ca
SUMMARY:Alzheimer Info & Discussion Group
DESCRIPTION:The Alzheimer Society of Sault Ste. Marie & Algoma District hosts an Information & Discussion Group on the 2nd Wednesday of each month\, at the Calvary Gospel Church\, 55 Queen Street\, Blind River from 2:00 – 3:30 p.m.  For more information please call Tanya\, First Link Coordinator\, at 705-848-8145.
URL:https://huronshores.ca/event/alzheimer-info-discussion-group-2/2016-11-12/
LOCATION:ON
CATEGORIES:Community News
ATTACH;FMTTYPE=image/jpeg:https://huronshores.ca/wp-content/uploads/2013/01/Alzheimers-Disease.jpg
END:VEVENT
BEGIN:VEVENT
DTSTART;TZID=America/Toronto:20161113T140000
DTEND;TZID=America/Toronto:20161113T153000
DTSTAMP:20260425T074746
CREATED:20151021T181815Z
LAST-MODIFIED:20151021T181815Z
UID:10016125-1479045600-1479051000@huronshores.ca
SUMMARY:Alzheimer Info & Discussion Group
DESCRIPTION:The Alzheimer Society of Sault Ste. Marie & Algoma District hosts an Information & Discussion Group on the 2nd Wednesday of each month\, at the Calvary Gospel Church\, 55 Queen Street\, Blind River from 2:00 – 3:30 p.m.  For more information please call Tanya\, First Link Coordinator\, at 705-848-8145.
URL:https://huronshores.ca/event/alzheimer-info-discussion-group-2/2016-11-13/
LOCATION:ON
CATEGORIES:Community News
ATTACH;FMTTYPE=image/jpeg:https://huronshores.ca/wp-content/uploads/2013/01/Alzheimers-Disease.jpg
END:VEVENT
BEGIN:VEVENT
DTSTART;TZID=America/Toronto:20161114T140000
DTEND;TZID=America/Toronto:20161114T153000
DTSTAMP:20260425T074746
CREATED:20151021T181815Z
LAST-MODIFIED:20151021T181815Z
UID:10016126-1479132000-1479137400@huronshores.ca
SUMMARY:Alzheimer Info & Discussion Group
DESCRIPTION:The Alzheimer Society of Sault Ste. Marie & Algoma District hosts an Information & Discussion Group on the 2nd Wednesday of each month\, at the Calvary Gospel Church\, 55 Queen Street\, Blind River from 2:00 – 3:30 p.m.  For more information please call Tanya\, First Link Coordinator\, at 705-848-8145.
URL:https://huronshores.ca/event/alzheimer-info-discussion-group-2/2016-11-14/
LOCATION:ON
CATEGORIES:Community News
ATTACH;FMTTYPE=image/jpeg:https://huronshores.ca/wp-content/uploads/2013/01/Alzheimers-Disease.jpg
END:VEVENT
BEGIN:VEVENT
DTSTART;TZID=America/Toronto:20161115T140000
DTEND;TZID=America/Toronto:20161115T153000
DTSTAMP:20260425T074746
CREATED:20151021T181815Z
LAST-MODIFIED:20151021T181815Z
UID:10016127-1479218400-1479223800@huronshores.ca
SUMMARY:Alzheimer Info & Discussion Group
DESCRIPTION:The Alzheimer Society of Sault Ste. Marie & Algoma District hosts an Information & Discussion Group on the 2nd Wednesday of each month\, at the Calvary Gospel Church\, 55 Queen Street\, Blind River from 2:00 – 3:30 p.m.  For more information please call Tanya\, First Link Coordinator\, at 705-848-8145.
URL:https://huronshores.ca/event/alzheimer-info-discussion-group-2/2016-11-15/
LOCATION:ON
CATEGORIES:Community News
ATTACH;FMTTYPE=image/jpeg:https://huronshores.ca/wp-content/uploads/2013/01/Alzheimers-Disease.jpg
END:VEVENT
BEGIN:VEVENT
DTSTART;TZID=America/Toronto:20161116T140000
DTEND;TZID=America/Toronto:20161116T153000
DTSTAMP:20260425T074746
CREATED:20151021T181815Z
LAST-MODIFIED:20151021T181815Z
UID:10016128-1479304800-1479310200@huronshores.ca
SUMMARY:Alzheimer Info & Discussion Group
DESCRIPTION:The Alzheimer Society of Sault Ste. Marie & Algoma District hosts an Information & Discussion Group on the 2nd Wednesday of each month\, at the Calvary Gospel Church\, 55 Queen Street\, Blind River from 2:00 – 3:30 p.m.  For more information please call Tanya\, First Link Coordinator\, at 705-848-8145.
URL:https://huronshores.ca/event/alzheimer-info-discussion-group-2/2016-11-16/
LOCATION:ON
CATEGORIES:Community News
ATTACH;FMTTYPE=image/jpeg:https://huronshores.ca/wp-content/uploads/2013/01/Alzheimers-Disease.jpg
END:VEVENT
BEGIN:VEVENT
DTSTART;TZID=America/Toronto:20161117T140000
DTEND;TZID=America/Toronto:20161117T153000
DTSTAMP:20260425T074746
CREATED:20151021T181815Z
LAST-MODIFIED:20151021T181815Z
UID:10016129-1479391200-1479396600@huronshores.ca
SUMMARY:Alzheimer Info & Discussion Group
DESCRIPTION:The Alzheimer Society of Sault Ste. Marie & Algoma District hosts an Information & Discussion Group on the 2nd Wednesday of each month\, at the Calvary Gospel Church\, 55 Queen Street\, Blind River from 2:00 – 3:30 p.m.  For more information please call Tanya\, First Link Coordinator\, at 705-848-8145.
URL:https://huronshores.ca/event/alzheimer-info-discussion-group-2/2016-11-17/
LOCATION:ON
CATEGORIES:Community News
ATTACH;FMTTYPE=image/jpeg:https://huronshores.ca/wp-content/uploads/2013/01/Alzheimers-Disease.jpg
END:VEVENT
BEGIN:VEVENT
DTSTART;TZID=America/Toronto:20161118T140000
DTEND;TZID=America/Toronto:20161118T153000
DTSTAMP:20260425T074746
CREATED:20151021T181815Z
LAST-MODIFIED:20151021T181815Z
UID:10016130-1479477600-1479483000@huronshores.ca
SUMMARY:Alzheimer Info & Discussion Group
DESCRIPTION:The Alzheimer Society of Sault Ste. Marie & Algoma District hosts an Information & Discussion Group on the 2nd Wednesday of each month\, at the Calvary Gospel Church\, 55 Queen Street\, Blind River from 2:00 – 3:30 p.m.  For more information please call Tanya\, First Link Coordinator\, at 705-848-8145.
URL:https://huronshores.ca/event/alzheimer-info-discussion-group-2/2016-11-18/
LOCATION:ON
CATEGORIES:Community News
ATTACH;FMTTYPE=image/jpeg:https://huronshores.ca/wp-content/uploads/2013/01/Alzheimers-Disease.jpg
END:VEVENT
END:VCALENDAR