BEGIN:VCALENDAR
VERSION:2.0
PRODID:-//Huron Shores - ECPv6.15.11//NONSGML v1.0//EN
CALSCALE:GREGORIAN
METHOD:PUBLISH
X-WR-CALNAME:Huron Shores
X-ORIGINAL-URL:https://huronshores.ca
X-WR-CALDESC:Events for Huron Shores
REFRESH-INTERVAL;VALUE=DURATION:PT1H
X-Robots-Tag:noindex
X-PUBLISHED-TTL:PT1H
BEGIN:VTIMEZONE
TZID:America/Toronto
BEGIN:DAYLIGHT
TZOFFSETFROM:-0500
TZOFFSETTO:-0400
TZNAME:EDT
DTSTART:20160313T070000
END:DAYLIGHT
BEGIN:STANDARD
TZOFFSETFROM:-0400
TZOFFSETTO:-0500
TZNAME:EST
DTSTART:20161106T060000
END:STANDARD
BEGIN:DAYLIGHT
TZOFFSETFROM:-0500
TZOFFSETTO:-0400
TZNAME:EDT
DTSTART:20170312T070000
END:DAYLIGHT
BEGIN:STANDARD
TZOFFSETFROM:-0400
TZOFFSETTO:-0500
TZNAME:EST
DTSTART:20171105T060000
END:STANDARD
BEGIN:DAYLIGHT
TZOFFSETFROM:-0500
TZOFFSETTO:-0400
TZNAME:EDT
DTSTART:20180311T070000
END:DAYLIGHT
BEGIN:STANDARD
TZOFFSETFROM:-0400
TZOFFSETTO:-0500
TZNAME:EST
DTSTART:20181104T060000
END:STANDARD
END:VTIMEZONE
BEGIN:VEVENT
DTSTART;TZID=America/Toronto:20171027T083000
DTEND;TZID=America/Toronto:20171027T163000
DTSTAMP:20260424T100241
CREATED:20171026T201738Z
LAST-MODIFIED:20171026T201738Z
UID:10020366-1509093000-1509121800@huronshores.ca
SUMMARY:Dress for the Cause!
DESCRIPTION:To commemorate October as Breast Cancer Awareness Month\, on Friday\, October 27/17\, Municipal Office staff will participate in the “Dress for the Cause Day”.  Staff will wear pink and offer free coffee\, tea and baked goodies to anyone who comes into the Office and makes a donation.  Our Team Pink goal is to raise $100.00.  Please visit the Municipal Office\, 7 Bridge Street\, Iron Bridge\, during our regular office hours from 8:30 a.m. to 4:30 p.m.  and help us reach our goal!  Alternatively\, click here to sponsor our team.  All donations go to the Breast Cancer Society of Canada.
URL:https://huronshores.ca/event/dress-for-the-cause-2/
LOCATION:ON
CATEGORIES:Community News
ATTACH;FMTTYPE=image/png:https://huronshores.ca/wp-content/uploads/2014/10/DressForTheCause.png
END:VEVENT
BEGIN:VEVENT
DTSTART;TZID=America/Toronto:20171027T140000
DTEND;TZID=America/Toronto:20171027T153000
DTSTAMP:20260424T100241
CREATED:20151021T181815Z
LAST-MODIFIED:20151021T181815Z
UID:10016473-1509112800-1509118200@huronshores.ca
SUMMARY:Alzheimer Info & Discussion Group
DESCRIPTION:The Alzheimer Society of Sault Ste. Marie & Algoma District hosts an Information & Discussion Group on the 2nd Wednesday of each month\, at the Calvary Gospel Church\, 55 Queen Street\, Blind River from 2:00 – 3:30 p.m.  For more information please call Tanya\, First Link Coordinator\, at 705-848-8145.
URL:https://huronshores.ca/event/alzheimer-info-discussion-group-2/2017-10-27/
LOCATION:ON
CATEGORIES:Community News
ATTACH;FMTTYPE=image/jpeg:https://huronshores.ca/wp-content/uploads/2013/01/Alzheimers-Disease.jpg
END:VEVENT
BEGIN:VEVENT
DTSTART;TZID=America/Toronto:20171028T140000
DTEND;TZID=America/Toronto:20171028T153000
DTSTAMP:20260424T100241
CREATED:20151021T181815Z
LAST-MODIFIED:20151021T181815Z
UID:10016474-1509199200-1509204600@huronshores.ca
SUMMARY:Alzheimer Info & Discussion Group
DESCRIPTION:The Alzheimer Society of Sault Ste. Marie & Algoma District hosts an Information & Discussion Group on the 2nd Wednesday of each month\, at the Calvary Gospel Church\, 55 Queen Street\, Blind River from 2:00 – 3:30 p.m.  For more information please call Tanya\, First Link Coordinator\, at 705-848-8145.
URL:https://huronshores.ca/event/alzheimer-info-discussion-group-2/2017-10-28/
LOCATION:ON
CATEGORIES:Community News
ATTACH;FMTTYPE=image/jpeg:https://huronshores.ca/wp-content/uploads/2013/01/Alzheimers-Disease.jpg
END:VEVENT
BEGIN:VEVENT
DTSTART;TZID=America/Toronto:20171029T140000
DTEND;TZID=America/Toronto:20171029T153000
DTSTAMP:20260424T100241
CREATED:20151021T181815Z
LAST-MODIFIED:20151021T181815Z
UID:10016475-1509285600-1509291000@huronshores.ca
SUMMARY:Alzheimer Info & Discussion Group
DESCRIPTION:The Alzheimer Society of Sault Ste. Marie & Algoma District hosts an Information & Discussion Group on the 2nd Wednesday of each month\, at the Calvary Gospel Church\, 55 Queen Street\, Blind River from 2:00 – 3:30 p.m.  For more information please call Tanya\, First Link Coordinator\, at 705-848-8145.
URL:https://huronshores.ca/event/alzheimer-info-discussion-group-2/2017-10-29/
LOCATION:ON
CATEGORIES:Community News
ATTACH;FMTTYPE=image/jpeg:https://huronshores.ca/wp-content/uploads/2013/01/Alzheimers-Disease.jpg
END:VEVENT
BEGIN:VEVENT
DTSTART;TZID=America/Toronto:20171030T140000
DTEND;TZID=America/Toronto:20171030T153000
DTSTAMP:20260424T100241
CREATED:20151021T181815Z
LAST-MODIFIED:20151021T181815Z
UID:10016476-1509372000-1509377400@huronshores.ca
SUMMARY:Alzheimer Info & Discussion Group
DESCRIPTION:The Alzheimer Society of Sault Ste. Marie & Algoma District hosts an Information & Discussion Group on the 2nd Wednesday of each month\, at the Calvary Gospel Church\, 55 Queen Street\, Blind River from 2:00 – 3:30 p.m.  For more information please call Tanya\, First Link Coordinator\, at 705-848-8145.
URL:https://huronshores.ca/event/alzheimer-info-discussion-group-2/2017-10-30/
LOCATION:ON
CATEGORIES:Community News
ATTACH;FMTTYPE=image/jpeg:https://huronshores.ca/wp-content/uploads/2013/01/Alzheimers-Disease.jpg
END:VEVENT
BEGIN:VEVENT
DTSTART;TZID=America/Toronto:20171031T140000
DTEND;TZID=America/Toronto:20171031T153000
DTSTAMP:20260424T100241
CREATED:20151021T181815Z
LAST-MODIFIED:20151021T181815Z
UID:10016477-1509458400-1509463800@huronshores.ca
SUMMARY:Alzheimer Info & Discussion Group
DESCRIPTION:The Alzheimer Society of Sault Ste. Marie & Algoma District hosts an Information & Discussion Group on the 2nd Wednesday of each month\, at the Calvary Gospel Church\, 55 Queen Street\, Blind River from 2:00 – 3:30 p.m.  For more information please call Tanya\, First Link Coordinator\, at 705-848-8145.
URL:https://huronshores.ca/event/alzheimer-info-discussion-group-2/2017-10-31/
LOCATION:ON
CATEGORIES:Community News
ATTACH;FMTTYPE=image/jpeg:https://huronshores.ca/wp-content/uploads/2013/01/Alzheimers-Disease.jpg
END:VEVENT
BEGIN:VEVENT
DTSTART;TZID=America/Toronto:20171101T140000
DTEND;TZID=America/Toronto:20171101T153000
DTSTAMP:20260424T100241
CREATED:20151021T181815Z
LAST-MODIFIED:20151021T181815Z
UID:10016478-1509544800-1509550200@huronshores.ca
SUMMARY:Alzheimer Info & Discussion Group
DESCRIPTION:The Alzheimer Society of Sault Ste. Marie & Algoma District hosts an Information & Discussion Group on the 2nd Wednesday of each month\, at the Calvary Gospel Church\, 55 Queen Street\, Blind River from 2:00 – 3:30 p.m.  For more information please call Tanya\, First Link Coordinator\, at 705-848-8145.
URL:https://huronshores.ca/event/alzheimer-info-discussion-group-2/2017-11-01/
LOCATION:ON
CATEGORIES:Community News
ATTACH;FMTTYPE=image/jpeg:https://huronshores.ca/wp-content/uploads/2013/01/Alzheimers-Disease.jpg
END:VEVENT
BEGIN:VEVENT
DTSTART;TZID=America/Toronto:20171102T140000
DTEND;TZID=America/Toronto:20171102T153000
DTSTAMP:20260424T100241
CREATED:20151021T181815Z
LAST-MODIFIED:20151021T181815Z
UID:10016479-1509631200-1509636600@huronshores.ca
SUMMARY:Alzheimer Info & Discussion Group
DESCRIPTION:The Alzheimer Society of Sault Ste. Marie & Algoma District hosts an Information & Discussion Group on the 2nd Wednesday of each month\, at the Calvary Gospel Church\, 55 Queen Street\, Blind River from 2:00 – 3:30 p.m.  For more information please call Tanya\, First Link Coordinator\, at 705-848-8145.
URL:https://huronshores.ca/event/alzheimer-info-discussion-group-2/2017-11-02/
LOCATION:ON
CATEGORIES:Community News
ATTACH;FMTTYPE=image/jpeg:https://huronshores.ca/wp-content/uploads/2013/01/Alzheimers-Disease.jpg
END:VEVENT
BEGIN:VEVENT
DTSTART;TZID=America/Toronto:20171103T140000
DTEND;TZID=America/Toronto:20171103T153000
DTSTAMP:20260424T100241
CREATED:20151021T181815Z
LAST-MODIFIED:20151021T181815Z
UID:10016480-1509717600-1509723000@huronshores.ca
SUMMARY:Alzheimer Info & Discussion Group
DESCRIPTION:The Alzheimer Society of Sault Ste. Marie & Algoma District hosts an Information & Discussion Group on the 2nd Wednesday of each month\, at the Calvary Gospel Church\, 55 Queen Street\, Blind River from 2:00 – 3:30 p.m.  For more information please call Tanya\, First Link Coordinator\, at 705-848-8145.
URL:https://huronshores.ca/event/alzheimer-info-discussion-group-2/2017-11-03/
LOCATION:ON
CATEGORIES:Community News
ATTACH;FMTTYPE=image/jpeg:https://huronshores.ca/wp-content/uploads/2013/01/Alzheimers-Disease.jpg
END:VEVENT
BEGIN:VEVENT
DTSTART;TZID=America/Toronto:20171104T140000
DTEND;TZID=America/Toronto:20171104T153000
DTSTAMP:20260424T100241
CREATED:20151021T181815Z
LAST-MODIFIED:20151021T181815Z
UID:10016481-1509804000-1509809400@huronshores.ca
SUMMARY:Alzheimer Info & Discussion Group
DESCRIPTION:The Alzheimer Society of Sault Ste. Marie & Algoma District hosts an Information & Discussion Group on the 2nd Wednesday of each month\, at the Calvary Gospel Church\, 55 Queen Street\, Blind River from 2:00 – 3:30 p.m.  For more information please call Tanya\, First Link Coordinator\, at 705-848-8145.
URL:https://huronshores.ca/event/alzheimer-info-discussion-group-2/2017-11-04/
LOCATION:ON
CATEGORIES:Community News
ATTACH;FMTTYPE=image/jpeg:https://huronshores.ca/wp-content/uploads/2013/01/Alzheimers-Disease.jpg
END:VEVENT
BEGIN:VEVENT
DTSTART;VALUE=DATE:20171105
DTEND;VALUE=DATE:20171106
DTSTAMP:20260424T100241
CREATED:20161219T153318Z
LAST-MODIFIED:20161219T153318Z
UID:10019496-1509840000-1509926399@huronshores.ca
SUMMARY:Daylight Saving Time Ends
DESCRIPTION:It’s time to fall back.  Don’t forget to set your clocks back one hour when you go to bed on Saturday night!  Daylight Saving Time ends early Sunday morning\, November 5/17.
URL:https://huronshores.ca/event/daylight-saving-time-ends-3/
LOCATION:ON
CATEGORIES:Community News
ATTACH;FMTTYPE=image/jpeg:https://huronshores.ca/wp-content/uploads/2015/07/fall-back.jpg
END:VEVENT
BEGIN:VEVENT
DTSTART;TZID=America/Toronto:20171105T140000
DTEND;TZID=America/Toronto:20171105T153000
DTSTAMP:20260424T100241
CREATED:20151021T181815Z
LAST-MODIFIED:20151021T181815Z
UID:10016482-1509890400-1509895800@huronshores.ca
SUMMARY:Alzheimer Info & Discussion Group
DESCRIPTION:The Alzheimer Society of Sault Ste. Marie & Algoma District hosts an Information & Discussion Group on the 2nd Wednesday of each month\, at the Calvary Gospel Church\, 55 Queen Street\, Blind River from 2:00 – 3:30 p.m.  For more information please call Tanya\, First Link Coordinator\, at 705-848-8145.
URL:https://huronshores.ca/event/alzheimer-info-discussion-group-2/2017-11-05/
LOCATION:ON
CATEGORIES:Community News
ATTACH;FMTTYPE=image/jpeg:https://huronshores.ca/wp-content/uploads/2013/01/Alzheimers-Disease.jpg
END:VEVENT
BEGIN:VEVENT
DTSTART;TZID=America/Toronto:20171106T140000
DTEND;TZID=America/Toronto:20171106T153000
DTSTAMP:20260424T100241
CREATED:20151021T181815Z
LAST-MODIFIED:20151021T181815Z
UID:10016483-1509976800-1509982200@huronshores.ca
SUMMARY:Alzheimer Info & Discussion Group
DESCRIPTION:The Alzheimer Society of Sault Ste. Marie & Algoma District hosts an Information & Discussion Group on the 2nd Wednesday of each month\, at the Calvary Gospel Church\, 55 Queen Street\, Blind River from 2:00 – 3:30 p.m.  For more information please call Tanya\, First Link Coordinator\, at 705-848-8145.
URL:https://huronshores.ca/event/alzheimer-info-discussion-group-2/2017-11-06/
LOCATION:ON
CATEGORIES:Community News
ATTACH;FMTTYPE=image/jpeg:https://huronshores.ca/wp-content/uploads/2013/01/Alzheimers-Disease.jpg
END:VEVENT
BEGIN:VEVENT
DTSTART;TZID=America/Toronto:20171107T110000
DTEND;TZID=America/Toronto:20171107T120000
DTSTAMP:20260424T100241
CREATED:20161129T195706Z
LAST-MODIFIED:20161129T195706Z
UID:10019992-1510052400-1510056000@huronshores.ca
SUMMARY:MP Carol Hughes Constituency Clinic
DESCRIPTION:Algoma-Manitoulin-Kapuskasing MP Carol Hughes will hold  Constituency Clinics in 2017 from 11:00 a.m. to Noon at the Municipal Office\, 7 Bridge St.\, Iron Bridge on the following Thursdays:  January 12\, March 9\, May 1\, September 7\, and November 9.  For further information please contact the Elliot Lake  Constituency Office as listed below.
URL:https://huronshores.ca/event/mp-carol-hughes-constituency-clinic-2/2017-11-07/
LOCATION:ON
CATEGORIES:Community News
ATTACH;FMTTYPE=image/jpeg:https://huronshores.ca/wp-content/uploads/2016/11/HughesCarol_NDP1.jpg
END:VEVENT
BEGIN:VEVENT
DTSTART;TZID=America/Toronto:20171107T140000
DTEND;TZID=America/Toronto:20171107T153000
DTSTAMP:20260424T100241
CREATED:20151021T181815Z
LAST-MODIFIED:20151021T181815Z
UID:10016484-1510063200-1510068600@huronshores.ca
SUMMARY:Alzheimer Info & Discussion Group
DESCRIPTION:The Alzheimer Society of Sault Ste. Marie & Algoma District hosts an Information & Discussion Group on the 2nd Wednesday of each month\, at the Calvary Gospel Church\, 55 Queen Street\, Blind River from 2:00 – 3:30 p.m.  For more information please call Tanya\, First Link Coordinator\, at 705-848-8145.
URL:https://huronshores.ca/event/alzheimer-info-discussion-group-2/2017-11-07/
LOCATION:ON
CATEGORIES:Community News
ATTACH;FMTTYPE=image/jpeg:https://huronshores.ca/wp-content/uploads/2013/01/Alzheimers-Disease.jpg
END:VEVENT
BEGIN:VEVENT
DTSTART;TZID=America/Toronto:20171108T140000
DTEND;TZID=America/Toronto:20171108T153000
DTSTAMP:20260424T100241
CREATED:20151021T181815Z
LAST-MODIFIED:20151021T181815Z
UID:10016485-1510149600-1510155000@huronshores.ca
SUMMARY:Alzheimer Info & Discussion Group
DESCRIPTION:The Alzheimer Society of Sault Ste. Marie & Algoma District hosts an Information & Discussion Group on the 2nd Wednesday of each month\, at the Calvary Gospel Church\, 55 Queen Street\, Blind River from 2:00 – 3:30 p.m.  For more information please call Tanya\, First Link Coordinator\, at 705-848-8145.
URL:https://huronshores.ca/event/alzheimer-info-discussion-group-2/2017-11-08/
LOCATION:ON
CATEGORIES:Community News
ATTACH;FMTTYPE=image/jpeg:https://huronshores.ca/wp-content/uploads/2013/01/Alzheimers-Disease.jpg
END:VEVENT
BEGIN:VEVENT
DTSTART;TZID=America/Toronto:20171109T140000
DTEND;TZID=America/Toronto:20171109T153000
DTSTAMP:20260424T100241
CREATED:20151021T181815Z
LAST-MODIFIED:20151021T181815Z
UID:10016486-1510236000-1510241400@huronshores.ca
SUMMARY:Alzheimer Info & Discussion Group
DESCRIPTION:The Alzheimer Society of Sault Ste. Marie & Algoma District hosts an Information & Discussion Group on the 2nd Wednesday of each month\, at the Calvary Gospel Church\, 55 Queen Street\, Blind River from 2:00 – 3:30 p.m.  For more information please call Tanya\, First Link Coordinator\, at 705-848-8145.
URL:https://huronshores.ca/event/alzheimer-info-discussion-group-2/2017-11-09/
LOCATION:ON
CATEGORIES:Community News
ATTACH;FMTTYPE=image/jpeg:https://huronshores.ca/wp-content/uploads/2013/01/Alzheimers-Disease.jpg
END:VEVENT
BEGIN:VEVENT
DTSTART;TZID=America/Toronto:20171110T140000
DTEND;TZID=America/Toronto:20171110T153000
DTSTAMP:20260424T100241
CREATED:20151021T181815Z
LAST-MODIFIED:20151021T181815Z
UID:10016487-1510322400-1510327800@huronshores.ca
SUMMARY:Alzheimer Info & Discussion Group
DESCRIPTION:The Alzheimer Society of Sault Ste. Marie & Algoma District hosts an Information & Discussion Group on the 2nd Wednesday of each month\, at the Calvary Gospel Church\, 55 Queen Street\, Blind River from 2:00 – 3:30 p.m.  For more information please call Tanya\, First Link Coordinator\, at 705-848-8145.
URL:https://huronshores.ca/event/alzheimer-info-discussion-group-2/2017-11-10/
LOCATION:ON
CATEGORIES:Community News
ATTACH;FMTTYPE=image/jpeg:https://huronshores.ca/wp-content/uploads/2013/01/Alzheimers-Disease.jpg
END:VEVENT
BEGIN:VEVENT
DTSTART;TZID=America/Toronto:20171111T140000
DTEND;TZID=America/Toronto:20171111T153000
DTSTAMP:20260424T100241
CREATED:20151021T181815Z
LAST-MODIFIED:20151021T181815Z
UID:10016488-1510408800-1510414200@huronshores.ca
SUMMARY:Alzheimer Info & Discussion Group
DESCRIPTION:The Alzheimer Society of Sault Ste. Marie & Algoma District hosts an Information & Discussion Group on the 2nd Wednesday of each month\, at the Calvary Gospel Church\, 55 Queen Street\, Blind River from 2:00 – 3:30 p.m.  For more information please call Tanya\, First Link Coordinator\, at 705-848-8145.
URL:https://huronshores.ca/event/alzheimer-info-discussion-group-2/2017-11-11/
LOCATION:ON
CATEGORIES:Community News
ATTACH;FMTTYPE=image/jpeg:https://huronshores.ca/wp-content/uploads/2013/01/Alzheimers-Disease.jpg
END:VEVENT
BEGIN:VEVENT
DTSTART;TZID=America/Toronto:20171112T140000
DTEND;TZID=America/Toronto:20171112T153000
DTSTAMP:20260424T100241
CREATED:20151021T181815Z
LAST-MODIFIED:20151021T181815Z
UID:10016489-1510495200-1510500600@huronshores.ca
SUMMARY:Alzheimer Info & Discussion Group
DESCRIPTION:The Alzheimer Society of Sault Ste. Marie & Algoma District hosts an Information & Discussion Group on the 2nd Wednesday of each month\, at the Calvary Gospel Church\, 55 Queen Street\, Blind River from 2:00 – 3:30 p.m.  For more information please call Tanya\, First Link Coordinator\, at 705-848-8145.
URL:https://huronshores.ca/event/alzheimer-info-discussion-group-2/2017-11-12/
LOCATION:ON
CATEGORIES:Community News
ATTACH;FMTTYPE=image/jpeg:https://huronshores.ca/wp-content/uploads/2013/01/Alzheimers-Disease.jpg
END:VEVENT
BEGIN:VEVENT
DTSTART;TZID=America/Toronto:20171113T140000
DTEND;TZID=America/Toronto:20171113T153000
DTSTAMP:20260424T100241
CREATED:20151021T181815Z
LAST-MODIFIED:20151021T181815Z
UID:10016490-1510581600-1510587000@huronshores.ca
SUMMARY:Alzheimer Info & Discussion Group
DESCRIPTION:The Alzheimer Society of Sault Ste. Marie & Algoma District hosts an Information & Discussion Group on the 2nd Wednesday of each month\, at the Calvary Gospel Church\, 55 Queen Street\, Blind River from 2:00 – 3:30 p.m.  For more information please call Tanya\, First Link Coordinator\, at 705-848-8145.
URL:https://huronshores.ca/event/alzheimer-info-discussion-group-2/2017-11-13/
LOCATION:ON
CATEGORIES:Community News
ATTACH;FMTTYPE=image/jpeg:https://huronshores.ca/wp-content/uploads/2013/01/Alzheimers-Disease.jpg
END:VEVENT
BEGIN:VEVENT
DTSTART;TZID=America/Toronto:20171114T140000
DTEND;TZID=America/Toronto:20171114T153000
DTSTAMP:20260424T100241
CREATED:20151021T181815Z
LAST-MODIFIED:20151021T181815Z
UID:10016491-1510668000-1510673400@huronshores.ca
SUMMARY:Alzheimer Info & Discussion Group
DESCRIPTION:The Alzheimer Society of Sault Ste. Marie & Algoma District hosts an Information & Discussion Group on the 2nd Wednesday of each month\, at the Calvary Gospel Church\, 55 Queen Street\, Blind River from 2:00 – 3:30 p.m.  For more information please call Tanya\, First Link Coordinator\, at 705-848-8145.
URL:https://huronshores.ca/event/alzheimer-info-discussion-group-2/2017-11-14/
LOCATION:ON
CATEGORIES:Community News
ATTACH;FMTTYPE=image/jpeg:https://huronshores.ca/wp-content/uploads/2013/01/Alzheimers-Disease.jpg
END:VEVENT
BEGIN:VEVENT
DTSTART;TZID=America/Toronto:20171115T093000
DTEND;TZID=America/Toronto:20171115T190000
DTSTAMP:20260424T100241
CREATED:20171031T142703Z
LAST-MODIFIED:20171031T142703Z
UID:10019918-1510738200-1510772400@huronshores.ca
SUMMARY:Flu Shot Clinic
DESCRIPTION:Algoma Public (APH) hosts a Flu Shot Clinic on Wednesday\, November 15/17 from 9:30 a.m. to 7:00 p.m. at the Iron Bridge Lions Club Hall.  Call the APH Toll Free number to book your appointment time:  1-800-469-2449.
URL:https://huronshores.ca/event/flu-shot-clinic/
LOCATION:ON
CATEGORIES:Community News,Health & Safety
ATTACH;FMTTYPE=image/png:https://huronshores.ca/wp-content/uploads/2017/10/Flu-Shot-Image.png
END:VEVENT
BEGIN:VEVENT
DTSTART;TZID=America/Toronto:20171115T140000
DTEND;TZID=America/Toronto:20171115T153000
DTSTAMP:20260424T100241
CREATED:20151021T181815Z
LAST-MODIFIED:20151021T181815Z
UID:10016492-1510754400-1510759800@huronshores.ca
SUMMARY:Alzheimer Info & Discussion Group
DESCRIPTION:The Alzheimer Society of Sault Ste. Marie & Algoma District hosts an Information & Discussion Group on the 2nd Wednesday of each month\, at the Calvary Gospel Church\, 55 Queen Street\, Blind River from 2:00 – 3:30 p.m.  For more information please call Tanya\, First Link Coordinator\, at 705-848-8145.
URL:https://huronshores.ca/event/alzheimer-info-discussion-group-2/2017-11-15/
LOCATION:ON
CATEGORIES:Community News
ATTACH;FMTTYPE=image/jpeg:https://huronshores.ca/wp-content/uploads/2013/01/Alzheimers-Disease.jpg
END:VEVENT
BEGIN:VEVENT
DTSTART;TZID=America/Toronto:20171116T093000
DTEND;TZID=America/Toronto:20171116T120000
DTSTAMP:20260424T100241
CREATED:20171031T143254Z
LAST-MODIFIED:20171031T143254Z
UID:10019919-1510824600-1510833600@huronshores.ca
SUMMARY:Diabetic Clinic
DESCRIPTION:The Huron Shores Family Health Team from Blind River will host a Diabetic Clinic on Thursday\, November 16/17 from 9:30 a.m. to Noon at the Iron Bridge Lions Club Hall\, 10 Clarissa Street.  Contact Nancy at 705-356-1666 ext. 265 for details.
URL:https://huronshores.ca/event/diabetic-clinic/
LOCATION:ON
CATEGORIES:Community News,Health & Safety
ATTACH;FMTTYPE=image/jpeg:https://huronshores.ca/wp-content/uploads/2017/08/Huron-Shores-Family-Health-Team-Logo.jpg
END:VEVENT
BEGIN:VEVENT
DTSTART;TZID=America/Toronto:20171116T140000
DTEND;TZID=America/Toronto:20171116T153000
DTSTAMP:20260424T100241
CREATED:20151021T181815Z
LAST-MODIFIED:20151021T181815Z
UID:10016493-1510840800-1510846200@huronshores.ca
SUMMARY:Alzheimer Info & Discussion Group
DESCRIPTION:The Alzheimer Society of Sault Ste. Marie & Algoma District hosts an Information & Discussion Group on the 2nd Wednesday of each month\, at the Calvary Gospel Church\, 55 Queen Street\, Blind River from 2:00 – 3:30 p.m.  For more information please call Tanya\, First Link Coordinator\, at 705-848-8145.
URL:https://huronshores.ca/event/alzheimer-info-discussion-group-2/2017-11-16/
LOCATION:ON
CATEGORIES:Community News
ATTACH;FMTTYPE=image/jpeg:https://huronshores.ca/wp-content/uploads/2013/01/Alzheimers-Disease.jpg
END:VEVENT
BEGIN:VEVENT
DTSTART;TZID=America/Toronto:20171117T100000
DTEND;TZID=America/Toronto:20171117T220000
DTSTAMP:20260424T100241
CREATED:20171116T203636Z
LAST-MODIFIED:20171116T203636Z
UID:10020391-1510912800-1510956000@huronshores.ca
SUMMARY:Blind River Moonlight Madness
DESCRIPTION:The Blind River & District Chamber of Commerce hosts Blind River Moonlight Madness\, Friday\, November 17/17 from 10:00 a.m. to 10:00 p.m.  Santa Claus Parade in the evening.
URL:https://huronshores.ca/event/blind-river-moonlight-madness/
LOCATION:ON
CATEGORIES:Community News
ATTACH;FMTTYPE=image/jpeg:https://huronshores.ca/wp-content/uploads/2017/11/Moonlight-Madness-.jpg
END:VEVENT
BEGIN:VEVENT
DTSTART;TZID=America/Toronto:20171117T140000
DTEND;TZID=America/Toronto:20171117T153000
DTSTAMP:20260424T100241
CREATED:20151021T181815Z
LAST-MODIFIED:20151021T181815Z
UID:10016494-1510927200-1510932600@huronshores.ca
SUMMARY:Alzheimer Info & Discussion Group
DESCRIPTION:The Alzheimer Society of Sault Ste. Marie & Algoma District hosts an Information & Discussion Group on the 2nd Wednesday of each month\, at the Calvary Gospel Church\, 55 Queen Street\, Blind River from 2:00 – 3:30 p.m.  For more information please call Tanya\, First Link Coordinator\, at 705-848-8145.
URL:https://huronshores.ca/event/alzheimer-info-discussion-group-2/2017-11-17/
LOCATION:ON
CATEGORIES:Community News
ATTACH;FMTTYPE=image/jpeg:https://huronshores.ca/wp-content/uploads/2013/01/Alzheimers-Disease.jpg
END:VEVENT
BEGIN:VEVENT
DTSTART;TZID=America/Toronto:20171117T180000
DTEND;TZID=America/Toronto:20171117T210000
DTSTAMP:20260424T100241
CREATED:20171116T153915Z
LAST-MODIFIED:20171116T153915Z
UID:10019934-1510941600-1510952400@huronshores.ca
SUMMARY:Bruce Mines Holy Walk - The Journey of Love
DESCRIPTION:The Bruce Mines Holy Walk will be held Friday & Saturday\, November 17 & 18/17\, from 6:00 to 9:00 p.m.\, beginning at the Bruce Mines United Church\, Doors open at 5:30 p.m.  Please dress warmly.  Refreshments following the Walk will be available in the Church basement.  Free will offering.  Interdenominational.  Buses\, seniors and physically-challenged guests can be accommodated.  Please call Arlene at 705-785-3458 or email bruceminesholywalk@gmail.com.
URL:https://huronshores.ca/event/bruce-mines-holy-walk-journey-love/2017-11-17/
LOCATION:ON
CATEGORIES:Community News
ATTACH;FMTTYPE=image/jpeg:https://huronshores.ca/wp-content/uploads/2017/11/Holy-Walk.jpg
END:VEVENT
BEGIN:VEVENT
DTSTART;TZID=America/Toronto:20171117T183000
DTEND;TZID=America/Toronto:20171117T183000
DTSTAMP:20260424T100241
CREATED:20171116T174407Z
LAST-MODIFIED:20171116T174407Z
UID:10020381-1510943400-1510943400@huronshores.ca
SUMMARY:Blind River Santa Claus Parade
DESCRIPTION:Blind River hosts its 5th Annual Santa Claus Parade on Friday\, November 17/17.  The parade will start at 6:30 p.m. and travel along Woodward Avenue ending at the Town Hall.  Come to the Library after the Parade for pictures with Santa.  For details contact the Town of Blind River\, 705-356-2251 or info@blindriver.ca.
URL:https://huronshores.ca/event/blind-river-santa-claus-parade/
LOCATION:ON
CATEGORIES:Community News
ATTACH;FMTTYPE=image/jpeg:https://huronshores.ca/wp-content/uploads/2017/11/Santa-Claus-Parade.jpg
END:VEVENT
END:VCALENDAR