BEGIN:VCALENDAR
VERSION:2.0
PRODID:-//Huron Shores - ECPv6.15.11//NONSGML v1.0//EN
CALSCALE:GREGORIAN
METHOD:PUBLISH
X-WR-CALNAME:Huron Shores
X-ORIGINAL-URL:https://huronshores.ca
X-WR-CALDESC:Events for Huron Shores
REFRESH-INTERVAL;VALUE=DURATION:PT1H
X-Robots-Tag:noindex
X-PUBLISHED-TTL:PT1H
BEGIN:VTIMEZONE
TZID:America/Toronto
BEGIN:DAYLIGHT
TZOFFSETFROM:-0500
TZOFFSETTO:-0400
TZNAME:EDT
DTSTART:20180311T070000
END:DAYLIGHT
BEGIN:STANDARD
TZOFFSETFROM:-0400
TZOFFSETTO:-0500
TZNAME:EST
DTSTART:20181104T060000
END:STANDARD
BEGIN:DAYLIGHT
TZOFFSETFROM:-0500
TZOFFSETTO:-0400
TZNAME:EDT
DTSTART:20190310T070000
END:DAYLIGHT
BEGIN:STANDARD
TZOFFSETFROM:-0400
TZOFFSETTO:-0500
TZNAME:EST
DTSTART:20191103T060000
END:STANDARD
BEGIN:DAYLIGHT
TZOFFSETFROM:-0500
TZOFFSETTO:-0400
TZNAME:EDT
DTSTART:20200308T070000
END:DAYLIGHT
BEGIN:STANDARD
TZOFFSETFROM:-0400
TZOFFSETTO:-0500
TZNAME:EST
DTSTART:20201101T060000
END:STANDARD
END:VTIMEZONE
BEGIN:VEVENT
DTSTART;TZID=America/Toronto:20190327T140000
DTEND;TZID=America/Toronto:20190327T153000
DTSTAMP:20260422T200842
CREATED:20151021T181815Z
LAST-MODIFIED:20151021T181815Z
UID:10016990-1553695200-1553700600@huronshores.ca
SUMMARY:Alzheimer Info & Discussion Group
DESCRIPTION:The Alzheimer Society of Sault Ste. Marie & Algoma District hosts an Information & Discussion Group on the 2nd Wednesday of each month\, at the Calvary Gospel Church\, 55 Queen Street\, Blind River from 2:00 – 3:30 p.m.  For more information please call Tanya\, First Link Coordinator\, at 705-848-8145.
URL:https://huronshores.ca/event/alzheimer-info-discussion-group-2/2019-03-27/
LOCATION:ON
CATEGORIES:Community News
ATTACH;FMTTYPE=image/jpeg:https://huronshores.ca/wp-content/uploads/2013/01/Alzheimers-Disease.jpg
END:VEVENT
BEGIN:VEVENT
DTSTART;TZID=America/Toronto:20190328T140000
DTEND;TZID=America/Toronto:20190328T153000
DTSTAMP:20260422T200842
CREATED:20151021T181815Z
LAST-MODIFIED:20151021T181815Z
UID:10016991-1553781600-1553787000@huronshores.ca
SUMMARY:Alzheimer Info & Discussion Group
DESCRIPTION:The Alzheimer Society of Sault Ste. Marie & Algoma District hosts an Information & Discussion Group on the 2nd Wednesday of each month\, at the Calvary Gospel Church\, 55 Queen Street\, Blind River from 2:00 – 3:30 p.m.  For more information please call Tanya\, First Link Coordinator\, at 705-848-8145.
URL:https://huronshores.ca/event/alzheimer-info-discussion-group-2/2019-03-28/
LOCATION:ON
CATEGORIES:Community News
ATTACH;FMTTYPE=image/jpeg:https://huronshores.ca/wp-content/uploads/2013/01/Alzheimers-Disease.jpg
END:VEVENT
BEGIN:VEVENT
DTSTART;TZID=America/Toronto:20190329T140000
DTEND;TZID=America/Toronto:20190329T153000
DTSTAMP:20260422T200842
CREATED:20151021T181815Z
LAST-MODIFIED:20151021T181815Z
UID:10016992-1553868000-1553873400@huronshores.ca
SUMMARY:Alzheimer Info & Discussion Group
DESCRIPTION:The Alzheimer Society of Sault Ste. Marie & Algoma District hosts an Information & Discussion Group on the 2nd Wednesday of each month\, at the Calvary Gospel Church\, 55 Queen Street\, Blind River from 2:00 – 3:30 p.m.  For more information please call Tanya\, First Link Coordinator\, at 705-848-8145.
URL:https://huronshores.ca/event/alzheimer-info-discussion-group-2/2019-03-29/
LOCATION:ON
CATEGORIES:Community News
ATTACH;FMTTYPE=image/jpeg:https://huronshores.ca/wp-content/uploads/2013/01/Alzheimers-Disease.jpg
END:VEVENT
BEGIN:VEVENT
DTSTART;TZID=America/Toronto:20190330T140000
DTEND;TZID=America/Toronto:20190330T153000
DTSTAMP:20260422T200842
CREATED:20151021T181815Z
LAST-MODIFIED:20151021T181815Z
UID:10016993-1553954400-1553959800@huronshores.ca
SUMMARY:Alzheimer Info & Discussion Group
DESCRIPTION:The Alzheimer Society of Sault Ste. Marie & Algoma District hosts an Information & Discussion Group on the 2nd Wednesday of each month\, at the Calvary Gospel Church\, 55 Queen Street\, Blind River from 2:00 – 3:30 p.m.  For more information please call Tanya\, First Link Coordinator\, at 705-848-8145.
URL:https://huronshores.ca/event/alzheimer-info-discussion-group-2/2019-03-30/
LOCATION:ON
CATEGORIES:Community News
ATTACH;FMTTYPE=image/jpeg:https://huronshores.ca/wp-content/uploads/2013/01/Alzheimers-Disease.jpg
END:VEVENT
BEGIN:VEVENT
DTSTART;TZID=America/Toronto:20190331T090000
DTEND;TZID=America/Toronto:20190331T140000
DTSTAMP:20260422T200842
CREATED:20190322T164431Z
LAST-MODIFIED:20190322T164431Z
UID:10020187-1554022800-1554040800@huronshores.ca
SUMMARY:Rod & Gun Show
DESCRIPTION:The Wharncliffe Citizens’ Committee is hosting a Rod & Gun Show on Sunday\, March 31/19 from 9:00 a.m. – 2:00 p.m. at the Wharncliffe Community Hall\, Hwy. 129\, Wharncliffe\, 25 km north of Thessalon.  Entry fee is $5/person\, includes Hot Dog & Coffee.
URL:https://huronshores.ca/event/rod-gun-show/
LOCATION:ON
CATEGORIES:Community News,Recreation
ATTACH;FMTTYPE=image/jpeg:https://huronshores.ca/wp-content/uploads/2019/03/WharncliffeGunShow.jpg
END:VEVENT
BEGIN:VEVENT
DTSTART;TZID=America/Toronto:20190331T093000
DTEND;TZID=America/Toronto:20190331T140000
DTSTAMP:20260422T200842
CREATED:20190220T170603Z
LAST-MODIFIED:20190220T170603Z
UID:10021429-1554024600-1554040800@huronshores.ca
SUMMARY:Pancake Brunch
DESCRIPTION:The Sowerby Heritage Centre Committee will host its annual Pancake Brunch\, Sunday\, March 31/19 from 9:30 a.m. – 2:00 p.m. at Sowerby Hall\, 1410 Basswood Lake Rd.  Adults $12; Children aged 5-12 $6; Under 5 – Free.  Pancakes\, sausages\, boiled eggs\, maple syrup\, oranges\, coffee and muffins.  Come and join in the fun!
URL:https://huronshores.ca/event/pancake-brunch/
LOCATION:ON
CATEGORIES:Community News,Local Food
ATTACH;FMTTYPE=image/png:https://huronshores.ca/wp-content/uploads/2014/03/Pancakes.png
END:VEVENT
BEGIN:VEVENT
DTSTART;TZID=America/Toronto:20190331T140000
DTEND;TZID=America/Toronto:20190331T153000
DTSTAMP:20260422T200842
CREATED:20151021T181815Z
LAST-MODIFIED:20151021T181815Z
UID:10016994-1554040800-1554046200@huronshores.ca
SUMMARY:Alzheimer Info & Discussion Group
DESCRIPTION:The Alzheimer Society of Sault Ste. Marie & Algoma District hosts an Information & Discussion Group on the 2nd Wednesday of each month\, at the Calvary Gospel Church\, 55 Queen Street\, Blind River from 2:00 – 3:30 p.m.  For more information please call Tanya\, First Link Coordinator\, at 705-848-8145.
URL:https://huronshores.ca/event/alzheimer-info-discussion-group-2/2019-03-31/
LOCATION:ON
CATEGORIES:Community News
ATTACH;FMTTYPE=image/jpeg:https://huronshores.ca/wp-content/uploads/2013/01/Alzheimers-Disease.jpg
END:VEVENT
BEGIN:VEVENT
DTSTART;TZID=America/Toronto:20190401T140000
DTEND;TZID=America/Toronto:20190401T153000
DTSTAMP:20260422T200842
CREATED:20151021T181815Z
LAST-MODIFIED:20151021T181815Z
UID:10016995-1554127200-1554132600@huronshores.ca
SUMMARY:Alzheimer Info & Discussion Group
DESCRIPTION:The Alzheimer Society of Sault Ste. Marie & Algoma District hosts an Information & Discussion Group on the 2nd Wednesday of each month\, at the Calvary Gospel Church\, 55 Queen Street\, Blind River from 2:00 – 3:30 p.m.  For more information please call Tanya\, First Link Coordinator\, at 705-848-8145.
URL:https://huronshores.ca/event/alzheimer-info-discussion-group-2/2019-04-01/
LOCATION:ON
CATEGORIES:Community News
ATTACH;FMTTYPE=image/jpeg:https://huronshores.ca/wp-content/uploads/2013/01/Alzheimers-Disease.jpg
END:VEVENT
BEGIN:VEVENT
DTSTART;VALUE=DATE:20190402
DTEND;VALUE=DATE:20190403
DTSTAMP:20260422T200842
CREATED:20190115T164419Z
LAST-MODIFIED:20190115T164419Z
UID:10021401-1554163200-1554249599@huronshores.ca
SUMMARY:April 2:  World Autism Awareness Day
DESCRIPTION:The Council of the Corporation of the Municipality of Huron Shores supports the advocacy and education efforts of Autism Ontario by proclaiming April 2nd as World Autism Awareness Day.  As per the request from Autism Ontario\,  Huron Shores will Raise the Flag for Autism Awareness at Noon on Tuesday\, April 2nd at Tally-Ho Park\, Iron Bridge.  All are welcome to attend. \nAbout Autism Ontario:\nAutism Ontario is dedicated to increasing public awareness about autism and the day-to-day issues faced by individuals with autism\, their families\, and the professionals with whom they interact. The association and its chapters share common goals of providing information and education\, supporting research\, and advocating for programs and services for the autism community.
URL:https://huronshores.ca/event/april-2-world-autism-awareness-day/
LOCATION:ON
CATEGORIES:Community News,Health & Safety
ATTACH;FMTTYPE=image/jpeg:https://huronshores.ca/wp-content/uploads/2014/04/Raise-the-Flag-EMAIL.jpg
END:VEVENT
BEGIN:VEVENT
DTSTART;TZID=America/Toronto:20190402T140000
DTEND;TZID=America/Toronto:20190402T153000
DTSTAMP:20260422T200842
CREATED:20151021T181815Z
LAST-MODIFIED:20151021T181815Z
UID:10016996-1554213600-1554219000@huronshores.ca
SUMMARY:Alzheimer Info & Discussion Group
DESCRIPTION:The Alzheimer Society of Sault Ste. Marie & Algoma District hosts an Information & Discussion Group on the 2nd Wednesday of each month\, at the Calvary Gospel Church\, 55 Queen Street\, Blind River from 2:00 – 3:30 p.m.  For more information please call Tanya\, First Link Coordinator\, at 705-848-8145.
URL:https://huronshores.ca/event/alzheimer-info-discussion-group-2/2019-04-02/
LOCATION:ON
CATEGORIES:Community News
ATTACH;FMTTYPE=image/jpeg:https://huronshores.ca/wp-content/uploads/2013/01/Alzheimers-Disease.jpg
END:VEVENT
BEGIN:VEVENT
DTSTART;TZID=America/Toronto:20190403T140000
DTEND;TZID=America/Toronto:20190403T153000
DTSTAMP:20260422T200842
CREATED:20151021T181815Z
LAST-MODIFIED:20151021T181815Z
UID:10016997-1554300000-1554305400@huronshores.ca
SUMMARY:Alzheimer Info & Discussion Group
DESCRIPTION:The Alzheimer Society of Sault Ste. Marie & Algoma District hosts an Information & Discussion Group on the 2nd Wednesday of each month\, at the Calvary Gospel Church\, 55 Queen Street\, Blind River from 2:00 – 3:30 p.m.  For more information please call Tanya\, First Link Coordinator\, at 705-848-8145.
URL:https://huronshores.ca/event/alzheimer-info-discussion-group-2/2019-04-03/
LOCATION:ON
CATEGORIES:Community News
ATTACH;FMTTYPE=image/jpeg:https://huronshores.ca/wp-content/uploads/2013/01/Alzheimers-Disease.jpg
END:VEVENT
BEGIN:VEVENT
DTSTART;TZID=America/Toronto:20190404T140000
DTEND;TZID=America/Toronto:20190404T153000
DTSTAMP:20260422T200842
CREATED:20151021T181815Z
LAST-MODIFIED:20151021T181815Z
UID:10016998-1554386400-1554391800@huronshores.ca
SUMMARY:Alzheimer Info & Discussion Group
DESCRIPTION:The Alzheimer Society of Sault Ste. Marie & Algoma District hosts an Information & Discussion Group on the 2nd Wednesday of each month\, at the Calvary Gospel Church\, 55 Queen Street\, Blind River from 2:00 – 3:30 p.m.  For more information please call Tanya\, First Link Coordinator\, at 705-848-8145.
URL:https://huronshores.ca/event/alzheimer-info-discussion-group-2/2019-04-04/
LOCATION:ON
CATEGORIES:Community News
ATTACH;FMTTYPE=image/jpeg:https://huronshores.ca/wp-content/uploads/2013/01/Alzheimers-Disease.jpg
END:VEVENT
BEGIN:VEVENT
DTSTART;TZID=America/Toronto:20190405T140000
DTEND;TZID=America/Toronto:20190405T153000
DTSTAMP:20260422T200842
CREATED:20151021T181815Z
LAST-MODIFIED:20151021T181815Z
UID:10016999-1554472800-1554478200@huronshores.ca
SUMMARY:Alzheimer Info & Discussion Group
DESCRIPTION:The Alzheimer Society of Sault Ste. Marie & Algoma District hosts an Information & Discussion Group on the 2nd Wednesday of each month\, at the Calvary Gospel Church\, 55 Queen Street\, Blind River from 2:00 – 3:30 p.m.  For more information please call Tanya\, First Link Coordinator\, at 705-848-8145.
URL:https://huronshores.ca/event/alzheimer-info-discussion-group-2/2019-04-05/
LOCATION:ON
CATEGORIES:Community News
ATTACH;FMTTYPE=image/jpeg:https://huronshores.ca/wp-content/uploads/2013/01/Alzheimers-Disease.jpg
END:VEVENT
BEGIN:VEVENT
DTSTART;TZID=America/Toronto:20190406T140000
DTEND;TZID=America/Toronto:20190406T153000
DTSTAMP:20260422T200842
CREATED:20151021T181815Z
LAST-MODIFIED:20151021T181815Z
UID:10017000-1554559200-1554564600@huronshores.ca
SUMMARY:Alzheimer Info & Discussion Group
DESCRIPTION:The Alzheimer Society of Sault Ste. Marie & Algoma District hosts an Information & Discussion Group on the 2nd Wednesday of each month\, at the Calvary Gospel Church\, 55 Queen Street\, Blind River from 2:00 – 3:30 p.m.  For more information please call Tanya\, First Link Coordinator\, at 705-848-8145.
URL:https://huronshores.ca/event/alzheimer-info-discussion-group-2/2019-04-06/
LOCATION:ON
CATEGORIES:Community News
ATTACH;FMTTYPE=image/jpeg:https://huronshores.ca/wp-content/uploads/2013/01/Alzheimers-Disease.jpg
END:VEVENT
BEGIN:VEVENT
DTSTART;TZID=America/Toronto:20190406T170000
DTEND;TZID=America/Toronto:20190406T170000
DTSTAMP:20260422T200842
CREATED:20190328T135900Z
LAST-MODIFIED:20190328T135900Z
UID:10020361-1554570000-1554570000@huronshores.ca
SUMMARY:Spaghetti Supper & Natural Playground Presentation
DESCRIPTION:The Little Rapids Recreation Complex Committee is proud to present a Spaghetti Supper & Natural Playground Presentation on Saturday\, April 6/19 at 5:00 p.m.\, Little Rapids Community Centre\, 4 Little Rapids Rd.  The Committee is seeking creative and skilled people to help plan and implement a Natural Playground in Little Rapids.  This is a family event and child participation is highly encouraged.  Admission for the dinner is by donation.  Seating is limited.  Call Kathy at 705-297-0039 for details.
URL:https://huronshores.ca/event/spaghetti-supper-natural-playground-presentation/
LOCATION:ON
CATEGORIES:Community News,Recreation
ATTACH;FMTTYPE=image/jpeg:https://huronshores.ca/wp-content/uploads/2014/02/Pasta-Supper.jpg
END:VEVENT
BEGIN:VEVENT
DTSTART;TZID=America/Toronto:20190407T140000
DTEND;TZID=America/Toronto:20190407T153000
DTSTAMP:20260422T200842
CREATED:20151021T181815Z
LAST-MODIFIED:20151021T181815Z
UID:10017001-1554645600-1554651000@huronshores.ca
SUMMARY:Alzheimer Info & Discussion Group
DESCRIPTION:The Alzheimer Society of Sault Ste. Marie & Algoma District hosts an Information & Discussion Group on the 2nd Wednesday of each month\, at the Calvary Gospel Church\, 55 Queen Street\, Blind River from 2:00 – 3:30 p.m.  For more information please call Tanya\, First Link Coordinator\, at 705-848-8145.
URL:https://huronshores.ca/event/alzheimer-info-discussion-group-2/2019-04-07/
LOCATION:ON
CATEGORIES:Community News
ATTACH;FMTTYPE=image/jpeg:https://huronshores.ca/wp-content/uploads/2013/01/Alzheimers-Disease.jpg
END:VEVENT
BEGIN:VEVENT
DTSTART;TZID=America/Toronto:20190408T140000
DTEND;TZID=America/Toronto:20190408T153000
DTSTAMP:20260422T200842
CREATED:20151021T181815Z
LAST-MODIFIED:20151021T181815Z
UID:10017002-1554732000-1554737400@huronshores.ca
SUMMARY:Alzheimer Info & Discussion Group
DESCRIPTION:The Alzheimer Society of Sault Ste. Marie & Algoma District hosts an Information & Discussion Group on the 2nd Wednesday of each month\, at the Calvary Gospel Church\, 55 Queen Street\, Blind River from 2:00 – 3:30 p.m.  For more information please call Tanya\, First Link Coordinator\, at 705-848-8145.
URL:https://huronshores.ca/event/alzheimer-info-discussion-group-2/2019-04-08/
LOCATION:ON
CATEGORIES:Community News
ATTACH;FMTTYPE=image/jpeg:https://huronshores.ca/wp-content/uploads/2013/01/Alzheimers-Disease.jpg
END:VEVENT
BEGIN:VEVENT
DTSTART;TZID=America/Toronto:20190409T100000
DTEND;TZID=America/Toronto:20190409T120000
DTSTAMP:20260422T200842
CREATED:20190403T190123Z
LAST-MODIFIED:20190403T190123Z
UID:10021445-1554804000-1554811200@huronshores.ca
SUMMARY:Licensed Child Care & EarlyON Services Community Consultation
DESCRIPTION: Chi
URL:https://huronshores.ca/event/licensed-child-care-earlyon-services-community-consultation/
LOCATION:ON
CATEGORIES:Community News
END:VEVENT
BEGIN:VEVENT
DTSTART;TZID=America/Toronto:20190409T140000
DTEND;TZID=America/Toronto:20190409T153000
DTSTAMP:20260422T200842
CREATED:20151021T181815Z
LAST-MODIFIED:20151021T181815Z
UID:10017003-1554818400-1554823800@huronshores.ca
SUMMARY:Alzheimer Info & Discussion Group
DESCRIPTION:The Alzheimer Society of Sault Ste. Marie & Algoma District hosts an Information & Discussion Group on the 2nd Wednesday of each month\, at the Calvary Gospel Church\, 55 Queen Street\, Blind River from 2:00 – 3:30 p.m.  For more information please call Tanya\, First Link Coordinator\, at 705-848-8145.
URL:https://huronshores.ca/event/alzheimer-info-discussion-group-2/2019-04-09/
LOCATION:ON
CATEGORIES:Community News
ATTACH;FMTTYPE=image/jpeg:https://huronshores.ca/wp-content/uploads/2013/01/Alzheimers-Disease.jpg
END:VEVENT
BEGIN:VEVENT
DTSTART;TZID=America/Toronto:20190410T140000
DTEND;TZID=America/Toronto:20190410T153000
DTSTAMP:20260422T200842
CREATED:20151021T181815Z
LAST-MODIFIED:20151021T181815Z
UID:10017004-1554904800-1554910200@huronshores.ca
SUMMARY:Alzheimer Info & Discussion Group
DESCRIPTION:The Alzheimer Society of Sault Ste. Marie & Algoma District hosts an Information & Discussion Group on the 2nd Wednesday of each month\, at the Calvary Gospel Church\, 55 Queen Street\, Blind River from 2:00 – 3:30 p.m.  For more information please call Tanya\, First Link Coordinator\, at 705-848-8145.
URL:https://huronshores.ca/event/alzheimer-info-discussion-group-2/2019-04-10/
LOCATION:ON
CATEGORIES:Community News
ATTACH;FMTTYPE=image/jpeg:https://huronshores.ca/wp-content/uploads/2013/01/Alzheimers-Disease.jpg
END:VEVENT
BEGIN:VEVENT
DTSTART;TZID=America/Toronto:20190411T140000
DTEND;TZID=America/Toronto:20190411T153000
DTSTAMP:20260422T200842
CREATED:20151021T181815Z
LAST-MODIFIED:20151021T181815Z
UID:10017005-1554991200-1554996600@huronshores.ca
SUMMARY:Alzheimer Info & Discussion Group
DESCRIPTION:The Alzheimer Society of Sault Ste. Marie & Algoma District hosts an Information & Discussion Group on the 2nd Wednesday of each month\, at the Calvary Gospel Church\, 55 Queen Street\, Blind River from 2:00 – 3:30 p.m.  For more information please call Tanya\, First Link Coordinator\, at 705-848-8145.
URL:https://huronshores.ca/event/alzheimer-info-discussion-group-2/2019-04-11/
LOCATION:ON
CATEGORIES:Community News
ATTACH;FMTTYPE=image/jpeg:https://huronshores.ca/wp-content/uploads/2013/01/Alzheimers-Disease.jpg
END:VEVENT
BEGIN:VEVENT
DTSTART;TZID=America/Toronto:20190411T183000
DTEND;TZID=America/Toronto:20190411T183000
DTSTAMP:20260422T200842
CREATED:20190301T141442Z
LAST-MODIFIED:20190301T141442Z
UID:10021441-1555007400-1555007400@huronshores.ca
SUMMARY:HNCEA - Annual General Meeting
DESCRIPTION:The Huron North Community Economic Alliance (HNCEA) will hold its first Annual General Meeting\, April 11/19\, at the Bruce Mines Community Hall.  Doors open at 6:00 p.m.  Refreshments available at 6:30 p.m.; cash bar provided by members of the Royal Canadian Legion.  The AGM will convene at 7:00 p.m.  Food & Friends from 7:30 to 9:00 p.m.  This is an opportunity to continue to learn about the participating communities and to strengthen the regional network.
URL:https://huronshores.ca/event/hncea-annual-general-meeting/
LOCATION:ON
CATEGORIES:Community News
ATTACH;FMTTYPE=image/jpeg:https://huronshores.ca/wp-content/uploads/2019/03/HNCEA-Logo.jpg
END:VEVENT
BEGIN:VEVENT
DTSTART;TZID=America/Toronto:20190412T140000
DTEND;TZID=America/Toronto:20190412T153000
DTSTAMP:20260422T200842
CREATED:20151021T181815Z
LAST-MODIFIED:20151021T181815Z
UID:10017006-1555077600-1555083000@huronshores.ca
SUMMARY:Alzheimer Info & Discussion Group
DESCRIPTION:The Alzheimer Society of Sault Ste. Marie & Algoma District hosts an Information & Discussion Group on the 2nd Wednesday of each month\, at the Calvary Gospel Church\, 55 Queen Street\, Blind River from 2:00 – 3:30 p.m.  For more information please call Tanya\, First Link Coordinator\, at 705-848-8145.
URL:https://huronshores.ca/event/alzheimer-info-discussion-group-2/2019-04-12/
LOCATION:ON
CATEGORIES:Community News
ATTACH;FMTTYPE=image/jpeg:https://huronshores.ca/wp-content/uploads/2013/01/Alzheimers-Disease.jpg
END:VEVENT
BEGIN:VEVENT
DTSTART;TZID=America/Toronto:20190413T140000
DTEND;TZID=America/Toronto:20190413T153000
DTSTAMP:20260422T200842
CREATED:20151021T181815Z
LAST-MODIFIED:20151021T181815Z
UID:10017007-1555164000-1555169400@huronshores.ca
SUMMARY:Alzheimer Info & Discussion Group
DESCRIPTION:The Alzheimer Society of Sault Ste. Marie & Algoma District hosts an Information & Discussion Group on the 2nd Wednesday of each month\, at the Calvary Gospel Church\, 55 Queen Street\, Blind River from 2:00 – 3:30 p.m.  For more information please call Tanya\, First Link Coordinator\, at 705-848-8145.
URL:https://huronshores.ca/event/alzheimer-info-discussion-group-2/2019-04-13/
LOCATION:ON
CATEGORIES:Community News
ATTACH;FMTTYPE=image/jpeg:https://huronshores.ca/wp-content/uploads/2013/01/Alzheimers-Disease.jpg
END:VEVENT
BEGIN:VEVENT
DTSTART;TZID=America/Toronto:20190413T180000
DTEND;TZID=America/Toronto:20190413T180000
DTSTAMP:20260422T200842
CREATED:20190325T133251Z
LAST-MODIFIED:20190325T133251Z
UID:10020191-1555178400-1555178400@huronshores.ca
SUMMARY:Annual Dinner & Dessert Auction
DESCRIPTION:Elizabeth Rebekah Lodge #339 & the Algoma Manor Charitable Assn. host the Annual Dinner & Dessert Auction on Saturday\, April 13/19 at the IOOF Hall.  Doors open at 6:00 p.m.  Ham & Turkey Dinner starts at 6:30 p.m. Auction to follow Dinner.  Cash bar sponsored by the Oddfellows.  Tickets $25/person.  Tickets may be purchased at Algoma Manor\, Forestland\, Jo-Anna’s Bakery\, Main Street Pharmacy & Fluke’s Timber Mart.
URL:https://huronshores.ca/event/annual-dinner-dessert-auction/
LOCATION:ON
CATEGORIES:Community News,Fundraiser
ATTACH;FMTTYPE=image/jpeg:https://huronshores.ca/wp-content/uploads/2016/03/dessert-auction.jpg
END:VEVENT
BEGIN:VEVENT
DTSTART;TZID=America/Toronto:20190414T140000
DTEND;TZID=America/Toronto:20190414T153000
DTSTAMP:20260422T200842
CREATED:20151021T181815Z
LAST-MODIFIED:20151021T181815Z
UID:10017008-1555250400-1555255800@huronshores.ca
SUMMARY:Alzheimer Info & Discussion Group
DESCRIPTION:The Alzheimer Society of Sault Ste. Marie & Algoma District hosts an Information & Discussion Group on the 2nd Wednesday of each month\, at the Calvary Gospel Church\, 55 Queen Street\, Blind River from 2:00 – 3:30 p.m.  For more information please call Tanya\, First Link Coordinator\, at 705-848-8145.
URL:https://huronshores.ca/event/alzheimer-info-discussion-group-2/2019-04-14/
LOCATION:ON
CATEGORIES:Community News
ATTACH;FMTTYPE=image/jpeg:https://huronshores.ca/wp-content/uploads/2013/01/Alzheimers-Disease.jpg
END:VEVENT
BEGIN:VEVENT
DTSTART;TZID=America/Toronto:20190415T140000
DTEND;TZID=America/Toronto:20190415T153000
DTSTAMP:20260422T200842
CREATED:20151021T181815Z
LAST-MODIFIED:20151021T181815Z
UID:10017009-1555336800-1555342200@huronshores.ca
SUMMARY:Alzheimer Info & Discussion Group
DESCRIPTION:The Alzheimer Society of Sault Ste. Marie & Algoma District hosts an Information & Discussion Group on the 2nd Wednesday of each month\, at the Calvary Gospel Church\, 55 Queen Street\, Blind River from 2:00 – 3:30 p.m.  For more information please call Tanya\, First Link Coordinator\, at 705-848-8145.
URL:https://huronshores.ca/event/alzheimer-info-discussion-group-2/2019-04-15/
LOCATION:ON
CATEGORIES:Community News
ATTACH;FMTTYPE=image/jpeg:https://huronshores.ca/wp-content/uploads/2013/01/Alzheimers-Disease.jpg
END:VEVENT
BEGIN:VEVENT
DTSTART;TZID=America/Toronto:20190416T140000
DTEND;TZID=America/Toronto:20190416T153000
DTSTAMP:20260422T200842
CREATED:20151021T181815Z
LAST-MODIFIED:20151021T181815Z
UID:10017010-1555423200-1555428600@huronshores.ca
SUMMARY:Alzheimer Info & Discussion Group
DESCRIPTION:The Alzheimer Society of Sault Ste. Marie & Algoma District hosts an Information & Discussion Group on the 2nd Wednesday of each month\, at the Calvary Gospel Church\, 55 Queen Street\, Blind River from 2:00 – 3:30 p.m.  For more information please call Tanya\, First Link Coordinator\, at 705-848-8145.
URL:https://huronshores.ca/event/alzheimer-info-discussion-group-2/2019-04-16/
LOCATION:ON
CATEGORIES:Community News
ATTACH;FMTTYPE=image/jpeg:https://huronshores.ca/wp-content/uploads/2013/01/Alzheimers-Disease.jpg
END:VEVENT
BEGIN:VEVENT
DTSTART;TZID=America/Toronto:20190416T160000
DTEND;TZID=America/Toronto:20190416T190000
DTSTAMP:20260422T200842
CREATED:20190403T184735Z
LAST-MODIFIED:20190403T184735Z
UID:10021444-1555430400-1555441200@huronshores.ca
SUMMARY:Blood Donor Clinic
DESCRIPTION:
URL:https://huronshores.ca/event/blood-donor-clinic-5/
LOCATION:ON
CATEGORIES:Community News,Health & Safety
ATTACH;FMTTYPE=image/png:https://huronshores.ca/wp-content/uploads/2015/01/blood-home-logo.png
END:VEVENT
BEGIN:VEVENT
DTSTART;TZID=America/Toronto:20190417T140000
DTEND;TZID=America/Toronto:20190417T153000
DTSTAMP:20260422T200842
CREATED:20151021T181815Z
LAST-MODIFIED:20151021T181815Z
UID:10017011-1555509600-1555515000@huronshores.ca
SUMMARY:Alzheimer Info & Discussion Group
DESCRIPTION:The Alzheimer Society of Sault Ste. Marie & Algoma District hosts an Information & Discussion Group on the 2nd Wednesday of each month\, at the Calvary Gospel Church\, 55 Queen Street\, Blind River from 2:00 – 3:30 p.m.  For more information please call Tanya\, First Link Coordinator\, at 705-848-8145.
URL:https://huronshores.ca/event/alzheimer-info-discussion-group-2/2019-04-17/
LOCATION:ON
CATEGORIES:Community News
ATTACH;FMTTYPE=image/jpeg:https://huronshores.ca/wp-content/uploads/2013/01/Alzheimers-Disease.jpg
END:VEVENT
END:VCALENDAR