BEGIN:VCALENDAR
VERSION:2.0
PRODID:-//Huron Shores - ECPv6.15.11//NONSGML v1.0//EN
CALSCALE:GREGORIAN
METHOD:PUBLISH
X-ORIGINAL-URL:https://huronshores.ca
X-WR-CALDESC:Events for Huron Shores
REFRESH-INTERVAL;VALUE=DURATION:PT1H
X-Robots-Tag:noindex
X-PUBLISHED-TTL:PT1H
BEGIN:VTIMEZONE
TZID:America/Toronto
BEGIN:DAYLIGHT
TZOFFSETFROM:-0500
TZOFFSETTO:-0400
TZNAME:EDT
DTSTART:20150308T070000
END:DAYLIGHT
BEGIN:STANDARD
TZOFFSETFROM:-0400
TZOFFSETTO:-0500
TZNAME:EST
DTSTART:20151101T060000
END:STANDARD
BEGIN:DAYLIGHT
TZOFFSETFROM:-0500
TZOFFSETTO:-0400
TZNAME:EDT
DTSTART:20160313T070000
END:DAYLIGHT
BEGIN:STANDARD
TZOFFSETFROM:-0400
TZOFFSETTO:-0500
TZNAME:EST
DTSTART:20161106T060000
END:STANDARD
BEGIN:DAYLIGHT
TZOFFSETFROM:-0500
TZOFFSETTO:-0400
TZNAME:EDT
DTSTART:20170312T070000
END:DAYLIGHT
BEGIN:STANDARD
TZOFFSETFROM:-0400
TZOFFSETTO:-0500
TZNAME:EST
DTSTART:20171105T060000
END:STANDARD
END:VTIMEZONE
BEGIN:VEVENT
DTSTART;TZID=America/Toronto:20160623T140000
DTEND;TZID=America/Toronto:20160623T153000
DTSTAMP:20260425T151249
CREATED:20151021T181815Z
LAST-MODIFIED:20151021T181815Z
UID:10015982-1466690400-1466695800@huronshores.ca
SUMMARY:Alzheimer Info & Discussion Group
DESCRIPTION:The Alzheimer Society of Sault Ste. Marie & Algoma District hosts an Information & Discussion Group on the 2nd Wednesday of each month\, at the Calvary Gospel Church\, 55 Queen Street\, Blind River from 2:00 – 3:30 p.m.  For more information please call Tanya\, First Link Coordinator\, at 705-848-8145.
URL:https://huronshores.ca/event/alzheimer-info-discussion-group-2/2016-06-23/
LOCATION:ON
CATEGORIES:Community News
ATTACH;FMTTYPE=image/jpeg:https://huronshores.ca/wp-content/uploads/2013/01/Alzheimers-Disease.jpg
END:VEVENT
BEGIN:VEVENT
DTSTART;TZID=America/Toronto:20160624T140000
DTEND;TZID=America/Toronto:20160624T153000
DTSTAMP:20260425T151249
CREATED:20151021T181815Z
LAST-MODIFIED:20151021T181815Z
UID:10015983-1466776800-1466782200@huronshores.ca
SUMMARY:Alzheimer Info & Discussion Group
DESCRIPTION:The Alzheimer Society of Sault Ste. Marie & Algoma District hosts an Information & Discussion Group on the 2nd Wednesday of each month\, at the Calvary Gospel Church\, 55 Queen Street\, Blind River from 2:00 – 3:30 p.m.  For more information please call Tanya\, First Link Coordinator\, at 705-848-8145.
URL:https://huronshores.ca/event/alzheimer-info-discussion-group-2/2016-06-24/
LOCATION:ON
CATEGORIES:Community News
ATTACH;FMTTYPE=image/jpeg:https://huronshores.ca/wp-content/uploads/2013/01/Alzheimers-Disease.jpg
END:VEVENT
BEGIN:VEVENT
DTSTART;TZID=America/Toronto:20160624T170000
DTEND;TZID=America/Toronto:20160624T190000
DTSTAMP:20260425T151249
CREATED:20160310T214110Z
LAST-MODIFIED:20160310T214110Z
UID:10019409-1466787600-1466794800@huronshores.ca
SUMMARY:Legion Fish Fry
DESCRIPTION:The Thessalon Royal Canadian Legion Branch 182 hosts a fish fry\, Friday\, June 24\, 5:00  to 7:00 p.m.  Takeout called in by 4:30 p.m. & picked up by 5:00 p.m.  Call 705-842-2418.
URL:https://huronshores.ca/event/legion-fish-fry-4/
LOCATION:ON
CATEGORIES:Community News
ATTACH;FMTTYPE=image/jpeg:https://huronshores.ca/wp-content/uploads/2015/12/Friday-Fish-Fry.jpg
END:VEVENT
BEGIN:VEVENT
DTSTART;TZID=America/Toronto:20160625T090000
DTEND;TZID=America/Toronto:20160625T140000
DTSTAMP:20260425T151249
CREATED:20160601T181327Z
LAST-MODIFIED:20160601T181327Z
UID:10019589-1466845200-1466863200@huronshores.ca
SUMMARY:Sowerby Farmers' Market
DESCRIPTION:The Farmers’ Market in Sowerby is held every Saturday from 9:00 a.m. to 2:00 p.m.\, June to September\, at the Historic Cordukes/Weber 12-Sided Barn\, 1410 Basswood Lake Road\, just north of the intersection with Highway 17.
URL:https://huronshores.ca/event/sowerby-farmers-market-2/2016-06-25/
LOCATION:ON
CATEGORIES:Community News,Farmers' Markets
ATTACH;FMTTYPE=image/jpeg:https://huronshores.ca/wp-content/uploads/2014/02/farmers-market-623x200-1.jpg
END:VEVENT
BEGIN:VEVENT
DTSTART;TZID=America/Toronto:20160625T090000
DTEND;TZID=America/Toronto:20160625T140000
DTSTAMP:20260425T151249
CREATED:20160627T141148Z
LAST-MODIFIED:20160627T141148Z
UID:10019610-1466845200-1466863200@huronshores.ca
SUMMARY:Iron Bridge Farmers' Market
DESCRIPTION:The Iron Bridge Farmers’ Market is held on Saturdays from 9:00 a.m. to 2:00 p.m. in the Gazebo at the Iron Bridge Historical Museum\, 1 James Street (at the intersection with Hwy. 17).  Come out and try our vendors fresh local produce\, mouth-watering baking\, preserves\, and handicrafts.   Take time to browse the museum exhibits depicting the proud pioneer heritage of our area.
URL:https://huronshores.ca/event/iron-bridge-farmers-market/2016-06-25/
LOCATION:ON
CATEGORIES:Community News,Farmers' Markets
ATTACH;FMTTYPE=image/jpeg:https://huronshores.ca/wp-content/uploads/2014/02/farmers-market-623x200-1.jpg
END:VEVENT
BEGIN:VEVENT
DTSTART;TZID=America/Toronto:20160625T140000
DTEND;TZID=America/Toronto:20160625T153000
DTSTAMP:20260425T151249
CREATED:20151021T181815Z
LAST-MODIFIED:20151021T181815Z
UID:10015984-1466863200-1466868600@huronshores.ca
SUMMARY:Alzheimer Info & Discussion Group
DESCRIPTION:The Alzheimer Society of Sault Ste. Marie & Algoma District hosts an Information & Discussion Group on the 2nd Wednesday of each month\, at the Calvary Gospel Church\, 55 Queen Street\, Blind River from 2:00 – 3:30 p.m.  For more information please call Tanya\, First Link Coordinator\, at 705-848-8145.
URL:https://huronshores.ca/event/alzheimer-info-discussion-group-2/2016-06-25/
LOCATION:ON
CATEGORIES:Community News
ATTACH;FMTTYPE=image/jpeg:https://huronshores.ca/wp-content/uploads/2013/01/Alzheimers-Disease.jpg
END:VEVENT
BEGIN:VEVENT
DTSTART;TZID=America/Toronto:20160626T140000
DTEND;TZID=America/Toronto:20160626T153000
DTSTAMP:20260425T151249
CREATED:20151021T181815Z
LAST-MODIFIED:20151021T181815Z
UID:10015985-1466949600-1466955000@huronshores.ca
SUMMARY:Alzheimer Info & Discussion Group
DESCRIPTION:The Alzheimer Society of Sault Ste. Marie & Algoma District hosts an Information & Discussion Group on the 2nd Wednesday of each month\, at the Calvary Gospel Church\, 55 Queen Street\, Blind River from 2:00 – 3:30 p.m.  For more information please call Tanya\, First Link Coordinator\, at 705-848-8145.
URL:https://huronshores.ca/event/alzheimer-info-discussion-group-2/2016-06-26/
LOCATION:ON
CATEGORIES:Community News
ATTACH;FMTTYPE=image/jpeg:https://huronshores.ca/wp-content/uploads/2013/01/Alzheimers-Disease.jpg
END:VEVENT
BEGIN:VEVENT
DTSTART;TZID=America/Toronto:20160627T140000
DTEND;TZID=America/Toronto:20160627T153000
DTSTAMP:20260425T151249
CREATED:20151021T181815Z
LAST-MODIFIED:20151021T181815Z
UID:10015986-1467036000-1467041400@huronshores.ca
SUMMARY:Alzheimer Info & Discussion Group
DESCRIPTION:The Alzheimer Society of Sault Ste. Marie & Algoma District hosts an Information & Discussion Group on the 2nd Wednesday of each month\, at the Calvary Gospel Church\, 55 Queen Street\, Blind River from 2:00 – 3:30 p.m.  For more information please call Tanya\, First Link Coordinator\, at 705-848-8145.
URL:https://huronshores.ca/event/alzheimer-info-discussion-group-2/2016-06-27/
LOCATION:ON
CATEGORIES:Community News
ATTACH;FMTTYPE=image/jpeg:https://huronshores.ca/wp-content/uploads/2013/01/Alzheimers-Disease.jpg
END:VEVENT
BEGIN:VEVENT
DTSTART;TZID=America/Toronto:20160628T140000
DTEND;TZID=America/Toronto:20160628T153000
DTSTAMP:20260425T151249
CREATED:20151021T181815Z
LAST-MODIFIED:20151021T181815Z
UID:10015987-1467122400-1467127800@huronshores.ca
SUMMARY:Alzheimer Info & Discussion Group
DESCRIPTION:The Alzheimer Society of Sault Ste. Marie & Algoma District hosts an Information & Discussion Group on the 2nd Wednesday of each month\, at the Calvary Gospel Church\, 55 Queen Street\, Blind River from 2:00 – 3:30 p.m.  For more information please call Tanya\, First Link Coordinator\, at 705-848-8145.
URL:https://huronshores.ca/event/alzheimer-info-discussion-group-2/2016-06-28/
LOCATION:ON
CATEGORIES:Community News
ATTACH;FMTTYPE=image/jpeg:https://huronshores.ca/wp-content/uploads/2013/01/Alzheimers-Disease.jpg
END:VEVENT
BEGIN:VEVENT
DTSTART;TZID=America/Toronto:20160629T140000
DTEND;TZID=America/Toronto:20160629T153000
DTSTAMP:20260425T151249
CREATED:20151021T181815Z
LAST-MODIFIED:20151021T181815Z
UID:10015988-1467208800-1467214200@huronshores.ca
SUMMARY:Alzheimer Info & Discussion Group
DESCRIPTION:The Alzheimer Society of Sault Ste. Marie & Algoma District hosts an Information & Discussion Group on the 2nd Wednesday of each month\, at the Calvary Gospel Church\, 55 Queen Street\, Blind River from 2:00 – 3:30 p.m.  For more information please call Tanya\, First Link Coordinator\, at 705-848-8145.
URL:https://huronshores.ca/event/alzheimer-info-discussion-group-2/2016-06-29/
LOCATION:ON
CATEGORIES:Community News
ATTACH;FMTTYPE=image/jpeg:https://huronshores.ca/wp-content/uploads/2013/01/Alzheimers-Disease.jpg
END:VEVENT
BEGIN:VEVENT
DTSTART;TZID=America/Toronto:20160630T140000
DTEND;TZID=America/Toronto:20160630T153000
DTSTAMP:20260425T151249
CREATED:20151021T181815Z
LAST-MODIFIED:20151021T181815Z
UID:10015989-1467295200-1467300600@huronshores.ca
SUMMARY:Alzheimer Info & Discussion Group
DESCRIPTION:The Alzheimer Society of Sault Ste. Marie & Algoma District hosts an Information & Discussion Group on the 2nd Wednesday of each month\, at the Calvary Gospel Church\, 55 Queen Street\, Blind River from 2:00 – 3:30 p.m.  For more information please call Tanya\, First Link Coordinator\, at 705-848-8145.
URL:https://huronshores.ca/event/alzheimer-info-discussion-group-2/2016-06-30/
LOCATION:ON
CATEGORIES:Community News
ATTACH;FMTTYPE=image/jpeg:https://huronshores.ca/wp-content/uploads/2013/01/Alzheimers-Disease.jpg
END:VEVENT
BEGIN:VEVENT
DTSTART;TZID=America/Toronto:20160701T140000
DTEND;TZID=America/Toronto:20160701T153000
DTSTAMP:20260425T151249
CREATED:20151021T181815Z
LAST-MODIFIED:20151021T181815Z
UID:10015990-1467381600-1467387000@huronshores.ca
SUMMARY:Alzheimer Info & Discussion Group
DESCRIPTION:The Alzheimer Society of Sault Ste. Marie & Algoma District hosts an Information & Discussion Group on the 2nd Wednesday of each month\, at the Calvary Gospel Church\, 55 Queen Street\, Blind River from 2:00 – 3:30 p.m.  For more information please call Tanya\, First Link Coordinator\, at 705-848-8145.
URL:https://huronshores.ca/event/alzheimer-info-discussion-group-2/2016-07-01/
LOCATION:ON
CATEGORIES:Community News
ATTACH;FMTTYPE=image/jpeg:https://huronshores.ca/wp-content/uploads/2013/01/Alzheimers-Disease.jpg
END:VEVENT
BEGIN:VEVENT
DTSTART;TZID=America/Toronto:20160702T090000
DTEND;TZID=America/Toronto:20160702T140000
DTSTAMP:20260425T151249
CREATED:20160601T181327Z
LAST-MODIFIED:20160601T181327Z
UID:10019590-1467450000-1467468000@huronshores.ca
SUMMARY:Sowerby Farmers' Market
DESCRIPTION:The Farmers’ Market in Sowerby is held every Saturday from 9:00 a.m. to 2:00 p.m.\, June to September\, at the Historic Cordukes/Weber 12-Sided Barn\, 1410 Basswood Lake Road\, just north of the intersection with Highway 17.
URL:https://huronshores.ca/event/sowerby-farmers-market-2/2016-07-02/
LOCATION:ON
CATEGORIES:Community News,Farmers' Markets
ATTACH;FMTTYPE=image/jpeg:https://huronshores.ca/wp-content/uploads/2014/02/farmers-market-623x200-1.jpg
END:VEVENT
BEGIN:VEVENT
DTSTART;TZID=America/Toronto:20160702T090000
DTEND;TZID=America/Toronto:20160702T140000
DTSTAMP:20260425T151249
CREATED:20160627T141148Z
LAST-MODIFIED:20160627T141148Z
UID:10019611-1467450000-1467468000@huronshores.ca
SUMMARY:Iron Bridge Farmers' Market
DESCRIPTION:The Iron Bridge Farmers’ Market is held on Saturdays from 9:00 a.m. to 2:00 p.m. in the Gazebo at the Iron Bridge Historical Museum\, 1 James Street (at the intersection with Hwy. 17).  Come out and try our vendors fresh local produce\, mouth-watering baking\, preserves\, and handicrafts.   Take time to browse the museum exhibits depicting the proud pioneer heritage of our area.
URL:https://huronshores.ca/event/iron-bridge-farmers-market/2016-07-02/
LOCATION:ON
CATEGORIES:Community News,Farmers' Markets
ATTACH;FMTTYPE=image/jpeg:https://huronshores.ca/wp-content/uploads/2014/02/farmers-market-623x200-1.jpg
END:VEVENT
BEGIN:VEVENT
DTSTART;TZID=America/Toronto:20160702T140000
DTEND;TZID=America/Toronto:20160702T153000
DTSTAMP:20260425T151249
CREATED:20151021T181815Z
LAST-MODIFIED:20151021T181815Z
UID:10015991-1467468000-1467473400@huronshores.ca
SUMMARY:Alzheimer Info & Discussion Group
DESCRIPTION:The Alzheimer Society of Sault Ste. Marie & Algoma District hosts an Information & Discussion Group on the 2nd Wednesday of each month\, at the Calvary Gospel Church\, 55 Queen Street\, Blind River from 2:00 – 3:30 p.m.  For more information please call Tanya\, First Link Coordinator\, at 705-848-8145.
URL:https://huronshores.ca/event/alzheimer-info-discussion-group-2/2016-07-02/
LOCATION:ON
CATEGORIES:Community News
ATTACH;FMTTYPE=image/jpeg:https://huronshores.ca/wp-content/uploads/2013/01/Alzheimers-Disease.jpg
END:VEVENT
BEGIN:VEVENT
DTSTART;TZID=America/Toronto:20160703T140000
DTEND;TZID=America/Toronto:20160703T153000
DTSTAMP:20260425T151249
CREATED:20151021T181815Z
LAST-MODIFIED:20151021T181815Z
UID:10015992-1467554400-1467559800@huronshores.ca
SUMMARY:Alzheimer Info & Discussion Group
DESCRIPTION:The Alzheimer Society of Sault Ste. Marie & Algoma District hosts an Information & Discussion Group on the 2nd Wednesday of each month\, at the Calvary Gospel Church\, 55 Queen Street\, Blind River from 2:00 – 3:30 p.m.  For more information please call Tanya\, First Link Coordinator\, at 705-848-8145.
URL:https://huronshores.ca/event/alzheimer-info-discussion-group-2/2016-07-03/
LOCATION:ON
CATEGORIES:Community News
ATTACH;FMTTYPE=image/jpeg:https://huronshores.ca/wp-content/uploads/2013/01/Alzheimers-Disease.jpg
END:VEVENT
BEGIN:VEVENT
DTSTART;TZID=America/Toronto:20160704T140000
DTEND;TZID=America/Toronto:20160704T153000
DTSTAMP:20260425T151249
CREATED:20151021T181815Z
LAST-MODIFIED:20151021T181815Z
UID:10015993-1467640800-1467646200@huronshores.ca
SUMMARY:Alzheimer Info & Discussion Group
DESCRIPTION:The Alzheimer Society of Sault Ste. Marie & Algoma District hosts an Information & Discussion Group on the 2nd Wednesday of each month\, at the Calvary Gospel Church\, 55 Queen Street\, Blind River from 2:00 – 3:30 p.m.  For more information please call Tanya\, First Link Coordinator\, at 705-848-8145.
URL:https://huronshores.ca/event/alzheimer-info-discussion-group-2/2016-07-04/
LOCATION:ON
CATEGORIES:Community News
ATTACH;FMTTYPE=image/jpeg:https://huronshores.ca/wp-content/uploads/2013/01/Alzheimers-Disease.jpg
END:VEVENT
BEGIN:VEVENT
DTSTART;TZID=America/Toronto:20160705T140000
DTEND;TZID=America/Toronto:20160705T153000
DTSTAMP:20260425T151249
CREATED:20151021T181815Z
LAST-MODIFIED:20151021T181815Z
UID:10015994-1467727200-1467732600@huronshores.ca
SUMMARY:Alzheimer Info & Discussion Group
DESCRIPTION:The Alzheimer Society of Sault Ste. Marie & Algoma District hosts an Information & Discussion Group on the 2nd Wednesday of each month\, at the Calvary Gospel Church\, 55 Queen Street\, Blind River from 2:00 – 3:30 p.m.  For more information please call Tanya\, First Link Coordinator\, at 705-848-8145.
URL:https://huronshores.ca/event/alzheimer-info-discussion-group-2/2016-07-05/
LOCATION:ON
CATEGORIES:Community News
ATTACH;FMTTYPE=image/jpeg:https://huronshores.ca/wp-content/uploads/2013/01/Alzheimers-Disease.jpg
END:VEVENT
BEGIN:VEVENT
DTSTART;TZID=America/Toronto:20160706T140000
DTEND;TZID=America/Toronto:20160706T153000
DTSTAMP:20260425T151249
CREATED:20151021T181815Z
LAST-MODIFIED:20151021T181815Z
UID:10015995-1467813600-1467819000@huronshores.ca
SUMMARY:Alzheimer Info & Discussion Group
DESCRIPTION:The Alzheimer Society of Sault Ste. Marie & Algoma District hosts an Information & Discussion Group on the 2nd Wednesday of each month\, at the Calvary Gospel Church\, 55 Queen Street\, Blind River from 2:00 – 3:30 p.m.  For more information please call Tanya\, First Link Coordinator\, at 705-848-8145.
URL:https://huronshores.ca/event/alzheimer-info-discussion-group-2/2016-07-06/
LOCATION:ON
CATEGORIES:Community News
ATTACH;FMTTYPE=image/jpeg:https://huronshores.ca/wp-content/uploads/2013/01/Alzheimers-Disease.jpg
END:VEVENT
BEGIN:VEVENT
DTSTART;TZID=America/Toronto:20160707T140000
DTEND;TZID=America/Toronto:20160707T153000
DTSTAMP:20260425T151249
CREATED:20151021T181815Z
LAST-MODIFIED:20151021T181815Z
UID:10015996-1467900000-1467905400@huronshores.ca
SUMMARY:Alzheimer Info & Discussion Group
DESCRIPTION:The Alzheimer Society of Sault Ste. Marie & Algoma District hosts an Information & Discussion Group on the 2nd Wednesday of each month\, at the Calvary Gospel Church\, 55 Queen Street\, Blind River from 2:00 – 3:30 p.m.  For more information please call Tanya\, First Link Coordinator\, at 705-848-8145.
URL:https://huronshores.ca/event/alzheimer-info-discussion-group-2/2016-07-07/
LOCATION:ON
CATEGORIES:Community News
ATTACH;FMTTYPE=image/jpeg:https://huronshores.ca/wp-content/uploads/2013/01/Alzheimers-Disease.jpg
END:VEVENT
BEGIN:VEVENT
DTSTART;TZID=America/Toronto:20160708T140000
DTEND;TZID=America/Toronto:20160708T153000
DTSTAMP:20260425T151249
CREATED:20151021T181815Z
LAST-MODIFIED:20151021T181815Z
UID:10015997-1467986400-1467991800@huronshores.ca
SUMMARY:Alzheimer Info & Discussion Group
DESCRIPTION:The Alzheimer Society of Sault Ste. Marie & Algoma District hosts an Information & Discussion Group on the 2nd Wednesday of each month\, at the Calvary Gospel Church\, 55 Queen Street\, Blind River from 2:00 – 3:30 p.m.  For more information please call Tanya\, First Link Coordinator\, at 705-848-8145.
URL:https://huronshores.ca/event/alzheimer-info-discussion-group-2/2016-07-08/
LOCATION:ON
CATEGORIES:Community News
ATTACH;FMTTYPE=image/jpeg:https://huronshores.ca/wp-content/uploads/2013/01/Alzheimers-Disease.jpg
END:VEVENT
BEGIN:VEVENT
DTSTART;TZID=America/Toronto:20160709T090000
DTEND;TZID=America/Toronto:20160709T140000
DTSTAMP:20260425T151249
CREATED:20160601T181327Z
LAST-MODIFIED:20160601T181327Z
UID:10019591-1468054800-1468072800@huronshores.ca
SUMMARY:Sowerby Farmers' Market
DESCRIPTION:The Farmers’ Market in Sowerby is held every Saturday from 9:00 a.m. to 2:00 p.m.\, June to September\, at the Historic Cordukes/Weber 12-Sided Barn\, 1410 Basswood Lake Road\, just north of the intersection with Highway 17.
URL:https://huronshores.ca/event/sowerby-farmers-market-2/2016-07-09/
LOCATION:ON
CATEGORIES:Community News,Farmers' Markets
ATTACH;FMTTYPE=image/jpeg:https://huronshores.ca/wp-content/uploads/2014/02/farmers-market-623x200-1.jpg
END:VEVENT
BEGIN:VEVENT
DTSTART;TZID=America/Toronto:20160709T090000
DTEND;TZID=America/Toronto:20160709T140000
DTSTAMP:20260425T151249
CREATED:20160627T141148Z
LAST-MODIFIED:20160627T141148Z
UID:10019612-1468054800-1468072800@huronshores.ca
SUMMARY:Iron Bridge Farmers' Market
DESCRIPTION:The Iron Bridge Farmers’ Market is held on Saturdays from 9:00 a.m. to 2:00 p.m. in the Gazebo at the Iron Bridge Historical Museum\, 1 James Street (at the intersection with Hwy. 17).  Come out and try our vendors fresh local produce\, mouth-watering baking\, preserves\, and handicrafts.   Take time to browse the museum exhibits depicting the proud pioneer heritage of our area.
URL:https://huronshores.ca/event/iron-bridge-farmers-market/2016-07-09/
LOCATION:ON
CATEGORIES:Community News,Farmers' Markets
ATTACH;FMTTYPE=image/jpeg:https://huronshores.ca/wp-content/uploads/2014/02/farmers-market-623x200-1.jpg
END:VEVENT
BEGIN:VEVENT
DTSTART;TZID=America/Toronto:20160709T140000
DTEND;TZID=America/Toronto:20160709T153000
DTSTAMP:20260425T151249
CREATED:20151021T181815Z
LAST-MODIFIED:20151021T181815Z
UID:10015998-1468072800-1468078200@huronshores.ca
SUMMARY:Alzheimer Info & Discussion Group
DESCRIPTION:The Alzheimer Society of Sault Ste. Marie & Algoma District hosts an Information & Discussion Group on the 2nd Wednesday of each month\, at the Calvary Gospel Church\, 55 Queen Street\, Blind River from 2:00 – 3:30 p.m.  For more information please call Tanya\, First Link Coordinator\, at 705-848-8145.
URL:https://huronshores.ca/event/alzheimer-info-discussion-group-2/2016-07-09/
LOCATION:ON
CATEGORIES:Community News
ATTACH;FMTTYPE=image/jpeg:https://huronshores.ca/wp-content/uploads/2013/01/Alzheimers-Disease.jpg
END:VEVENT
BEGIN:VEVENT
DTSTART;TZID=America/Toronto:20160710T140000
DTEND;TZID=America/Toronto:20160710T153000
DTSTAMP:20260425T151249
CREATED:20151021T181815Z
LAST-MODIFIED:20151021T181815Z
UID:10015999-1468159200-1468164600@huronshores.ca
SUMMARY:Alzheimer Info & Discussion Group
DESCRIPTION:The Alzheimer Society of Sault Ste. Marie & Algoma District hosts an Information & Discussion Group on the 2nd Wednesday of each month\, at the Calvary Gospel Church\, 55 Queen Street\, Blind River from 2:00 – 3:30 p.m.  For more information please call Tanya\, First Link Coordinator\, at 705-848-8145.
URL:https://huronshores.ca/event/alzheimer-info-discussion-group-2/2016-07-10/
LOCATION:ON
CATEGORIES:Community News
ATTACH;FMTTYPE=image/jpeg:https://huronshores.ca/wp-content/uploads/2013/01/Alzheimers-Disease.jpg
END:VEVENT
BEGIN:VEVENT
DTSTART;TZID=America/Toronto:20160711T140000
DTEND;TZID=America/Toronto:20160711T153000
DTSTAMP:20260425T151249
CREATED:20151021T181815Z
LAST-MODIFIED:20151021T181815Z
UID:10016000-1468245600-1468251000@huronshores.ca
SUMMARY:Alzheimer Info & Discussion Group
DESCRIPTION:The Alzheimer Society of Sault Ste. Marie & Algoma District hosts an Information & Discussion Group on the 2nd Wednesday of each month\, at the Calvary Gospel Church\, 55 Queen Street\, Blind River from 2:00 – 3:30 p.m.  For more information please call Tanya\, First Link Coordinator\, at 705-848-8145.
URL:https://huronshores.ca/event/alzheimer-info-discussion-group-2/2016-07-11/
LOCATION:ON
CATEGORIES:Community News
ATTACH;FMTTYPE=image/jpeg:https://huronshores.ca/wp-content/uploads/2013/01/Alzheimers-Disease.jpg
END:VEVENT
BEGIN:VEVENT
DTSTART;TZID=America/Toronto:20160712T140000
DTEND;TZID=America/Toronto:20160712T153000
DTSTAMP:20260425T151249
CREATED:20151021T181815Z
LAST-MODIFIED:20151021T181815Z
UID:10016001-1468332000-1468337400@huronshores.ca
SUMMARY:Alzheimer Info & Discussion Group
DESCRIPTION:The Alzheimer Society of Sault Ste. Marie & Algoma District hosts an Information & Discussion Group on the 2nd Wednesday of each month\, at the Calvary Gospel Church\, 55 Queen Street\, Blind River from 2:00 – 3:30 p.m.  For more information please call Tanya\, First Link Coordinator\, at 705-848-8145.
URL:https://huronshores.ca/event/alzheimer-info-discussion-group-2/2016-07-12/
LOCATION:ON
CATEGORIES:Community News
ATTACH;FMTTYPE=image/jpeg:https://huronshores.ca/wp-content/uploads/2013/01/Alzheimers-Disease.jpg
END:VEVENT
BEGIN:VEVENT
DTSTART;TZID=America/Toronto:20160713T140000
DTEND;TZID=America/Toronto:20160713T153000
DTSTAMP:20260425T151249
CREATED:20151021T181815Z
LAST-MODIFIED:20151021T181815Z
UID:10016002-1468418400-1468423800@huronshores.ca
SUMMARY:Alzheimer Info & Discussion Group
DESCRIPTION:The Alzheimer Society of Sault Ste. Marie & Algoma District hosts an Information & Discussion Group on the 2nd Wednesday of each month\, at the Calvary Gospel Church\, 55 Queen Street\, Blind River from 2:00 – 3:30 p.m.  For more information please call Tanya\, First Link Coordinator\, at 705-848-8145.
URL:https://huronshores.ca/event/alzheimer-info-discussion-group-2/2016-07-13/
LOCATION:ON
CATEGORIES:Community News
ATTACH;FMTTYPE=image/jpeg:https://huronshores.ca/wp-content/uploads/2013/01/Alzheimers-Disease.jpg
END:VEVENT
BEGIN:VEVENT
DTSTART;TZID=America/Toronto:20160714T140000
DTEND;TZID=America/Toronto:20160714T153000
DTSTAMP:20260425T151249
CREATED:20151021T181815Z
LAST-MODIFIED:20151021T181815Z
UID:10016003-1468504800-1468510200@huronshores.ca
SUMMARY:Alzheimer Info & Discussion Group
DESCRIPTION:The Alzheimer Society of Sault Ste. Marie & Algoma District hosts an Information & Discussion Group on the 2nd Wednesday of each month\, at the Calvary Gospel Church\, 55 Queen Street\, Blind River from 2:00 – 3:30 p.m.  For more information please call Tanya\, First Link Coordinator\, at 705-848-8145.
URL:https://huronshores.ca/event/alzheimer-info-discussion-group-2/2016-07-14/
LOCATION:ON
CATEGORIES:Community News
ATTACH;FMTTYPE=image/jpeg:https://huronshores.ca/wp-content/uploads/2013/01/Alzheimers-Disease.jpg
END:VEVENT
BEGIN:VEVENT
DTSTART;VALUE=DATE:20160715
DTEND;VALUE=DATE:20160716
DTSTAMP:20260425T151249
CREATED:20160224T193049Z
LAST-MODIFIED:20160224T193049Z
UID:10019519-1468540800-1468627199@huronshores.ca
SUMMARY:1940's Museum Exhibit
DESCRIPTION:The Iron Bridge Historical Museum Committee will showcase The 1940’s – A Decade of Events along the North Shore\, daily from July 15 to August 15/16 at the Museum\, 1 James Street.
URL:https://huronshores.ca/event/1940s-museum-exhibit/2016-07-15/
LOCATION:ON
CATEGORIES:Community News
ATTACH;FMTTYPE=image/jpeg:https://huronshores.ca/wp-content/uploads/2016/02/1940s.jpg
END:VEVENT
END:VCALENDAR