BEGIN:VCALENDAR
VERSION:2.0
PRODID:-//Huron Shores - ECPv6.15.11//NONSGML v1.0//EN
CALSCALE:GREGORIAN
METHOD:PUBLISH
X-ORIGINAL-URL:https://huronshores.ca
X-WR-CALDESC:Events for Huron Shores
REFRESH-INTERVAL;VALUE=DURATION:PT1H
X-Robots-Tag:noindex
X-PUBLISHED-TTL:PT1H
BEGIN:VTIMEZONE
TZID:America/Toronto
BEGIN:DAYLIGHT
TZOFFSETFROM:-0500
TZOFFSETTO:-0400
TZNAME:EDT
DTSTART:20170312T070000
END:DAYLIGHT
BEGIN:STANDARD
TZOFFSETFROM:-0400
TZOFFSETTO:-0500
TZNAME:EST
DTSTART:20171105T060000
END:STANDARD
BEGIN:DAYLIGHT
TZOFFSETFROM:-0500
TZOFFSETTO:-0400
TZNAME:EDT
DTSTART:20180311T070000
END:DAYLIGHT
BEGIN:STANDARD
TZOFFSETFROM:-0400
TZOFFSETTO:-0500
TZNAME:EST
DTSTART:20181104T060000
END:STANDARD
BEGIN:DAYLIGHT
TZOFFSETFROM:-0500
TZOFFSETTO:-0400
TZNAME:EDT
DTSTART:20190310T070000
END:DAYLIGHT
BEGIN:STANDARD
TZOFFSETFROM:-0400
TZOFFSETTO:-0500
TZNAME:EST
DTSTART:20191103T060000
END:STANDARD
END:VTIMEZONE
BEGIN:VEVENT
DTSTART;TZID=America/Toronto:20180324T140000
DTEND;TZID=America/Toronto:20180324T153000
DTSTAMP:20260424T005819
CREATED:20151021T181815Z
LAST-MODIFIED:20151021T181815Z
UID:10016622-1521900000-1521905400@huronshores.ca
SUMMARY:Alzheimer Info & Discussion Group
DESCRIPTION:The Alzheimer Society of Sault Ste. Marie & Algoma District hosts an Information & Discussion Group on the 2nd Wednesday of each month\, at the Calvary Gospel Church\, 55 Queen Street\, Blind River from 2:00 – 3:30 p.m.  For more information please call Tanya\, First Link Coordinator\, at 705-848-8145.
URL:https://huronshores.ca/event/alzheimer-info-discussion-group-2/2018-03-24/
LOCATION:ON
CATEGORIES:Community News
ATTACH;FMTTYPE=image/jpeg:https://huronshores.ca/wp-content/uploads/2013/01/Alzheimers-Disease.jpg
END:VEVENT
BEGIN:VEVENT
DTSTART;TZID=America/Toronto:20180324T163000
DTEND;TZID=America/Toronto:20180324T183000
DTSTAMP:20260424T005819
CREATED:20180110T192447Z
LAST-MODIFIED:20180110T192447Z
UID:10020523-1521909000-1521916200@huronshores.ca
SUMMARY:Fish Fry
DESCRIPTION:The Iron Bridge Lions Club is hosting an All You Can Eat Saturday Fish Fry. Cost is $15/person; Children’s rates vary.  From 4:30-6:30 p.m.
URL:https://huronshores.ca/event/fish-fry-4/2018-03-24/
LOCATION:ON
CATEGORIES:Community News,Local Food
ATTACH;FMTTYPE=image/jpeg:https://huronshores.ca/wp-content/uploads/2015/12/Fish-Fry.jpg
END:VEVENT
BEGIN:VEVENT
DTSTART;TZID=America/Toronto:20180325T140000
DTEND;TZID=America/Toronto:20180325T153000
DTSTAMP:20260424T005819
CREATED:20151021T181815Z
LAST-MODIFIED:20151021T181815Z
UID:10016623-1521986400-1521991800@huronshores.ca
SUMMARY:Alzheimer Info & Discussion Group
DESCRIPTION:The Alzheimer Society of Sault Ste. Marie & Algoma District hosts an Information & Discussion Group on the 2nd Wednesday of each month\, at the Calvary Gospel Church\, 55 Queen Street\, Blind River from 2:00 – 3:30 p.m.  For more information please call Tanya\, First Link Coordinator\, at 705-848-8145.
URL:https://huronshores.ca/event/alzheimer-info-discussion-group-2/2018-03-25/
LOCATION:ON
CATEGORIES:Community News
ATTACH;FMTTYPE=image/jpeg:https://huronshores.ca/wp-content/uploads/2013/01/Alzheimers-Disease.jpg
END:VEVENT
BEGIN:VEVENT
DTSTART;TZID=America/Toronto:20180326T140000
DTEND;TZID=America/Toronto:20180326T153000
DTSTAMP:20260424T005819
CREATED:20151021T181815Z
LAST-MODIFIED:20151021T181815Z
UID:10016624-1522072800-1522078200@huronshores.ca
SUMMARY:Alzheimer Info & Discussion Group
DESCRIPTION:The Alzheimer Society of Sault Ste. Marie & Algoma District hosts an Information & Discussion Group on the 2nd Wednesday of each month\, at the Calvary Gospel Church\, 55 Queen Street\, Blind River from 2:00 – 3:30 p.m.  For more information please call Tanya\, First Link Coordinator\, at 705-848-8145.
URL:https://huronshores.ca/event/alzheimer-info-discussion-group-2/2018-03-26/
LOCATION:ON
CATEGORIES:Community News
ATTACH;FMTTYPE=image/jpeg:https://huronshores.ca/wp-content/uploads/2013/01/Alzheimers-Disease.jpg
END:VEVENT
BEGIN:VEVENT
DTSTART;TZID=America/Toronto:20180327T140000
DTEND;TZID=America/Toronto:20180327T153000
DTSTAMP:20260424T005819
CREATED:20151021T181815Z
LAST-MODIFIED:20151021T181815Z
UID:10016625-1522159200-1522164600@huronshores.ca
SUMMARY:Alzheimer Info & Discussion Group
DESCRIPTION:The Alzheimer Society of Sault Ste. Marie & Algoma District hosts an Information & Discussion Group on the 2nd Wednesday of each month\, at the Calvary Gospel Church\, 55 Queen Street\, Blind River from 2:00 – 3:30 p.m.  For more information please call Tanya\, First Link Coordinator\, at 705-848-8145.
URL:https://huronshores.ca/event/alzheimer-info-discussion-group-2/2018-03-27/
LOCATION:ON
CATEGORIES:Community News
ATTACH;FMTTYPE=image/jpeg:https://huronshores.ca/wp-content/uploads/2013/01/Alzheimers-Disease.jpg
END:VEVENT
BEGIN:VEVENT
DTSTART;TZID=America/Toronto:20180328T140000
DTEND;TZID=America/Toronto:20180328T153000
DTSTAMP:20260424T005819
CREATED:20151021T181815Z
LAST-MODIFIED:20151021T181815Z
UID:10016626-1522245600-1522251000@huronshores.ca
SUMMARY:Alzheimer Info & Discussion Group
DESCRIPTION:The Alzheimer Society of Sault Ste. Marie & Algoma District hosts an Information & Discussion Group on the 2nd Wednesday of each month\, at the Calvary Gospel Church\, 55 Queen Street\, Blind River from 2:00 – 3:30 p.m.  For more information please call Tanya\, First Link Coordinator\, at 705-848-8145.
URL:https://huronshores.ca/event/alzheimer-info-discussion-group-2/2018-03-28/
LOCATION:ON
CATEGORIES:Community News
ATTACH;FMTTYPE=image/jpeg:https://huronshores.ca/wp-content/uploads/2013/01/Alzheimers-Disease.jpg
END:VEVENT
BEGIN:VEVENT
DTSTART;TZID=America/Toronto:20180329T140000
DTEND;TZID=America/Toronto:20180329T153000
DTSTAMP:20260424T005819
CREATED:20151021T181815Z
LAST-MODIFIED:20151021T181815Z
UID:10016627-1522332000-1522337400@huronshores.ca
SUMMARY:Alzheimer Info & Discussion Group
DESCRIPTION:The Alzheimer Society of Sault Ste. Marie & Algoma District hosts an Information & Discussion Group on the 2nd Wednesday of each month\, at the Calvary Gospel Church\, 55 Queen Street\, Blind River from 2:00 – 3:30 p.m.  For more information please call Tanya\, First Link Coordinator\, at 705-848-8145.
URL:https://huronshores.ca/event/alzheimer-info-discussion-group-2/2018-03-29/
LOCATION:ON
CATEGORIES:Community News
ATTACH;FMTTYPE=image/jpeg:https://huronshores.ca/wp-content/uploads/2013/01/Alzheimers-Disease.jpg
END:VEVENT
BEGIN:VEVENT
DTSTART;TZID=America/Toronto:20180330T140000
DTEND;TZID=America/Toronto:20180330T153000
DTSTAMP:20260424T005819
CREATED:20151021T181815Z
LAST-MODIFIED:20151021T181815Z
UID:10016628-1522418400-1522423800@huronshores.ca
SUMMARY:Alzheimer Info & Discussion Group
DESCRIPTION:The Alzheimer Society of Sault Ste. Marie & Algoma District hosts an Information & Discussion Group on the 2nd Wednesday of each month\, at the Calvary Gospel Church\, 55 Queen Street\, Blind River from 2:00 – 3:30 p.m.  For more information please call Tanya\, First Link Coordinator\, at 705-848-8145.
URL:https://huronshores.ca/event/alzheimer-info-discussion-group-2/2018-03-30/
LOCATION:ON
CATEGORIES:Community News
ATTACH;FMTTYPE=image/jpeg:https://huronshores.ca/wp-content/uploads/2013/01/Alzheimers-Disease.jpg
END:VEVENT
BEGIN:VEVENT
DTSTART;TZID=America/Toronto:20180330T170000
DTEND;TZID=America/Toronto:20180330T190000
DTSTAMP:20260424T005819
CREATED:20180110T195931Z
LAST-MODIFIED:20180110T195931Z
UID:10020535-1522429200-1522436400@huronshores.ca
SUMMARY:RC Legion Fish Fry
DESCRIPTION:The Thessalon RC Legion Branch 182 is hosting a Fish Fry from 5:00 – 7:00 p.m.  Take-out called in by 4:30 p.m. & picked up by 5:00 p.m. Call 705-842-2418.  Cash Bar.
URL:https://huronshores.ca/event/rc-legion-fish-fry/2018-03-30/
LOCATION:ON
CATEGORIES:Community News,Local Food
ATTACH;FMTTYPE=image/jpeg:https://huronshores.ca/wp-content/uploads/2015/12/Friday-Fish-Fry.jpg
END:VEVENT
BEGIN:VEVENT
DTSTART;TZID=America/Toronto:20180331T140000
DTEND;TZID=America/Toronto:20180331T153000
DTSTAMP:20260424T005819
CREATED:20151021T181815Z
LAST-MODIFIED:20151021T181815Z
UID:10016629-1522504800-1522510200@huronshores.ca
SUMMARY:Alzheimer Info & Discussion Group
DESCRIPTION:The Alzheimer Society of Sault Ste. Marie & Algoma District hosts an Information & Discussion Group on the 2nd Wednesday of each month\, at the Calvary Gospel Church\, 55 Queen Street\, Blind River from 2:00 – 3:30 p.m.  For more information please call Tanya\, First Link Coordinator\, at 705-848-8145.
URL:https://huronshores.ca/event/alzheimer-info-discussion-group-2/2018-03-31/
LOCATION:ON
CATEGORIES:Community News
ATTACH;FMTTYPE=image/jpeg:https://huronshores.ca/wp-content/uploads/2013/01/Alzheimers-Disease.jpg
END:VEVENT
BEGIN:VEVENT
DTSTART;VALUE=DATE:20180401
DTEND;VALUE=DATE:20180402
DTSTAMP:20260424T005819
CREATED:20171129T193740Z
LAST-MODIFIED:20171129T193740Z
UID:10019946-1522540800-1522627199@huronshores.ca
SUMMARY:Easter Sunday
DESCRIPTION:Happy Easter from Council and Staff of Huron Shores!
URL:https://huronshores.ca/event/easter-sunday-2/
LOCATION:ON
CATEGORIES:Community News
ATTACH;FMTTYPE=image/gif:https://huronshores.ca/wp-content/uploads/2016/01/Easter.gif
END:VEVENT
BEGIN:VEVENT
DTSTART;TZID=America/Toronto:20180401T140000
DTEND;TZID=America/Toronto:20180401T153000
DTSTAMP:20260424T005819
CREATED:20151021T181815Z
LAST-MODIFIED:20151021T181815Z
UID:10016630-1522591200-1522596600@huronshores.ca
SUMMARY:Alzheimer Info & Discussion Group
DESCRIPTION:The Alzheimer Society of Sault Ste. Marie & Algoma District hosts an Information & Discussion Group on the 2nd Wednesday of each month\, at the Calvary Gospel Church\, 55 Queen Street\, Blind River from 2:00 – 3:30 p.m.  For more information please call Tanya\, First Link Coordinator\, at 705-848-8145.
URL:https://huronshores.ca/event/alzheimer-info-discussion-group-2/2018-04-01/
LOCATION:ON
CATEGORIES:Community News
ATTACH;FMTTYPE=image/jpeg:https://huronshores.ca/wp-content/uploads/2013/01/Alzheimers-Disease.jpg
END:VEVENT
BEGIN:VEVENT
DTSTART;VALUE=DATE:20180402
DTEND;VALUE=DATE:20180403
DTSTAMP:20260424T005819
CREATED:20171129T194105Z
LAST-MODIFIED:20171129T194105Z
UID:10019947-1522627200-1522713599@huronshores.ca
SUMMARY:Easter Monday
DESCRIPTION:The Office and all Waste Sites will be CLOSED for the Easter Monday holiday.  The Office will re-open on Tuesday\, April 3/18 at 8:30 a.m.; the Waste Sites on Wednesday\, April 4/18 from 4:00 to 8:00 p.m.\, as per Regular Summer Hours of Operation.
URL:https://huronshores.ca/event/easter-monday-3/
LOCATION:ON
CATEGORIES:Community News,Office Closure,Waste Disposal
ATTACH;FMTTYPE=image/jpeg:https://huronshores.ca/wp-content/uploads/2017/03/Easter-Egg-Hunt-Chick.jpg
END:VEVENT
BEGIN:VEVENT
DTSTART;TZID=America/Toronto:20180402T140000
DTEND;TZID=America/Toronto:20180402T153000
DTSTAMP:20260424T005819
CREATED:20151021T181815Z
LAST-MODIFIED:20151021T181815Z
UID:10016631-1522677600-1522683000@huronshores.ca
SUMMARY:Alzheimer Info & Discussion Group
DESCRIPTION:The Alzheimer Society of Sault Ste. Marie & Algoma District hosts an Information & Discussion Group on the 2nd Wednesday of each month\, at the Calvary Gospel Church\, 55 Queen Street\, Blind River from 2:00 – 3:30 p.m.  For more information please call Tanya\, First Link Coordinator\, at 705-848-8145.
URL:https://huronshores.ca/event/alzheimer-info-discussion-group-2/2018-04-02/
LOCATION:ON
CATEGORIES:Community News
ATTACH;FMTTYPE=image/jpeg:https://huronshores.ca/wp-content/uploads/2013/01/Alzheimers-Disease.jpg
END:VEVENT
BEGIN:VEVENT
DTSTART;TZID=America/Toronto:20180403T140000
DTEND;TZID=America/Toronto:20180403T153000
DTSTAMP:20260424T005819
CREATED:20151021T181815Z
LAST-MODIFIED:20151021T181815Z
UID:10016632-1522764000-1522769400@huronshores.ca
SUMMARY:Alzheimer Info & Discussion Group
DESCRIPTION:The Alzheimer Society of Sault Ste. Marie & Algoma District hosts an Information & Discussion Group on the 2nd Wednesday of each month\, at the Calvary Gospel Church\, 55 Queen Street\, Blind River from 2:00 – 3:30 p.m.  For more information please call Tanya\, First Link Coordinator\, at 705-848-8145.
URL:https://huronshores.ca/event/alzheimer-info-discussion-group-2/2018-04-03/
LOCATION:ON
CATEGORIES:Community News
ATTACH;FMTTYPE=image/jpeg:https://huronshores.ca/wp-content/uploads/2013/01/Alzheimers-Disease.jpg
END:VEVENT
BEGIN:VEVENT
DTSTART;TZID=America/Toronto:20180404T140000
DTEND;TZID=America/Toronto:20180404T153000
DTSTAMP:20260424T005819
CREATED:20151021T181815Z
LAST-MODIFIED:20151021T181815Z
UID:10016633-1522850400-1522855800@huronshores.ca
SUMMARY:Alzheimer Info & Discussion Group
DESCRIPTION:The Alzheimer Society of Sault Ste. Marie & Algoma District hosts an Information & Discussion Group on the 2nd Wednesday of each month\, at the Calvary Gospel Church\, 55 Queen Street\, Blind River from 2:00 – 3:30 p.m.  For more information please call Tanya\, First Link Coordinator\, at 705-848-8145.
URL:https://huronshores.ca/event/alzheimer-info-discussion-group-2/2018-04-04/
LOCATION:ON
CATEGORIES:Community News
ATTACH;FMTTYPE=image/jpeg:https://huronshores.ca/wp-content/uploads/2013/01/Alzheimers-Disease.jpg
END:VEVENT
BEGIN:VEVENT
DTSTART;TZID=America/Toronto:20180405T140000
DTEND;TZID=America/Toronto:20180405T153000
DTSTAMP:20260424T005819
CREATED:20151021T181815Z
LAST-MODIFIED:20151021T181815Z
UID:10016634-1522936800-1522942200@huronshores.ca
SUMMARY:Alzheimer Info & Discussion Group
DESCRIPTION:The Alzheimer Society of Sault Ste. Marie & Algoma District hosts an Information & Discussion Group on the 2nd Wednesday of each month\, at the Calvary Gospel Church\, 55 Queen Street\, Blind River from 2:00 – 3:30 p.m.  For more information please call Tanya\, First Link Coordinator\, at 705-848-8145.
URL:https://huronshores.ca/event/alzheimer-info-discussion-group-2/2018-04-05/
LOCATION:ON
CATEGORIES:Community News
ATTACH;FMTTYPE=image/jpeg:https://huronshores.ca/wp-content/uploads/2013/01/Alzheimers-Disease.jpg
END:VEVENT
BEGIN:VEVENT
DTSTART;TZID=America/Toronto:20180406T140000
DTEND;TZID=America/Toronto:20180406T153000
DTSTAMP:20260424T005819
CREATED:20151021T181815Z
LAST-MODIFIED:20151021T181815Z
UID:10016635-1523023200-1523028600@huronshores.ca
SUMMARY:Alzheimer Info & Discussion Group
DESCRIPTION:The Alzheimer Society of Sault Ste. Marie & Algoma District hosts an Information & Discussion Group on the 2nd Wednesday of each month\, at the Calvary Gospel Church\, 55 Queen Street\, Blind River from 2:00 – 3:30 p.m.  For more information please call Tanya\, First Link Coordinator\, at 705-848-8145.
URL:https://huronshores.ca/event/alzheimer-info-discussion-group-2/2018-04-06/
LOCATION:ON
CATEGORIES:Community News
ATTACH;FMTTYPE=image/jpeg:https://huronshores.ca/wp-content/uploads/2013/01/Alzheimers-Disease.jpg
END:VEVENT
BEGIN:VEVENT
DTSTART;TZID=America/Toronto:20180406T180000
DTEND;TZID=America/Toronto:20180406T180000
DTSTAMP:20260424T005819
CREATED:20180110T200336Z
LAST-MODIFIED:20180110T200336Z
UID:10020541-1523037600-1523037600@huronshores.ca
SUMMARY:Wing Night
DESCRIPTION:The Thessalon Curling Club is hosting a Wing Night.  Door open at 6:00 p.m.  Bar is open.  Everyone welcome!
URL:https://huronshores.ca/event/wing-night-2/2018-04-06/
LOCATION:ON
CATEGORIES:Community News,Local Food
ATTACH;FMTTYPE=image/jpeg:https://huronshores.ca/wp-content/uploads/2014/02/Wing-Night.jpg
END:VEVENT
BEGIN:VEVENT
DTSTART;TZID=America/Toronto:20180407T140000
DTEND;TZID=America/Toronto:20180407T153000
DTSTAMP:20260424T005819
CREATED:20151021T181815Z
LAST-MODIFIED:20151021T181815Z
UID:10016636-1523109600-1523115000@huronshores.ca
SUMMARY:Alzheimer Info & Discussion Group
DESCRIPTION:The Alzheimer Society of Sault Ste. Marie & Algoma District hosts an Information & Discussion Group on the 2nd Wednesday of each month\, at the Calvary Gospel Church\, 55 Queen Street\, Blind River from 2:00 – 3:30 p.m.  For more information please call Tanya\, First Link Coordinator\, at 705-848-8145.
URL:https://huronshores.ca/event/alzheimer-info-discussion-group-2/2018-04-07/
LOCATION:ON
CATEGORIES:Community News
ATTACH;FMTTYPE=image/jpeg:https://huronshores.ca/wp-content/uploads/2013/01/Alzheimers-Disease.jpg
END:VEVENT
BEGIN:VEVENT
DTSTART;TZID=America/Toronto:20180408T140000
DTEND;TZID=America/Toronto:20180408T153000
DTSTAMP:20260424T005819
CREATED:20151021T181815Z
LAST-MODIFIED:20151021T181815Z
UID:10016637-1523196000-1523201400@huronshores.ca
SUMMARY:Alzheimer Info & Discussion Group
DESCRIPTION:The Alzheimer Society of Sault Ste. Marie & Algoma District hosts an Information & Discussion Group on the 2nd Wednesday of each month\, at the Calvary Gospel Church\, 55 Queen Street\, Blind River from 2:00 – 3:30 p.m.  For more information please call Tanya\, First Link Coordinator\, at 705-848-8145.
URL:https://huronshores.ca/event/alzheimer-info-discussion-group-2/2018-04-08/
LOCATION:ON
CATEGORIES:Community News
ATTACH;FMTTYPE=image/jpeg:https://huronshores.ca/wp-content/uploads/2013/01/Alzheimers-Disease.jpg
END:VEVENT
BEGIN:VEVENT
DTSTART;TZID=America/Toronto:20180409T140000
DTEND;TZID=America/Toronto:20180409T153000
DTSTAMP:20260424T005819
CREATED:20151021T181815Z
LAST-MODIFIED:20151021T181815Z
UID:10016638-1523282400-1523287800@huronshores.ca
SUMMARY:Alzheimer Info & Discussion Group
DESCRIPTION:The Alzheimer Society of Sault Ste. Marie & Algoma District hosts an Information & Discussion Group on the 2nd Wednesday of each month\, at the Calvary Gospel Church\, 55 Queen Street\, Blind River from 2:00 – 3:30 p.m.  For more information please call Tanya\, First Link Coordinator\, at 705-848-8145.
URL:https://huronshores.ca/event/alzheimer-info-discussion-group-2/2018-04-09/
LOCATION:ON
CATEGORIES:Community News
ATTACH;FMTTYPE=image/jpeg:https://huronshores.ca/wp-content/uploads/2013/01/Alzheimers-Disease.jpg
END:VEVENT
BEGIN:VEVENT
DTSTART;TZID=America/Toronto:20180410T140000
DTEND;TZID=America/Toronto:20180410T153000
DTSTAMP:20260424T005819
CREATED:20151021T181815Z
LAST-MODIFIED:20151021T181815Z
UID:10016639-1523368800-1523374200@huronshores.ca
SUMMARY:Alzheimer Info & Discussion Group
DESCRIPTION:The Alzheimer Society of Sault Ste. Marie & Algoma District hosts an Information & Discussion Group on the 2nd Wednesday of each month\, at the Calvary Gospel Church\, 55 Queen Street\, Blind River from 2:00 – 3:30 p.m.  For more information please call Tanya\, First Link Coordinator\, at 705-848-8145.
URL:https://huronshores.ca/event/alzheimer-info-discussion-group-2/2018-04-10/
LOCATION:ON
CATEGORIES:Community News
ATTACH;FMTTYPE=image/jpeg:https://huronshores.ca/wp-content/uploads/2013/01/Alzheimers-Disease.jpg
END:VEVENT
BEGIN:VEVENT
DTSTART;TZID=America/Toronto:20180411T140000
DTEND;TZID=America/Toronto:20180411T153000
DTSTAMP:20260424T005819
CREATED:20151021T181815Z
LAST-MODIFIED:20151021T181815Z
UID:10016640-1523455200-1523460600@huronshores.ca
SUMMARY:Alzheimer Info & Discussion Group
DESCRIPTION:The Alzheimer Society of Sault Ste. Marie & Algoma District hosts an Information & Discussion Group on the 2nd Wednesday of each month\, at the Calvary Gospel Church\, 55 Queen Street\, Blind River from 2:00 – 3:30 p.m.  For more information please call Tanya\, First Link Coordinator\, at 705-848-8145.
URL:https://huronshores.ca/event/alzheimer-info-discussion-group-2/2018-04-11/
LOCATION:ON
CATEGORIES:Community News
ATTACH;FMTTYPE=image/jpeg:https://huronshores.ca/wp-content/uploads/2013/01/Alzheimers-Disease.jpg
END:VEVENT
BEGIN:VEVENT
DTSTART;TZID=America/Toronto:20180412T140000
DTEND;TZID=America/Toronto:20180412T153000
DTSTAMP:20260424T005819
CREATED:20151021T181815Z
LAST-MODIFIED:20151021T181815Z
UID:10016641-1523541600-1523547000@huronshores.ca
SUMMARY:Alzheimer Info & Discussion Group
DESCRIPTION:The Alzheimer Society of Sault Ste. Marie & Algoma District hosts an Information & Discussion Group on the 2nd Wednesday of each month\, at the Calvary Gospel Church\, 55 Queen Street\, Blind River from 2:00 – 3:30 p.m.  For more information please call Tanya\, First Link Coordinator\, at 705-848-8145.
URL:https://huronshores.ca/event/alzheimer-info-discussion-group-2/2018-04-12/
LOCATION:ON
CATEGORIES:Community News
ATTACH;FMTTYPE=image/jpeg:https://huronshores.ca/wp-content/uploads/2013/01/Alzheimers-Disease.jpg
END:VEVENT
BEGIN:VEVENT
DTSTART;TZID=America/Toronto:20180413T140000
DTEND;TZID=America/Toronto:20180413T153000
DTSTAMP:20260424T005819
CREATED:20151021T181815Z
LAST-MODIFIED:20151021T181815Z
UID:10016642-1523628000-1523633400@huronshores.ca
SUMMARY:Alzheimer Info & Discussion Group
DESCRIPTION:The Alzheimer Society of Sault Ste. Marie & Algoma District hosts an Information & Discussion Group on the 2nd Wednesday of each month\, at the Calvary Gospel Church\, 55 Queen Street\, Blind River from 2:00 – 3:30 p.m.  For more information please call Tanya\, First Link Coordinator\, at 705-848-8145.
URL:https://huronshores.ca/event/alzheimer-info-discussion-group-2/2018-04-13/
LOCATION:ON
CATEGORIES:Community News
ATTACH;FMTTYPE=image/jpeg:https://huronshores.ca/wp-content/uploads/2013/01/Alzheimers-Disease.jpg
END:VEVENT
BEGIN:VEVENT
DTSTART;TZID=America/Toronto:20180414T140000
DTEND;TZID=America/Toronto:20180414T153000
DTSTAMP:20260424T005819
CREATED:20151021T181815Z
LAST-MODIFIED:20151021T181815Z
UID:10016643-1523714400-1523719800@huronshores.ca
SUMMARY:Alzheimer Info & Discussion Group
DESCRIPTION:The Alzheimer Society of Sault Ste. Marie & Algoma District hosts an Information & Discussion Group on the 2nd Wednesday of each month\, at the Calvary Gospel Church\, 55 Queen Street\, Blind River from 2:00 – 3:30 p.m.  For more information please call Tanya\, First Link Coordinator\, at 705-848-8145.
URL:https://huronshores.ca/event/alzheimer-info-discussion-group-2/2018-04-14/
LOCATION:ON
CATEGORIES:Community News
ATTACH;FMTTYPE=image/jpeg:https://huronshores.ca/wp-content/uploads/2013/01/Alzheimers-Disease.jpg
END:VEVENT
BEGIN:VEVENT
DTSTART;TZID=America/Toronto:20180415T140000
DTEND;TZID=America/Toronto:20180415T153000
DTSTAMP:20260424T005819
CREATED:20151021T181815Z
LAST-MODIFIED:20151021T181815Z
UID:10016644-1523800800-1523806200@huronshores.ca
SUMMARY:Alzheimer Info & Discussion Group
DESCRIPTION:The Alzheimer Society of Sault Ste. Marie & Algoma District hosts an Information & Discussion Group on the 2nd Wednesday of each month\, at the Calvary Gospel Church\, 55 Queen Street\, Blind River from 2:00 – 3:30 p.m.  For more information please call Tanya\, First Link Coordinator\, at 705-848-8145.
URL:https://huronshores.ca/event/alzheimer-info-discussion-group-2/2018-04-15/
LOCATION:ON
CATEGORIES:Community News
ATTACH;FMTTYPE=image/jpeg:https://huronshores.ca/wp-content/uploads/2013/01/Alzheimers-Disease.jpg
END:VEVENT
BEGIN:VEVENT
DTSTART;TZID=America/Toronto:20180416T140000
DTEND;TZID=America/Toronto:20180416T153000
DTSTAMP:20260424T005819
CREATED:20151021T181815Z
LAST-MODIFIED:20151021T181815Z
UID:10016645-1523887200-1523892600@huronshores.ca
SUMMARY:Alzheimer Info & Discussion Group
DESCRIPTION:The Alzheimer Society of Sault Ste. Marie & Algoma District hosts an Information & Discussion Group on the 2nd Wednesday of each month\, at the Calvary Gospel Church\, 55 Queen Street\, Blind River from 2:00 – 3:30 p.m.  For more information please call Tanya\, First Link Coordinator\, at 705-848-8145.
URL:https://huronshores.ca/event/alzheimer-info-discussion-group-2/2018-04-16/
LOCATION:ON
CATEGORIES:Community News
ATTACH;FMTTYPE=image/jpeg:https://huronshores.ca/wp-content/uploads/2013/01/Alzheimers-Disease.jpg
END:VEVENT
BEGIN:VEVENT
DTSTART;TZID=America/Toronto:20180417T140000
DTEND;TZID=America/Toronto:20180417T153000
DTSTAMP:20260424T005819
CREATED:20151021T181815Z
LAST-MODIFIED:20151021T181815Z
UID:10016646-1523973600-1523979000@huronshores.ca
SUMMARY:Alzheimer Info & Discussion Group
DESCRIPTION:The Alzheimer Society of Sault Ste. Marie & Algoma District hosts an Information & Discussion Group on the 2nd Wednesday of each month\, at the Calvary Gospel Church\, 55 Queen Street\, Blind River from 2:00 – 3:30 p.m.  For more information please call Tanya\, First Link Coordinator\, at 705-848-8145.
URL:https://huronshores.ca/event/alzheimer-info-discussion-group-2/2018-04-17/
LOCATION:ON
CATEGORIES:Community News
ATTACH;FMTTYPE=image/jpeg:https://huronshores.ca/wp-content/uploads/2013/01/Alzheimers-Disease.jpg
END:VEVENT
END:VCALENDAR