BEGIN:VCALENDAR
VERSION:2.0
PRODID:-//Huron Shores - ECPv6.15.11//NONSGML v1.0//EN
CALSCALE:GREGORIAN
METHOD:PUBLISH
X-WR-CALNAME:Huron Shores
X-ORIGINAL-URL:https://huronshores.ca
X-WR-CALDESC:Events for Huron Shores
REFRESH-INTERVAL;VALUE=DURATION:PT1H
X-Robots-Tag:noindex
X-PUBLISHED-TTL:PT1H
BEGIN:VTIMEZONE
TZID:America/Toronto
BEGIN:DAYLIGHT
TZOFFSETFROM:-0500
TZOFFSETTO:-0400
TZNAME:EDT
DTSTART:20150308T070000
END:DAYLIGHT
BEGIN:STANDARD
TZOFFSETFROM:-0400
TZOFFSETTO:-0500
TZNAME:EST
DTSTART:20151101T060000
END:STANDARD
BEGIN:DAYLIGHT
TZOFFSETFROM:-0500
TZOFFSETTO:-0400
TZNAME:EDT
DTSTART:20160313T070000
END:DAYLIGHT
BEGIN:STANDARD
TZOFFSETFROM:-0400
TZOFFSETTO:-0500
TZNAME:EST
DTSTART:20161106T060000
END:STANDARD
BEGIN:DAYLIGHT
TZOFFSETFROM:-0500
TZOFFSETTO:-0400
TZNAME:EDT
DTSTART:20170312T070000
END:DAYLIGHT
BEGIN:STANDARD
TZOFFSETFROM:-0400
TZOFFSETTO:-0500
TZNAME:EST
DTSTART:20171105T060000
END:STANDARD
END:VTIMEZONE
BEGIN:VEVENT
DTSTART;VALUE=DATE:20161009
DTEND;VALUE=DATE:20161016
DTSTAMP:20260425T131946
CREATED:20161004T141221Z
LAST-MODIFIED:20161004T141221Z
UID:10019940-1475971200-1476575999@huronshores.ca
SUMMARY:Fire Prevention Week
DESCRIPTION:Fire Prevention Week is October 9-15/16:  Don’t Wait – Check the Date!  Replace Smoke Alarms Every 10 Years!  Please click on the link below for details of Fire Prevention Week activities in Huron Shores.
URL:https://huronshores.ca/event/fire-prevention-week-2/
LOCATION:Ontario
CATEGORIES:Community News,Fire Department
ATTACH;FMTTYPE=image/jpeg:https://huronshores.ca/wp-content/uploads/2016/10/PSA-RED-ENGLISH_300.jpg
END:VEVENT
BEGIN:VEVENT
DTSTART;TZID=America/Toronto:20161009T140000
DTEND;TZID=America/Toronto:20161009T153000
DTSTAMP:20260425T131946
CREATED:20151021T181815Z
LAST-MODIFIED:20151021T181815Z
UID:10016090-1476021600-1476027000@huronshores.ca
SUMMARY:Alzheimer Info & Discussion Group
DESCRIPTION:The Alzheimer Society of Sault Ste. Marie & Algoma District hosts an Information & Discussion Group on the 2nd Wednesday of each month\, at the Calvary Gospel Church\, 55 Queen Street\, Blind River from 2:00 – 3:30 p.m.  For more information please call Tanya\, First Link Coordinator\, at 705-848-8145.
URL:https://huronshores.ca/event/alzheimer-info-discussion-group-2/2016-10-09/
LOCATION:Ontario
CATEGORIES:Community News
ATTACH;FMTTYPE=image/jpeg:https://huronshores.ca/wp-content/uploads/2013/01/Alzheimers-Disease.jpg
END:VEVENT
BEGIN:VEVENT
DTSTART;TZID=America/Toronto:20161010T140000
DTEND;TZID=America/Toronto:20161010T153000
DTSTAMP:20260425T131946
CREATED:20151021T181815Z
LAST-MODIFIED:20151021T181815Z
UID:10016091-1476108000-1476113400@huronshores.ca
SUMMARY:Alzheimer Info & Discussion Group
DESCRIPTION:The Alzheimer Society of Sault Ste. Marie & Algoma District hosts an Information & Discussion Group on the 2nd Wednesday of each month\, at the Calvary Gospel Church\, 55 Queen Street\, Blind River from 2:00 – 3:30 p.m.  For more information please call Tanya\, First Link Coordinator\, at 705-848-8145.
URL:https://huronshores.ca/event/alzheimer-info-discussion-group-2/2016-10-10/
LOCATION:Ontario
CATEGORIES:Community News
ATTACH;FMTTYPE=image/jpeg:https://huronshores.ca/wp-content/uploads/2013/01/Alzheimers-Disease.jpg
END:VEVENT
BEGIN:VEVENT
DTSTART;TZID=America/Toronto:20161011T140000
DTEND;TZID=America/Toronto:20161011T153000
DTSTAMP:20260425T131946
CREATED:20151021T181815Z
LAST-MODIFIED:20151021T181815Z
UID:10016092-1476194400-1476199800@huronshores.ca
SUMMARY:Alzheimer Info & Discussion Group
DESCRIPTION:The Alzheimer Society of Sault Ste. Marie & Algoma District hosts an Information & Discussion Group on the 2nd Wednesday of each month\, at the Calvary Gospel Church\, 55 Queen Street\, Blind River from 2:00 – 3:30 p.m.  For more information please call Tanya\, First Link Coordinator\, at 705-848-8145.
URL:https://huronshores.ca/event/alzheimer-info-discussion-group-2/2016-10-11/
LOCATION:Ontario
CATEGORIES:Community News
ATTACH;FMTTYPE=image/jpeg:https://huronshores.ca/wp-content/uploads/2013/01/Alzheimers-Disease.jpg
END:VEVENT
BEGIN:VEVENT
DTSTART;TZID=America/Toronto:20161012T093000
DTEND;TZID=America/Toronto:20161012T113000
DTSTAMP:20260425T131946
CREATED:20160916T200955Z
LAST-MODIFIED:20160916T200955Z
UID:10019461-1476264600-1476271800@huronshores.ca
SUMMARY:Coffee Time
DESCRIPTION:Join us for “Coffee Time” at Zion United Church\, in the lower level\, from 9:30 -11:30 a.m. on the second and fourth Wednesday of the month.  Enjoy coffee and fellowship.
URL:https://huronshores.ca/event/coffee-time/2016-10-12/
LOCATION:Ontario
CATEGORIES:Community News
ATTACH;FMTTYPE=image/jpeg:https://huronshores.ca/wp-content/uploads/2012/09/coffee_cup_clip_art_154678.jpg
END:VEVENT
BEGIN:VEVENT
DTSTART;TZID=America/Toronto:20161012T140000
DTEND;TZID=America/Toronto:20161012T153000
DTSTAMP:20260425T131946
CREATED:20151021T181815Z
LAST-MODIFIED:20151021T181815Z
UID:10016093-1476280800-1476286200@huronshores.ca
SUMMARY:Alzheimer Info & Discussion Group
DESCRIPTION:The Alzheimer Society of Sault Ste. Marie & Algoma District hosts an Information & Discussion Group on the 2nd Wednesday of each month\, at the Calvary Gospel Church\, 55 Queen Street\, Blind River from 2:00 – 3:30 p.m.  For more information please call Tanya\, First Link Coordinator\, at 705-848-8145.
URL:https://huronshores.ca/event/alzheimer-info-discussion-group-2/2016-10-12/
LOCATION:Ontario
CATEGORIES:Community News
ATTACH;FMTTYPE=image/jpeg:https://huronshores.ca/wp-content/uploads/2013/01/Alzheimers-Disease.jpg
END:VEVENT
BEGIN:VEVENT
DTSTART;TZID=America/Toronto:20161012T160000
DTEND;TZID=America/Toronto:20161012T190000
DTSTAMP:20260425T131946
CREATED:20161004T162549Z
LAST-MODIFIED:20161004T162549Z
UID:10019941-1476288000-1476298800@huronshores.ca
SUMMARY:Stn. 2 Open House
DESCRIPTION:As part of its Fire Prevention Week activities\, the Huron Shores Fire Department is hosting it’s Annual Open Houses on Wednesday\, October 12th\, at Station 2 in Iron Bridge\, and Thursday\, October 13th\, at Station 1 in Little Rapids from 4:00 to 7:00 p.m.  Meet your HSFD Volunteer Personnel\, tour the Fire Halls\, participate in equipment and safety demonstrations\, and more.  Refreshments provided.  Click on the link below to learn more about Fire Prevention Week activities in Huron Shores.
URL:https://huronshores.ca/event/stn-2-open-house/
LOCATION:Ontario
CATEGORIES:Community News,Fire Department,Health & Safety
ATTACH;FMTTYPE=image/jpeg:https://huronshores.ca/wp-content/uploads/2011/09/Fire-Dept-Crest.jpg
END:VEVENT
BEGIN:VEVENT
DTSTART;TZID=America/Toronto:20161013T140000
DTEND;TZID=America/Toronto:20161013T153000
DTSTAMP:20260425T131946
CREATED:20151021T181815Z
LAST-MODIFIED:20151021T181815Z
UID:10016094-1476367200-1476372600@huronshores.ca
SUMMARY:Alzheimer Info & Discussion Group
DESCRIPTION:The Alzheimer Society of Sault Ste. Marie & Algoma District hosts an Information & Discussion Group on the 2nd Wednesday of each month\, at the Calvary Gospel Church\, 55 Queen Street\, Blind River from 2:00 – 3:30 p.m.  For more information please call Tanya\, First Link Coordinator\, at 705-848-8145.
URL:https://huronshores.ca/event/alzheimer-info-discussion-group-2/2016-10-13/
LOCATION:Ontario
CATEGORIES:Community News
ATTACH;FMTTYPE=image/jpeg:https://huronshores.ca/wp-content/uploads/2013/01/Alzheimers-Disease.jpg
END:VEVENT
BEGIN:VEVENT
DTSTART;TZID=America/Toronto:20161013T160000
DTEND;TZID=America/Toronto:20161013T190000
DTSTAMP:20260425T131946
CREATED:20161004T162827Z
LAST-MODIFIED:20161004T162827Z
UID:10019944-1476374400-1476385200@huronshores.ca
SUMMARY:Stn. 1 Open House
DESCRIPTION:As part of its Fire Prevention Week activities\, the Huron Shores Fire Department is hosting it’s Annual Open Houses on Wednesday\, October 12th\, at Station 2 in Iron Bridge\, and Thursday\, October 13th\, at Station 1 in Little Rapids from 4:00 to 7:00 p.m.  Meet your HSFD Volunteer Personnel\, tour the Fire Halls\, participate in equipment and safety demonstrations\, and more.  Refreshments provided.  Click on the link below to learn more about Fire Prevention Week activities in Huron Shores.
URL:https://huronshores.ca/event/stn-1-open-house/
LOCATION:Ontario
CATEGORIES:Community News,Fire Department
ATTACH;FMTTYPE=image/jpeg:https://huronshores.ca/wp-content/uploads/2011/09/Fire-Dept-Crest.jpg
END:VEVENT
BEGIN:VEVENT
DTSTART;TZID=America/Toronto:20161014T140000
DTEND;TZID=America/Toronto:20161014T153000
DTSTAMP:20260425T131946
CREATED:20151021T181815Z
LAST-MODIFIED:20151021T181815Z
UID:10016095-1476453600-1476459000@huronshores.ca
SUMMARY:Alzheimer Info & Discussion Group
DESCRIPTION:The Alzheimer Society of Sault Ste. Marie & Algoma District hosts an Information & Discussion Group on the 2nd Wednesday of each month\, at the Calvary Gospel Church\, 55 Queen Street\, Blind River from 2:00 – 3:30 p.m.  For more information please call Tanya\, First Link Coordinator\, at 705-848-8145.
URL:https://huronshores.ca/event/alzheimer-info-discussion-group-2/2016-10-14/
LOCATION:Ontario
CATEGORIES:Community News
ATTACH;FMTTYPE=image/jpeg:https://huronshores.ca/wp-content/uploads/2013/01/Alzheimers-Disease.jpg
END:VEVENT
BEGIN:VEVENT
DTSTART;TZID=America/Toronto:20161015T140000
DTEND;TZID=America/Toronto:20161015T153000
DTSTAMP:20260425T131946
CREATED:20151021T181815Z
LAST-MODIFIED:20151021T181815Z
UID:10016096-1476540000-1476545400@huronshores.ca
SUMMARY:Alzheimer Info & Discussion Group
DESCRIPTION:The Alzheimer Society of Sault Ste. Marie & Algoma District hosts an Information & Discussion Group on the 2nd Wednesday of each month\, at the Calvary Gospel Church\, 55 Queen Street\, Blind River from 2:00 – 3:30 p.m.  For more information please call Tanya\, First Link Coordinator\, at 705-848-8145.
URL:https://huronshores.ca/event/alzheimer-info-discussion-group-2/2016-10-15/
LOCATION:Ontario
CATEGORIES:Community News
ATTACH;FMTTYPE=image/jpeg:https://huronshores.ca/wp-content/uploads/2013/01/Alzheimers-Disease.jpg
END:VEVENT
BEGIN:VEVENT
DTSTART;TZID=America/Toronto:20161016T140000
DTEND;TZID=America/Toronto:20161016T153000
DTSTAMP:20260425T131946
CREATED:20151021T181815Z
LAST-MODIFIED:20151021T181815Z
UID:10016097-1476626400-1476631800@huronshores.ca
SUMMARY:Alzheimer Info & Discussion Group
DESCRIPTION:The Alzheimer Society of Sault Ste. Marie & Algoma District hosts an Information & Discussion Group on the 2nd Wednesday of each month\, at the Calvary Gospel Church\, 55 Queen Street\, Blind River from 2:00 – 3:30 p.m.  For more information please call Tanya\, First Link Coordinator\, at 705-848-8145.
URL:https://huronshores.ca/event/alzheimer-info-discussion-group-2/2016-10-16/
LOCATION:Ontario
CATEGORIES:Community News
ATTACH;FMTTYPE=image/jpeg:https://huronshores.ca/wp-content/uploads/2013/01/Alzheimers-Disease.jpg
END:VEVENT
BEGIN:VEVENT
DTSTART;TZID=America/Toronto:20161017T140000
DTEND;TZID=America/Toronto:20161017T153000
DTSTAMP:20260425T131947
CREATED:20151021T181815Z
LAST-MODIFIED:20151021T181815Z
UID:10016098-1476712800-1476718200@huronshores.ca
SUMMARY:Alzheimer Info & Discussion Group
DESCRIPTION:The Alzheimer Society of Sault Ste. Marie & Algoma District hosts an Information & Discussion Group on the 2nd Wednesday of each month\, at the Calvary Gospel Church\, 55 Queen Street\, Blind River from 2:00 – 3:30 p.m.  For more information please call Tanya\, First Link Coordinator\, at 705-848-8145.
URL:https://huronshores.ca/event/alzheimer-info-discussion-group-2/2016-10-17/
LOCATION:Ontario
CATEGORIES:Community News
ATTACH;FMTTYPE=image/jpeg:https://huronshores.ca/wp-content/uploads/2013/01/Alzheimers-Disease.jpg
END:VEVENT
BEGIN:VEVENT
DTSTART;TZID=America/Toronto:20161018T140000
DTEND;TZID=America/Toronto:20161018T153000
DTSTAMP:20260425T131947
CREATED:20151021T181815Z
LAST-MODIFIED:20151021T181815Z
UID:10016099-1476799200-1476804600@huronshores.ca
SUMMARY:Alzheimer Info & Discussion Group
DESCRIPTION:The Alzheimer Society of Sault Ste. Marie & Algoma District hosts an Information & Discussion Group on the 2nd Wednesday of each month\, at the Calvary Gospel Church\, 55 Queen Street\, Blind River from 2:00 – 3:30 p.m.  For more information please call Tanya\, First Link Coordinator\, at 705-848-8145.
URL:https://huronshores.ca/event/alzheimer-info-discussion-group-2/2016-10-18/
LOCATION:Ontario
CATEGORIES:Community News
ATTACH;FMTTYPE=image/jpeg:https://huronshores.ca/wp-content/uploads/2013/01/Alzheimers-Disease.jpg
END:VEVENT
BEGIN:VEVENT
DTSTART;TZID=America/Toronto:20161018T200000
DTEND;TZID=America/Toronto:20161018T200000
DTSTAMP:20260425T131947
CREATED:20161007T191432Z
LAST-MODIFIED:20161007T191432Z
UID:10019949-1476820800-1476820800@huronshores.ca
SUMMARY:Farmers' Meeting re:  Elk Population Targets
DESCRIPTION:The Lake Huron North Shore Elk Advisory Committee invites the Farming Community to participate in setting elk population targets. \nThere will be 2 sessions: \n\nTuesday\, October 18/16 at the Iron Bridge Lions Club\, 10 Clarissa St. at 8:00 p.m.; and\nThursday\, October 20/16 at MacLennan Hall\, 762 MacLennan Rd.\, Tarbutt Twp.\, at 8:00 p.m.\n\nRefreshments will be provided.  Please RSVP to Ginette Wilkins at ginette.wilkins@ontario.ca or 705-356-3002.\nPlease click on the link below to view the flyer.
URL:https://huronshores.ca/event/farmers-meeting-re-elk-population-targets-2/
LOCATION:Ontario
CATEGORIES:Community News
ATTACH;FMTTYPE=image/png:https://huronshores.ca/wp-content/uploads/2016/10/elk.png
END:VEVENT
BEGIN:VEVENT
DTSTART;TZID=America/Toronto:20161019T140000
DTEND;TZID=America/Toronto:20161019T153000
DTSTAMP:20260425T131947
CREATED:20151021T181815Z
LAST-MODIFIED:20151021T181815Z
UID:10016100-1476885600-1476891000@huronshores.ca
SUMMARY:Alzheimer Info & Discussion Group
DESCRIPTION:The Alzheimer Society of Sault Ste. Marie & Algoma District hosts an Information & Discussion Group on the 2nd Wednesday of each month\, at the Calvary Gospel Church\, 55 Queen Street\, Blind River from 2:00 – 3:30 p.m.  For more information please call Tanya\, First Link Coordinator\, at 705-848-8145.
URL:https://huronshores.ca/event/alzheimer-info-discussion-group-2/2016-10-19/
LOCATION:Ontario
CATEGORIES:Community News
ATTACH;FMTTYPE=image/jpeg:https://huronshores.ca/wp-content/uploads/2013/01/Alzheimers-Disease.jpg
END:VEVENT
BEGIN:VEVENT
DTSTART;TZID=America/Toronto:20161020T140000
DTEND;TZID=America/Toronto:20161020T153000
DTSTAMP:20260425T131947
CREATED:20151021T181815Z
LAST-MODIFIED:20151021T181815Z
UID:10016101-1476972000-1476977400@huronshores.ca
SUMMARY:Alzheimer Info & Discussion Group
DESCRIPTION:The Alzheimer Society of Sault Ste. Marie & Algoma District hosts an Information & Discussion Group on the 2nd Wednesday of each month\, at the Calvary Gospel Church\, 55 Queen Street\, Blind River from 2:00 – 3:30 p.m.  For more information please call Tanya\, First Link Coordinator\, at 705-848-8145.
URL:https://huronshores.ca/event/alzheimer-info-discussion-group-2/2016-10-20/
LOCATION:Ontario
CATEGORIES:Community News
ATTACH;FMTTYPE=image/jpeg:https://huronshores.ca/wp-content/uploads/2013/01/Alzheimers-Disease.jpg
END:VEVENT
BEGIN:VEVENT
DTSTART;TZID=America/Toronto:20161020T200000
DTEND;TZID=America/Toronto:20161020T200000
DTSTAMP:20260425T131947
CREATED:20161007T191245Z
LAST-MODIFIED:20161007T191245Z
UID:10019948-1476993600-1476993600@huronshores.ca
SUMMARY:Farmers' Meeting re:  Elk Population Targets
DESCRIPTION:The Lake Huron North Shore Elk Advisory Committee invites the Farming Community to participate in setting elk population targets. \nThere will be 2 sessions: \n\nTuesday\, October 18/16 at the Iron Bridge Lions Club\, 10 Clarissa St. at 8:00 p.m.; and\nThursday\, October 20/16 at MacLennan Hall\, 762 MacLennan Rd.\, Tarbutt Twp.\, at 8:00 p.m.\n\nRefreshments will be provided.  Please RSVP to Ginette Wilkins at ginette.wilkins@ontario.ca or 705-356-3002.\nPlease click on the link below to view the flyer.
URL:https://huronshores.ca/event/farmers-meeting-re-elk-population-targets/
LOCATION:Ontario
CATEGORIES:Community News
ATTACH;FMTTYPE=image/png:https://huronshores.ca/wp-content/uploads/2016/10/elk.png
END:VEVENT
BEGIN:VEVENT
DTSTART;TZID=America/Toronto:20161021T140000
DTEND;TZID=America/Toronto:20161021T153000
DTSTAMP:20260425T131947
CREATED:20151021T181815Z
LAST-MODIFIED:20151021T181815Z
UID:10016102-1477058400-1477063800@huronshores.ca
SUMMARY:Alzheimer Info & Discussion Group
DESCRIPTION:The Alzheimer Society of Sault Ste. Marie & Algoma District hosts an Information & Discussion Group on the 2nd Wednesday of each month\, at the Calvary Gospel Church\, 55 Queen Street\, Blind River from 2:00 – 3:30 p.m.  For more information please call Tanya\, First Link Coordinator\, at 705-848-8145.
URL:https://huronshores.ca/event/alzheimer-info-discussion-group-2/2016-10-21/
LOCATION:Ontario
CATEGORIES:Community News
ATTACH;FMTTYPE=image/jpeg:https://huronshores.ca/wp-content/uploads/2013/01/Alzheimers-Disease.jpg
END:VEVENT
BEGIN:VEVENT
DTSTART;TZID=America/Toronto:20161022T140000
DTEND;TZID=America/Toronto:20161022T153000
DTSTAMP:20260425T131947
CREATED:20151021T181815Z
LAST-MODIFIED:20151021T181815Z
UID:10016103-1477144800-1477150200@huronshores.ca
SUMMARY:Alzheimer Info & Discussion Group
DESCRIPTION:The Alzheimer Society of Sault Ste. Marie & Algoma District hosts an Information & Discussion Group on the 2nd Wednesday of each month\, at the Calvary Gospel Church\, 55 Queen Street\, Blind River from 2:00 – 3:30 p.m.  For more information please call Tanya\, First Link Coordinator\, at 705-848-8145.
URL:https://huronshores.ca/event/alzheimer-info-discussion-group-2/2016-10-22/
LOCATION:Ontario
CATEGORIES:Community News
ATTACH;FMTTYPE=image/jpeg:https://huronshores.ca/wp-content/uploads/2013/01/Alzheimers-Disease.jpg
END:VEVENT
BEGIN:VEVENT
DTSTART;TZID=America/Toronto:20161023T130000
DTEND;TZID=America/Toronto:20161023T150000
DTSTAMP:20260425T131947
CREATED:20161020T194305Z
LAST-MODIFIED:20161020T194305Z
UID:10019953-1477227600-1477234800@huronshores.ca
SUMMARY:Children's Halloween Party
DESCRIPTION:A Children’s Halloween Party will be held Sunday\, October 23/16 from 1:00 to 3:00 p.m. at the IOOF Hall\, Thessalon.  There will be prizes for best costumes\, games\, a colouring contest\, candy and more.
URL:https://huronshores.ca/event/childrens-halloween-party-2/
LOCATION:Ontario
CATEGORIES:Community News
ATTACH;FMTTYPE=image/jpeg:https://huronshores.ca/wp-content/uploads/2015/10/Halloween-Party.jpg
END:VEVENT
BEGIN:VEVENT
DTSTART;TZID=America/Toronto:20161023T140000
DTEND;TZID=America/Toronto:20161023T153000
DTSTAMP:20260425T131947
CREATED:20151021T181815Z
LAST-MODIFIED:20151021T181815Z
UID:10016104-1477231200-1477236600@huronshores.ca
SUMMARY:Alzheimer Info & Discussion Group
DESCRIPTION:The Alzheimer Society of Sault Ste. Marie & Algoma District hosts an Information & Discussion Group on the 2nd Wednesday of each month\, at the Calvary Gospel Church\, 55 Queen Street\, Blind River from 2:00 – 3:30 p.m.  For more information please call Tanya\, First Link Coordinator\, at 705-848-8145.
URL:https://huronshores.ca/event/alzheimer-info-discussion-group-2/2016-10-23/
LOCATION:Ontario
CATEGORIES:Community News
ATTACH;FMTTYPE=image/jpeg:https://huronshores.ca/wp-content/uploads/2013/01/Alzheimers-Disease.jpg
END:VEVENT
BEGIN:VEVENT
DTSTART;TZID=America/Toronto:20161024T140000
DTEND;TZID=America/Toronto:20161024T153000
DTSTAMP:20260425T131947
CREATED:20151021T181815Z
LAST-MODIFIED:20151021T181815Z
UID:10016105-1477317600-1477323000@huronshores.ca
SUMMARY:Alzheimer Info & Discussion Group
DESCRIPTION:The Alzheimer Society of Sault Ste. Marie & Algoma District hosts an Information & Discussion Group on the 2nd Wednesday of each month\, at the Calvary Gospel Church\, 55 Queen Street\, Blind River from 2:00 – 3:30 p.m.  For more information please call Tanya\, First Link Coordinator\, at 705-848-8145.
URL:https://huronshores.ca/event/alzheimer-info-discussion-group-2/2016-10-24/
LOCATION:Ontario
CATEGORIES:Community News
ATTACH;FMTTYPE=image/jpeg:https://huronshores.ca/wp-content/uploads/2013/01/Alzheimers-Disease.jpg
END:VEVENT
BEGIN:VEVENT
DTSTART;TZID=America/Toronto:20161025T140000
DTEND;TZID=America/Toronto:20161025T153000
DTSTAMP:20260425T131947
CREATED:20151021T181815Z
LAST-MODIFIED:20151021T181815Z
UID:10016106-1477404000-1477409400@huronshores.ca
SUMMARY:Alzheimer Info & Discussion Group
DESCRIPTION:The Alzheimer Society of Sault Ste. Marie & Algoma District hosts an Information & Discussion Group on the 2nd Wednesday of each month\, at the Calvary Gospel Church\, 55 Queen Street\, Blind River from 2:00 – 3:30 p.m.  For more information please call Tanya\, First Link Coordinator\, at 705-848-8145.
URL:https://huronshores.ca/event/alzheimer-info-discussion-group-2/2016-10-25/
LOCATION:Ontario
CATEGORIES:Community News
ATTACH;FMTTYPE=image/jpeg:https://huronshores.ca/wp-content/uploads/2013/01/Alzheimers-Disease.jpg
END:VEVENT
BEGIN:VEVENT
DTSTART;TZID=America/Toronto:20161026T093000
DTEND;TZID=America/Toronto:20161026T113000
DTSTAMP:20260425T131947
CREATED:20160916T200955Z
LAST-MODIFIED:20160916T200955Z
UID:10019462-1477474200-1477481400@huronshores.ca
SUMMARY:Coffee Time
DESCRIPTION:Join us for “Coffee Time” at Zion United Church\, in the lower level\, from 9:30 -11:30 a.m. on the second and fourth Wednesday of the month.  Enjoy coffee and fellowship.
URL:https://huronshores.ca/event/coffee-time/2016-10-26/
LOCATION:Ontario
CATEGORIES:Community News
ATTACH;FMTTYPE=image/jpeg:https://huronshores.ca/wp-content/uploads/2012/09/coffee_cup_clip_art_154678.jpg
END:VEVENT
BEGIN:VEVENT
DTSTART;TZID=America/Toronto:20161026T140000
DTEND;TZID=America/Toronto:20161026T153000
DTSTAMP:20260425T131947
CREATED:20151021T181815Z
LAST-MODIFIED:20151021T181815Z
UID:10016107-1477490400-1477495800@huronshores.ca
SUMMARY:Alzheimer Info & Discussion Group
DESCRIPTION:The Alzheimer Society of Sault Ste. Marie & Algoma District hosts an Information & Discussion Group on the 2nd Wednesday of each month\, at the Calvary Gospel Church\, 55 Queen Street\, Blind River from 2:00 – 3:30 p.m.  For more information please call Tanya\, First Link Coordinator\, at 705-848-8145.
URL:https://huronshores.ca/event/alzheimer-info-discussion-group-2/2016-10-26/
LOCATION:Ontario
CATEGORIES:Community News
ATTACH;FMTTYPE=image/jpeg:https://huronshores.ca/wp-content/uploads/2013/01/Alzheimers-Disease.jpg
END:VEVENT
BEGIN:VEVENT
DTSTART;TZID=America/Toronto:20161027T140000
DTEND;TZID=America/Toronto:20161027T153000
DTSTAMP:20260425T131947
CREATED:20151021T181815Z
LAST-MODIFIED:20151021T181815Z
UID:10016108-1477576800-1477582200@huronshores.ca
SUMMARY:Alzheimer Info & Discussion Group
DESCRIPTION:The Alzheimer Society of Sault Ste. Marie & Algoma District hosts an Information & Discussion Group on the 2nd Wednesday of each month\, at the Calvary Gospel Church\, 55 Queen Street\, Blind River from 2:00 – 3:30 p.m.  For more information please call Tanya\, First Link Coordinator\, at 705-848-8145.
URL:https://huronshores.ca/event/alzheimer-info-discussion-group-2/2016-10-27/
LOCATION:Ontario
CATEGORIES:Community News
ATTACH;FMTTYPE=image/jpeg:https://huronshores.ca/wp-content/uploads/2013/01/Alzheimers-Disease.jpg
END:VEVENT
BEGIN:VEVENT
DTSTART;TZID=America/Toronto:20161028T083000
DTEND;TZID=America/Toronto:20161028T163000
DTSTAMP:20260425T131947
CREATED:20161006T202558Z
LAST-MODIFIED:20161006T202558Z
UID:10019945-1477643400-1477672200@huronshores.ca
SUMMARY:October 28:  Dress for the Cause
DESCRIPTION:To commemorate October as Breast Cancer Awareness Month\, on Friday\, October 28/16\, Municipal Office staff will participate in the “Dress for the Cause Day”.  Staff will wear pink and offer free coffee\, tea and baked goodies to anyone who comes into the Office and makes a donation.  Our Team Pink goal is to raise $100.00.  Please visit the Municipal Office\, 7 Bridge Street\, Iron Bridge\, during our regular office hours from 8:30 a.m. to 4:30 p.m.  and help us reach our goal!  Alternatively\, click on the link below to sponsor our team.  All donations go to the Breast Cancer Society of Canada.
URL:https://huronshores.ca/event/october-28-dress-for-the-cause/
LOCATION:Ontario
CATEGORIES:Community News
ATTACH;FMTTYPE=image/jpeg:https://huronshores.ca/wp-content/uploads/2016/08/Pink.jpg
END:VEVENT
BEGIN:VEVENT
DTSTART;TZID=America/Toronto:20161028T140000
DTEND;TZID=America/Toronto:20161028T153000
DTSTAMP:20260425T131947
CREATED:20151021T181815Z
LAST-MODIFIED:20151021T181815Z
UID:10016109-1477663200-1477668600@huronshores.ca
SUMMARY:Alzheimer Info & Discussion Group
DESCRIPTION:The Alzheimer Society of Sault Ste. Marie & Algoma District hosts an Information & Discussion Group on the 2nd Wednesday of each month\, at the Calvary Gospel Church\, 55 Queen Street\, Blind River from 2:00 – 3:30 p.m.  For more information please call Tanya\, First Link Coordinator\, at 705-848-8145.
URL:https://huronshores.ca/event/alzheimer-info-discussion-group-2/2016-10-28/
LOCATION:Ontario
CATEGORIES:Community News
ATTACH;FMTTYPE=image/jpeg:https://huronshores.ca/wp-content/uploads/2013/01/Alzheimers-Disease.jpg
END:VEVENT
BEGIN:VEVENT
DTSTART;TZID=America/Toronto:20161029T140000
DTEND;TZID=America/Toronto:20161029T153000
DTSTAMP:20260425T131947
CREATED:20151021T181815Z
LAST-MODIFIED:20151021T181815Z
UID:10016110-1477749600-1477755000@huronshores.ca
SUMMARY:Alzheimer Info & Discussion Group
DESCRIPTION:The Alzheimer Society of Sault Ste. Marie & Algoma District hosts an Information & Discussion Group on the 2nd Wednesday of each month\, at the Calvary Gospel Church\, 55 Queen Street\, Blind River from 2:00 – 3:30 p.m.  For more information please call Tanya\, First Link Coordinator\, at 705-848-8145.
URL:https://huronshores.ca/event/alzheimer-info-discussion-group-2/2016-10-29/
LOCATION:Ontario
CATEGORIES:Community News
ATTACH;FMTTYPE=image/jpeg:https://huronshores.ca/wp-content/uploads/2013/01/Alzheimers-Disease.jpg
END:VEVENT
END:VCALENDAR