BEGIN:VCALENDAR
VERSION:2.0
PRODID:-//Huron Shores - ECPv6.15.11//NONSGML v1.0//EN
CALSCALE:GREGORIAN
METHOD:PUBLISH
X-WR-CALNAME:Huron Shores
X-ORIGINAL-URL:https://huronshores.ca
X-WR-CALDESC:Events for Huron Shores
REFRESH-INTERVAL;VALUE=DURATION:PT1H
X-Robots-Tag:noindex
X-PUBLISHED-TTL:PT1H
BEGIN:VTIMEZONE
TZID:America/Toronto
BEGIN:DAYLIGHT
TZOFFSETFROM:-0500
TZOFFSETTO:-0400
TZNAME:EDT
DTSTART:20160313T070000
END:DAYLIGHT
BEGIN:STANDARD
TZOFFSETFROM:-0400
TZOFFSETTO:-0500
TZNAME:EST
DTSTART:20161106T060000
END:STANDARD
BEGIN:DAYLIGHT
TZOFFSETFROM:-0500
TZOFFSETTO:-0400
TZNAME:EDT
DTSTART:20170312T070000
END:DAYLIGHT
BEGIN:STANDARD
TZOFFSETFROM:-0400
TZOFFSETTO:-0500
TZNAME:EST
DTSTART:20171105T060000
END:STANDARD
BEGIN:DAYLIGHT
TZOFFSETFROM:-0500
TZOFFSETTO:-0400
TZNAME:EDT
DTSTART:20180311T070000
END:DAYLIGHT
BEGIN:STANDARD
TZOFFSETFROM:-0400
TZOFFSETTO:-0500
TZNAME:EST
DTSTART:20181104T060000
END:STANDARD
END:VTIMEZONE
BEGIN:VEVENT
DTSTART;TZID=America/Toronto:20170112T133000
DTEND;TZID=America/Toronto:20170112T163000
DTSTAMP:20260425T073611
CREATED:20161124T200555Z
LAST-MODIFIED:20161124T200555Z
UID:10019970-1484227800-1484238600@huronshores.ca
SUMMARY:Sowerby Art Group
DESCRIPTION:The Sowerby Art Group meets at Sowerby Hall\, 1410 Basswood Lake Rd.\, on Thursdays at 1:30 p.m.  All enthusiastic artists are welcome!
URL:https://huronshores.ca/event/sowerby-art-group/2017-01-12/
LOCATION:Ontario
CATEGORIES:Community News,Recreation
ATTACH;FMTTYPE=image/jpeg:https://huronshores.ca/wp-content/uploads/2014/06/Call-for-Artists.jpg
END:VEVENT
BEGIN:VEVENT
DTSTART;TZID=America/Toronto:20170112T140000
DTEND;TZID=America/Toronto:20170112T153000
DTSTAMP:20260425T073611
CREATED:20151021T181815Z
LAST-MODIFIED:20151021T181815Z
UID:10016185-1484229600-1484235000@huronshores.ca
SUMMARY:Alzheimer Info & Discussion Group
DESCRIPTION:The Alzheimer Society of Sault Ste. Marie & Algoma District hosts an Information & Discussion Group on the 2nd Wednesday of each month\, at the Calvary Gospel Church\, 55 Queen Street\, Blind River from 2:00 – 3:30 p.m.  For more information please call Tanya\, First Link Coordinator\, at 705-848-8145.
URL:https://huronshores.ca/event/alzheimer-info-discussion-group-2/2017-01-12/
LOCATION:Ontario
CATEGORIES:Community News
ATTACH;FMTTYPE=image/jpeg:https://huronshores.ca/wp-content/uploads/2013/01/Alzheimers-Disease.jpg
END:VEVENT
BEGIN:VEVENT
DTSTART;TZID=America/Toronto:20170112T193000
DTEND;TZID=America/Toronto:20170112T193000
DTSTAMP:20260425T073611
CREATED:20170112T203151Z
LAST-MODIFIED:20170112T203151Z
UID:10020062-1484249400-1484249400@huronshores.ca
SUMMARY:Square Dancing
DESCRIPTION:Square Dancing at Sowerby Hall\, 1410 Basswood Lake Road at 7:30 p.m.
URL:https://huronshores.ca/event/square-dancing-2/2017-01-12/
LOCATION:Ontario
CATEGORIES:Community News,Recreation
ATTACH;FMTTYPE=image/jpeg:https://huronshores.ca/wp-content/uploads/2016/01/square-dancing.jpg
END:VEVENT
BEGIN:VEVENT
DTSTART;TZID=America/Toronto:20170113T140000
DTEND;TZID=America/Toronto:20170113T153000
DTSTAMP:20260425T073611
CREATED:20151021T181815Z
LAST-MODIFIED:20151021T181815Z
UID:10016186-1484316000-1484321400@huronshores.ca
SUMMARY:Alzheimer Info & Discussion Group
DESCRIPTION:The Alzheimer Society of Sault Ste. Marie & Algoma District hosts an Information & Discussion Group on the 2nd Wednesday of each month\, at the Calvary Gospel Church\, 55 Queen Street\, Blind River from 2:00 – 3:30 p.m.  For more information please call Tanya\, First Link Coordinator\, at 705-848-8145.
URL:https://huronshores.ca/event/alzheimer-info-discussion-group-2/2017-01-13/
LOCATION:Ontario
CATEGORIES:Community News
ATTACH;FMTTYPE=image/jpeg:https://huronshores.ca/wp-content/uploads/2013/01/Alzheimers-Disease.jpg
END:VEVENT
BEGIN:VEVENT
DTSTART;TZID=America/Toronto:20170114T140000
DTEND;TZID=America/Toronto:20170114T153000
DTSTAMP:20260425T073611
CREATED:20151021T181815Z
LAST-MODIFIED:20151021T181815Z
UID:10016187-1484402400-1484407800@huronshores.ca
SUMMARY:Alzheimer Info & Discussion Group
DESCRIPTION:The Alzheimer Society of Sault Ste. Marie & Algoma District hosts an Information & Discussion Group on the 2nd Wednesday of each month\, at the Calvary Gospel Church\, 55 Queen Street\, Blind River from 2:00 – 3:30 p.m.  For more information please call Tanya\, First Link Coordinator\, at 705-848-8145.
URL:https://huronshores.ca/event/alzheimer-info-discussion-group-2/2017-01-14/
LOCATION:Ontario
CATEGORIES:Community News
ATTACH;FMTTYPE=image/jpeg:https://huronshores.ca/wp-content/uploads/2013/01/Alzheimers-Disease.jpg
END:VEVENT
BEGIN:VEVENT
DTSTART;TZID=America/Toronto:20170115T140000
DTEND;TZID=America/Toronto:20170115T153000
DTSTAMP:20260425T073611
CREATED:20151021T181815Z
LAST-MODIFIED:20151021T181815Z
UID:10016188-1484488800-1484494200@huronshores.ca
SUMMARY:Alzheimer Info & Discussion Group
DESCRIPTION:The Alzheimer Society of Sault Ste. Marie & Algoma District hosts an Information & Discussion Group on the 2nd Wednesday of each month\, at the Calvary Gospel Church\, 55 Queen Street\, Blind River from 2:00 – 3:30 p.m.  For more information please call Tanya\, First Link Coordinator\, at 705-848-8145.
URL:https://huronshores.ca/event/alzheimer-info-discussion-group-2/2017-01-15/
LOCATION:Ontario
CATEGORIES:Community News
ATTACH;FMTTYPE=image/jpeg:https://huronshores.ca/wp-content/uploads/2013/01/Alzheimers-Disease.jpg
END:VEVENT
BEGIN:VEVENT
DTSTART;TZID=America/Toronto:20170116T140000
DTEND;TZID=America/Toronto:20170116T153000
DTSTAMP:20260425T073611
CREATED:20151021T181815Z
LAST-MODIFIED:20151021T181815Z
UID:10016189-1484575200-1484580600@huronshores.ca
SUMMARY:Alzheimer Info & Discussion Group
DESCRIPTION:The Alzheimer Society of Sault Ste. Marie & Algoma District hosts an Information & Discussion Group on the 2nd Wednesday of each month\, at the Calvary Gospel Church\, 55 Queen Street\, Blind River from 2:00 – 3:30 p.m.  For more information please call Tanya\, First Link Coordinator\, at 705-848-8145.
URL:https://huronshores.ca/event/alzheimer-info-discussion-group-2/2017-01-16/
LOCATION:Ontario
CATEGORIES:Community News
ATTACH;FMTTYPE=image/jpeg:https://huronshores.ca/wp-content/uploads/2013/01/Alzheimers-Disease.jpg
END:VEVENT
BEGIN:VEVENT
DTSTART;TZID=America/Toronto:20170117T140000
DTEND;TZID=America/Toronto:20170117T153000
DTSTAMP:20260425T073611
CREATED:20151021T181815Z
LAST-MODIFIED:20151021T181815Z
UID:10016190-1484661600-1484667000@huronshores.ca
SUMMARY:Alzheimer Info & Discussion Group
DESCRIPTION:The Alzheimer Society of Sault Ste. Marie & Algoma District hosts an Information & Discussion Group on the 2nd Wednesday of each month\, at the Calvary Gospel Church\, 55 Queen Street\, Blind River from 2:00 – 3:30 p.m.  For more information please call Tanya\, First Link Coordinator\, at 705-848-8145.
URL:https://huronshores.ca/event/alzheimer-info-discussion-group-2/2017-01-17/
LOCATION:Ontario
CATEGORIES:Community News
ATTACH;FMTTYPE=image/jpeg:https://huronshores.ca/wp-content/uploads/2013/01/Alzheimers-Disease.jpg
END:VEVENT
BEGIN:VEVENT
DTSTART;TZID=America/Toronto:20170118T140000
DTEND;TZID=America/Toronto:20170118T153000
DTSTAMP:20260425T073611
CREATED:20151021T181815Z
LAST-MODIFIED:20151021T181815Z
UID:10016191-1484748000-1484753400@huronshores.ca
SUMMARY:Alzheimer Info & Discussion Group
DESCRIPTION:The Alzheimer Society of Sault Ste. Marie & Algoma District hosts an Information & Discussion Group on the 2nd Wednesday of each month\, at the Calvary Gospel Church\, 55 Queen Street\, Blind River from 2:00 – 3:30 p.m.  For more information please call Tanya\, First Link Coordinator\, at 705-848-8145.
URL:https://huronshores.ca/event/alzheimer-info-discussion-group-2/2017-01-18/
LOCATION:Ontario
CATEGORIES:Community News
ATTACH;FMTTYPE=image/jpeg:https://huronshores.ca/wp-content/uploads/2013/01/Alzheimers-Disease.jpg
END:VEVENT
BEGIN:VEVENT
DTSTART;TZID=America/Toronto:20170119T133000
DTEND;TZID=America/Toronto:20170119T163000
DTSTAMP:20260425T073611
CREATED:20161124T200555Z
LAST-MODIFIED:20161124T200555Z
UID:10019971-1484832600-1484843400@huronshores.ca
SUMMARY:Sowerby Art Group
DESCRIPTION:The Sowerby Art Group meets at Sowerby Hall\, 1410 Basswood Lake Rd.\, on Thursdays at 1:30 p.m.  All enthusiastic artists are welcome!
URL:https://huronshores.ca/event/sowerby-art-group/2017-01-19/
LOCATION:Ontario
CATEGORIES:Community News,Recreation
ATTACH;FMTTYPE=image/jpeg:https://huronshores.ca/wp-content/uploads/2014/06/Call-for-Artists.jpg
END:VEVENT
BEGIN:VEVENT
DTSTART;TZID=America/Toronto:20170119T140000
DTEND;TZID=America/Toronto:20170119T153000
DTSTAMP:20260425T073611
CREATED:20151021T181815Z
LAST-MODIFIED:20151021T181815Z
UID:10016192-1484834400-1484839800@huronshores.ca
SUMMARY:Alzheimer Info & Discussion Group
DESCRIPTION:The Alzheimer Society of Sault Ste. Marie & Algoma District hosts an Information & Discussion Group on the 2nd Wednesday of each month\, at the Calvary Gospel Church\, 55 Queen Street\, Blind River from 2:00 – 3:30 p.m.  For more information please call Tanya\, First Link Coordinator\, at 705-848-8145.
URL:https://huronshores.ca/event/alzheimer-info-discussion-group-2/2017-01-19/
LOCATION:Ontario
CATEGORIES:Community News
ATTACH;FMTTYPE=image/jpeg:https://huronshores.ca/wp-content/uploads/2013/01/Alzheimers-Disease.jpg
END:VEVENT
BEGIN:VEVENT
DTSTART;TZID=America/Toronto:20170119T193000
DTEND;TZID=America/Toronto:20170119T193000
DTSTAMP:20260425T073611
CREATED:20170112T203151Z
LAST-MODIFIED:20170112T203151Z
UID:10020063-1484854200-1484854200@huronshores.ca
SUMMARY:Square Dancing
DESCRIPTION:Square Dancing at Sowerby Hall\, 1410 Basswood Lake Road at 7:30 p.m.
URL:https://huronshores.ca/event/square-dancing-2/2017-01-19/
LOCATION:Ontario
CATEGORIES:Community News,Recreation
ATTACH;FMTTYPE=image/jpeg:https://huronshores.ca/wp-content/uploads/2016/01/square-dancing.jpg
END:VEVENT
BEGIN:VEVENT
DTSTART;TZID=America/Toronto:20170120T140000
DTEND;TZID=America/Toronto:20170120T153000
DTSTAMP:20260425T073611
CREATED:20151021T181815Z
LAST-MODIFIED:20151021T181815Z
UID:10016193-1484920800-1484926200@huronshores.ca
SUMMARY:Alzheimer Info & Discussion Group
DESCRIPTION:The Alzheimer Society of Sault Ste. Marie & Algoma District hosts an Information & Discussion Group on the 2nd Wednesday of each month\, at the Calvary Gospel Church\, 55 Queen Street\, Blind River from 2:00 – 3:30 p.m.  For more information please call Tanya\, First Link Coordinator\, at 705-848-8145.
URL:https://huronshores.ca/event/alzheimer-info-discussion-group-2/2017-01-20/
LOCATION:Ontario
CATEGORIES:Community News
ATTACH;FMTTYPE=image/jpeg:https://huronshores.ca/wp-content/uploads/2013/01/Alzheimers-Disease.jpg
END:VEVENT
BEGIN:VEVENT
DTSTART;TZID=America/Toronto:20170121T140000
DTEND;TZID=America/Toronto:20170121T153000
DTSTAMP:20260425T073611
CREATED:20151021T181815Z
LAST-MODIFIED:20151021T181815Z
UID:10016194-1485007200-1485012600@huronshores.ca
SUMMARY:Alzheimer Info & Discussion Group
DESCRIPTION:The Alzheimer Society of Sault Ste. Marie & Algoma District hosts an Information & Discussion Group on the 2nd Wednesday of each month\, at the Calvary Gospel Church\, 55 Queen Street\, Blind River from 2:00 – 3:30 p.m.  For more information please call Tanya\, First Link Coordinator\, at 705-848-8145.
URL:https://huronshores.ca/event/alzheimer-info-discussion-group-2/2017-01-21/
LOCATION:Ontario
CATEGORIES:Community News
ATTACH;FMTTYPE=image/jpeg:https://huronshores.ca/wp-content/uploads/2013/01/Alzheimers-Disease.jpg
END:VEVENT
BEGIN:VEVENT
DTSTART;TZID=America/Toronto:20170122T140000
DTEND;TZID=America/Toronto:20170122T153000
DTSTAMP:20260425T073611
CREATED:20151021T181815Z
LAST-MODIFIED:20151021T181815Z
UID:10016195-1485093600-1485099000@huronshores.ca
SUMMARY:Alzheimer Info & Discussion Group
DESCRIPTION:The Alzheimer Society of Sault Ste. Marie & Algoma District hosts an Information & Discussion Group on the 2nd Wednesday of each month\, at the Calvary Gospel Church\, 55 Queen Street\, Blind River from 2:00 – 3:30 p.m.  For more information please call Tanya\, First Link Coordinator\, at 705-848-8145.
URL:https://huronshores.ca/event/alzheimer-info-discussion-group-2/2017-01-22/
LOCATION:Ontario
CATEGORIES:Community News
ATTACH;FMTTYPE=image/jpeg:https://huronshores.ca/wp-content/uploads/2013/01/Alzheimers-Disease.jpg
END:VEVENT
BEGIN:VEVENT
DTSTART;TZID=America/Toronto:20170123T140000
DTEND;TZID=America/Toronto:20170123T153000
DTSTAMP:20260425T073611
CREATED:20151021T181815Z
LAST-MODIFIED:20151021T181815Z
UID:10016196-1485180000-1485185400@huronshores.ca
SUMMARY:Alzheimer Info & Discussion Group
DESCRIPTION:The Alzheimer Society of Sault Ste. Marie & Algoma District hosts an Information & Discussion Group on the 2nd Wednesday of each month\, at the Calvary Gospel Church\, 55 Queen Street\, Blind River from 2:00 – 3:30 p.m.  For more information please call Tanya\, First Link Coordinator\, at 705-848-8145.
URL:https://huronshores.ca/event/alzheimer-info-discussion-group-2/2017-01-23/
LOCATION:Ontario
CATEGORIES:Community News
ATTACH;FMTTYPE=image/jpeg:https://huronshores.ca/wp-content/uploads/2013/01/Alzheimers-Disease.jpg
END:VEVENT
BEGIN:VEVENT
DTSTART;TZID=America/Toronto:20170124T140000
DTEND;TZID=America/Toronto:20170124T153000
DTSTAMP:20260425T073611
CREATED:20151021T181815Z
LAST-MODIFIED:20151021T181815Z
UID:10016197-1485266400-1485271800@huronshores.ca
SUMMARY:Alzheimer Info & Discussion Group
DESCRIPTION:The Alzheimer Society of Sault Ste. Marie & Algoma District hosts an Information & Discussion Group on the 2nd Wednesday of each month\, at the Calvary Gospel Church\, 55 Queen Street\, Blind River from 2:00 – 3:30 p.m.  For more information please call Tanya\, First Link Coordinator\, at 705-848-8145.
URL:https://huronshores.ca/event/alzheimer-info-discussion-group-2/2017-01-24/
LOCATION:Ontario
CATEGORIES:Community News
ATTACH;FMTTYPE=image/jpeg:https://huronshores.ca/wp-content/uploads/2013/01/Alzheimers-Disease.jpg
END:VEVENT
BEGIN:VEVENT
DTSTART;TZID=America/Toronto:20170124T190000
DTEND;TZID=America/Toronto:20170124T190000
DTSTAMP:20260425T073611
CREATED:20170116T152525Z
LAST-MODIFIED:20170116T152525Z
UID:10020070-1485284400-1485284400@huronshores.ca
SUMMARY:Community Gardens Volunteer Info Session
DESCRIPTION:http://huronshores.ca/2017/01/huron-shores-community-gardens-volunteers-needed/
URL:https://huronshores.ca/event/community-gardens-volunteer-info-session/
LOCATION:Ontario
CATEGORIES:Community News,Local Food
ATTACH;FMTTYPE=image/jpeg:https://huronshores.ca/wp-content/uploads/2015/04/Community-Garden2.jpg
END:VEVENT
BEGIN:VEVENT
DTSTART;VALUE=DATE:20170125
DTEND;VALUE=DATE:20170126
DTSTAMP:20260425T073611
CREATED:20170124T201602Z
LAST-MODIFIED:20170124T201602Z
UID:10020073-1485302400-1485388799@huronshores.ca
SUMMARY:Bell "Let's Talk" Day
DESCRIPTION:Please click on the link below to learn more about Bell “Let’s Talk” Day.
URL:https://huronshores.ca/event/bell-lets-talk-day/
LOCATION:Ontario
CATEGORIES:Community News,Health & Safety
ATTACH;FMTTYPE=image/jpeg:https://huronshores.ca/wp-content/uploads/2012/02/bell_letstalk-e-mail-large.jpg
END:VEVENT
BEGIN:VEVENT
DTSTART;TZID=America/Toronto:20170125T140000
DTEND;TZID=America/Toronto:20170125T153000
DTSTAMP:20260425T073611
CREATED:20151021T181815Z
LAST-MODIFIED:20151021T181815Z
UID:10016198-1485352800-1485358200@huronshores.ca
SUMMARY:Alzheimer Info & Discussion Group
DESCRIPTION:The Alzheimer Society of Sault Ste. Marie & Algoma District hosts an Information & Discussion Group on the 2nd Wednesday of each month\, at the Calvary Gospel Church\, 55 Queen Street\, Blind River from 2:00 – 3:30 p.m.  For more information please call Tanya\, First Link Coordinator\, at 705-848-8145.
URL:https://huronshores.ca/event/alzheimer-info-discussion-group-2/2017-01-25/
LOCATION:Ontario
CATEGORIES:Community News
ATTACH;FMTTYPE=image/jpeg:https://huronshores.ca/wp-content/uploads/2013/01/Alzheimers-Disease.jpg
END:VEVENT
BEGIN:VEVENT
DTSTART;TZID=America/Toronto:20170126T133000
DTEND;TZID=America/Toronto:20170126T163000
DTSTAMP:20260425T073611
CREATED:20161124T200555Z
LAST-MODIFIED:20161124T200555Z
UID:10019972-1485437400-1485448200@huronshores.ca
SUMMARY:Sowerby Art Group
DESCRIPTION:The Sowerby Art Group meets at Sowerby Hall\, 1410 Basswood Lake Rd.\, on Thursdays at 1:30 p.m.  All enthusiastic artists are welcome!
URL:https://huronshores.ca/event/sowerby-art-group/2017-01-26/
LOCATION:Ontario
CATEGORIES:Community News,Recreation
ATTACH;FMTTYPE=image/jpeg:https://huronshores.ca/wp-content/uploads/2014/06/Call-for-Artists.jpg
END:VEVENT
BEGIN:VEVENT
DTSTART;TZID=America/Toronto:20170126T140000
DTEND;TZID=America/Toronto:20170126T153000
DTSTAMP:20260425T073611
CREATED:20151021T181815Z
LAST-MODIFIED:20151021T181815Z
UID:10016199-1485439200-1485444600@huronshores.ca
SUMMARY:Alzheimer Info & Discussion Group
DESCRIPTION:The Alzheimer Society of Sault Ste. Marie & Algoma District hosts an Information & Discussion Group on the 2nd Wednesday of each month\, at the Calvary Gospel Church\, 55 Queen Street\, Blind River from 2:00 – 3:30 p.m.  For more information please call Tanya\, First Link Coordinator\, at 705-848-8145.
URL:https://huronshores.ca/event/alzheimer-info-discussion-group-2/2017-01-26/
LOCATION:Ontario
CATEGORIES:Community News
ATTACH;FMTTYPE=image/jpeg:https://huronshores.ca/wp-content/uploads/2013/01/Alzheimers-Disease.jpg
END:VEVENT
BEGIN:VEVENT
DTSTART;TZID=America/Toronto:20170126T190000
DTEND;TZID=America/Toronto:20170126T190000
DTSTAMP:20260425T073611
CREATED:20170116T152852Z
LAST-MODIFIED:20170116T152852Z
UID:10020072-1485457200-1485457200@huronshores.ca
SUMMARY:Community Gardens Volunteer Info Session
DESCRIPTION:http://huronshores.ca/2017/01/huron-shores-community-gardens-volunteers-needed/
URL:https://huronshores.ca/event/community-gardens-volunteer-info-session-2/
LOCATION:Ontario
CATEGORIES:Community News,Local Food
ATTACH;FMTTYPE=image/jpeg:https://huronshores.ca/wp-content/uploads/2015/04/Community-Garden2.jpg
END:VEVENT
BEGIN:VEVENT
DTSTART;TZID=America/Toronto:20170126T193000
DTEND;TZID=America/Toronto:20170126T193000
DTSTAMP:20260425T073611
CREATED:20170112T203151Z
LAST-MODIFIED:20170112T203151Z
UID:10020064-1485459000-1485459000@huronshores.ca
SUMMARY:Square Dancing
DESCRIPTION:Square Dancing at Sowerby Hall\, 1410 Basswood Lake Road at 7:30 p.m.
URL:https://huronshores.ca/event/square-dancing-2/2017-01-26/
LOCATION:Ontario
CATEGORIES:Community News,Recreation
ATTACH;FMTTYPE=image/jpeg:https://huronshores.ca/wp-content/uploads/2016/01/square-dancing.jpg
END:VEVENT
BEGIN:VEVENT
DTSTART;TZID=America/Toronto:20170127T140000
DTEND;TZID=America/Toronto:20170127T153000
DTSTAMP:20260425T073611
CREATED:20151021T181815Z
LAST-MODIFIED:20151021T181815Z
UID:10016200-1485525600-1485531000@huronshores.ca
SUMMARY:Alzheimer Info & Discussion Group
DESCRIPTION:The Alzheimer Society of Sault Ste. Marie & Algoma District hosts an Information & Discussion Group on the 2nd Wednesday of each month\, at the Calvary Gospel Church\, 55 Queen Street\, Blind River from 2:00 – 3:30 p.m.  For more information please call Tanya\, First Link Coordinator\, at 705-848-8145.
URL:https://huronshores.ca/event/alzheimer-info-discussion-group-2/2017-01-27/
LOCATION:Ontario
CATEGORIES:Community News
ATTACH;FMTTYPE=image/jpeg:https://huronshores.ca/wp-content/uploads/2013/01/Alzheimers-Disease.jpg
END:VEVENT
BEGIN:VEVENT
DTSTART;TZID=America/Toronto:20170127T170000
DTEND;TZID=America/Toronto:20170127T190000
DTSTAMP:20260425T073612
CREATED:20161125T142417Z
LAST-MODIFIED:20161125T142417Z
UID:10019983-1485536400-1485543600@huronshores.ca
SUMMARY:Fish Fry
DESCRIPTION:The Thessalon RC Legion Branch 182 hosts a Fish Fry on Friday\, January 27/17 from 5:00 to 7:00 p.m.  Take-out orders must be called in by 4:30 p.m.  Call 705-842-2418.
URL:https://huronshores.ca/event/fish-fry/
LOCATION:Ontario
CATEGORIES:Community News
ATTACH;FMTTYPE=image/jpeg:https://huronshores.ca/wp-content/uploads/2015/12/Friday-Fish-Fry.jpg
END:VEVENT
BEGIN:VEVENT
DTSTART;TZID=America/Toronto:20170128T140000
DTEND;TZID=America/Toronto:20170128T153000
DTSTAMP:20260425T073612
CREATED:20151021T181815Z
LAST-MODIFIED:20151021T181815Z
UID:10016201-1485612000-1485617400@huronshores.ca
SUMMARY:Alzheimer Info & Discussion Group
DESCRIPTION:The Alzheimer Society of Sault Ste. Marie & Algoma District hosts an Information & Discussion Group on the 2nd Wednesday of each month\, at the Calvary Gospel Church\, 55 Queen Street\, Blind River from 2:00 – 3:30 p.m.  For more information please call Tanya\, First Link Coordinator\, at 705-848-8145.
URL:https://huronshores.ca/event/alzheimer-info-discussion-group-2/2017-01-28/
LOCATION:Ontario
CATEGORIES:Community News
ATTACH;FMTTYPE=image/jpeg:https://huronshores.ca/wp-content/uploads/2013/01/Alzheimers-Disease.jpg
END:VEVENT
BEGIN:VEVENT
DTSTART;TZID=America/Toronto:20170129T140000
DTEND;TZID=America/Toronto:20170129T153000
DTSTAMP:20260425T073612
CREATED:20151021T181815Z
LAST-MODIFIED:20151021T181815Z
UID:10016202-1485698400-1485703800@huronshores.ca
SUMMARY:Alzheimer Info & Discussion Group
DESCRIPTION:The Alzheimer Society of Sault Ste. Marie & Algoma District hosts an Information & Discussion Group on the 2nd Wednesday of each month\, at the Calvary Gospel Church\, 55 Queen Street\, Blind River from 2:00 – 3:30 p.m.  For more information please call Tanya\, First Link Coordinator\, at 705-848-8145.
URL:https://huronshores.ca/event/alzheimer-info-discussion-group-2/2017-01-29/
LOCATION:Ontario
CATEGORIES:Community News
ATTACH;FMTTYPE=image/jpeg:https://huronshores.ca/wp-content/uploads/2013/01/Alzheimers-Disease.jpg
END:VEVENT
BEGIN:VEVENT
DTSTART;TZID=America/Toronto:20170130T140000
DTEND;TZID=America/Toronto:20170130T153000
DTSTAMP:20260425T073612
CREATED:20151021T181815Z
LAST-MODIFIED:20151021T181815Z
UID:10016203-1485784800-1485790200@huronshores.ca
SUMMARY:Alzheimer Info & Discussion Group
DESCRIPTION:The Alzheimer Society of Sault Ste. Marie & Algoma District hosts an Information & Discussion Group on the 2nd Wednesday of each month\, at the Calvary Gospel Church\, 55 Queen Street\, Blind River from 2:00 – 3:30 p.m.  For more information please call Tanya\, First Link Coordinator\, at 705-848-8145.
URL:https://huronshores.ca/event/alzheimer-info-discussion-group-2/2017-01-30/
LOCATION:Ontario
CATEGORIES:Community News
ATTACH;FMTTYPE=image/jpeg:https://huronshores.ca/wp-content/uploads/2013/01/Alzheimers-Disease.jpg
END:VEVENT
BEGIN:VEVENT
DTSTART;TZID=America/Toronto:20170131T140000
DTEND;TZID=America/Toronto:20170131T153000
DTSTAMP:20260425T073612
CREATED:20151021T181815Z
LAST-MODIFIED:20151021T181815Z
UID:10016204-1485871200-1485876600@huronshores.ca
SUMMARY:Alzheimer Info & Discussion Group
DESCRIPTION:The Alzheimer Society of Sault Ste. Marie & Algoma District hosts an Information & Discussion Group on the 2nd Wednesday of each month\, at the Calvary Gospel Church\, 55 Queen Street\, Blind River from 2:00 – 3:30 p.m.  For more information please call Tanya\, First Link Coordinator\, at 705-848-8145.
URL:https://huronshores.ca/event/alzheimer-info-discussion-group-2/2017-01-31/
LOCATION:Ontario
CATEGORIES:Community News
ATTACH;FMTTYPE=image/jpeg:https://huronshores.ca/wp-content/uploads/2013/01/Alzheimers-Disease.jpg
END:VEVENT
END:VCALENDAR