BEGIN:VCALENDAR
VERSION:2.0
PRODID:-//Huron Shores - ECPv6.15.11//NONSGML v1.0//EN
CALSCALE:GREGORIAN
METHOD:PUBLISH
X-ORIGINAL-URL:https://huronshores.ca
X-WR-CALDESC:Events for Huron Shores
REFRESH-INTERVAL;VALUE=DURATION:PT1H
X-Robots-Tag:noindex
X-PUBLISHED-TTL:PT1H
BEGIN:VTIMEZONE
TZID:America/Toronto
BEGIN:DAYLIGHT
TZOFFSETFROM:-0500
TZOFFSETTO:-0400
TZNAME:EDT
DTSTART:20150308T070000
END:DAYLIGHT
BEGIN:STANDARD
TZOFFSETFROM:-0400
TZOFFSETTO:-0500
TZNAME:EST
DTSTART:20151101T060000
END:STANDARD
BEGIN:DAYLIGHT
TZOFFSETFROM:-0500
TZOFFSETTO:-0400
TZNAME:EDT
DTSTART:20160313T070000
END:DAYLIGHT
BEGIN:STANDARD
TZOFFSETFROM:-0400
TZOFFSETTO:-0500
TZNAME:EST
DTSTART:20161106T060000
END:STANDARD
BEGIN:DAYLIGHT
TZOFFSETFROM:-0500
TZOFFSETTO:-0400
TZNAME:EDT
DTSTART:20170312T070000
END:DAYLIGHT
BEGIN:STANDARD
TZOFFSETFROM:-0400
TZOFFSETTO:-0500
TZNAME:EST
DTSTART:20171105T060000
END:STANDARD
BEGIN:DAYLIGHT
TZOFFSETFROM:-0500
TZOFFSETTO:-0400
TZNAME:EDT
DTSTART:20180311T070000
END:DAYLIGHT
BEGIN:STANDARD
TZOFFSETFROM:-0400
TZOFFSETTO:-0500
TZNAME:EST
DTSTART:20181104T060000
END:STANDARD
END:VTIMEZONE
BEGIN:VEVENT
DTSTART;TZID=America/Toronto:20161214T113000
DTEND;TZID=America/Toronto:20161214T133000
DTSTAMP:20260425T093953
CREATED:20161124T205832Z
LAST-MODIFIED:20161124T205832Z
UID:10019982-1481715000-1481722200@huronshores.ca
SUMMARY:Christmas Luncheon & Sale
DESCRIPTION:St. Ambrose Catholic Women’s League host a Christmas Luncheon & Sale on Wednesday\, December 14/16 from 11:30 a.m. to 1:30 p.m.  Turkey luncheon with all the trimmings.  Tickets:  $10/person.  Take-out available:  call 705-842-2024.  For more info call Mary 705-842-0799 or Sylvie 705-842-2575.
URL:https://huronshores.ca/event/christmas-luncheon-sale/
LOCATION:Ontario
CATEGORIES:Community News
ATTACH;FMTTYPE=image/png:https://huronshores.ca/wp-content/uploads/2015/10/turkey-dinner.png
END:VEVENT
BEGIN:VEVENT
DTSTART;TZID=America/Toronto:20161214T140000
DTEND;TZID=America/Toronto:20161214T153000
DTSTAMP:20260425T093953
CREATED:20151021T181815Z
LAST-MODIFIED:20151021T181815Z
UID:10016156-1481724000-1481729400@huronshores.ca
SUMMARY:Alzheimer Info & Discussion Group
DESCRIPTION:The Alzheimer Society of Sault Ste. Marie & Algoma District hosts an Information & Discussion Group on the 2nd Wednesday of each month\, at the Calvary Gospel Church\, 55 Queen Street\, Blind River from 2:00 – 3:30 p.m.  For more information please call Tanya\, First Link Coordinator\, at 705-848-8145.
URL:https://huronshores.ca/event/alzheimer-info-discussion-group-2/2016-12-14/
LOCATION:Ontario
CATEGORIES:Community News
ATTACH;FMTTYPE=image/jpeg:https://huronshores.ca/wp-content/uploads/2013/01/Alzheimers-Disease.jpg
END:VEVENT
BEGIN:VEVENT
DTSTART;TZID=America/Toronto:20161215T133000
DTEND;TZID=America/Toronto:20161215T163000
DTSTAMP:20260425T093953
CREATED:20161124T200555Z
LAST-MODIFIED:20161124T200555Z
UID:10019966-1481808600-1481819400@huronshores.ca
SUMMARY:Sowerby Art Group
DESCRIPTION:The Sowerby Art Group meets at Sowerby Hall\, 1410 Basswood Lake Rd.\, on Thursdays at 1:30 p.m.  All enthusiastic artists are welcome!
URL:https://huronshores.ca/event/sowerby-art-group/2016-12-15/
LOCATION:Ontario
CATEGORIES:Community News,Recreation
ATTACH;FMTTYPE=image/jpeg:https://huronshores.ca/wp-content/uploads/2014/06/Call-for-Artists.jpg
END:VEVENT
BEGIN:VEVENT
DTSTART;TZID=America/Toronto:20161215T140000
DTEND;TZID=America/Toronto:20161215T153000
DTSTAMP:20260425T093953
CREATED:20151021T181815Z
LAST-MODIFIED:20151021T181815Z
UID:10016157-1481810400-1481815800@huronshores.ca
SUMMARY:Alzheimer Info & Discussion Group
DESCRIPTION:The Alzheimer Society of Sault Ste. Marie & Algoma District hosts an Information & Discussion Group on the 2nd Wednesday of each month\, at the Calvary Gospel Church\, 55 Queen Street\, Blind River from 2:00 – 3:30 p.m.  For more information please call Tanya\, First Link Coordinator\, at 705-848-8145.
URL:https://huronshores.ca/event/alzheimer-info-discussion-group-2/2016-12-15/
LOCATION:Ontario
CATEGORIES:Community News
ATTACH;FMTTYPE=image/jpeg:https://huronshores.ca/wp-content/uploads/2013/01/Alzheimers-Disease.jpg
END:VEVENT
BEGIN:VEVENT
DTSTART;TZID=America/Toronto:20161216T140000
DTEND;TZID=America/Toronto:20161216T153000
DTSTAMP:20260425T093953
CREATED:20151021T181815Z
LAST-MODIFIED:20151021T181815Z
UID:10016158-1481896800-1481902200@huronshores.ca
SUMMARY:Alzheimer Info & Discussion Group
DESCRIPTION:The Alzheimer Society of Sault Ste. Marie & Algoma District hosts an Information & Discussion Group on the 2nd Wednesday of each month\, at the Calvary Gospel Church\, 55 Queen Street\, Blind River from 2:00 – 3:30 p.m.  For more information please call Tanya\, First Link Coordinator\, at 705-848-8145.
URL:https://huronshores.ca/event/alzheimer-info-discussion-group-2/2016-12-16/
LOCATION:Ontario
CATEGORIES:Community News
ATTACH;FMTTYPE=image/jpeg:https://huronshores.ca/wp-content/uploads/2013/01/Alzheimers-Disease.jpg
END:VEVENT
BEGIN:VEVENT
DTSTART;TZID=America/Toronto:20161217T140000
DTEND;TZID=America/Toronto:20161217T153000
DTSTAMP:20260425T093953
CREATED:20151021T181815Z
LAST-MODIFIED:20151021T181815Z
UID:10016159-1481983200-1481988600@huronshores.ca
SUMMARY:Alzheimer Info & Discussion Group
DESCRIPTION:The Alzheimer Society of Sault Ste. Marie & Algoma District hosts an Information & Discussion Group on the 2nd Wednesday of each month\, at the Calvary Gospel Church\, 55 Queen Street\, Blind River from 2:00 – 3:30 p.m.  For more information please call Tanya\, First Link Coordinator\, at 705-848-8145.
URL:https://huronshores.ca/event/alzheimer-info-discussion-group-2/2016-12-17/
LOCATION:Ontario
CATEGORIES:Community News
ATTACH;FMTTYPE=image/jpeg:https://huronshores.ca/wp-content/uploads/2013/01/Alzheimers-Disease.jpg
END:VEVENT
BEGIN:VEVENT
DTSTART;TZID=America/Toronto:20161218T140000
DTEND;TZID=America/Toronto:20161218T153000
DTSTAMP:20260425T093953
CREATED:20151021T181815Z
LAST-MODIFIED:20151021T181815Z
UID:10016160-1482069600-1482075000@huronshores.ca
SUMMARY:Alzheimer Info & Discussion Group
DESCRIPTION:The Alzheimer Society of Sault Ste. Marie & Algoma District hosts an Information & Discussion Group on the 2nd Wednesday of each month\, at the Calvary Gospel Church\, 55 Queen Street\, Blind River from 2:00 – 3:30 p.m.  For more information please call Tanya\, First Link Coordinator\, at 705-848-8145.
URL:https://huronshores.ca/event/alzheimer-info-discussion-group-2/2016-12-18/
LOCATION:Ontario
CATEGORIES:Community News
ATTACH;FMTTYPE=image/jpeg:https://huronshores.ca/wp-content/uploads/2013/01/Alzheimers-Disease.jpg
END:VEVENT
BEGIN:VEVENT
DTSTART;TZID=America/Toronto:20161219T140000
DTEND;TZID=America/Toronto:20161219T153000
DTSTAMP:20260425T093953
CREATED:20151021T181815Z
LAST-MODIFIED:20151021T181815Z
UID:10016161-1482156000-1482161400@huronshores.ca
SUMMARY:Alzheimer Info & Discussion Group
DESCRIPTION:The Alzheimer Society of Sault Ste. Marie & Algoma District hosts an Information & Discussion Group on the 2nd Wednesday of each month\, at the Calvary Gospel Church\, 55 Queen Street\, Blind River from 2:00 – 3:30 p.m.  For more information please call Tanya\, First Link Coordinator\, at 705-848-8145.
URL:https://huronshores.ca/event/alzheimer-info-discussion-group-2/2016-12-19/
LOCATION:Ontario
CATEGORIES:Community News
ATTACH;FMTTYPE=image/jpeg:https://huronshores.ca/wp-content/uploads/2013/01/Alzheimers-Disease.jpg
END:VEVENT
BEGIN:VEVENT
DTSTART;TZID=America/Toronto:20161220T140000
DTEND;TZID=America/Toronto:20161220T153000
DTSTAMP:20260425T093953
CREATED:20151021T181815Z
LAST-MODIFIED:20151021T181815Z
UID:10016162-1482242400-1482247800@huronshores.ca
SUMMARY:Alzheimer Info & Discussion Group
DESCRIPTION:The Alzheimer Society of Sault Ste. Marie & Algoma District hosts an Information & Discussion Group on the 2nd Wednesday of each month\, at the Calvary Gospel Church\, 55 Queen Street\, Blind River from 2:00 – 3:30 p.m.  For more information please call Tanya\, First Link Coordinator\, at 705-848-8145.
URL:https://huronshores.ca/event/alzheimer-info-discussion-group-2/2016-12-20/
LOCATION:Ontario
CATEGORIES:Community News
ATTACH;FMTTYPE=image/jpeg:https://huronshores.ca/wp-content/uploads/2013/01/Alzheimers-Disease.jpg
END:VEVENT
BEGIN:VEVENT
DTSTART;TZID=America/Toronto:20161221T140000
DTEND;TZID=America/Toronto:20161221T153000
DTSTAMP:20260425T093953
CREATED:20151021T181815Z
LAST-MODIFIED:20151021T181815Z
UID:10016163-1482328800-1482334200@huronshores.ca
SUMMARY:Alzheimer Info & Discussion Group
DESCRIPTION:The Alzheimer Society of Sault Ste. Marie & Algoma District hosts an Information & Discussion Group on the 2nd Wednesday of each month\, at the Calvary Gospel Church\, 55 Queen Street\, Blind River from 2:00 – 3:30 p.m.  For more information please call Tanya\, First Link Coordinator\, at 705-848-8145.
URL:https://huronshores.ca/event/alzheimer-info-discussion-group-2/2016-12-21/
LOCATION:Ontario
CATEGORIES:Community News
ATTACH;FMTTYPE=image/jpeg:https://huronshores.ca/wp-content/uploads/2013/01/Alzheimers-Disease.jpg
END:VEVENT
BEGIN:VEVENT
DTSTART;TZID=America/Toronto:20161222T133000
DTEND;TZID=America/Toronto:20161222T163000
DTSTAMP:20260425T093953
CREATED:20161124T200555Z
LAST-MODIFIED:20161124T200555Z
UID:10019967-1482413400-1482424200@huronshores.ca
SUMMARY:Sowerby Art Group
DESCRIPTION:The Sowerby Art Group meets at Sowerby Hall\, 1410 Basswood Lake Rd.\, on Thursdays at 1:30 p.m.  All enthusiastic artists are welcome!
URL:https://huronshores.ca/event/sowerby-art-group/2016-12-22/
LOCATION:Ontario
CATEGORIES:Community News,Recreation
ATTACH;FMTTYPE=image/jpeg:https://huronshores.ca/wp-content/uploads/2014/06/Call-for-Artists.jpg
END:VEVENT
BEGIN:VEVENT
DTSTART;TZID=America/Toronto:20161222T140000
DTEND;TZID=America/Toronto:20161222T153000
DTSTAMP:20260425T093953
CREATED:20151021T181815Z
LAST-MODIFIED:20151021T181815Z
UID:10016164-1482415200-1482420600@huronshores.ca
SUMMARY:Alzheimer Info & Discussion Group
DESCRIPTION:The Alzheimer Society of Sault Ste. Marie & Algoma District hosts an Information & Discussion Group on the 2nd Wednesday of each month\, at the Calvary Gospel Church\, 55 Queen Street\, Blind River from 2:00 – 3:30 p.m.  For more information please call Tanya\, First Link Coordinator\, at 705-848-8145.
URL:https://huronshores.ca/event/alzheimer-info-discussion-group-2/2016-12-22/
LOCATION:Ontario
CATEGORIES:Community News
ATTACH;FMTTYPE=image/jpeg:https://huronshores.ca/wp-content/uploads/2013/01/Alzheimers-Disease.jpg
END:VEVENT
BEGIN:VEVENT
DTSTART;TZID=America/Toronto:20161223T120000
DTEND;TZID=America/Toronto:20170102T163000
DTSTAMP:20260425T093953
CREATED:20160815T190004Z
LAST-MODIFIED:20160815T190004Z
UID:10019933-1482494400-1483374600@huronshores.ca
SUMMARY:Christmas Office Closure
DESCRIPTION:The Municipal Office will be CLOSED for the Christmas holidays from Noon\, Friday\, December 23/16 to Monday\, January 2/17 inclusive.  The Office will re-open on Tuesday\, January 3rd\, 2017\, at 8:30 a.m.  Council\, Staff and the Fire Department wish you and yours a  Happy and Safe Christmas and New Year!
URL:https://huronshores.ca/event/christmas-office-closure-2/
LOCATION:Ontario
CATEGORIES:Community News
ATTACH;FMTTYPE=image/jpeg:https://huronshores.ca/wp-content/uploads/2013/12/snowman1.jpg
END:VEVENT
BEGIN:VEVENT
DTSTART;TZID=America/Toronto:20161223T140000
DTEND;TZID=America/Toronto:20161223T153000
DTSTAMP:20260425T093953
CREATED:20151021T181815Z
LAST-MODIFIED:20151021T181815Z
UID:10016165-1482501600-1482507000@huronshores.ca
SUMMARY:Alzheimer Info & Discussion Group
DESCRIPTION:The Alzheimer Society of Sault Ste. Marie & Algoma District hosts an Information & Discussion Group on the 2nd Wednesday of each month\, at the Calvary Gospel Church\, 55 Queen Street\, Blind River from 2:00 – 3:30 p.m.  For more information please call Tanya\, First Link Coordinator\, at 705-848-8145.
URL:https://huronshores.ca/event/alzheimer-info-discussion-group-2/2016-12-23/
LOCATION:Ontario
CATEGORIES:Community News
ATTACH;FMTTYPE=image/jpeg:https://huronshores.ca/wp-content/uploads/2013/01/Alzheimers-Disease.jpg
END:VEVENT
BEGIN:VEVENT
DTSTART;TZID=America/Toronto:20161224T140000
DTEND;TZID=America/Toronto:20161224T153000
DTSTAMP:20260425T093953
CREATED:20151021T181815Z
LAST-MODIFIED:20151021T181815Z
UID:10016166-1482588000-1482593400@huronshores.ca
SUMMARY:Alzheimer Info & Discussion Group
DESCRIPTION:The Alzheimer Society of Sault Ste. Marie & Algoma District hosts an Information & Discussion Group on the 2nd Wednesday of each month\, at the Calvary Gospel Church\, 55 Queen Street\, Blind River from 2:00 – 3:30 p.m.  For more information please call Tanya\, First Link Coordinator\, at 705-848-8145.
URL:https://huronshores.ca/event/alzheimer-info-discussion-group-2/2016-12-24/
LOCATION:Ontario
CATEGORIES:Community News
ATTACH;FMTTYPE=image/jpeg:https://huronshores.ca/wp-content/uploads/2013/01/Alzheimers-Disease.jpg
END:VEVENT
BEGIN:VEVENT
DTSTART;VALUE=DATE:20161225
DTEND;VALUE=DATE:20161226
DTSTAMP:20260425T093953
CREATED:20160115T200511Z
LAST-MODIFIED:20160115T200511Z
UID:10019360-1482624000-1482710399@huronshores.ca
SUMMARY:Christmas Day
DESCRIPTION:Merry Christmas from Council & Staff of Huron Shores!
URL:https://huronshores.ca/event/christmas-day-2/
LOCATION:Ontario
CATEGORIES:Community News
ATTACH;FMTTYPE=image/jpeg:https://huronshores.ca/wp-content/uploads/2011/07/Christmas-Wishes-Home-Page.jpg
END:VEVENT
BEGIN:VEVENT
DTSTART;TZID=America/Toronto:20161225T140000
DTEND;TZID=America/Toronto:20161225T153000
DTSTAMP:20260425T093953
CREATED:20151021T181815Z
LAST-MODIFIED:20151021T181815Z
UID:10016167-1482674400-1482679800@huronshores.ca
SUMMARY:Alzheimer Info & Discussion Group
DESCRIPTION:The Alzheimer Society of Sault Ste. Marie & Algoma District hosts an Information & Discussion Group on the 2nd Wednesday of each month\, at the Calvary Gospel Church\, 55 Queen Street\, Blind River from 2:00 – 3:30 p.m.  For more information please call Tanya\, First Link Coordinator\, at 705-848-8145.
URL:https://huronshores.ca/event/alzheimer-info-discussion-group-2/2016-12-25/
LOCATION:Ontario
CATEGORIES:Community News
ATTACH;FMTTYPE=image/jpeg:https://huronshores.ca/wp-content/uploads/2013/01/Alzheimers-Disease.jpg
END:VEVENT
BEGIN:VEVENT
DTSTART;TZID=America/Toronto:20161226T140000
DTEND;TZID=America/Toronto:20161226T153000
DTSTAMP:20260425T093953
CREATED:20151021T181815Z
LAST-MODIFIED:20151021T181815Z
UID:10016168-1482760800-1482766200@huronshores.ca
SUMMARY:Alzheimer Info & Discussion Group
DESCRIPTION:The Alzheimer Society of Sault Ste. Marie & Algoma District hosts an Information & Discussion Group on the 2nd Wednesday of each month\, at the Calvary Gospel Church\, 55 Queen Street\, Blind River from 2:00 – 3:30 p.m.  For more information please call Tanya\, First Link Coordinator\, at 705-848-8145.
URL:https://huronshores.ca/event/alzheimer-info-discussion-group-2/2016-12-26/
LOCATION:Ontario
CATEGORIES:Community News
ATTACH;FMTTYPE=image/jpeg:https://huronshores.ca/wp-content/uploads/2013/01/Alzheimers-Disease.jpg
END:VEVENT
BEGIN:VEVENT
DTSTART;TZID=America/Toronto:20161227T140000
DTEND;TZID=America/Toronto:20161227T153000
DTSTAMP:20260425T093953
CREATED:20151021T181815Z
LAST-MODIFIED:20151021T181815Z
UID:10016169-1482847200-1482852600@huronshores.ca
SUMMARY:Alzheimer Info & Discussion Group
DESCRIPTION:The Alzheimer Society of Sault Ste. Marie & Algoma District hosts an Information & Discussion Group on the 2nd Wednesday of each month\, at the Calvary Gospel Church\, 55 Queen Street\, Blind River from 2:00 – 3:30 p.m.  For more information please call Tanya\, First Link Coordinator\, at 705-848-8145.
URL:https://huronshores.ca/event/alzheimer-info-discussion-group-2/2016-12-27/
LOCATION:Ontario
CATEGORIES:Community News
ATTACH;FMTTYPE=image/jpeg:https://huronshores.ca/wp-content/uploads/2013/01/Alzheimers-Disease.jpg
END:VEVENT
BEGIN:VEVENT
DTSTART;TZID=America/Toronto:20161228T140000
DTEND;TZID=America/Toronto:20161228T153000
DTSTAMP:20260425T093953
CREATED:20151021T181815Z
LAST-MODIFIED:20151021T181815Z
UID:10016170-1482933600-1482939000@huronshores.ca
SUMMARY:Alzheimer Info & Discussion Group
DESCRIPTION:The Alzheimer Society of Sault Ste. Marie & Algoma District hosts an Information & Discussion Group on the 2nd Wednesday of each month\, at the Calvary Gospel Church\, 55 Queen Street\, Blind River from 2:00 – 3:30 p.m.  For more information please call Tanya\, First Link Coordinator\, at 705-848-8145.
URL:https://huronshores.ca/event/alzheimer-info-discussion-group-2/2016-12-28/
LOCATION:Ontario
CATEGORIES:Community News
ATTACH;FMTTYPE=image/jpeg:https://huronshores.ca/wp-content/uploads/2013/01/Alzheimers-Disease.jpg
END:VEVENT
BEGIN:VEVENT
DTSTART;TZID=America/Toronto:20161229T133000
DTEND;TZID=America/Toronto:20161229T163000
DTSTAMP:20260425T093953
CREATED:20161124T200555Z
LAST-MODIFIED:20161124T200555Z
UID:10019968-1483018200-1483029000@huronshores.ca
SUMMARY:Sowerby Art Group
DESCRIPTION:The Sowerby Art Group meets at Sowerby Hall\, 1410 Basswood Lake Rd.\, on Thursdays at 1:30 p.m.  All enthusiastic artists are welcome!
URL:https://huronshores.ca/event/sowerby-art-group/2016-12-29/
LOCATION:Ontario
CATEGORIES:Community News,Recreation
ATTACH;FMTTYPE=image/jpeg:https://huronshores.ca/wp-content/uploads/2014/06/Call-for-Artists.jpg
END:VEVENT
BEGIN:VEVENT
DTSTART;TZID=America/Toronto:20161229T140000
DTEND;TZID=America/Toronto:20161229T153000
DTSTAMP:20260425T093953
CREATED:20151021T181815Z
LAST-MODIFIED:20151021T181815Z
UID:10016171-1483020000-1483025400@huronshores.ca
SUMMARY:Alzheimer Info & Discussion Group
DESCRIPTION:The Alzheimer Society of Sault Ste. Marie & Algoma District hosts an Information & Discussion Group on the 2nd Wednesday of each month\, at the Calvary Gospel Church\, 55 Queen Street\, Blind River from 2:00 – 3:30 p.m.  For more information please call Tanya\, First Link Coordinator\, at 705-848-8145.
URL:https://huronshores.ca/event/alzheimer-info-discussion-group-2/2016-12-29/
LOCATION:Ontario
CATEGORIES:Community News
ATTACH;FMTTYPE=image/jpeg:https://huronshores.ca/wp-content/uploads/2013/01/Alzheimers-Disease.jpg
END:VEVENT
BEGIN:VEVENT
DTSTART;TZID=America/Toronto:20161230T140000
DTEND;TZID=America/Toronto:20161230T153000
DTSTAMP:20260425T093953
CREATED:20151021T181815Z
LAST-MODIFIED:20151021T181815Z
UID:10016172-1483106400-1483111800@huronshores.ca
SUMMARY:Alzheimer Info & Discussion Group
DESCRIPTION:The Alzheimer Society of Sault Ste. Marie & Algoma District hosts an Information & Discussion Group on the 2nd Wednesday of each month\, at the Calvary Gospel Church\, 55 Queen Street\, Blind River from 2:00 – 3:30 p.m.  For more information please call Tanya\, First Link Coordinator\, at 705-848-8145.
URL:https://huronshores.ca/event/alzheimer-info-discussion-group-2/2016-12-30/
LOCATION:Ontario
CATEGORIES:Community News
ATTACH;FMTTYPE=image/jpeg:https://huronshores.ca/wp-content/uploads/2013/01/Alzheimers-Disease.jpg
END:VEVENT
BEGIN:VEVENT
DTSTART;TZID=America/Toronto:20161231T140000
DTEND;TZID=America/Toronto:20161231T153000
DTSTAMP:20260425T093953
CREATED:20151021T181815Z
LAST-MODIFIED:20151021T181815Z
UID:10016173-1483192800-1483198200@huronshores.ca
SUMMARY:Alzheimer Info & Discussion Group
DESCRIPTION:The Alzheimer Society of Sault Ste. Marie & Algoma District hosts an Information & Discussion Group on the 2nd Wednesday of each month\, at the Calvary Gospel Church\, 55 Queen Street\, Blind River from 2:00 – 3:30 p.m.  For more information please call Tanya\, First Link Coordinator\, at 705-848-8145.
URL:https://huronshores.ca/event/alzheimer-info-discussion-group-2/2016-12-31/
LOCATION:Ontario
CATEGORIES:Community News
ATTACH;FMTTYPE=image/jpeg:https://huronshores.ca/wp-content/uploads/2013/01/Alzheimers-Disease.jpg
END:VEVENT
BEGIN:VEVENT
DTSTART;TZID=America/Toronto:20170101T140000
DTEND;TZID=America/Toronto:20170101T153000
DTSTAMP:20260425T093953
CREATED:20151021T181815Z
LAST-MODIFIED:20151021T181815Z
UID:10016174-1483279200-1483284600@huronshores.ca
SUMMARY:Alzheimer Info & Discussion Group
DESCRIPTION:The Alzheimer Society of Sault Ste. Marie & Algoma District hosts an Information & Discussion Group on the 2nd Wednesday of each month\, at the Calvary Gospel Church\, 55 Queen Street\, Blind River from 2:00 – 3:30 p.m.  For more information please call Tanya\, First Link Coordinator\, at 705-848-8145.
URL:https://huronshores.ca/event/alzheimer-info-discussion-group-2/2017-01-01/
LOCATION:Ontario
CATEGORIES:Community News
ATTACH;FMTTYPE=image/jpeg:https://huronshores.ca/wp-content/uploads/2013/01/Alzheimers-Disease.jpg
END:VEVENT
BEGIN:VEVENT
DTSTART;TZID=America/Toronto:20170102T140000
DTEND;TZID=America/Toronto:20170102T153000
DTSTAMP:20260425T093953
CREATED:20151021T181815Z
LAST-MODIFIED:20151021T181815Z
UID:10016175-1483365600-1483371000@huronshores.ca
SUMMARY:Alzheimer Info & Discussion Group
DESCRIPTION:The Alzheimer Society of Sault Ste. Marie & Algoma District hosts an Information & Discussion Group on the 2nd Wednesday of each month\, at the Calvary Gospel Church\, 55 Queen Street\, Blind River from 2:00 – 3:30 p.m.  For more information please call Tanya\, First Link Coordinator\, at 705-848-8145.
URL:https://huronshores.ca/event/alzheimer-info-discussion-group-2/2017-01-02/
LOCATION:Ontario
CATEGORIES:Community News
ATTACH;FMTTYPE=image/jpeg:https://huronshores.ca/wp-content/uploads/2013/01/Alzheimers-Disease.jpg
END:VEVENT
BEGIN:VEVENT
DTSTART;TZID=America/Toronto:20170102T180000
DTEND;TZID=America/Toronto:20170102T230000
DTSTAMP:20260425T093953
CREATED:20161124T201312Z
LAST-MODIFIED:20161124T201312Z
UID:10019974-1483380000-1483398000@huronshores.ca
SUMMARY:Wing Nite
DESCRIPTION:Wing Nite at the Thessalon Curling Club.  First Friday of the month.  Doors open at 6:00 p.m. All you can eat wings!  Bar is open.  Everyone welcome!
URL:https://huronshores.ca/event/wing-nite-3/2017-01-02/
LOCATION:Ontario
CATEGORIES:Community News
ATTACH;FMTTYPE=image/jpeg:https://huronshores.ca/wp-content/uploads/2014/02/Wing-Night.jpg
END:VEVENT
BEGIN:VEVENT
DTSTART;TZID=America/Toronto:20170103T140000
DTEND;TZID=America/Toronto:20170103T153000
DTSTAMP:20260425T093953
CREATED:20151021T181815Z
LAST-MODIFIED:20151021T181815Z
UID:10016176-1483452000-1483457400@huronshores.ca
SUMMARY:Alzheimer Info & Discussion Group
DESCRIPTION:The Alzheimer Society of Sault Ste. Marie & Algoma District hosts an Information & Discussion Group on the 2nd Wednesday of each month\, at the Calvary Gospel Church\, 55 Queen Street\, Blind River from 2:00 – 3:30 p.m.  For more information please call Tanya\, First Link Coordinator\, at 705-848-8145.
URL:https://huronshores.ca/event/alzheimer-info-discussion-group-2/2017-01-03/
LOCATION:Ontario
CATEGORIES:Community News
ATTACH;FMTTYPE=image/jpeg:https://huronshores.ca/wp-content/uploads/2013/01/Alzheimers-Disease.jpg
END:VEVENT
BEGIN:VEVENT
DTSTART;TZID=America/Toronto:20170104T140000
DTEND;TZID=America/Toronto:20170104T153000
DTSTAMP:20260425T093953
CREATED:20151021T181815Z
LAST-MODIFIED:20151021T181815Z
UID:10016177-1483538400-1483543800@huronshores.ca
SUMMARY:Alzheimer Info & Discussion Group
DESCRIPTION:The Alzheimer Society of Sault Ste. Marie & Algoma District hosts an Information & Discussion Group on the 2nd Wednesday of each month\, at the Calvary Gospel Church\, 55 Queen Street\, Blind River from 2:00 – 3:30 p.m.  For more information please call Tanya\, First Link Coordinator\, at 705-848-8145.
URL:https://huronshores.ca/event/alzheimer-info-discussion-group-2/2017-01-04/
LOCATION:Ontario
CATEGORIES:Community News
ATTACH;FMTTYPE=image/jpeg:https://huronshores.ca/wp-content/uploads/2013/01/Alzheimers-Disease.jpg
END:VEVENT
BEGIN:VEVENT
DTSTART;TZID=America/Toronto:20170105T133000
DTEND;TZID=America/Toronto:20170105T163000
DTSTAMP:20260425T093953
CREATED:20161124T200555Z
LAST-MODIFIED:20161124T200555Z
UID:10019969-1483623000-1483633800@huronshores.ca
SUMMARY:Sowerby Art Group
DESCRIPTION:The Sowerby Art Group meets at Sowerby Hall\, 1410 Basswood Lake Rd.\, on Thursdays at 1:30 p.m.  All enthusiastic artists are welcome!
URL:https://huronshores.ca/event/sowerby-art-group/2017-01-05/
LOCATION:Ontario
CATEGORIES:Community News,Recreation
ATTACH;FMTTYPE=image/jpeg:https://huronshores.ca/wp-content/uploads/2014/06/Call-for-Artists.jpg
END:VEVENT
END:VCALENDAR