BEGIN:VCALENDAR
VERSION:2.0
PRODID:-//Huron Shores - ECPv6.15.11//NONSGML v1.0//EN
CALSCALE:GREGORIAN
METHOD:PUBLISH
X-WR-CALNAME:Huron Shores
X-ORIGINAL-URL:https://huronshores.ca
X-WR-CALDESC:Events for Huron Shores
REFRESH-INTERVAL;VALUE=DURATION:PT1H
X-Robots-Tag:noindex
X-PUBLISHED-TTL:PT1H
BEGIN:VTIMEZONE
TZID:America/Toronto
BEGIN:DAYLIGHT
TZOFFSETFROM:-0500
TZOFFSETTO:-0400
TZNAME:EDT
DTSTART:20160313T070000
END:DAYLIGHT
BEGIN:STANDARD
TZOFFSETFROM:-0400
TZOFFSETTO:-0500
TZNAME:EST
DTSTART:20161106T060000
END:STANDARD
BEGIN:DAYLIGHT
TZOFFSETFROM:-0500
TZOFFSETTO:-0400
TZNAME:EDT
DTSTART:20170312T070000
END:DAYLIGHT
BEGIN:STANDARD
TZOFFSETFROM:-0400
TZOFFSETTO:-0500
TZNAME:EST
DTSTART:20171105T060000
END:STANDARD
BEGIN:DAYLIGHT
TZOFFSETFROM:-0500
TZOFFSETTO:-0400
TZNAME:EDT
DTSTART:20180311T070000
END:DAYLIGHT
BEGIN:STANDARD
TZOFFSETFROM:-0400
TZOFFSETTO:-0500
TZNAME:EST
DTSTART:20181104T060000
END:STANDARD
END:VTIMEZONE
BEGIN:VEVENT
DTSTART;TZID=America/Toronto:20170321T140000
DTEND;TZID=America/Toronto:20170321T153000
DTSTAMP:20260425T074644
CREATED:20151021T181815Z
LAST-MODIFIED:20151021T181815Z
UID:10016253-1490104800-1490110200@huronshores.ca
SUMMARY:Alzheimer Info & Discussion Group
DESCRIPTION:The Alzheimer Society of Sault Ste. Marie & Algoma District hosts an Information & Discussion Group on the 2nd Wednesday of each month\, at the Calvary Gospel Church\, 55 Queen Street\, Blind River from 2:00 – 3:30 p.m.  For more information please call Tanya\, First Link Coordinator\, at 705-848-8145.
URL:https://huronshores.ca/event/alzheimer-info-discussion-group-2/2017-03-21/
LOCATION:Ontario
CATEGORIES:Community News
ATTACH;FMTTYPE=image/jpeg:https://huronshores.ca/wp-content/uploads/2013/01/Alzheimers-Disease.jpg
END:VEVENT
BEGIN:VEVENT
DTSTART;TZID=America/Toronto:20170322T140000
DTEND;TZID=America/Toronto:20170322T153000
DTSTAMP:20260425T074644
CREATED:20151021T181815Z
LAST-MODIFIED:20151021T181815Z
UID:10016254-1490191200-1490196600@huronshores.ca
SUMMARY:Alzheimer Info & Discussion Group
DESCRIPTION:The Alzheimer Society of Sault Ste. Marie & Algoma District hosts an Information & Discussion Group on the 2nd Wednesday of each month\, at the Calvary Gospel Church\, 55 Queen Street\, Blind River from 2:00 – 3:30 p.m.  For more information please call Tanya\, First Link Coordinator\, at 705-848-8145.
URL:https://huronshores.ca/event/alzheimer-info-discussion-group-2/2017-03-22/
LOCATION:Ontario
CATEGORIES:Community News
ATTACH;FMTTYPE=image/jpeg:https://huronshores.ca/wp-content/uploads/2013/01/Alzheimers-Disease.jpg
END:VEVENT
BEGIN:VEVENT
DTSTART;TZID=America/Toronto:20170323T140000
DTEND;TZID=America/Toronto:20170323T153000
DTSTAMP:20260425T074644
CREATED:20151021T181815Z
LAST-MODIFIED:20151021T181815Z
UID:10016255-1490277600-1490283000@huronshores.ca
SUMMARY:Alzheimer Info & Discussion Group
DESCRIPTION:The Alzheimer Society of Sault Ste. Marie & Algoma District hosts an Information & Discussion Group on the 2nd Wednesday of each month\, at the Calvary Gospel Church\, 55 Queen Street\, Blind River from 2:00 – 3:30 p.m.  For more information please call Tanya\, First Link Coordinator\, at 705-848-8145.
URL:https://huronshores.ca/event/alzheimer-info-discussion-group-2/2017-03-23/
LOCATION:Ontario
CATEGORIES:Community News
ATTACH;FMTTYPE=image/jpeg:https://huronshores.ca/wp-content/uploads/2013/01/Alzheimers-Disease.jpg
END:VEVENT
BEGIN:VEVENT
DTSTART;TZID=America/Toronto:20170324T140000
DTEND;TZID=America/Toronto:20170324T153000
DTSTAMP:20260425T074644
CREATED:20151021T181815Z
LAST-MODIFIED:20151021T181815Z
UID:10016256-1490364000-1490369400@huronshores.ca
SUMMARY:Alzheimer Info & Discussion Group
DESCRIPTION:The Alzheimer Society of Sault Ste. Marie & Algoma District hosts an Information & Discussion Group on the 2nd Wednesday of each month\, at the Calvary Gospel Church\, 55 Queen Street\, Blind River from 2:00 – 3:30 p.m.  For more information please call Tanya\, First Link Coordinator\, at 705-848-8145.
URL:https://huronshores.ca/event/alzheimer-info-discussion-group-2/2017-03-24/
LOCATION:Ontario
CATEGORIES:Community News
ATTACH;FMTTYPE=image/jpeg:https://huronshores.ca/wp-content/uploads/2013/01/Alzheimers-Disease.jpg
END:VEVENT
BEGIN:VEVENT
DTSTART;TZID=America/Toronto:20170325T140000
DTEND;TZID=America/Toronto:20170325T153000
DTSTAMP:20260425T074644
CREATED:20151021T181815Z
LAST-MODIFIED:20151021T181815Z
UID:10016257-1490450400-1490455800@huronshores.ca
SUMMARY:Alzheimer Info & Discussion Group
DESCRIPTION:The Alzheimer Society of Sault Ste. Marie & Algoma District hosts an Information & Discussion Group on the 2nd Wednesday of each month\, at the Calvary Gospel Church\, 55 Queen Street\, Blind River from 2:00 – 3:30 p.m.  For more information please call Tanya\, First Link Coordinator\, at 705-848-8145.
URL:https://huronshores.ca/event/alzheimer-info-discussion-group-2/2017-03-25/
LOCATION:Ontario
CATEGORIES:Community News
ATTACH;FMTTYPE=image/jpeg:https://huronshores.ca/wp-content/uploads/2013/01/Alzheimers-Disease.jpg
END:VEVENT
BEGIN:VEVENT
DTSTART;TZID=America/Toronto:20170325T163000
DTEND;TZID=America/Toronto:20170325T183000
DTSTAMP:20260425T074644
CREATED:20170223T154053Z
LAST-MODIFIED:20170223T154053Z
UID:10020089-1490459400-1490466600@huronshores.ca
SUMMARY:Lions Club Fish Fry
DESCRIPTION:The Iron Bridge Lions Club hosts an all-you-can-eat Fish Fry at the Club Hall\, 10 Clarissa St.\, from 4:30 to 6:30 p.m. Call 705-843-2208 for details.
URL:https://huronshores.ca/event/lions-club-fish-fry-2/2017-03-25/
LOCATION:Ontario
CATEGORIES:Community News,Local Food
ATTACH;FMTTYPE=image/jpeg:https://huronshores.ca/wp-content/uploads/2015/12/Fish-Fry.jpg
END:VEVENT
BEGIN:VEVENT
DTSTART;TZID=America/Toronto:20170326T140000
DTEND;TZID=America/Toronto:20170326T153000
DTSTAMP:20260425T074644
CREATED:20151021T181815Z
LAST-MODIFIED:20151021T181815Z
UID:10016258-1490536800-1490542200@huronshores.ca
SUMMARY:Alzheimer Info & Discussion Group
DESCRIPTION:The Alzheimer Society of Sault Ste. Marie & Algoma District hosts an Information & Discussion Group on the 2nd Wednesday of each month\, at the Calvary Gospel Church\, 55 Queen Street\, Blind River from 2:00 – 3:30 p.m.  For more information please call Tanya\, First Link Coordinator\, at 705-848-8145.
URL:https://huronshores.ca/event/alzheimer-info-discussion-group-2/2017-03-26/
LOCATION:Ontario
CATEGORIES:Community News
ATTACH;FMTTYPE=image/jpeg:https://huronshores.ca/wp-content/uploads/2013/01/Alzheimers-Disease.jpg
END:VEVENT
BEGIN:VEVENT
DTSTART;TZID=America/Toronto:20170327T140000
DTEND;TZID=America/Toronto:20170327T153000
DTSTAMP:20260425T074644
CREATED:20151021T181815Z
LAST-MODIFIED:20151021T181815Z
UID:10016259-1490623200-1490628600@huronshores.ca
SUMMARY:Alzheimer Info & Discussion Group
DESCRIPTION:The Alzheimer Society of Sault Ste. Marie & Algoma District hosts an Information & Discussion Group on the 2nd Wednesday of each month\, at the Calvary Gospel Church\, 55 Queen Street\, Blind River from 2:00 – 3:30 p.m.  For more information please call Tanya\, First Link Coordinator\, at 705-848-8145.
URL:https://huronshores.ca/event/alzheimer-info-discussion-group-2/2017-03-27/
LOCATION:Ontario
CATEGORIES:Community News
ATTACH;FMTTYPE=image/jpeg:https://huronshores.ca/wp-content/uploads/2013/01/Alzheimers-Disease.jpg
END:VEVENT
BEGIN:VEVENT
DTSTART;TZID=America/Toronto:20170328T140000
DTEND;TZID=America/Toronto:20170328T153000
DTSTAMP:20260425T074644
CREATED:20151021T181815Z
LAST-MODIFIED:20151021T181815Z
UID:10016260-1490709600-1490715000@huronshores.ca
SUMMARY:Alzheimer Info & Discussion Group
DESCRIPTION:The Alzheimer Society of Sault Ste. Marie & Algoma District hosts an Information & Discussion Group on the 2nd Wednesday of each month\, at the Calvary Gospel Church\, 55 Queen Street\, Blind River from 2:00 – 3:30 p.m.  For more information please call Tanya\, First Link Coordinator\, at 705-848-8145.
URL:https://huronshores.ca/event/alzheimer-info-discussion-group-2/2017-03-28/
LOCATION:Ontario
CATEGORIES:Community News
ATTACH;FMTTYPE=image/jpeg:https://huronshores.ca/wp-content/uploads/2013/01/Alzheimers-Disease.jpg
END:VEVENT
BEGIN:VEVENT
DTSTART;TZID=America/Toronto:20170329T140000
DTEND;TZID=America/Toronto:20170329T153000
DTSTAMP:20260425T074644
CREATED:20151021T181815Z
LAST-MODIFIED:20151021T181815Z
UID:10016261-1490796000-1490801400@huronshores.ca
SUMMARY:Alzheimer Info & Discussion Group
DESCRIPTION:The Alzheimer Society of Sault Ste. Marie & Algoma District hosts an Information & Discussion Group on the 2nd Wednesday of each month\, at the Calvary Gospel Church\, 55 Queen Street\, Blind River from 2:00 – 3:30 p.m.  For more information please call Tanya\, First Link Coordinator\, at 705-848-8145.
URL:https://huronshores.ca/event/alzheimer-info-discussion-group-2/2017-03-29/
LOCATION:Ontario
CATEGORIES:Community News
ATTACH;FMTTYPE=image/jpeg:https://huronshores.ca/wp-content/uploads/2013/01/Alzheimers-Disease.jpg
END:VEVENT
BEGIN:VEVENT
DTSTART;TZID=America/Toronto:20170330T140000
DTEND;TZID=America/Toronto:20170330T153000
DTSTAMP:20260425T074644
CREATED:20151021T181815Z
LAST-MODIFIED:20151021T181815Z
UID:10016262-1490882400-1490887800@huronshores.ca
SUMMARY:Alzheimer Info & Discussion Group
DESCRIPTION:The Alzheimer Society of Sault Ste. Marie & Algoma District hosts an Information & Discussion Group on the 2nd Wednesday of each month\, at the Calvary Gospel Church\, 55 Queen Street\, Blind River from 2:00 – 3:30 p.m.  For more information please call Tanya\, First Link Coordinator\, at 705-848-8145.
URL:https://huronshores.ca/event/alzheimer-info-discussion-group-2/2017-03-30/
LOCATION:Ontario
CATEGORIES:Community News
ATTACH;FMTTYPE=image/jpeg:https://huronshores.ca/wp-content/uploads/2013/01/Alzheimers-Disease.jpg
END:VEVENT
BEGIN:VEVENT
DTSTART;TZID=America/Toronto:20170331T100000
DTEND;TZID=America/Toronto:20170331T113000
DTSTAMP:20260425T074644
CREATED:20170329T181508Z
LAST-MODIFIED:20170329T181508Z
UID:10020104-1490954400-1490959800@huronshores.ca
SUMMARY:Business E-Commerce & BEAM Funding Seminar
DESCRIPTION:A business e-Commerce & BEAM (Broadband for E-Business & Marketing) funding Seminar will be held on Friday\, March 31/17 from 10:00 a.m. to 11:30 a.m.\, at Lighthouse Lounge\, Bruce Bay Rd.\, Bruce Mines.  Does your business need a website\, e-business\, marketing\, broadband\, upgrading of an existing website?  To register call/text Pat at 705-254-9454\, or email pat.peterson@sympatico.ca
URL:https://huronshores.ca/event/business-e-commerce-beam-funding-seminar/
LOCATION:Ontario
CATEGORIES:Community News
END:VEVENT
BEGIN:VEVENT
DTSTART;TZID=America/Toronto:20170331T100000
DTEND;TZID=America/Toronto:20170331T130000
DTSTAMP:20260425T074644
CREATED:20170329T180039Z
LAST-MODIFIED:20170329T180039Z
UID:10020103-1490954400-1490965200@huronshores.ca
SUMMARY:Spring Bake Sale
DESCRIPTION:The Thessalon Branch of the Canadian Cancer Society will hold a Spring Bake Sale at Northern Credit Union\, Friday\, March 31 from 10:00 a.m. to 1:00 p.m.  Thank you for your support!
URL:https://huronshores.ca/event/spring-bake-sale/
LOCATION:Ontario
CATEGORIES:Community News
ATTACH;FMTTYPE=image/png:https://huronshores.ca/wp-content/uploads/2015/11/Bake-Sale.png
END:VEVENT
BEGIN:VEVENT
DTSTART;TZID=America/Toronto:20170331T140000
DTEND;TZID=America/Toronto:20170331T153000
DTSTAMP:20260425T074644
CREATED:20151021T181815Z
LAST-MODIFIED:20151021T181815Z
UID:10016263-1490968800-1490974200@huronshores.ca
SUMMARY:Alzheimer Info & Discussion Group
DESCRIPTION:The Alzheimer Society of Sault Ste. Marie & Algoma District hosts an Information & Discussion Group on the 2nd Wednesday of each month\, at the Calvary Gospel Church\, 55 Queen Street\, Blind River from 2:00 – 3:30 p.m.  For more information please call Tanya\, First Link Coordinator\, at 705-848-8145.
URL:https://huronshores.ca/event/alzheimer-info-discussion-group-2/2017-03-31/
LOCATION:Ontario
CATEGORIES:Community News
ATTACH;FMTTYPE=image/jpeg:https://huronshores.ca/wp-content/uploads/2013/01/Alzheimers-Disease.jpg
END:VEVENT
BEGIN:VEVENT
DTSTART;TZID=America/Toronto:20170331T170000
DTEND;TZID=America/Toronto:20170331T190000
DTSTAMP:20260425T074644
CREATED:20170223T155057Z
LAST-MODIFIED:20170223T155057Z
UID:10020091-1490979600-1490986800@huronshores.ca
SUMMARY:Friday Fish Fry
DESCRIPTION:The RC Legion Branch 182 in Thessalon hosts a Fish Fry from 5:00 p.m. to 7:00 p.m.   Take-out called in by 4:30 p.m. & picked up by 5:00 p.m. Call 705-842-2418.
URL:https://huronshores.ca/event/friday-fish-fry/2017-03-31/
LOCATION:Ontario
CATEGORIES:Community News,Local Food
ATTACH;FMTTYPE=image/jpeg:https://huronshores.ca/wp-content/uploads/2015/12/Friday-Fish-Fry.jpg
END:VEVENT
BEGIN:VEVENT
DTSTART;TZID=America/Toronto:20170331T180000
DTEND;TZID=America/Toronto:20170331T213000
DTSTAMP:20260425T074644
CREATED:20170329T182144Z
LAST-MODIFIED:20170329T182144Z
UID:10020105-1490983200-1490995800@huronshores.ca
SUMMARY:CASS Hockey Tournament
DESCRIPTION:Invitation to Central Algoma Secondary School (CASS) Hockey Tournament at Thessalon Arena\, Main St.\, Thessalon hosted by CASS.  Friday games at 6:00 & 7:30 p.m.; Saturday:  games at 9:00 a.m.\, 10:30 a.m.\, skills competition at Noon; games at 1:00 p.m.\, 2:30 p.m. & championship game at 5:30 p.m.
URL:https://huronshores.ca/event/cass-hockey-tournament/
LOCATION:Ontario
CATEGORIES:Community News,Recreation
ATTACH;FMTTYPE=image/jpeg:https://huronshores.ca/wp-content/uploads/2016/08/Hockey-Words.jpg
END:VEVENT
BEGIN:VEVENT
DTSTART;TZID=America/Toronto:20170401T080000
DTEND;TZID=America/Toronto:20170402T150000
DTSTAMP:20260425T074644
CREATED:20170329T183525Z
LAST-MODIFIED:20170329T183525Z
UID:10020107-1491033600-1491145200@huronshores.ca
SUMMARY:50th Annual Maple Syrup Festival
DESCRIPTION:Royal Canadian Legion Branch 374 in Richards Landing on St. Joseph Island is hosting its 50th Annual Maple Syrup Festival\, April 1-2\, & April 8-9/17 from 8:00 a.m. to 3:00 p.m.  Featuring all you can eat pancakes\, breakfast sausages\, juice & coffee/tea; food & craft vendors; local sugar bushes open for Tours.  Admission:  Adults $9.50; Seniors $8.50; Children (Under 12 yrs.) $5.00.  Call 705-246-2494 for more details.
URL:https://huronshores.ca/event/50th-annual-maple-syrup-festival/2017-04-01/
LOCATION:Ontario
CATEGORIES:Community News,Local Food
ATTACH;FMTTYPE=image/png:https://huronshores.ca/wp-content/uploads/2014/03/Pancakes.png
END:VEVENT
BEGIN:VEVENT
DTSTART;TZID=America/Toronto:20170401T090000
DTEND;TZID=America/Toronto:20170401T200000
DTSTAMP:20260425T074644
CREATED:20170329T182356Z
LAST-MODIFIED:20170329T182356Z
UID:10020106-1491037200-1491076800@huronshores.ca
SUMMARY:CASS Hockey Tournament
DESCRIPTION:Invitation to Central Algoma Secondary School (CASS) Hockey Tournament at Thessalon Arena\, Main St.\, Thessalon hosted by CASS.  Friday games at 6:00 & 7:30 p.m.; Saturday:  games at 9:00 a.m.\, 10:30 a.m.\, skills competition at Noon; games at 1:00 p.m.\, 2:30 p.m. & championship game at 5:30 p.m.
URL:https://huronshores.ca/event/cass-hockey-tournament-2/
LOCATION:Ontario
CATEGORIES:Community News,Recreation
ATTACH;FMTTYPE=image/jpeg:https://huronshores.ca/wp-content/uploads/2016/08/Hockey-Words.jpg
END:VEVENT
BEGIN:VEVENT
DTSTART;TZID=America/Toronto:20170401T140000
DTEND;TZID=America/Toronto:20170401T153000
DTSTAMP:20260425T074644
CREATED:20151021T181815Z
LAST-MODIFIED:20151021T181815Z
UID:10016264-1491055200-1491060600@huronshores.ca
SUMMARY:Alzheimer Info & Discussion Group
DESCRIPTION:The Alzheimer Society of Sault Ste. Marie & Algoma District hosts an Information & Discussion Group on the 2nd Wednesday of each month\, at the Calvary Gospel Church\, 55 Queen Street\, Blind River from 2:00 – 3:30 p.m.  For more information please call Tanya\, First Link Coordinator\, at 705-848-8145.
URL:https://huronshores.ca/event/alzheimer-info-discussion-group-2/2017-04-01/
LOCATION:Ontario
CATEGORIES:Community News
ATTACH;FMTTYPE=image/jpeg:https://huronshores.ca/wp-content/uploads/2013/01/Alzheimers-Disease.jpg
END:VEVENT
BEGIN:VEVENT
DTSTART;TZID=America/Toronto:20170402T093000
DTEND;TZID=America/Toronto:20170402T140000
DTSTAMP:20260425T074644
CREATED:20170329T184009Z
LAST-MODIFIED:20170329T184009Z
UID:10019552-1491125400-1491141600@huronshores.ca
SUMMARY:Sowerby Pancake Brunch
DESCRIPTION:The Sowerby Heritage Centre Committee is hosting its annual Pancake Brunch on Sunday\, April 2/17 from 9:30 a.m. to 2:00 p.m. at Sowerby Hall\, 1410 Basswood Lake Rd.  Come & join in the fun!  Pancakes\, sausages\, boiled eggs\, maple syrup\, oranges\, coffee & muffins.
URL:https://huronshores.ca/event/sowerby-pancake-brunch/
LOCATION:Ontario
CATEGORIES:Community News,Local Food
ATTACH;FMTTYPE=image/png:https://huronshores.ca/wp-content/uploads/2014/03/Pancakes.png
END:VEVENT
BEGIN:VEVENT
DTSTART;TZID=America/Toronto:20170402T140000
DTEND;TZID=America/Toronto:20170402T153000
DTSTAMP:20260425T074644
CREATED:20151021T181815Z
LAST-MODIFIED:20151021T181815Z
UID:10016265-1491141600-1491147000@huronshores.ca
SUMMARY:Alzheimer Info & Discussion Group
DESCRIPTION:The Alzheimer Society of Sault Ste. Marie & Algoma District hosts an Information & Discussion Group on the 2nd Wednesday of each month\, at the Calvary Gospel Church\, 55 Queen Street\, Blind River from 2:00 – 3:30 p.m.  For more information please call Tanya\, First Link Coordinator\, at 705-848-8145.
URL:https://huronshores.ca/event/alzheimer-info-discussion-group-2/2017-04-02/
LOCATION:Ontario
CATEGORIES:Community News
ATTACH;FMTTYPE=image/jpeg:https://huronshores.ca/wp-content/uploads/2013/01/Alzheimers-Disease.jpg
END:VEVENT
BEGIN:VEVENT
DTSTART;TZID=America/Toronto:20170403T140000
DTEND;TZID=America/Toronto:20170403T153000
DTSTAMP:20260425T074644
CREATED:20151021T181815Z
LAST-MODIFIED:20151021T181815Z
UID:10016266-1491228000-1491233400@huronshores.ca
SUMMARY:Alzheimer Info & Discussion Group
DESCRIPTION:The Alzheimer Society of Sault Ste. Marie & Algoma District hosts an Information & Discussion Group on the 2nd Wednesday of each month\, at the Calvary Gospel Church\, 55 Queen Street\, Blind River from 2:00 – 3:30 p.m.  For more information please call Tanya\, First Link Coordinator\, at 705-848-8145.
URL:https://huronshores.ca/event/alzheimer-info-discussion-group-2/2017-04-03/
LOCATION:Ontario
CATEGORIES:Community News
ATTACH;FMTTYPE=image/jpeg:https://huronshores.ca/wp-content/uploads/2013/01/Alzheimers-Disease.jpg
END:VEVENT
BEGIN:VEVENT
DTSTART;TZID=America/Toronto:20170404T140000
DTEND;TZID=America/Toronto:20170404T153000
DTSTAMP:20260425T074644
CREATED:20151021T181815Z
LAST-MODIFIED:20151021T181815Z
UID:10016267-1491314400-1491319800@huronshores.ca
SUMMARY:Alzheimer Info & Discussion Group
DESCRIPTION:The Alzheimer Society of Sault Ste. Marie & Algoma District hosts an Information & Discussion Group on the 2nd Wednesday of each month\, at the Calvary Gospel Church\, 55 Queen Street\, Blind River from 2:00 – 3:30 p.m.  For more information please call Tanya\, First Link Coordinator\, at 705-848-8145.
URL:https://huronshores.ca/event/alzheimer-info-discussion-group-2/2017-04-04/
LOCATION:Ontario
CATEGORIES:Community News
ATTACH;FMTTYPE=image/jpeg:https://huronshores.ca/wp-content/uploads/2013/01/Alzheimers-Disease.jpg
END:VEVENT
BEGIN:VEVENT
DTSTART;TZID=America/Toronto:20170404T160000
DTEND;TZID=America/Toronto:20170404T200000
DTSTAMP:20260425T074644
CREATED:20170328T191713Z
LAST-MODIFIED:20170328T191713Z
UID:10020102-1491321600-1491336000@huronshores.ca
SUMMARY:Blood Donor Clinic
DESCRIPTION:A Blood Donor Clinic will be held Tuesday\, April 4/17 from 4:00 – 8:00 p.m. at the Blind River Community Centre.  To book your appointment to give life go to www.blood.ca or call 1-888 2DONATE.
URL:https://huronshores.ca/event/blood-donor-clinic-3/
LOCATION:Ontario
CATEGORIES:Community News
ATTACH;FMTTYPE=image/png:https://huronshores.ca/wp-content/uploads/2015/01/blood-home-logo.png
END:VEVENT
BEGIN:VEVENT
DTSTART;TZID=America/Toronto:20170405T140000
DTEND;TZID=America/Toronto:20170405T153000
DTSTAMP:20260425T074644
CREATED:20151021T181815Z
LAST-MODIFIED:20151021T181815Z
UID:10016268-1491400800-1491406200@huronshores.ca
SUMMARY:Alzheimer Info & Discussion Group
DESCRIPTION:The Alzheimer Society of Sault Ste. Marie & Algoma District hosts an Information & Discussion Group on the 2nd Wednesday of each month\, at the Calvary Gospel Church\, 55 Queen Street\, Blind River from 2:00 – 3:30 p.m.  For more information please call Tanya\, First Link Coordinator\, at 705-848-8145.
URL:https://huronshores.ca/event/alzheimer-info-discussion-group-2/2017-04-05/
LOCATION:Ontario
CATEGORIES:Community News
ATTACH;FMTTYPE=image/jpeg:https://huronshores.ca/wp-content/uploads/2013/01/Alzheimers-Disease.jpg
END:VEVENT
BEGIN:VEVENT
DTSTART;TZID=America/Toronto:20170406T140000
DTEND;TZID=America/Toronto:20170406T153000
DTSTAMP:20260425T074644
CREATED:20151021T181815Z
LAST-MODIFIED:20151021T181815Z
UID:10016269-1491487200-1491492600@huronshores.ca
SUMMARY:Alzheimer Info & Discussion Group
DESCRIPTION:The Alzheimer Society of Sault Ste. Marie & Algoma District hosts an Information & Discussion Group on the 2nd Wednesday of each month\, at the Calvary Gospel Church\, 55 Queen Street\, Blind River from 2:00 – 3:30 p.m.  For more information please call Tanya\, First Link Coordinator\, at 705-848-8145.
URL:https://huronshores.ca/event/alzheimer-info-discussion-group-2/2017-04-06/
LOCATION:Ontario
CATEGORIES:Community News
ATTACH;FMTTYPE=image/jpeg:https://huronshores.ca/wp-content/uploads/2013/01/Alzheimers-Disease.jpg
END:VEVENT
BEGIN:VEVENT
DTSTART;TZID=America/Toronto:20170407T140000
DTEND;TZID=America/Toronto:20170407T153000
DTSTAMP:20260425T074644
CREATED:20151021T181815Z
LAST-MODIFIED:20151021T181815Z
UID:10016270-1491573600-1491579000@huronshores.ca
SUMMARY:Alzheimer Info & Discussion Group
DESCRIPTION:The Alzheimer Society of Sault Ste. Marie & Algoma District hosts an Information & Discussion Group on the 2nd Wednesday of each month\, at the Calvary Gospel Church\, 55 Queen Street\, Blind River from 2:00 – 3:30 p.m.  For more information please call Tanya\, First Link Coordinator\, at 705-848-8145.
URL:https://huronshores.ca/event/alzheimer-info-discussion-group-2/2017-04-07/
LOCATION:Ontario
CATEGORIES:Community News
ATTACH;FMTTYPE=image/jpeg:https://huronshores.ca/wp-content/uploads/2013/01/Alzheimers-Disease.jpg
END:VEVENT
BEGIN:VEVENT
DTSTART;TZID=America/Toronto:20170408T080000
DTEND;TZID=America/Toronto:20170409T150000
DTSTAMP:20260425T074644
CREATED:20170329T183525Z
LAST-MODIFIED:20170329T183525Z
UID:10020108-1491638400-1491750000@huronshores.ca
SUMMARY:50th Annual Maple Syrup Festival
DESCRIPTION:Royal Canadian Legion Branch 374 in Richards Landing on St. Joseph Island is hosting its 50th Annual Maple Syrup Festival\, April 1-2\, & April 8-9/17 from 8:00 a.m. to 3:00 p.m.  Featuring all you can eat pancakes\, breakfast sausages\, juice & coffee/tea; food & craft vendors; local sugar bushes open for Tours.  Admission:  Adults $9.50; Seniors $8.50; Children (Under 12 yrs.) $5.00.  Call 705-246-2494 for more details.
URL:https://huronshores.ca/event/50th-annual-maple-syrup-festival/2017-04-08/
LOCATION:Ontario
CATEGORIES:Community News,Local Food
ATTACH;FMTTYPE=image/png:https://huronshores.ca/wp-content/uploads/2014/03/Pancakes.png
END:VEVENT
BEGIN:VEVENT
DTSTART;TZID=America/Toronto:20170408T140000
DTEND;TZID=America/Toronto:20170408T153000
DTSTAMP:20260425T074644
CREATED:20151021T181815Z
LAST-MODIFIED:20151021T181815Z
UID:10016271-1491660000-1491665400@huronshores.ca
SUMMARY:Alzheimer Info & Discussion Group
DESCRIPTION:The Alzheimer Society of Sault Ste. Marie & Algoma District hosts an Information & Discussion Group on the 2nd Wednesday of each month\, at the Calvary Gospel Church\, 55 Queen Street\, Blind River from 2:00 – 3:30 p.m.  For more information please call Tanya\, First Link Coordinator\, at 705-848-8145.
URL:https://huronshores.ca/event/alzheimer-info-discussion-group-2/2017-04-08/
LOCATION:Ontario
CATEGORIES:Community News
ATTACH;FMTTYPE=image/jpeg:https://huronshores.ca/wp-content/uploads/2013/01/Alzheimers-Disease.jpg
END:VEVENT
BEGIN:VEVENT
DTSTART;TZID=America/Toronto:20170409T140000
DTEND;TZID=America/Toronto:20170409T153000
DTSTAMP:20260425T074644
CREATED:20151021T181815Z
LAST-MODIFIED:20151021T181815Z
UID:10016272-1491746400-1491751800@huronshores.ca
SUMMARY:Alzheimer Info & Discussion Group
DESCRIPTION:The Alzheimer Society of Sault Ste. Marie & Algoma District hosts an Information & Discussion Group on the 2nd Wednesday of each month\, at the Calvary Gospel Church\, 55 Queen Street\, Blind River from 2:00 – 3:30 p.m.  For more information please call Tanya\, First Link Coordinator\, at 705-848-8145.
URL:https://huronshores.ca/event/alzheimer-info-discussion-group-2/2017-04-09/
LOCATION:Ontario
CATEGORIES:Community News
ATTACH;FMTTYPE=image/jpeg:https://huronshores.ca/wp-content/uploads/2013/01/Alzheimers-Disease.jpg
END:VEVENT
END:VCALENDAR