BEGIN:VCALENDAR
VERSION:2.0
PRODID:-//Huron Shores - ECPv6.15.11//NONSGML v1.0//EN
CALSCALE:GREGORIAN
METHOD:PUBLISH
X-WR-CALNAME:Huron Shores
X-ORIGINAL-URL:https://huronshores.ca
X-WR-CALDESC:Events for Huron Shores
REFRESH-INTERVAL;VALUE=DURATION:PT1H
X-Robots-Tag:noindex
X-PUBLISHED-TTL:PT1H
BEGIN:VTIMEZONE
TZID:America/Toronto
BEGIN:DAYLIGHT
TZOFFSETFROM:-0500
TZOFFSETTO:-0400
TZNAME:EDT
DTSTART:20180311T070000
END:DAYLIGHT
BEGIN:STANDARD
TZOFFSETFROM:-0400
TZOFFSETTO:-0500
TZNAME:EST
DTSTART:20181104T060000
END:STANDARD
BEGIN:DAYLIGHT
TZOFFSETFROM:-0500
TZOFFSETTO:-0400
TZNAME:EDT
DTSTART:20190310T070000
END:DAYLIGHT
BEGIN:STANDARD
TZOFFSETFROM:-0400
TZOFFSETTO:-0500
TZNAME:EST
DTSTART:20191103T060000
END:STANDARD
BEGIN:DAYLIGHT
TZOFFSETFROM:-0500
TZOFFSETTO:-0400
TZNAME:EDT
DTSTART:20200308T070000
END:DAYLIGHT
BEGIN:STANDARD
TZOFFSETFROM:-0400
TZOFFSETTO:-0500
TZNAME:EST
DTSTART:20201101T060000
END:STANDARD
END:VTIMEZONE
BEGIN:VEVENT
DTSTART;VALUE=DATE:20190421
DTEND;VALUE=DATE:20190422
DTSTAMP:20260423T021735
CREATED:20181119T165917Z
LAST-MODIFIED:20181119T165917Z
UID:10021365-1555804800-1555891199@huronshores.ca
SUMMARY:Easter Sunday
DESCRIPTION:Happy Easter from Council & Staff!
URL:https://huronshores.ca/event/easter-sunday-3/
LOCATION:Ontario
CATEGORIES:Community News
ATTACH;FMTTYPE=image/gif:https://huronshores.ca/wp-content/uploads/2016/01/Easter.gif
END:VEVENT
BEGIN:VEVENT
DTSTART;TZID=America/Toronto:20190421T140000
DTEND;TZID=America/Toronto:20190421T153000
DTSTAMP:20260423T021735
CREATED:20151021T181815Z
LAST-MODIFIED:20151021T181815Z
UID:10017015-1555855200-1555860600@huronshores.ca
SUMMARY:Alzheimer Info & Discussion Group
DESCRIPTION:The Alzheimer Society of Sault Ste. Marie & Algoma District hosts an Information & Discussion Group on the 2nd Wednesday of each month\, at the Calvary Gospel Church\, 55 Queen Street\, Blind River from 2:00 – 3:30 p.m.  For more information please call Tanya\, First Link Coordinator\, at 705-848-8145.
URL:https://huronshores.ca/event/alzheimer-info-discussion-group-2/2019-04-21/
LOCATION:Ontario
CATEGORIES:Community News
ATTACH;FMTTYPE=image/jpeg:https://huronshores.ca/wp-content/uploads/2013/01/Alzheimers-Disease.jpg
END:VEVENT
BEGIN:VEVENT
DTSTART;VALUE=DATE:20190422
DTEND;VALUE=DATE:20190423
DTSTAMP:20260423T021735
CREATED:20181119T165723Z
LAST-MODIFIED:20181119T165723Z
UID:10021364-1555891200-1555977599@huronshores.ca
SUMMARY:Easter Monday
DESCRIPTION:The Municipal Office will be closed in observance of Good Friday\, April 19 and Easter Monday\, April 22/19.  The Waste Sites will be open Saturday\, April 20/19\, but will be closed for Easter Monday\, April 22/19.  The Office will re-open Tuesday\, April 23/19 at 8:30 a.m.  Happy Easter from Council and staff!
URL:https://huronshores.ca/event/easter-monday-4/
LOCATION:Ontario
CATEGORIES:Community News,Office Closure,Waste Disposal
ATTACH;FMTTYPE=image/jpeg:https://huronshores.ca/wp-content/uploads/2017/03/Easter-Egg-Hunt-Chick.jpg
END:VEVENT
BEGIN:VEVENT
DTSTART;TZID=America/Toronto:20190422T140000
DTEND;TZID=America/Toronto:20190422T153000
DTSTAMP:20260423T021735
CREATED:20151021T181815Z
LAST-MODIFIED:20151021T181815Z
UID:10017016-1555941600-1555947000@huronshores.ca
SUMMARY:Alzheimer Info & Discussion Group
DESCRIPTION:The Alzheimer Society of Sault Ste. Marie & Algoma District hosts an Information & Discussion Group on the 2nd Wednesday of each month\, at the Calvary Gospel Church\, 55 Queen Street\, Blind River from 2:00 – 3:30 p.m.  For more information please call Tanya\, First Link Coordinator\, at 705-848-8145.
URL:https://huronshores.ca/event/alzheimer-info-discussion-group-2/2019-04-22/
LOCATION:Ontario
CATEGORIES:Community News
ATTACH;FMTTYPE=image/jpeg:https://huronshores.ca/wp-content/uploads/2013/01/Alzheimers-Disease.jpg
END:VEVENT
BEGIN:VEVENT
DTSTART;TZID=America/Toronto:20190423T140000
DTEND;TZID=America/Toronto:20190423T153000
DTSTAMP:20260423T021735
CREATED:20151021T181815Z
LAST-MODIFIED:20151021T181815Z
UID:10017017-1556028000-1556033400@huronshores.ca
SUMMARY:Alzheimer Info & Discussion Group
DESCRIPTION:The Alzheimer Society of Sault Ste. Marie & Algoma District hosts an Information & Discussion Group on the 2nd Wednesday of each month\, at the Calvary Gospel Church\, 55 Queen Street\, Blind River from 2:00 – 3:30 p.m.  For more information please call Tanya\, First Link Coordinator\, at 705-848-8145.
URL:https://huronshores.ca/event/alzheimer-info-discussion-group-2/2019-04-23/
LOCATION:Ontario
CATEGORIES:Community News
ATTACH;FMTTYPE=image/jpeg:https://huronshores.ca/wp-content/uploads/2013/01/Alzheimers-Disease.jpg
END:VEVENT
BEGIN:VEVENT
DTSTART;TZID=America/Toronto:20190424T140000
DTEND;TZID=America/Toronto:20190424T153000
DTSTAMP:20260423T021735
CREATED:20151021T181815Z
LAST-MODIFIED:20151021T181815Z
UID:10017018-1556114400-1556119800@huronshores.ca
SUMMARY:Alzheimer Info & Discussion Group
DESCRIPTION:The Alzheimer Society of Sault Ste. Marie & Algoma District hosts an Information & Discussion Group on the 2nd Wednesday of each month\, at the Calvary Gospel Church\, 55 Queen Street\, Blind River from 2:00 – 3:30 p.m.  For more information please call Tanya\, First Link Coordinator\, at 705-848-8145.
URL:https://huronshores.ca/event/alzheimer-info-discussion-group-2/2019-04-24/
LOCATION:Ontario
CATEGORIES:Community News
ATTACH;FMTTYPE=image/jpeg:https://huronshores.ca/wp-content/uploads/2013/01/Alzheimers-Disease.jpg
END:VEVENT
BEGIN:VEVENT
DTSTART;TZID=America/Toronto:20190424T190000
DTEND;TZID=America/Toronto:20190424T190000
DTSTAMP:20260423T021735
CREATED:20190418T133943Z
LAST-MODIFIED:20190418T133943Z
UID:10021456-1556132400-1556132400@huronshores.ca
SUMMARY:"Pirates"
DESCRIPTION:Thessalon Public School & the TPS Drama Club present the musical “Pirates”.  3 Performances:  Wednesday\, April 24/19 at 7:00 p.m. & Thursday\, April 25/19 at 11:45 a.m. & 7:00 p.m. in the Thessalon Public School Gym.  Cost:  $5/person; $20/family.
URL:https://huronshores.ca/event/pirates/2019-04-24/
LOCATION:Ontario
CATEGORIES:Community News
ATTACH;FMTTYPE=image/png:https://huronshores.ca/wp-content/uploads/2019/04/Pirate.png
END:VEVENT
BEGIN:VEVENT
DTSTART;TZID=America/Toronto:20190425T113000
DTEND;TZID=America/Toronto:20190425T113000
DTSTAMP:20260423T021735
CREATED:20190418T133943Z
LAST-MODIFIED:20190418T133943Z
UID:10021457-1556191800-1556191800@huronshores.ca
SUMMARY:"Pirates"
DESCRIPTION:Thessalon Public School & the TPS Drama Club present the musical “Pirates”.  3 Performances:  Wednesday\, April 24/19 at 7:00 p.m. & Thursday\, April 25/19 at 11:45 a.m. & 7:00 p.m. in the Thessalon Public School Gym.  Cost:  $5/person; $20/family.
URL:https://huronshores.ca/event/pirates/2019-04-25/1/
LOCATION:Ontario
CATEGORIES:Community News
ATTACH;FMTTYPE=image/png:https://huronshores.ca/wp-content/uploads/2019/04/Pirate.png
END:VEVENT
BEGIN:VEVENT
DTSTART;TZID=America/Toronto:20190425T140000
DTEND;TZID=America/Toronto:20190425T153000
DTSTAMP:20260423T021735
CREATED:20151021T181815Z
LAST-MODIFIED:20151021T181815Z
UID:10017019-1556200800-1556206200@huronshores.ca
SUMMARY:Alzheimer Info & Discussion Group
DESCRIPTION:The Alzheimer Society of Sault Ste. Marie & Algoma District hosts an Information & Discussion Group on the 2nd Wednesday of each month\, at the Calvary Gospel Church\, 55 Queen Street\, Blind River from 2:00 – 3:30 p.m.  For more information please call Tanya\, First Link Coordinator\, at 705-848-8145.
URL:https://huronshores.ca/event/alzheimer-info-discussion-group-2/2019-04-25/
LOCATION:Ontario
CATEGORIES:Community News
ATTACH;FMTTYPE=image/jpeg:https://huronshores.ca/wp-content/uploads/2013/01/Alzheimers-Disease.jpg
END:VEVENT
BEGIN:VEVENT
DTSTART;TZID=America/Toronto:20190425T190000
DTEND;TZID=America/Toronto:20190425T190000
DTSTAMP:20260423T021735
CREATED:20190418T133943Z
LAST-MODIFIED:20190418T133943Z
UID:10021458-1556218800-1556218800@huronshores.ca
SUMMARY:"Pirates"
DESCRIPTION:Thessalon Public School & the TPS Drama Club present the musical “Pirates”.  3 Performances:  Wednesday\, April 24/19 at 7:00 p.m. & Thursday\, April 25/19 at 11:45 a.m. & 7:00 p.m. in the Thessalon Public School Gym.  Cost:  $5/person; $20/family.
URL:https://huronshores.ca/event/pirates/2019-04-25/2/
LOCATION:Ontario
CATEGORIES:Community News
ATTACH;FMTTYPE=image/png:https://huronshores.ca/wp-content/uploads/2019/04/Pirate.png
END:VEVENT
BEGIN:VEVENT
DTSTART;TZID=America/Toronto:20190426T140000
DTEND;TZID=America/Toronto:20190426T153000
DTSTAMP:20260423T021735
CREATED:20151021T181815Z
LAST-MODIFIED:20151021T181815Z
UID:10017020-1556287200-1556292600@huronshores.ca
SUMMARY:Alzheimer Info & Discussion Group
DESCRIPTION:The Alzheimer Society of Sault Ste. Marie & Algoma District hosts an Information & Discussion Group on the 2nd Wednesday of each month\, at the Calvary Gospel Church\, 55 Queen Street\, Blind River from 2:00 – 3:30 p.m.  For more information please call Tanya\, First Link Coordinator\, at 705-848-8145.
URL:https://huronshores.ca/event/alzheimer-info-discussion-group-2/2019-04-26/
LOCATION:Ontario
CATEGORIES:Community News
ATTACH;FMTTYPE=image/jpeg:https://huronshores.ca/wp-content/uploads/2013/01/Alzheimers-Disease.jpg
END:VEVENT
BEGIN:VEVENT
DTSTART;TZID=America/Toronto:20190426T150000
DTEND;TZID=America/Toronto:20190426T160000
DTSTAMP:20260423T021735
CREATED:20190322T163120Z
LAST-MODIFIED:20190322T163120Z
UID:10021443-1556290800-1556294400@huronshores.ca
SUMMARY:MPP Michael Mantha
DESCRIPTION:MPP Michael Mantha will hold a Constituency Clinic at the Huron Shores Municipal Office from 3:00-4:00 p.m.\, April 26/19.  Please contact his office below for further details or to book an appointment.
URL:https://huronshores.ca/event/mpp-michael-mantha-4/
LOCATION:Ontario
CATEGORIES:Community News
ATTACH;FMTTYPE=image/jpeg:https://huronshores.ca/wp-content/uploads/2015/12/Michael_Mantha.jpg
END:VEVENT
BEGIN:VEVENT
DTSTART;TZID=America/Toronto:20190427T140000
DTEND;TZID=America/Toronto:20190427T153000
DTSTAMP:20260423T021735
CREATED:20151021T181815Z
LAST-MODIFIED:20151021T181815Z
UID:10017021-1556373600-1556379000@huronshores.ca
SUMMARY:Alzheimer Info & Discussion Group
DESCRIPTION:The Alzheimer Society of Sault Ste. Marie & Algoma District hosts an Information & Discussion Group on the 2nd Wednesday of each month\, at the Calvary Gospel Church\, 55 Queen Street\, Blind River from 2:00 – 3:30 p.m.  For more information please call Tanya\, First Link Coordinator\, at 705-848-8145.
URL:https://huronshores.ca/event/alzheimer-info-discussion-group-2/2019-04-27/
LOCATION:Ontario
CATEGORIES:Community News
ATTACH;FMTTYPE=image/jpeg:https://huronshores.ca/wp-content/uploads/2013/01/Alzheimers-Disease.jpg
END:VEVENT
BEGIN:VEVENT
DTSTART;TZID=America/Toronto:20190428T140000
DTEND;TZID=America/Toronto:20190428T153000
DTSTAMP:20260423T021735
CREATED:20151021T181815Z
LAST-MODIFIED:20151021T181815Z
UID:10017022-1556460000-1556465400@huronshores.ca
SUMMARY:Alzheimer Info & Discussion Group
DESCRIPTION:The Alzheimer Society of Sault Ste. Marie & Algoma District hosts an Information & Discussion Group on the 2nd Wednesday of each month\, at the Calvary Gospel Church\, 55 Queen Street\, Blind River from 2:00 – 3:30 p.m.  For more information please call Tanya\, First Link Coordinator\, at 705-848-8145.
URL:https://huronshores.ca/event/alzheimer-info-discussion-group-2/2019-04-28/
LOCATION:Ontario
CATEGORIES:Community News
ATTACH;FMTTYPE=image/jpeg:https://huronshores.ca/wp-content/uploads/2013/01/Alzheimers-Disease.jpg
END:VEVENT
BEGIN:VEVENT
DTSTART;TZID=America/Toronto:20190429T140000
DTEND;TZID=America/Toronto:20190429T153000
DTSTAMP:20260423T021735
CREATED:20151021T181815Z
LAST-MODIFIED:20151021T181815Z
UID:10017023-1556546400-1556551800@huronshores.ca
SUMMARY:Alzheimer Info & Discussion Group
DESCRIPTION:The Alzheimer Society of Sault Ste. Marie & Algoma District hosts an Information & Discussion Group on the 2nd Wednesday of each month\, at the Calvary Gospel Church\, 55 Queen Street\, Blind River from 2:00 – 3:30 p.m.  For more information please call Tanya\, First Link Coordinator\, at 705-848-8145.
URL:https://huronshores.ca/event/alzheimer-info-discussion-group-2/2019-04-29/
LOCATION:Ontario
CATEGORIES:Community News
ATTACH;FMTTYPE=image/jpeg:https://huronshores.ca/wp-content/uploads/2013/01/Alzheimers-Disease.jpg
END:VEVENT
BEGIN:VEVENT
DTSTART;TZID=America/Toronto:20190430T140000
DTEND;TZID=America/Toronto:20190430T153000
DTSTAMP:20260423T021735
CREATED:20151021T181815Z
LAST-MODIFIED:20151021T181815Z
UID:10017024-1556632800-1556638200@huronshores.ca
SUMMARY:Alzheimer Info & Discussion Group
DESCRIPTION:The Alzheimer Society of Sault Ste. Marie & Algoma District hosts an Information & Discussion Group on the 2nd Wednesday of each month\, at the Calvary Gospel Church\, 55 Queen Street\, Blind River from 2:00 – 3:30 p.m.  For more information please call Tanya\, First Link Coordinator\, at 705-848-8145.
URL:https://huronshores.ca/event/alzheimer-info-discussion-group-2/2019-04-30/
LOCATION:Ontario
CATEGORIES:Community News
ATTACH;FMTTYPE=image/jpeg:https://huronshores.ca/wp-content/uploads/2013/01/Alzheimers-Disease.jpg
END:VEVENT
BEGIN:VEVENT
DTSTART;TZID=America/Toronto:20190501T083000
DTEND;TZID=America/Toronto:20190501T163000
DTSTAMP:20260423T021735
CREATED:20190430T174236Z
LAST-MODIFIED:20190430T174236Z
UID:10021470-1556699400-1556728200@huronshores.ca
SUMMARY:Letters of Interest re:  Livestock Investigators
DESCRIPTION:The Municipality is seeking letters of interest from individuals who wish to respond to livestock incidents within the Municipality and provide reports as required under the Ministry of Agriculture\, Food & Rural Affairs’ Ontario Wildlife Compensation Program.  Remuneration and mileage provided for each incident and any training required.  Please submit letters of interest by May 1/19 to email@huronshores.ca\, Fax 705-843-2035 or Attention:  Clerk/Administrator Deborah Tonelli\, PO Box 460\, Iron Bridge\, ON   P0R 1H0 \n.
URL:https://huronshores.ca/event/letters-of-interest-re-livestock-investigators/
LOCATION:Ontario
CATEGORIES:Community News
ATTACH;FMTTYPE=image/png:https://huronshores.ca/wp-content/uploads/2018/03/crest.png
END:VEVENT
BEGIN:VEVENT
DTSTART;TZID=America/Toronto:20190501T100000
DTEND;TZID=America/Toronto:20190501T113000
DTSTAMP:20260423T021735
CREATED:20190404T134003Z
LAST-MODIFIED:20190404T134003Z
UID:10021446-1556704800-1556710200@huronshores.ca
SUMMARY:May 1:  Licensed Child Care & EarlyON Services Consultation
DESCRIPTION:
URL:https://huronshores.ca/event/may-1-licensed-child-care-earlyon-services-consultation/
LOCATION:Ontario
CATEGORIES:Community News
END:VEVENT
BEGIN:VEVENT
DTSTART;TZID=America/Toronto:20190501T140000
DTEND;TZID=America/Toronto:20190501T153000
DTSTAMP:20260423T021735
CREATED:20151021T181815Z
LAST-MODIFIED:20151021T181815Z
UID:10017025-1556719200-1556724600@huronshores.ca
SUMMARY:Alzheimer Info & Discussion Group
DESCRIPTION:The Alzheimer Society of Sault Ste. Marie & Algoma District hosts an Information & Discussion Group on the 2nd Wednesday of each month\, at the Calvary Gospel Church\, 55 Queen Street\, Blind River from 2:00 – 3:30 p.m.  For more information please call Tanya\, First Link Coordinator\, at 705-848-8145.
URL:https://huronshores.ca/event/alzheimer-info-discussion-group-2/2019-05-01/
LOCATION:Ontario
CATEGORIES:Community News
ATTACH;FMTTYPE=image/jpeg:https://huronshores.ca/wp-content/uploads/2013/01/Alzheimers-Disease.jpg
END:VEVENT
BEGIN:VEVENT
DTSTART;TZID=America/Toronto:20190502T140000
DTEND;TZID=America/Toronto:20190502T153000
DTSTAMP:20260423T021735
CREATED:20151021T181815Z
LAST-MODIFIED:20151021T181815Z
UID:10017026-1556805600-1556811000@huronshores.ca
SUMMARY:Alzheimer Info & Discussion Group
DESCRIPTION:The Alzheimer Society of Sault Ste. Marie & Algoma District hosts an Information & Discussion Group on the 2nd Wednesday of each month\, at the Calvary Gospel Church\, 55 Queen Street\, Blind River from 2:00 – 3:30 p.m.  For more information please call Tanya\, First Link Coordinator\, at 705-848-8145.
URL:https://huronshores.ca/event/alzheimer-info-discussion-group-2/2019-05-02/
LOCATION:Ontario
CATEGORIES:Community News
ATTACH;FMTTYPE=image/jpeg:https://huronshores.ca/wp-content/uploads/2013/01/Alzheimers-Disease.jpg
END:VEVENT
BEGIN:VEVENT
DTSTART;TZID=America/Toronto:20190503T140000
DTEND;TZID=America/Toronto:20190503T153000
DTSTAMP:20260423T021735
CREATED:20151021T181815Z
LAST-MODIFIED:20151021T181815Z
UID:10017027-1556892000-1556897400@huronshores.ca
SUMMARY:Alzheimer Info & Discussion Group
DESCRIPTION:The Alzheimer Society of Sault Ste. Marie & Algoma District hosts an Information & Discussion Group on the 2nd Wednesday of each month\, at the Calvary Gospel Church\, 55 Queen Street\, Blind River from 2:00 – 3:30 p.m.  For more information please call Tanya\, First Link Coordinator\, at 705-848-8145.
URL:https://huronshores.ca/event/alzheimer-info-discussion-group-2/2019-05-03/
LOCATION:Ontario
CATEGORIES:Community News
ATTACH;FMTTYPE=image/jpeg:https://huronshores.ca/wp-content/uploads/2013/01/Alzheimers-Disease.jpg
END:VEVENT
BEGIN:VEVENT
DTSTART;TZID=America/Toronto:20190503T190000
DTEND;TZID=America/Toronto:20190503T190000
DTSTAMP:20260423T021735
CREATED:20190418T141121Z
LAST-MODIFIED:20190418T141121Z
UID:10021459-1556910000-1556910000@huronshores.ca
SUMMARY:"Songs of the Seasons"
DESCRIPTION:The North Channel Community Singers present “Songs of the Seasons”\, Friday May 3 & Saturday\, May 4/19 at 7:00 p.m.\, Zion United Church\, Thessalon.  Tickets $10; Children under 10\, $5; families $25.  Tickets available from choir members and at Forestland in Thessalon\, or pay at the door.  Special Guests:  North Channel Youth Choir.  Proceeds go to Elizabeth Rebekah Lodge #339.
URL:https://huronshores.ca/event/songs-of-the-seasons/2019-05-03/
LOCATION:Ontario
CATEGORIES:Community News
END:VEVENT
BEGIN:VEVENT
DTSTART;TZID=America/Toronto:20190504T090000
DTEND;TZID=America/Toronto:20190504T140000
DTSTAMP:20260423T021735
CREATED:20190328T164338Z
LAST-MODIFIED:20190328T164338Z
UID:10020362-1556960400-1556978400@huronshores.ca
SUMMARY:Fur & Feather Sale
DESCRIPTION: 
URL:https://huronshores.ca/event/fur-feather-sale/
LOCATION:Ontario
CATEGORIES:Community News,Local Food
ATTACH;FMTTYPE=image/jpeg:https://huronshores.ca/wp-content/uploads/2019/03/Baby-Chicks.jpg
END:VEVENT
BEGIN:VEVENT
DTSTART;TZID=America/Toronto:20190504T140000
DTEND;TZID=America/Toronto:20190504T153000
DTSTAMP:20260423T021735
CREATED:20151021T181815Z
LAST-MODIFIED:20151021T181815Z
UID:10017028-1556978400-1556983800@huronshores.ca
SUMMARY:Alzheimer Info & Discussion Group
DESCRIPTION:The Alzheimer Society of Sault Ste. Marie & Algoma District hosts an Information & Discussion Group on the 2nd Wednesday of each month\, at the Calvary Gospel Church\, 55 Queen Street\, Blind River from 2:00 – 3:30 p.m.  For more information please call Tanya\, First Link Coordinator\, at 705-848-8145.
URL:https://huronshores.ca/event/alzheimer-info-discussion-group-2/2019-05-04/
LOCATION:Ontario
CATEGORIES:Community News
ATTACH;FMTTYPE=image/jpeg:https://huronshores.ca/wp-content/uploads/2013/01/Alzheimers-Disease.jpg
END:VEVENT
BEGIN:VEVENT
DTSTART;TZID=America/Toronto:20190504T190000
DTEND;TZID=America/Toronto:20190504T190000
DTSTAMP:20260423T021735
CREATED:20190418T141121Z
LAST-MODIFIED:20190418T141121Z
UID:10021460-1556996400-1556996400@huronshores.ca
SUMMARY:"Songs of the Seasons"
DESCRIPTION:The North Channel Community Singers present “Songs of the Seasons”\, Friday May 3 & Saturday\, May 4/19 at 7:00 p.m.\, Zion United Church\, Thessalon.  Tickets $10; Children under 10\, $5; families $25.  Tickets available from choir members and at Forestland in Thessalon\, or pay at the door.  Special Guests:  North Channel Youth Choir.  Proceeds go to Elizabeth Rebekah Lodge #339.
URL:https://huronshores.ca/event/songs-of-the-seasons/2019-05-04/
LOCATION:Ontario
CATEGORIES:Community News
END:VEVENT
BEGIN:VEVENT
DTSTART;VALUE=DATE:20190505
DTEND;VALUE=DATE:20190512
DTSTAMP:20260423T021735
CREATED:20190416T191829Z
LAST-MODIFIED:20190416T191829Z
UID:10021453-1557014400-1557619199@huronshores.ca
SUMMARY:EP Week:  May 5-11\, 2019 "Are You Ready?"
DESCRIPTION:“Are You Ready?” Emergency Preparedness Week (EP Week) is an annual event that takes place each year during the first full week of May. This national event is coordinated by Public Safety Canada\, in close collaboration with the provinces and territories and partners. \nNOTE: Due to the current flooding situation in Ontario & Quebec\, the province-wide test\, originally scheduled for May 8 at 2:55 p.m. EST\, will be postponed.  Alert Ready in Ontario is part of a national service designed to deliver critical and potentially life-saving emergency alert messages to Canadians. Check your phone’s compatibility here and read FAQs and other information.  Please monitor Emergency Management Ontario or huronshores.ca for updates. \nFor more information\, please visit emergencymanagementontario.ca/beprepared.
URL:https://huronshores.ca/event/ep-week-may-5-11-2019-are-your-ready/
LOCATION:Ontario
CATEGORIES:Community News,Health & Safety
ATTACH;FMTTYPE=image/jpeg:https://huronshores.ca/wp-content/uploads/2019/04/Stay-Informed-EP-Week-2019.jpg
END:VEVENT
BEGIN:VEVENT
DTSTART;TZID=America/Toronto:20190505T140000
DTEND;TZID=America/Toronto:20190505T153000
DTSTAMP:20260423T021735
CREATED:20151021T181815Z
LAST-MODIFIED:20151021T181815Z
UID:10017029-1557064800-1557070200@huronshores.ca
SUMMARY:Alzheimer Info & Discussion Group
DESCRIPTION:The Alzheimer Society of Sault Ste. Marie & Algoma District hosts an Information & Discussion Group on the 2nd Wednesday of each month\, at the Calvary Gospel Church\, 55 Queen Street\, Blind River from 2:00 – 3:30 p.m.  For more information please call Tanya\, First Link Coordinator\, at 705-848-8145.
URL:https://huronshores.ca/event/alzheimer-info-discussion-group-2/2019-05-05/
LOCATION:Ontario
CATEGORIES:Community News
ATTACH;FMTTYPE=image/jpeg:https://huronshores.ca/wp-content/uploads/2013/01/Alzheimers-Disease.jpg
END:VEVENT
BEGIN:VEVENT
DTSTART;TZID=America/Toronto:20190506T140000
DTEND;TZID=America/Toronto:20190506T153000
DTSTAMP:20260423T021735
CREATED:20151021T181815Z
LAST-MODIFIED:20151021T181815Z
UID:10017030-1557151200-1557156600@huronshores.ca
SUMMARY:Alzheimer Info & Discussion Group
DESCRIPTION:The Alzheimer Society of Sault Ste. Marie & Algoma District hosts an Information & Discussion Group on the 2nd Wednesday of each month\, at the Calvary Gospel Church\, 55 Queen Street\, Blind River from 2:00 – 3:30 p.m.  For more information please call Tanya\, First Link Coordinator\, at 705-848-8145.
URL:https://huronshores.ca/event/alzheimer-info-discussion-group-2/2019-05-06/
LOCATION:Ontario
CATEGORIES:Community News
ATTACH;FMTTYPE=image/jpeg:https://huronshores.ca/wp-content/uploads/2013/01/Alzheimers-Disease.jpg
END:VEVENT
BEGIN:VEVENT
DTSTART;TZID=America/Toronto:20190507T140000
DTEND;TZID=America/Toronto:20190507T153000
DTSTAMP:20260423T021735
CREATED:20151021T181815Z
LAST-MODIFIED:20151021T181815Z
UID:10017031-1557237600-1557243000@huronshores.ca
SUMMARY:Alzheimer Info & Discussion Group
DESCRIPTION:The Alzheimer Society of Sault Ste. Marie & Algoma District hosts an Information & Discussion Group on the 2nd Wednesday of each month\, at the Calvary Gospel Church\, 55 Queen Street\, Blind River from 2:00 – 3:30 p.m.  For more information please call Tanya\, First Link Coordinator\, at 705-848-8145.
URL:https://huronshores.ca/event/alzheimer-info-discussion-group-2/2019-05-07/
LOCATION:Ontario
CATEGORIES:Community News
ATTACH;FMTTYPE=image/jpeg:https://huronshores.ca/wp-content/uploads/2013/01/Alzheimers-Disease.jpg
END:VEVENT
BEGIN:VEVENT
DTSTART;TZID=America/Toronto:20190508T140000
DTEND;TZID=America/Toronto:20190508T153000
DTSTAMP:20260423T021735
CREATED:20151021T181815Z
LAST-MODIFIED:20151021T181815Z
UID:10017032-1557324000-1557329400@huronshores.ca
SUMMARY:Alzheimer Info & Discussion Group
DESCRIPTION:The Alzheimer Society of Sault Ste. Marie & Algoma District hosts an Information & Discussion Group on the 2nd Wednesday of each month\, at the Calvary Gospel Church\, 55 Queen Street\, Blind River from 2:00 – 3:30 p.m.  For more information please call Tanya\, First Link Coordinator\, at 705-848-8145.
URL:https://huronshores.ca/event/alzheimer-info-discussion-group-2/2019-05-08/
LOCATION:Ontario
CATEGORIES:Community News
ATTACH;FMTTYPE=image/jpeg:https://huronshores.ca/wp-content/uploads/2013/01/Alzheimers-Disease.jpg
END:VEVENT
END:VCALENDAR