BEGIN:VCALENDAR
VERSION:2.0
PRODID:-//Huron Shores - ECPv6.15.11//NONSGML v1.0//EN
CALSCALE:GREGORIAN
METHOD:PUBLISH
X-WR-CALNAME:Huron Shores
X-ORIGINAL-URL:https://huronshores.ca
X-WR-CALDESC:Events for Huron Shores
REFRESH-INTERVAL;VALUE=DURATION:PT1H
X-Robots-Tag:noindex
X-PUBLISHED-TTL:PT1H
BEGIN:VTIMEZONE
TZID:America/Toronto
BEGIN:DAYLIGHT
TZOFFSETFROM:-0500
TZOFFSETTO:-0400
TZNAME:EDT
DTSTART:20180311T070000
END:DAYLIGHT
BEGIN:STANDARD
TZOFFSETFROM:-0400
TZOFFSETTO:-0500
TZNAME:EST
DTSTART:20181104T060000
END:STANDARD
BEGIN:DAYLIGHT
TZOFFSETFROM:-0500
TZOFFSETTO:-0400
TZNAME:EDT
DTSTART:20190310T070000
END:DAYLIGHT
BEGIN:STANDARD
TZOFFSETFROM:-0400
TZOFFSETTO:-0500
TZNAME:EST
DTSTART:20191103T060000
END:STANDARD
BEGIN:DAYLIGHT
TZOFFSETFROM:-0500
TZOFFSETTO:-0400
TZNAME:EDT
DTSTART:20200308T070000
END:DAYLIGHT
BEGIN:STANDARD
TZOFFSETFROM:-0400
TZOFFSETTO:-0500
TZNAME:EST
DTSTART:20201101T060000
END:STANDARD
END:VTIMEZONE
BEGIN:VEVENT
DTSTART;TZID=America/Toronto:20190524T140000
DTEND;TZID=America/Toronto:20190524T153000
DTSTAMP:20260423T000711
CREATED:20151021T181815Z
LAST-MODIFIED:20151021T181815Z
UID:10017048-1558706400-1558711800@huronshores.ca
SUMMARY:Alzheimer Info & Discussion Group
DESCRIPTION:The Alzheimer Society of Sault Ste. Marie & Algoma District hosts an Information & Discussion Group on the 2nd Wednesday of each month\, at the Calvary Gospel Church\, 55 Queen Street\, Blind River from 2:00 – 3:30 p.m.  For more information please call Tanya\, First Link Coordinator\, at 705-848-8145.
URL:https://huronshores.ca/event/alzheimer-info-discussion-group-2/2019-05-24/
LOCATION:Ontario
CATEGORIES:Community News
ATTACH;FMTTYPE=image/jpeg:https://huronshores.ca/wp-content/uploads/2013/01/Alzheimers-Disease.jpg
END:VEVENT
BEGIN:VEVENT
DTSTART;TZID=America/Toronto:20190525T080000
DTEND;TZID=America/Toronto:20190525T200000
DTSTAMP:20260423T000711
CREATED:20190325T181033Z
LAST-MODIFIED:20190325T181033Z
UID:10020192-1558771200-1558814400@huronshores.ca
SUMMARY:Little Rapids ATV Fun Run
DESCRIPTION:The Little Rapids Recreation Complex Committee hosts its Annual ATV Fun Run\, Saturday\, May 25/19\, beginning at 8:00 a.m. at the Gazebo/Ball Park\, 34 Little Rapids Rd.  Route:  LittleRapids to Tunnel Lake Trading Post & return.  Registration fee:  $60/one rider; $30 for each additional rider.  payment due at 8:00 a.m. at Gazebo on the day of the Run.  Register for the run by calling 705-842-1779\, or facebook Kathy Mroz no later than May 16\, 2019. 200 people maximum.  Registration fee includes lunch\, dinner\, and lots of great prizes.
URL:https://huronshores.ca/event/little-rapids-atv-fun-run/
LOCATION:Ontario
CATEGORIES:Community News,Recreation
ATTACH;FMTTYPE=image/jpeg:https://huronshores.ca/wp-content/uploads/2013/06/ATV-Rider.jpg
END:VEVENT
BEGIN:VEVENT
DTSTART;TZID=America/Toronto:20190525T140000
DTEND;TZID=America/Toronto:20190525T153000
DTSTAMP:20260423T000711
CREATED:20151021T181815Z
LAST-MODIFIED:20151021T181815Z
UID:10017049-1558792800-1558798200@huronshores.ca
SUMMARY:Alzheimer Info & Discussion Group
DESCRIPTION:The Alzheimer Society of Sault Ste. Marie & Algoma District hosts an Information & Discussion Group on the 2nd Wednesday of each month\, at the Calvary Gospel Church\, 55 Queen Street\, Blind River from 2:00 – 3:30 p.m.  For more information please call Tanya\, First Link Coordinator\, at 705-848-8145.
URL:https://huronshores.ca/event/alzheimer-info-discussion-group-2/2019-05-25/
LOCATION:Ontario
CATEGORIES:Community News
ATTACH;FMTTYPE=image/jpeg:https://huronshores.ca/wp-content/uploads/2013/01/Alzheimers-Disease.jpg
END:VEVENT
BEGIN:VEVENT
DTSTART;TZID=America/Toronto:20190526T130000
DTEND;TZID=America/Toronto:20190526T150000
DTSTAMP:20260423T000711
CREATED:20190513T123457Z
LAST-MODIFIED:20190513T123457Z
UID:10021477-1558875600-1558882800@huronshores.ca
SUMMARY:Timber Village Museum 2019 Grand Opening
DESCRIPTION:unity News
URL:https://huronshores.ca/event/timber-village-museum-2019-grand-opening/
LOCATION:Ontario
CATEGORIES:Community News,Recreation
ATTACH;FMTTYPE=image/jpeg:https://huronshores.ca/wp-content/uploads/2019/05/Timber-Village-Museum-grand-opening-2019-2.jpg
END:VEVENT
BEGIN:VEVENT
DTSTART;TZID=America/Toronto:20190526T140000
DTEND;TZID=America/Toronto:20190526T153000
DTSTAMP:20260423T000711
CREATED:20151021T181815Z
LAST-MODIFIED:20151021T181815Z
UID:10017050-1558879200-1558884600@huronshores.ca
SUMMARY:Alzheimer Info & Discussion Group
DESCRIPTION:The Alzheimer Society of Sault Ste. Marie & Algoma District hosts an Information & Discussion Group on the 2nd Wednesday of each month\, at the Calvary Gospel Church\, 55 Queen Street\, Blind River from 2:00 – 3:30 p.m.  For more information please call Tanya\, First Link Coordinator\, at 705-848-8145.
URL:https://huronshores.ca/event/alzheimer-info-discussion-group-2/2019-05-26/
LOCATION:Ontario
CATEGORIES:Community News
ATTACH;FMTTYPE=image/jpeg:https://huronshores.ca/wp-content/uploads/2013/01/Alzheimers-Disease.jpg
END:VEVENT
BEGIN:VEVENT
DTSTART;TZID=America/Toronto:20190527T140000
DTEND;TZID=America/Toronto:20190527T153000
DTSTAMP:20260423T000711
CREATED:20151021T181815Z
LAST-MODIFIED:20151021T181815Z
UID:10017051-1558965600-1558971000@huronshores.ca
SUMMARY:Alzheimer Info & Discussion Group
DESCRIPTION:The Alzheimer Society of Sault Ste. Marie & Algoma District hosts an Information & Discussion Group on the 2nd Wednesday of each month\, at the Calvary Gospel Church\, 55 Queen Street\, Blind River from 2:00 – 3:30 p.m.  For more information please call Tanya\, First Link Coordinator\, at 705-848-8145.
URL:https://huronshores.ca/event/alzheimer-info-discussion-group-2/2019-05-27/
LOCATION:Ontario
CATEGORIES:Community News
ATTACH;FMTTYPE=image/jpeg:https://huronshores.ca/wp-content/uploads/2013/01/Alzheimers-Disease.jpg
END:VEVENT
BEGIN:VEVENT
DTSTART;TZID=America/Toronto:20190528T140000
DTEND;TZID=America/Toronto:20190528T153000
DTSTAMP:20260423T000711
CREATED:20151021T181815Z
LAST-MODIFIED:20151021T181815Z
UID:10017052-1559052000-1559057400@huronshores.ca
SUMMARY:Alzheimer Info & Discussion Group
DESCRIPTION:The Alzheimer Society of Sault Ste. Marie & Algoma District hosts an Information & Discussion Group on the 2nd Wednesday of each month\, at the Calvary Gospel Church\, 55 Queen Street\, Blind River from 2:00 – 3:30 p.m.  For more information please call Tanya\, First Link Coordinator\, at 705-848-8145.
URL:https://huronshores.ca/event/alzheimer-info-discussion-group-2/2019-05-28/
LOCATION:Ontario
CATEGORIES:Community News
ATTACH;FMTTYPE=image/jpeg:https://huronshores.ca/wp-content/uploads/2013/01/Alzheimers-Disease.jpg
END:VEVENT
BEGIN:VEVENT
DTSTART;TZID=America/Toronto:20190529T140000
DTEND;TZID=America/Toronto:20190529T153000
DTSTAMP:20260423T000711
CREATED:20151021T181815Z
LAST-MODIFIED:20151021T181815Z
UID:10017053-1559138400-1559143800@huronshores.ca
SUMMARY:Alzheimer Info & Discussion Group
DESCRIPTION:The Alzheimer Society of Sault Ste. Marie & Algoma District hosts an Information & Discussion Group on the 2nd Wednesday of each month\, at the Calvary Gospel Church\, 55 Queen Street\, Blind River from 2:00 – 3:30 p.m.  For more information please call Tanya\, First Link Coordinator\, at 705-848-8145.
URL:https://huronshores.ca/event/alzheimer-info-discussion-group-2/2019-05-29/
LOCATION:Ontario
CATEGORIES:Community News
ATTACH;FMTTYPE=image/jpeg:https://huronshores.ca/wp-content/uploads/2013/01/Alzheimers-Disease.jpg
END:VEVENT
BEGIN:VEVENT
DTSTART;TZID=America/Toronto:20190530T140000
DTEND;TZID=America/Toronto:20190530T153000
DTSTAMP:20260423T000711
CREATED:20151021T181815Z
LAST-MODIFIED:20151021T181815Z
UID:10017054-1559224800-1559230200@huronshores.ca
SUMMARY:Alzheimer Info & Discussion Group
DESCRIPTION:The Alzheimer Society of Sault Ste. Marie & Algoma District hosts an Information & Discussion Group on the 2nd Wednesday of each month\, at the Calvary Gospel Church\, 55 Queen Street\, Blind River from 2:00 – 3:30 p.m.  For more information please call Tanya\, First Link Coordinator\, at 705-848-8145.
URL:https://huronshores.ca/event/alzheimer-info-discussion-group-2/2019-05-30/
LOCATION:Ontario
CATEGORIES:Community News
ATTACH;FMTTYPE=image/jpeg:https://huronshores.ca/wp-content/uploads/2013/01/Alzheimers-Disease.jpg
END:VEVENT
BEGIN:VEVENT
DTSTART;TZID=America/Toronto:20190531T110000
DTEND;TZID=America/Toronto:20190531T140000
DTSTAMP:20260423T000711
CREATED:20190418T131216Z
LAST-MODIFIED:20190418T131216Z
UID:10021454-1559300400-1559311200@huronshores.ca
SUMMARY:Algoma Manor Picnic
DESCRIPTION:Algoma Manor hosts its annual picnic on Friday\, May 31/19 from 11:00 a.m. to 2:00 p.m.\, on the Manor grounds.  Everyone is welcome to join the residents and staff for the event\, featuring lots of activities and a barbecue.  Adults $15; Children 8 & under $8; families of 2 adults & 2 children are $40.
URL:https://huronshores.ca/event/algoma-manor-picnic/
LOCATION:Ontario
CATEGORIES:Community News
ATTACH;FMTTYPE=image/jpeg:https://huronshores.ca/wp-content/uploads/2019/04/picnic.jpg
END:VEVENT
BEGIN:VEVENT
DTSTART;TZID=America/Toronto:20190531T140000
DTEND;TZID=America/Toronto:20190531T153000
DTSTAMP:20260423T000711
CREATED:20151021T181815Z
LAST-MODIFIED:20151021T181815Z
UID:10017055-1559311200-1559316600@huronshores.ca
SUMMARY:Alzheimer Info & Discussion Group
DESCRIPTION:The Alzheimer Society of Sault Ste. Marie & Algoma District hosts an Information & Discussion Group on the 2nd Wednesday of each month\, at the Calvary Gospel Church\, 55 Queen Street\, Blind River from 2:00 – 3:30 p.m.  For more information please call Tanya\, First Link Coordinator\, at 705-848-8145.
URL:https://huronshores.ca/event/alzheimer-info-discussion-group-2/2019-05-31/
LOCATION:Ontario
CATEGORIES:Community News
ATTACH;FMTTYPE=image/jpeg:https://huronshores.ca/wp-content/uploads/2013/01/Alzheimers-Disease.jpg
END:VEVENT
BEGIN:VEVENT
DTSTART;TZID=America/Toronto:20190531T170000
DTEND;TZID=America/Toronto:20190531T190000
DTSTAMP:20260423T000711
CREATED:20190501T191034Z
LAST-MODIFIED:20190501T191034Z
UID:10021474-1559322000-1559329200@huronshores.ca
SUMMARY:Friday Fish Fry
DESCRIPTION:The RC Legion Branch 182 in Thessalon hosts a Friday Fish Fry\, from 5:00-7:00 p.m. at the Legion Hall\, 18 Algoma St. W.  Take-outs called in by 4:30 p.m. & picked up for 5:00 p.m.  Call 705-842-2418 to place your take-out order.  Cash Bar.
URL:https://huronshores.ca/event/friday-fish-fry-2/2019-05-31/
LOCATION:Ontario
CATEGORIES:Community News,Local Food
ATTACH;FMTTYPE=image/jpeg:https://huronshores.ca/wp-content/uploads/2015/12/Friday-Fish-Fry.jpg
END:VEVENT
BEGIN:VEVENT
DTSTART;TZID=America/Toronto:20190601T140000
DTEND;TZID=America/Toronto:20190601T153000
DTSTAMP:20260423T000711
CREATED:20151021T181815Z
LAST-MODIFIED:20151021T181815Z
UID:10017056-1559397600-1559403000@huronshores.ca
SUMMARY:Alzheimer Info & Discussion Group
DESCRIPTION:The Alzheimer Society of Sault Ste. Marie & Algoma District hosts an Information & Discussion Group on the 2nd Wednesday of each month\, at the Calvary Gospel Church\, 55 Queen Street\, Blind River from 2:00 – 3:30 p.m.  For more information please call Tanya\, First Link Coordinator\, at 705-848-8145.
URL:https://huronshores.ca/event/alzheimer-info-discussion-group-2/2019-06-01/
LOCATION:Ontario
CATEGORIES:Community News
ATTACH;FMTTYPE=image/jpeg:https://huronshores.ca/wp-content/uploads/2013/01/Alzheimers-Disease.jpg
END:VEVENT
BEGIN:VEVENT
DTSTART;TZID=America/Toronto:20190601T140000
DTEND;TZID=America/Toronto:20190601T230000
DTSTAMP:20260423T000711
CREATED:20190418T153905Z
LAST-MODIFIED:20190418T153905Z
UID:10021462-1559397600-1559430000@huronshores.ca
SUMMARY:Iron Bridge Music Fest
DESCRIPTION:The Iron Bridge Agricultural Society hosts its Annual Music Fest\, Saturday\, June 1/19 from 2:00 – 11:00 p.m. Featuring area artists:  “This is Us”; Don & Lyn; Brendan Hodgson; John McClenaghan & Perfect Blend; Flathead Ford\, & Bone Yard..  Cost $20/person prior to May 20; After May 20\, tickets are $25/person or available at the door.  Children under 12 Free.  Tickets available at select locations Iron Bridge\, Thessalon & Blind River or online at https://www.eventbrite.ca/e/7th-annual-music-fest-tickets-59892515125   \nRefreshments available.  Licenced under the AGCO (Iron Bridge Lions Club) \nFor more information please click on the link below.
URL:https://huronshores.ca/event/iron-bridge-music-fest-4/
LOCATION:Ontario
CATEGORIES:Community News,Recreation
ATTACH;FMTTYPE=image/jpeg:https://huronshores.ca/wp-content/uploads/2017/06/Music-Fest.jpg
END:VEVENT
BEGIN:VEVENT
DTSTART;TZID=America/Toronto:20190602T100000
DTEND;TZID=America/Toronto:20190602T120000
DTSTAMP:20260423T000711
CREATED:20190528T151108Z
LAST-MODIFIED:20190528T151108Z
UID:10021492-1559469600-1559476800@huronshores.ca
SUMMARY:Safe Boating Course
DESCRIPTION:
URL:https://huronshores.ca/event/safe-boating-course/
LOCATION:Ontario
CATEGORIES:Community News,Health & Safety,Recreation
ATTACH;FMTTYPE=image/jpeg:https://huronshores.ca/wp-content/uploads/2019/05/Boating-Course-Poster-1.jpg
END:VEVENT
BEGIN:VEVENT
DTSTART;TZID=America/Toronto:20190602T140000
DTEND;TZID=America/Toronto:20190602T153000
DTSTAMP:20260423T000711
CREATED:20151021T181815Z
LAST-MODIFIED:20151021T181815Z
UID:10017057-1559484000-1559489400@huronshores.ca
SUMMARY:Alzheimer Info & Discussion Group
DESCRIPTION:The Alzheimer Society of Sault Ste. Marie & Algoma District hosts an Information & Discussion Group on the 2nd Wednesday of each month\, at the Calvary Gospel Church\, 55 Queen Street\, Blind River from 2:00 – 3:30 p.m.  For more information please call Tanya\, First Link Coordinator\, at 705-848-8145.
URL:https://huronshores.ca/event/alzheimer-info-discussion-group-2/2019-06-02/
LOCATION:Ontario
CATEGORIES:Community News
ATTACH;FMTTYPE=image/jpeg:https://huronshores.ca/wp-content/uploads/2013/01/Alzheimers-Disease.jpg
END:VEVENT
BEGIN:VEVENT
DTSTART;TZID=America/Toronto:20190603T140000
DTEND;TZID=America/Toronto:20190603T153000
DTSTAMP:20260423T000711
CREATED:20151021T181815Z
LAST-MODIFIED:20151021T181815Z
UID:10017058-1559570400-1559575800@huronshores.ca
SUMMARY:Alzheimer Info & Discussion Group
DESCRIPTION:The Alzheimer Society of Sault Ste. Marie & Algoma District hosts an Information & Discussion Group on the 2nd Wednesday of each month\, at the Calvary Gospel Church\, 55 Queen Street\, Blind River from 2:00 – 3:30 p.m.  For more information please call Tanya\, First Link Coordinator\, at 705-848-8145.
URL:https://huronshores.ca/event/alzheimer-info-discussion-group-2/2019-06-03/
LOCATION:Ontario
CATEGORIES:Community News
ATTACH;FMTTYPE=image/jpeg:https://huronshores.ca/wp-content/uploads/2013/01/Alzheimers-Disease.jpg
END:VEVENT
BEGIN:VEVENT
DTSTART;TZID=America/Toronto:20190603T163000
DTEND;TZID=America/Toronto:20190603T163000
DTSTAMP:20260423T000711
CREATED:20190523T150506Z
LAST-MODIFIED:20190523T150506Z
UID:10020374-1559579400-1559579400@huronshores.ca
SUMMARY:Summer Youth Employment Application Deadline
DESCRIPTION:The Deadline to submit the required Summer Employment Application\, Cover Letter and Resume is today at 4:30 p.m.  Interviews will be conducted June 5/19.  Please click on the link below for details and the required Summer Employment Application.
URL:https://huronshores.ca/event/summer-youth-employment-application-deadline/
LOCATION:Ontario
CATEGORIES:Community News,Employment Opportunities,Recreation
ATTACH;FMTTYPE=image/jpeg:https://huronshores.ca/wp-content/uploads/2015/04/Employment-Application-Clip-Art.jpg
END:VEVENT
BEGIN:VEVENT
DTSTART;TZID=America/Toronto:20190604T140000
DTEND;TZID=America/Toronto:20190604T153000
DTSTAMP:20260423T000711
CREATED:20151021T181815Z
LAST-MODIFIED:20151021T181815Z
UID:10017059-1559656800-1559662200@huronshores.ca
SUMMARY:Alzheimer Info & Discussion Group
DESCRIPTION:The Alzheimer Society of Sault Ste. Marie & Algoma District hosts an Information & Discussion Group on the 2nd Wednesday of each month\, at the Calvary Gospel Church\, 55 Queen Street\, Blind River from 2:00 – 3:30 p.m.  For more information please call Tanya\, First Link Coordinator\, at 705-848-8145.
URL:https://huronshores.ca/event/alzheimer-info-discussion-group-2/2019-06-04/
LOCATION:Ontario
CATEGORIES:Community News
ATTACH;FMTTYPE=image/jpeg:https://huronshores.ca/wp-content/uploads/2013/01/Alzheimers-Disease.jpg
END:VEVENT
BEGIN:VEVENT
DTSTART;TZID=America/Toronto:20190605T140000
DTEND;TZID=America/Toronto:20190605T153000
DTSTAMP:20260423T000711
CREATED:20151021T181815Z
LAST-MODIFIED:20151021T181815Z
UID:10017060-1559743200-1559748600@huronshores.ca
SUMMARY:Alzheimer Info & Discussion Group
DESCRIPTION:The Alzheimer Society of Sault Ste. Marie & Algoma District hosts an Information & Discussion Group on the 2nd Wednesday of each month\, at the Calvary Gospel Church\, 55 Queen Street\, Blind River from 2:00 – 3:30 p.m.  For more information please call Tanya\, First Link Coordinator\, at 705-848-8145.
URL:https://huronshores.ca/event/alzheimer-info-discussion-group-2/2019-06-05/
LOCATION:Ontario
CATEGORIES:Community News
ATTACH;FMTTYPE=image/jpeg:https://huronshores.ca/wp-content/uploads/2013/01/Alzheimers-Disease.jpg
END:VEVENT
BEGIN:VEVENT
DTSTART;VALUE=DATE:20190606
DTEND;VALUE=DATE:20190607
DTSTAMP:20260423T000711
CREATED:20190523T163704Z
LAST-MODIFIED:20190523T163704Z
UID:10020378-1559779200-1559865599@huronshores.ca
SUMMARY:Canada Remembers the 75th Anniversary of D-Day & the Battle of Normandy
DESCRIPTION:The following information was received from the Veterans Affairs Canada Learning Team: \n“One of the most famous events of the Second World War took place on June 6\, 1944\, when some 14\,000 Canadian soldiers came ashore at Juno Beach on D-Day as part of Operation Overlord. This June will mark the 75th anniversary of the massive Allied landings in Normandy\, France\, that signaled the beginning of the liberation of Western Europe.  \nVeterans Affairs Canada is pleased to offer a variety of free\, bilingual print and online resources to help young people learn more about D-Day and the Battle of Normandy.  \nExplore our lesson plans\, posters\, postcards\, bookmarks\, historical information\, Veteran interviews and other educational materials today!” \nPlease click on the link below to learn more. \n 
URL:https://huronshores.ca/event/canada-remembers-the-75th-anniversary-of-d-day-the-battle-of-normandy/
LOCATION:Ontario
CATEGORIES:Community News
ATTACH;FMTTYPE=image/jpeg:https://huronshores.ca/wp-content/uploads/2019/05/D-Day-75th.jpg
END:VEVENT
BEGIN:VEVENT
DTSTART;TZID=America/Toronto:20190606T140000
DTEND;TZID=America/Toronto:20190606T153000
DTSTAMP:20260423T000711
CREATED:20151021T181815Z
LAST-MODIFIED:20151021T181815Z
UID:10017061-1559829600-1559835000@huronshores.ca
SUMMARY:Alzheimer Info & Discussion Group
DESCRIPTION:The Alzheimer Society of Sault Ste. Marie & Algoma District hosts an Information & Discussion Group on the 2nd Wednesday of each month\, at the Calvary Gospel Church\, 55 Queen Street\, Blind River from 2:00 – 3:30 p.m.  For more information please call Tanya\, First Link Coordinator\, at 705-848-8145.
URL:https://huronshores.ca/event/alzheimer-info-discussion-group-2/2019-06-06/
LOCATION:Ontario
CATEGORIES:Community News
ATTACH;FMTTYPE=image/jpeg:https://huronshores.ca/wp-content/uploads/2013/01/Alzheimers-Disease.jpg
END:VEVENT
BEGIN:VEVENT
DTSTART;TZID=America/Toronto:20190607T140000
DTEND;TZID=America/Toronto:20190607T153000
DTSTAMP:20260423T000711
CREATED:20151021T181815Z
LAST-MODIFIED:20151021T181815Z
UID:10017062-1559916000-1559921400@huronshores.ca
SUMMARY:Alzheimer Info & Discussion Group
DESCRIPTION:The Alzheimer Society of Sault Ste. Marie & Algoma District hosts an Information & Discussion Group on the 2nd Wednesday of each month\, at the Calvary Gospel Church\, 55 Queen Street\, Blind River from 2:00 – 3:30 p.m.  For more information please call Tanya\, First Link Coordinator\, at 705-848-8145.
URL:https://huronshores.ca/event/alzheimer-info-discussion-group-2/2019-06-07/
LOCATION:Ontario
CATEGORIES:Community News
ATTACH;FMTTYPE=image/jpeg:https://huronshores.ca/wp-content/uploads/2013/01/Alzheimers-Disease.jpg
END:VEVENT
BEGIN:VEVENT
DTSTART;TZID=America/Toronto:20190607T180000
DTEND;TZID=America/Toronto:20190607T180000
DTSTAMP:20260423T000711
CREATED:20190523T162805Z
LAST-MODIFIED:20190523T162805Z
UID:10020375-1559930400-1559930400@huronshores.ca
SUMMARY:Turducken Charity Dinner & Silent Auction
DESCRIPTION:The Thessalon Lions Club hosts its Annual Turducken Charity Dinner & Silent Auction\, Friday June 7/19\, at the Thessalon Curling Club.  Cocktails at 6:00 p.m.; Dinner at 7:00 p.m.  Cost $35/person includes Dinner\, Coffee/Tea & Dessert.  Cash Bar.  Tickets available from any Thessalon Lions Club Member. Proceeds in support of the Lions Club’s many beneficiaries including:  Algoma Manor Nursing Home; North Shore Health Network – Thessalon Site; Thessalon Minor Hockey; Thessalon Female Hockey; Thessalon Junior Curling; Canadian Cancer Society; CNIB; and the Lions Christmas Cheer Campaign.
URL:https://huronshores.ca/event/turducken-charity-dinner-silent-auction/
LOCATION:Ontario
CATEGORIES:Community News,Fundraiser
ATTACH;FMTTYPE=image/png:https://huronshores.ca/wp-content/uploads/2015/10/turducken.png
END:VEVENT
BEGIN:VEVENT
DTSTART;TZID=America/Toronto:20190608T100000
DTEND;TZID=America/Toronto:20190608T120000
DTSTAMP:20260423T000711
CREATED:20190605T192910Z
LAST-MODIFIED:20190605T192910Z
UID:10021493-1559988000-1559995200@huronshores.ca
SUMMARY:Little Rapids Community Gardens Planting
DESCRIPTION:Calling all green thumb volunteers!  Everyone is welcome to help plant vegetables and flowers on Saturday\, June 8/19 from 10:00 a.m. to Noon at the Little Rapids Community Garden located at the Thessalon Twp. Community Centre\, 4 Little Rapids Road.  Snacks will be provided.  RSVP to Patricia at 705-987-6743 or email serenewaters6@gmail.com
URL:https://huronshores.ca/event/little-rapids-community-gardens-planting/
LOCATION:Ontario
CATEGORIES:Community News,Local Food
ATTACH;FMTTYPE=image/jpeg:https://huronshores.ca/wp-content/uploads/2015/04/Community-Garden2.jpg
END:VEVENT
BEGIN:VEVENT
DTSTART;TZID=America/Toronto:20190608T100000
DTEND;TZID=America/Toronto:20190608T160000
DTSTAMP:20260423T000711
CREATED:20190204T164020Z
LAST-MODIFIED:20190204T164020Z
UID:10021417-1559988000-1560009600@huronshores.ca
SUMMARY:Quilt Show & Sale
DESCRIPTION:The Huron Shores Quilters host a Quilt Show & Sale\, June 8-9/19 from 10:00 a.m. – 4:00 p.m. at the Historic Cordukes/Weber 12-Sided Barn\, 1410 Basswood Lake Rd.\, Sowerby.  Admission to the Quilt Display is by donation.  Luncheon is available at the adjacent Sowerby Hall\, $5/person.  Large and small quilted items and other accessories are for sale at the Hall; Vendors selling items related to quilting in the 2nd floor of the Hall\, accessibility provided.
URL:https://huronshores.ca/event/quilt-show-sale/
LOCATION:Ontario
CATEGORIES:Community News,Recreation
ATTACH;FMTTYPE=image/jpeg:https://huronshores.ca/wp-content/uploads/2010/08/DSCF0015.jpg
END:VEVENT
BEGIN:VEVENT
DTSTART;TZID=America/Toronto:20190608T100000
DTEND;TZID=America/Toronto:20190608T160000
DTSTAMP:20260423T000711
CREATED:20190605T194036Z
LAST-MODIFIED:20190605T194036Z
UID:10021494-1559988000-1560009600@huronshores.ca
SUMMARY:Bruce Mines Car Show
DESCRIPTION:
URL:https://huronshores.ca/event/bruce-mines-car-show/
LOCATION:Ontario
CATEGORIES:Community News
ATTACH;FMTTYPE=image/jpeg:https://huronshores.ca/wp-content/uploads/2019/06/Bruce-Mines-CAR-SHOW-POSTER-2019-2.jpg
END:VEVENT
BEGIN:VEVENT
DTSTART;TZID=America/Toronto:20190608T140000
DTEND;TZID=America/Toronto:20190608T153000
DTSTAMP:20260423T000711
CREATED:20151021T181815Z
LAST-MODIFIED:20151021T181815Z
UID:10017063-1560002400-1560007800@huronshores.ca
SUMMARY:Alzheimer Info & Discussion Group
DESCRIPTION:The Alzheimer Society of Sault Ste. Marie & Algoma District hosts an Information & Discussion Group on the 2nd Wednesday of each month\, at the Calvary Gospel Church\, 55 Queen Street\, Blind River from 2:00 – 3:30 p.m.  For more information please call Tanya\, First Link Coordinator\, at 705-848-8145.
URL:https://huronshores.ca/event/alzheimer-info-discussion-group-2/2019-06-08/
LOCATION:Ontario
CATEGORIES:Community News
ATTACH;FMTTYPE=image/jpeg:https://huronshores.ca/wp-content/uploads/2013/01/Alzheimers-Disease.jpg
END:VEVENT
BEGIN:VEVENT
DTSTART;TZID=America/Toronto:20190609T100000
DTEND;TZID=America/Toronto:20190609T160000
DTSTAMP:20260423T000711
CREATED:20190204T164204Z
LAST-MODIFIED:20190204T164204Z
UID:10021418-1560074400-1560096000@huronshores.ca
SUMMARY:Quilt Show & Sale
DESCRIPTION:The Huron Shores Quilters host a Quilt Show & Sale\, June 8-9/19 from 10:00 a.m. – 4:00 p.m. at the Historic Cordukes/Weber 12-Sided Barn\, 1410 Basswood Lake Rd.\, Sowerby.  Admission to the Quilt Display is by donation.  Luncheon is available at the adjacent Sowerby Hall\, $5/person.  Large and small quilted items and other accessories are for sale at the Hall; Vendors selling items related to quilting in the 2nd floor of the Hall\, accessibility provided.
URL:https://huronshores.ca/event/quilt-show-sale-2/
LOCATION:Ontario
CATEGORIES:Community News,Recreation
ATTACH;FMTTYPE=image/jpeg:https://huronshores.ca/wp-content/uploads/2010/08/DSCF0015.jpg
END:VEVENT
BEGIN:VEVENT
DTSTART;TZID=America/Toronto:20190609T140000
DTEND;TZID=America/Toronto:20190609T153000
DTSTAMP:20260423T000711
CREATED:20151021T181815Z
LAST-MODIFIED:20151021T181815Z
UID:10017064-1560088800-1560094200@huronshores.ca
SUMMARY:Alzheimer Info & Discussion Group
DESCRIPTION:The Alzheimer Society of Sault Ste. Marie & Algoma District hosts an Information & Discussion Group on the 2nd Wednesday of each month\, at the Calvary Gospel Church\, 55 Queen Street\, Blind River from 2:00 – 3:30 p.m.  For more information please call Tanya\, First Link Coordinator\, at 705-848-8145.
URL:https://huronshores.ca/event/alzheimer-info-discussion-group-2/2019-06-09/
LOCATION:Ontario
CATEGORIES:Community News
ATTACH;FMTTYPE=image/jpeg:https://huronshores.ca/wp-content/uploads/2013/01/Alzheimers-Disease.jpg
END:VEVENT
END:VCALENDAR