BEGIN:VCALENDAR
VERSION:2.0
PRODID:-//Huron Shores - ECPv6.15.11//NONSGML v1.0//EN
CALSCALE:GREGORIAN
METHOD:PUBLISH
X-WR-CALNAME:Huron Shores
X-ORIGINAL-URL:https://huronshores.ca
X-WR-CALDESC:Events for Huron Shores
REFRESH-INTERVAL;VALUE=DURATION:PT1H
X-Robots-Tag:noindex
X-PUBLISHED-TTL:PT1H
BEGIN:VTIMEZONE
TZID:America/Toronto
BEGIN:DAYLIGHT
TZOFFSETFROM:-0500
TZOFFSETTO:-0400
TZNAME:EDT
DTSTART:20180311T070000
END:DAYLIGHT
BEGIN:STANDARD
TZOFFSETFROM:-0400
TZOFFSETTO:-0500
TZNAME:EST
DTSTART:20181104T060000
END:STANDARD
BEGIN:DAYLIGHT
TZOFFSETFROM:-0500
TZOFFSETTO:-0400
TZNAME:EDT
DTSTART:20190310T070000
END:DAYLIGHT
BEGIN:STANDARD
TZOFFSETFROM:-0400
TZOFFSETTO:-0500
TZNAME:EST
DTSTART:20191103T060000
END:STANDARD
BEGIN:DAYLIGHT
TZOFFSETFROM:-0500
TZOFFSETTO:-0400
TZNAME:EDT
DTSTART:20200308T070000
END:DAYLIGHT
BEGIN:STANDARD
TZOFFSETFROM:-0400
TZOFFSETTO:-0500
TZNAME:EST
DTSTART:20201101T060000
END:STANDARD
END:VTIMEZONE
BEGIN:VEVENT
DTSTART;TZID=America/Toronto:20190310T140000
DTEND;TZID=America/Toronto:20190310T153000
DTSTAMP:20260423T114454
CREATED:20151021T181815Z
LAST-MODIFIED:20151021T181815Z
UID:10016973-1552226400-1552231800@huronshores.ca
SUMMARY:Alzheimer Info & Discussion Group
DESCRIPTION:The Alzheimer Society of Sault Ste. Marie & Algoma District hosts an Information & Discussion Group on the 2nd Wednesday of each month\, at the Calvary Gospel Church\, 55 Queen Street\, Blind River from 2:00 – 3:30 p.m.  For more information please call Tanya\, First Link Coordinator\, at 705-848-8145.
URL:https://huronshores.ca/event/alzheimer-info-discussion-group-2/2019-03-10/
LOCATION:Ontario
CATEGORIES:Community News
ATTACH;FMTTYPE=image/jpeg:https://huronshores.ca/wp-content/uploads/2013/01/Alzheimers-Disease.jpg
END:VEVENT
BEGIN:VEVENT
DTSTART;TZID=America/Toronto:20190311T140000
DTEND;TZID=America/Toronto:20190311T153000
DTSTAMP:20260423T114454
CREATED:20151021T181815Z
LAST-MODIFIED:20151021T181815Z
UID:10016974-1552312800-1552318200@huronshores.ca
SUMMARY:Alzheimer Info & Discussion Group
DESCRIPTION:The Alzheimer Society of Sault Ste. Marie & Algoma District hosts an Information & Discussion Group on the 2nd Wednesday of each month\, at the Calvary Gospel Church\, 55 Queen Street\, Blind River from 2:00 – 3:30 p.m.  For more information please call Tanya\, First Link Coordinator\, at 705-848-8145.
URL:https://huronshores.ca/event/alzheimer-info-discussion-group-2/2019-03-11/
LOCATION:Ontario
CATEGORIES:Community News
ATTACH;FMTTYPE=image/jpeg:https://huronshores.ca/wp-content/uploads/2013/01/Alzheimers-Disease.jpg
END:VEVENT
BEGIN:VEVENT
DTSTART;TZID=America/Toronto:20190312T140000
DTEND;TZID=America/Toronto:20190312T153000
DTSTAMP:20260423T114454
CREATED:20151021T181815Z
LAST-MODIFIED:20151021T181815Z
UID:10016975-1552399200-1552404600@huronshores.ca
SUMMARY:Alzheimer Info & Discussion Group
DESCRIPTION:The Alzheimer Society of Sault Ste. Marie & Algoma District hosts an Information & Discussion Group on the 2nd Wednesday of each month\, at the Calvary Gospel Church\, 55 Queen Street\, Blind River from 2:00 – 3:30 p.m.  For more information please call Tanya\, First Link Coordinator\, at 705-848-8145.
URL:https://huronshores.ca/event/alzheimer-info-discussion-group-2/2019-03-12/
LOCATION:Ontario
CATEGORIES:Community News
ATTACH;FMTTYPE=image/jpeg:https://huronshores.ca/wp-content/uploads/2013/01/Alzheimers-Disease.jpg
END:VEVENT
BEGIN:VEVENT
DTSTART;TZID=America/Toronto:20190313T140000
DTEND;TZID=America/Toronto:20190313T153000
DTSTAMP:20260423T114454
CREATED:20151021T181815Z
LAST-MODIFIED:20151021T181815Z
UID:10016976-1552485600-1552491000@huronshores.ca
SUMMARY:Alzheimer Info & Discussion Group
DESCRIPTION:The Alzheimer Society of Sault Ste. Marie & Algoma District hosts an Information & Discussion Group on the 2nd Wednesday of each month\, at the Calvary Gospel Church\, 55 Queen Street\, Blind River from 2:00 – 3:30 p.m.  For more information please call Tanya\, First Link Coordinator\, at 705-848-8145.
URL:https://huronshores.ca/event/alzheimer-info-discussion-group-2/2019-03-13/
LOCATION:Ontario
CATEGORIES:Community News
ATTACH;FMTTYPE=image/jpeg:https://huronshores.ca/wp-content/uploads/2013/01/Alzheimers-Disease.jpg
END:VEVENT
BEGIN:VEVENT
DTSTART;TZID=America/Toronto:20190314T140000
DTEND;TZID=America/Toronto:20190314T153000
DTSTAMP:20260423T114454
CREATED:20151021T181815Z
LAST-MODIFIED:20151021T181815Z
UID:10016977-1552572000-1552577400@huronshores.ca
SUMMARY:Alzheimer Info & Discussion Group
DESCRIPTION:The Alzheimer Society of Sault Ste. Marie & Algoma District hosts an Information & Discussion Group on the 2nd Wednesday of each month\, at the Calvary Gospel Church\, 55 Queen Street\, Blind River from 2:00 – 3:30 p.m.  For more information please call Tanya\, First Link Coordinator\, at 705-848-8145.
URL:https://huronshores.ca/event/alzheimer-info-discussion-group-2/2019-03-14/
LOCATION:Ontario
CATEGORIES:Community News
ATTACH;FMTTYPE=image/jpeg:https://huronshores.ca/wp-content/uploads/2013/01/Alzheimers-Disease.jpg
END:VEVENT
BEGIN:VEVENT
DTSTART;TZID=America/Toronto:20190314T183000
DTEND;TZID=America/Toronto:20190314T203000
DTSTAMP:20260423T114454
CREATED:20190225T144744Z
LAST-MODIFIED:20190225T144744Z
UID:10021430-1552588200-1552595400@huronshores.ca
SUMMARY:Bridging the Gap Between Field & Market - Re-Scheduled
DESCRIPTION:
URL:https://huronshores.ca/event/bridging-the-gap-between-field-market-re-scheduled/
LOCATION:Ontario
CATEGORIES:Community News,Farmers' Markets,Local Food
ATTACH;FMTTYPE=image/jpeg:https://huronshores.ca/wp-content/uploads/2016/03/Johnson-Farmers-Market-Logo.jpg
END:VEVENT
BEGIN:VEVENT
DTSTART;TZID=America/Toronto:20190315T140000
DTEND;TZID=America/Toronto:20190315T153000
DTSTAMP:20260423T114454
CREATED:20151021T181815Z
LAST-MODIFIED:20151021T181815Z
UID:10016978-1552658400-1552663800@huronshores.ca
SUMMARY:Alzheimer Info & Discussion Group
DESCRIPTION:The Alzheimer Society of Sault Ste. Marie & Algoma District hosts an Information & Discussion Group on the 2nd Wednesday of each month\, at the Calvary Gospel Church\, 55 Queen Street\, Blind River from 2:00 – 3:30 p.m.  For more information please call Tanya\, First Link Coordinator\, at 705-848-8145.
URL:https://huronshores.ca/event/alzheimer-info-discussion-group-2/2019-03-15/
LOCATION:Ontario
CATEGORIES:Community News
ATTACH;FMTTYPE=image/jpeg:https://huronshores.ca/wp-content/uploads/2013/01/Alzheimers-Disease.jpg
END:VEVENT
BEGIN:VEVENT
DTSTART;TZID=America/Toronto:20190316T140000
DTEND;TZID=America/Toronto:20190316T153000
DTSTAMP:20260423T114454
CREATED:20151021T181815Z
LAST-MODIFIED:20151021T181815Z
UID:10016979-1552744800-1552750200@huronshores.ca
SUMMARY:Alzheimer Info & Discussion Group
DESCRIPTION:The Alzheimer Society of Sault Ste. Marie & Algoma District hosts an Information & Discussion Group on the 2nd Wednesday of each month\, at the Calvary Gospel Church\, 55 Queen Street\, Blind River from 2:00 – 3:30 p.m.  For more information please call Tanya\, First Link Coordinator\, at 705-848-8145.
URL:https://huronshores.ca/event/alzheimer-info-discussion-group-2/2019-03-16/
LOCATION:Ontario
CATEGORIES:Community News
ATTACH;FMTTYPE=image/jpeg:https://huronshores.ca/wp-content/uploads/2013/01/Alzheimers-Disease.jpg
END:VEVENT
BEGIN:VEVENT
DTSTART;TZID=America/Toronto:20190316T183000
DTEND;TZID=America/Toronto:20190316T183000
DTSTAMP:20260423T114454
CREATED:20190201T203700Z
LAST-MODIFIED:20190201T203700Z
UID:10021416-1552761000-1552761000@huronshores.ca
SUMMARY:St. Patrick's Trivia Night
DESCRIPTION:
URL:https://huronshores.ca/event/st-patricks-trivia-night/
LOCATION:Ontario
CATEGORIES:Community News
ATTACH;FMTTYPE=image/png:https://huronshores.ca/wp-content/uploads/2016/01/Trivia-Night.png
END:VEVENT
BEGIN:VEVENT
DTSTART;VALUE=DATE:20190317
DTEND;VALUE=DATE:20190318
DTSTAMP:20260423T114454
CREATED:20181119T170514Z
LAST-MODIFIED:20181119T170514Z
UID:10021367-1552780800-1552867199@huronshores.ca
SUMMARY:St. Patrick's Day
DESCRIPTION:Happy St. Patrick’s Day from Council and staff!
URL:https://huronshores.ca/event/st-patricks-day-2/
LOCATION:Ontario
CATEGORIES:Community News
ATTACH;FMTTYPE=image/jpeg:https://huronshores.ca/wp-content/uploads/2016/01/Happy-St.-Patricks-Day.jpg
END:VEVENT
BEGIN:VEVENT
DTSTART;TZID=America/Toronto:20190317T140000
DTEND;TZID=America/Toronto:20190317T153000
DTSTAMP:20260423T114454
CREATED:20151021T181815Z
LAST-MODIFIED:20151021T181815Z
UID:10016980-1552831200-1552836600@huronshores.ca
SUMMARY:Alzheimer Info & Discussion Group
DESCRIPTION:The Alzheimer Society of Sault Ste. Marie & Algoma District hosts an Information & Discussion Group on the 2nd Wednesday of each month\, at the Calvary Gospel Church\, 55 Queen Street\, Blind River from 2:00 – 3:30 p.m.  For more information please call Tanya\, First Link Coordinator\, at 705-848-8145.
URL:https://huronshores.ca/event/alzheimer-info-discussion-group-2/2019-03-17/
LOCATION:Ontario
CATEGORIES:Community News
ATTACH;FMTTYPE=image/jpeg:https://huronshores.ca/wp-content/uploads/2013/01/Alzheimers-Disease.jpg
END:VEVENT
BEGIN:VEVENT
DTSTART;TZID=America/Toronto:20190317T170000
DTEND;TZID=America/Toronto:20190317T190000
DTSTAMP:20260423T114454
CREATED:20190206T205943Z
LAST-MODIFIED:20190206T205943Z
UID:10021425-1552842000-1552849200@huronshores.ca
SUMMARY:Irish Stew Dinner
DESCRIPTION:Elizabeth Rebekah Lodge #339 will host a St. Patrick’s Day Irish Stew Dinner\, March 17\, 5:00-7:00 p.m.  Cost:  Adult $15; Child (5-12) $7.50.  All welcome!
URL:https://huronshores.ca/event/irish-stew-dinner/
LOCATION:Ontario
CATEGORIES:Community News
ATTACH;FMTTYPE=image/jpeg:https://huronshores.ca/wp-content/uploads/2019/02/Irish-Stew.jpg
END:VEVENT
BEGIN:VEVENT
DTSTART;TZID=America/Toronto:20190318T140000
DTEND;TZID=America/Toronto:20190318T153000
DTSTAMP:20260423T114454
CREATED:20151021T181815Z
LAST-MODIFIED:20151021T181815Z
UID:10016981-1552917600-1552923000@huronshores.ca
SUMMARY:Alzheimer Info & Discussion Group
DESCRIPTION:The Alzheimer Society of Sault Ste. Marie & Algoma District hosts an Information & Discussion Group on the 2nd Wednesday of each month\, at the Calvary Gospel Church\, 55 Queen Street\, Blind River from 2:00 – 3:30 p.m.  For more information please call Tanya\, First Link Coordinator\, at 705-848-8145.
URL:https://huronshores.ca/event/alzheimer-info-discussion-group-2/2019-03-18/
LOCATION:Ontario
CATEGORIES:Community News
ATTACH;FMTTYPE=image/jpeg:https://huronshores.ca/wp-content/uploads/2013/01/Alzheimers-Disease.jpg
END:VEVENT
BEGIN:VEVENT
DTSTART;TZID=America/Toronto:20190319T140000
DTEND;TZID=America/Toronto:20190319T153000
DTSTAMP:20260423T114454
CREATED:20151021T181815Z
LAST-MODIFIED:20151021T181815Z
UID:10016982-1553004000-1553009400@huronshores.ca
SUMMARY:Alzheimer Info & Discussion Group
DESCRIPTION:The Alzheimer Society of Sault Ste. Marie & Algoma District hosts an Information & Discussion Group on the 2nd Wednesday of each month\, at the Calvary Gospel Church\, 55 Queen Street\, Blind River from 2:00 – 3:30 p.m.  For more information please call Tanya\, First Link Coordinator\, at 705-848-8145.
URL:https://huronshores.ca/event/alzheimer-info-discussion-group-2/2019-03-19/
LOCATION:Ontario
CATEGORIES:Community News
ATTACH;FMTTYPE=image/jpeg:https://huronshores.ca/wp-content/uploads/2013/01/Alzheimers-Disease.jpg
END:VEVENT
BEGIN:VEVENT
DTSTART;TZID=America/Toronto:20190320T140000
DTEND;TZID=America/Toronto:20190320T153000
DTSTAMP:20260423T114454
CREATED:20151021T181815Z
LAST-MODIFIED:20151021T181815Z
UID:10016983-1553090400-1553095800@huronshores.ca
SUMMARY:Alzheimer Info & Discussion Group
DESCRIPTION:The Alzheimer Society of Sault Ste. Marie & Algoma District hosts an Information & Discussion Group on the 2nd Wednesday of each month\, at the Calvary Gospel Church\, 55 Queen Street\, Blind River from 2:00 – 3:30 p.m.  For more information please call Tanya\, First Link Coordinator\, at 705-848-8145.
URL:https://huronshores.ca/event/alzheimer-info-discussion-group-2/2019-03-20/
LOCATION:Ontario
CATEGORIES:Community News
ATTACH;FMTTYPE=image/jpeg:https://huronshores.ca/wp-content/uploads/2013/01/Alzheimers-Disease.jpg
END:VEVENT
BEGIN:VEVENT
DTSTART;TZID=America/Toronto:20190321T140000
DTEND;TZID=America/Toronto:20190321T153000
DTSTAMP:20260423T114454
CREATED:20151021T181815Z
LAST-MODIFIED:20151021T181815Z
UID:10016984-1553176800-1553182200@huronshores.ca
SUMMARY:Alzheimer Info & Discussion Group
DESCRIPTION:The Alzheimer Society of Sault Ste. Marie & Algoma District hosts an Information & Discussion Group on the 2nd Wednesday of each month\, at the Calvary Gospel Church\, 55 Queen Street\, Blind River from 2:00 – 3:30 p.m.  For more information please call Tanya\, First Link Coordinator\, at 705-848-8145.
URL:https://huronshores.ca/event/alzheimer-info-discussion-group-2/2019-03-21/
LOCATION:Ontario
CATEGORIES:Community News
ATTACH;FMTTYPE=image/jpeg:https://huronshores.ca/wp-content/uploads/2013/01/Alzheimers-Disease.jpg
END:VEVENT
BEGIN:VEVENT
DTSTART;TZID=America/Toronto:20190321T190000
DTEND;TZID=America/Toronto:20190321T190000
DTSTAMP:20260423T114454
CREATED:20190314T123651Z
LAST-MODIFIED:20190314T123651Z
UID:10021442-1553194800-1553194800@huronshores.ca
SUMMARY:Victim Services of Algoma
DESCRIPTION:
URL:https://huronshores.ca/event/victim-services-of-algoma/
LOCATION:Ontario
CATEGORIES:Community News,Health & Safety
ATTACH;FMTTYPE=image/jpeg:https://huronshores.ca/wp-content/uploads/2019/03/Victim-Services-Poster.jpg
END:VEVENT
BEGIN:VEVENT
DTSTART;TZID=America/Toronto:20190322T140000
DTEND;TZID=America/Toronto:20190322T153000
DTSTAMP:20260423T114454
CREATED:20151021T181815Z
LAST-MODIFIED:20151021T181815Z
UID:10016985-1553263200-1553268600@huronshores.ca
SUMMARY:Alzheimer Info & Discussion Group
DESCRIPTION:The Alzheimer Society of Sault Ste. Marie & Algoma District hosts an Information & Discussion Group on the 2nd Wednesday of each month\, at the Calvary Gospel Church\, 55 Queen Street\, Blind River from 2:00 – 3:30 p.m.  For more information please call Tanya\, First Link Coordinator\, at 705-848-8145.
URL:https://huronshores.ca/event/alzheimer-info-discussion-group-2/2019-03-22/
LOCATION:Ontario
CATEGORIES:Community News
ATTACH;FMTTYPE=image/jpeg:https://huronshores.ca/wp-content/uploads/2013/01/Alzheimers-Disease.jpg
END:VEVENT
BEGIN:VEVENT
DTSTART;TZID=America/Toronto:20190323T140000
DTEND;TZID=America/Toronto:20190323T153000
DTSTAMP:20260423T114454
CREATED:20151021T181815Z
LAST-MODIFIED:20151021T181815Z
UID:10016986-1553349600-1553355000@huronshores.ca
SUMMARY:Alzheimer Info & Discussion Group
DESCRIPTION:The Alzheimer Society of Sault Ste. Marie & Algoma District hosts an Information & Discussion Group on the 2nd Wednesday of each month\, at the Calvary Gospel Church\, 55 Queen Street\, Blind River from 2:00 – 3:30 p.m.  For more information please call Tanya\, First Link Coordinator\, at 705-848-8145.
URL:https://huronshores.ca/event/alzheimer-info-discussion-group-2/2019-03-23/
LOCATION:Ontario
CATEGORIES:Community News
ATTACH;FMTTYPE=image/jpeg:https://huronshores.ca/wp-content/uploads/2013/01/Alzheimers-Disease.jpg
END:VEVENT
BEGIN:VEVENT
DTSTART;TZID=America/Toronto:20190323T163000
DTEND;TZID=America/Toronto:20190323T183000
DTSTAMP:20260423T114454
CREATED:20181119T163640Z
LAST-MODIFIED:20181119T163640Z
UID:10021362-1553358600-1553365800@huronshores.ca
SUMMARY:Lions Fish Fry
DESCRIPTION:The Iron Bridge Lions Club hosts a Fish Fry  on the following dates:  January 26\, February 9\, March 9 & March 23/19.  $18/person at the Iron Bridge Lions Club Hall\, 10 Clarissa St.; 4:30-6:30 p.m.  For more info\, contact the Club at 705-843-2667 or ironbridgelions@yahoo.ca.
URL:https://huronshores.ca/event/lions-fish-fry-2/2019-03-23/
LOCATION:Ontario
CATEGORIES:Community News,Local Food
ATTACH;FMTTYPE=image/jpeg:https://huronshores.ca/wp-content/uploads/2015/12/Fish-Fry.jpg
END:VEVENT
BEGIN:VEVENT
DTSTART;TZID=America/Toronto:20190324T140000
DTEND;TZID=America/Toronto:20190324T153000
DTSTAMP:20260423T114454
CREATED:20151021T181815Z
LAST-MODIFIED:20151021T181815Z
UID:10016987-1553436000-1553441400@huronshores.ca
SUMMARY:Alzheimer Info & Discussion Group
DESCRIPTION:The Alzheimer Society of Sault Ste. Marie & Algoma District hosts an Information & Discussion Group on the 2nd Wednesday of each month\, at the Calvary Gospel Church\, 55 Queen Street\, Blind River from 2:00 – 3:30 p.m.  For more information please call Tanya\, First Link Coordinator\, at 705-848-8145.
URL:https://huronshores.ca/event/alzheimer-info-discussion-group-2/2019-03-24/
LOCATION:Ontario
CATEGORIES:Community News
ATTACH;FMTTYPE=image/jpeg:https://huronshores.ca/wp-content/uploads/2013/01/Alzheimers-Disease.jpg
END:VEVENT
BEGIN:VEVENT
DTSTART;TZID=America/Toronto:20190325T140000
DTEND;TZID=America/Toronto:20190325T153000
DTSTAMP:20260423T114454
CREATED:20151021T181815Z
LAST-MODIFIED:20151021T181815Z
UID:10016988-1553522400-1553527800@huronshores.ca
SUMMARY:Alzheimer Info & Discussion Group
DESCRIPTION:The Alzheimer Society of Sault Ste. Marie & Algoma District hosts an Information & Discussion Group on the 2nd Wednesday of each month\, at the Calvary Gospel Church\, 55 Queen Street\, Blind River from 2:00 – 3:30 p.m.  For more information please call Tanya\, First Link Coordinator\, at 705-848-8145.
URL:https://huronshores.ca/event/alzheimer-info-discussion-group-2/2019-03-25/
LOCATION:Ontario
CATEGORIES:Community News
ATTACH;FMTTYPE=image/jpeg:https://huronshores.ca/wp-content/uploads/2013/01/Alzheimers-Disease.jpg
END:VEVENT
BEGIN:VEVENT
DTSTART;TZID=America/Toronto:20190326T130000
DTEND;TZID=America/Toronto:20190326T150000
DTSTAMP:20260423T114454
CREATED:20190322T170226Z
LAST-MODIFIED:20190322T170226Z
UID:10020188-1553605200-1553612400@huronshores.ca
SUMMARY:CAFC Annual General Meeting
DESCRIPTION:
URL:https://huronshores.ca/event/cafc-annual-general-meeting-3/
LOCATION:Ontario
CATEGORIES:Community News
ATTACH;FMTTYPE=image/jpeg:https://huronshores.ca/wp-content/uploads/2012/07/CAFC-Logo-e1400248798444.jpg
END:VEVENT
BEGIN:VEVENT
DTSTART;TZID=America/Toronto:20190326T140000
DTEND;TZID=America/Toronto:20190326T153000
DTSTAMP:20260423T114454
CREATED:20151021T181815Z
LAST-MODIFIED:20151021T181815Z
UID:10016989-1553608800-1553614200@huronshores.ca
SUMMARY:Alzheimer Info & Discussion Group
DESCRIPTION:The Alzheimer Society of Sault Ste. Marie & Algoma District hosts an Information & Discussion Group on the 2nd Wednesday of each month\, at the Calvary Gospel Church\, 55 Queen Street\, Blind River from 2:00 – 3:30 p.m.  For more information please call Tanya\, First Link Coordinator\, at 705-848-8145.
URL:https://huronshores.ca/event/alzheimer-info-discussion-group-2/2019-03-26/
LOCATION:Ontario
CATEGORIES:Community News
ATTACH;FMTTYPE=image/jpeg:https://huronshores.ca/wp-content/uploads/2013/01/Alzheimers-Disease.jpg
END:VEVENT
BEGIN:VEVENT
DTSTART;TZID=America/Toronto:20190327T140000
DTEND;TZID=America/Toronto:20190327T153000
DTSTAMP:20260423T114454
CREATED:20151021T181815Z
LAST-MODIFIED:20151021T181815Z
UID:10016990-1553695200-1553700600@huronshores.ca
SUMMARY:Alzheimer Info & Discussion Group
DESCRIPTION:The Alzheimer Society of Sault Ste. Marie & Algoma District hosts an Information & Discussion Group on the 2nd Wednesday of each month\, at the Calvary Gospel Church\, 55 Queen Street\, Blind River from 2:00 – 3:30 p.m.  For more information please call Tanya\, First Link Coordinator\, at 705-848-8145.
URL:https://huronshores.ca/event/alzheimer-info-discussion-group-2/2019-03-27/
LOCATION:Ontario
CATEGORIES:Community News
ATTACH;FMTTYPE=image/jpeg:https://huronshores.ca/wp-content/uploads/2013/01/Alzheimers-Disease.jpg
END:VEVENT
BEGIN:VEVENT
DTSTART;TZID=America/Toronto:20190328T140000
DTEND;TZID=America/Toronto:20190328T153000
DTSTAMP:20260423T114454
CREATED:20151021T181815Z
LAST-MODIFIED:20151021T181815Z
UID:10016991-1553781600-1553787000@huronshores.ca
SUMMARY:Alzheimer Info & Discussion Group
DESCRIPTION:The Alzheimer Society of Sault Ste. Marie & Algoma District hosts an Information & Discussion Group on the 2nd Wednesday of each month\, at the Calvary Gospel Church\, 55 Queen Street\, Blind River from 2:00 – 3:30 p.m.  For more information please call Tanya\, First Link Coordinator\, at 705-848-8145.
URL:https://huronshores.ca/event/alzheimer-info-discussion-group-2/2019-03-28/
LOCATION:Ontario
CATEGORIES:Community News
ATTACH;FMTTYPE=image/jpeg:https://huronshores.ca/wp-content/uploads/2013/01/Alzheimers-Disease.jpg
END:VEVENT
BEGIN:VEVENT
DTSTART;TZID=America/Toronto:20190329T140000
DTEND;TZID=America/Toronto:20190329T153000
DTSTAMP:20260423T114454
CREATED:20151021T181815Z
LAST-MODIFIED:20151021T181815Z
UID:10016992-1553868000-1553873400@huronshores.ca
SUMMARY:Alzheimer Info & Discussion Group
DESCRIPTION:The Alzheimer Society of Sault Ste. Marie & Algoma District hosts an Information & Discussion Group on the 2nd Wednesday of each month\, at the Calvary Gospel Church\, 55 Queen Street\, Blind River from 2:00 – 3:30 p.m.  For more information please call Tanya\, First Link Coordinator\, at 705-848-8145.
URL:https://huronshores.ca/event/alzheimer-info-discussion-group-2/2019-03-29/
LOCATION:Ontario
CATEGORIES:Community News
ATTACH;FMTTYPE=image/jpeg:https://huronshores.ca/wp-content/uploads/2013/01/Alzheimers-Disease.jpg
END:VEVENT
BEGIN:VEVENT
DTSTART;TZID=America/Toronto:20190330T140000
DTEND;TZID=America/Toronto:20190330T153000
DTSTAMP:20260423T114454
CREATED:20151021T181815Z
LAST-MODIFIED:20151021T181815Z
UID:10016993-1553954400-1553959800@huronshores.ca
SUMMARY:Alzheimer Info & Discussion Group
DESCRIPTION:The Alzheimer Society of Sault Ste. Marie & Algoma District hosts an Information & Discussion Group on the 2nd Wednesday of each month\, at the Calvary Gospel Church\, 55 Queen Street\, Blind River from 2:00 – 3:30 p.m.  For more information please call Tanya\, First Link Coordinator\, at 705-848-8145.
URL:https://huronshores.ca/event/alzheimer-info-discussion-group-2/2019-03-30/
LOCATION:Ontario
CATEGORIES:Community News
ATTACH;FMTTYPE=image/jpeg:https://huronshores.ca/wp-content/uploads/2013/01/Alzheimers-Disease.jpg
END:VEVENT
BEGIN:VEVENT
DTSTART;TZID=America/Toronto:20190331T090000
DTEND;TZID=America/Toronto:20190331T140000
DTSTAMP:20260423T114454
CREATED:20190322T164431Z
LAST-MODIFIED:20190322T164431Z
UID:10020187-1554022800-1554040800@huronshores.ca
SUMMARY:Rod & Gun Show
DESCRIPTION:The Wharncliffe Citizens’ Committee is hosting a Rod & Gun Show on Sunday\, March 31/19 from 9:00 a.m. – 2:00 p.m. at the Wharncliffe Community Hall\, Hwy. 129\, Wharncliffe\, 25 km north of Thessalon.  Entry fee is $5/person\, includes Hot Dog & Coffee.
URL:https://huronshores.ca/event/rod-gun-show/
LOCATION:Ontario
CATEGORIES:Community News,Recreation
ATTACH;FMTTYPE=image/jpeg:https://huronshores.ca/wp-content/uploads/2019/03/WharncliffeGunShow.jpg
END:VEVENT
BEGIN:VEVENT
DTSTART;TZID=America/Toronto:20190331T093000
DTEND;TZID=America/Toronto:20190331T140000
DTSTAMP:20260423T114454
CREATED:20190220T170603Z
LAST-MODIFIED:20190220T170603Z
UID:10021429-1554024600-1554040800@huronshores.ca
SUMMARY:Pancake Brunch
DESCRIPTION:The Sowerby Heritage Centre Committee will host its annual Pancake Brunch\, Sunday\, March 31/19 from 9:30 a.m. – 2:00 p.m. at Sowerby Hall\, 1410 Basswood Lake Rd.  Adults $12; Children aged 5-12 $6; Under 5 – Free.  Pancakes\, sausages\, boiled eggs\, maple syrup\, oranges\, coffee and muffins.  Come and join in the fun!
URL:https://huronshores.ca/event/pancake-brunch/
LOCATION:Ontario
CATEGORIES:Community News,Local Food
ATTACH;FMTTYPE=image/png:https://huronshores.ca/wp-content/uploads/2014/03/Pancakes.png
END:VEVENT
END:VCALENDAR