BEGIN:VCALENDAR
VERSION:2.0
PRODID:-//Huron Shores - ECPv6.15.11//NONSGML v1.0//EN
CALSCALE:GREGORIAN
METHOD:PUBLISH
X-WR-CALNAME:Huron Shores
X-ORIGINAL-URL:https://huronshores.ca
X-WR-CALDESC:Events for Huron Shores
REFRESH-INTERVAL;VALUE=DURATION:PT1H
X-Robots-Tag:noindex
X-PUBLISHED-TTL:PT1H
BEGIN:VTIMEZONE
TZID:America/Toronto
BEGIN:DAYLIGHT
TZOFFSETFROM:-0500
TZOFFSETTO:-0400
TZNAME:EDT
DTSTART:20180311T070000
END:DAYLIGHT
BEGIN:STANDARD
TZOFFSETFROM:-0400
TZOFFSETTO:-0500
TZNAME:EST
DTSTART:20181104T060000
END:STANDARD
BEGIN:DAYLIGHT
TZOFFSETFROM:-0500
TZOFFSETTO:-0400
TZNAME:EDT
DTSTART:20190310T070000
END:DAYLIGHT
BEGIN:STANDARD
TZOFFSETFROM:-0400
TZOFFSETTO:-0500
TZNAME:EST
DTSTART:20191103T060000
END:STANDARD
BEGIN:DAYLIGHT
TZOFFSETFROM:-0500
TZOFFSETTO:-0400
TZNAME:EDT
DTSTART:20200308T070000
END:DAYLIGHT
BEGIN:STANDARD
TZOFFSETFROM:-0400
TZOFFSETTO:-0500
TZNAME:EST
DTSTART:20201101T060000
END:STANDARD
END:VTIMEZONE
BEGIN:VEVENT
DTSTART;TZID=America/Toronto:20190213T190000
DTEND;TZID=America/Toronto:20190213T190000
DTSTAMP:20260423T070544
CREATED:20181214T192845Z
LAST-MODIFIED:20181214T192845Z
UID:10021370-1550084400-1550084400@huronshores.ca
SUMMARY:Regular Council Meeting
DESCRIPTION:The Regular Meeting of Council will be held on the 2nd Wednesday of each month at 7:00 p.m. in the Council Chambers\, 7 Bridge Street\, Iron Bridge.  The 4th Wednesday of each month will be reserved for Special Meetings\, if necessary\, in order for Council to deliberate specific issues\, for education purposes\, or for time-sensitive matters\, etc.  Typically\, Council meets once in December\, as per the Procedural By-law\, on the 3rd Wednesday\, however if that day falls too close to the Christmas Holiday break\, Council may\, via resolution\, set the meeting for the 2nd Wednesday. \nMeeting Agendas are posted on the Monday prior to the meeting\, or\, should the Monday be a holiday\, on the Tuesday. \nIf you wish to appear as a deputation or delegation before Council at a Regular Meeting\, please click on the link below to visit the Deputations & Delegations page for details.
URL:https://huronshores.ca/event/regular-council-meeting-39/2019-02-13/
LOCATION:Ontario
CATEGORIES:Council Meeting
ATTACH;FMTTYPE=:
END:VEVENT
BEGIN:VEVENT
DTSTART;TZID=America/Toronto:20190213T190000
DTEND;TZID=America/Toronto:20190213T190000
DTSTAMP:20260423T070544
CREATED:20190117T210459Z
LAST-MODIFIED:20190117T210459Z
UID:10021405-1550084400-1550084400@huronshores.ca
SUMMARY:Special Public Meeting
DESCRIPTION:The Corporation of The Municipality of Huron Shores will hold a Public Meeting on February 13\, 2019 at 7:00 P.M. at the Municipal Office in Iron Bridge to consider the proposed Official Plan and Zoning Amendments pursuant to the requirements of Section 17 and 34 of the Planning Act\, R.S.O 1990\, as amended. \nAn Official Plan amendment application No. 2019-OPA-01 and Zoning amendment application No. 2019-Z-01 has been received for land at 22550 Highway 17\, described as CON 1 SPT LOT 1 RP; AR-1126 PART 1 PCL 6624 AES\, Gladstone Township.  \nPlease click on the link below to view the Public Notice and Key Map. \nThe Regular Meeting of Council will convene following adjournment of the Special Public Meeting.  The Agendas for both meetings will be posted Monday\, February 11/19.
URL:https://huronshores.ca/event/special-public-meeting/
LOCATION:Ontario
CATEGORIES:Council Meeting,Planning & Zoning
ATTACH;FMTTYPE=:
END:VEVENT
BEGIN:VEVENT
DTSTART;TZID=America/Toronto:20190227T190000
DTEND;TZID=America/Toronto:20190227T190000
DTSTAMP:20260423T070544
CREATED:20190214T185545Z
LAST-MODIFIED:20190214T185545Z
UID:10021427-1551294000-1551294000@huronshores.ca
SUMMARY:Special Council Meeting
DESCRIPTION:Council\, via Resolution #19-03-23 dated February 13/19\, set a special meeting to be held on Wednesday\, February 27th\, 2019 at 7:00 p.m. in the Council Chambers\, for training purposes with respect to new municipal policies and procedures and any timeline matters.  The Agenda will be posted Monday\, February 25/19.  The next Regular Meeting of Council will be Wednesday\, March 13/19.
URL:https://huronshores.ca/event/special-council-meeting-8/
LOCATION:Ontario
CATEGORIES:Council Meeting
ATTACH;FMTTYPE=:
END:VEVENT
END:VCALENDAR