BEGIN:VCALENDAR
VERSION:2.0
PRODID:-//Huron Shores - ECPv6.15.11//NONSGML v1.0//EN
CALSCALE:GREGORIAN
METHOD:PUBLISH
X-WR-CALNAME:Huron Shores
X-ORIGINAL-URL:https://huronshores.ca
X-WR-CALDESC:Events for Huron Shores
REFRESH-INTERVAL;VALUE=DURATION:PT1H
X-Robots-Tag:noindex
X-PUBLISHED-TTL:PT1H
BEGIN:VTIMEZONE
TZID:America/Toronto
BEGIN:DAYLIGHT
TZOFFSETFROM:-0500
TZOFFSETTO:-0400
TZNAME:EDT
DTSTART:20180311T070000
END:DAYLIGHT
BEGIN:STANDARD
TZOFFSETFROM:-0400
TZOFFSETTO:-0500
TZNAME:EST
DTSTART:20181104T060000
END:STANDARD
BEGIN:DAYLIGHT
TZOFFSETFROM:-0500
TZOFFSETTO:-0400
TZNAME:EDT
DTSTART:20190310T070000
END:DAYLIGHT
BEGIN:STANDARD
TZOFFSETFROM:-0400
TZOFFSETTO:-0500
TZNAME:EST
DTSTART:20191103T060000
END:STANDARD
BEGIN:DAYLIGHT
TZOFFSETFROM:-0500
TZOFFSETTO:-0400
TZNAME:EDT
DTSTART:20200308T070000
END:DAYLIGHT
BEGIN:STANDARD
TZOFFSETFROM:-0400
TZOFFSETTO:-0500
TZNAME:EST
DTSTART:20201101T060000
END:STANDARD
END:VTIMEZONE
BEGIN:VEVENT
DTSTART;TZID=America/Toronto:20190508T190000
DTEND;TZID=America/Toronto:20190508T190000
DTSTAMP:20260423T013848
CREATED:20181214T192845Z
LAST-MODIFIED:20181214T192845Z
UID:10021373-1557342000-1557342000@huronshores.ca
SUMMARY:Regular Council Meeting
DESCRIPTION:The Regular Meeting of Council will be held on the 2nd Wednesday of each month at 7:00 p.m. in the Council Chambers\, 7 Bridge Street\, Iron Bridge.  The 4th Wednesday of each month will be reserved for Special Meetings\, if necessary\, in order for Council to deliberate specific issues\, for education purposes\, or for time-sensitive matters\, etc.  Typically\, Council meets once in December\, as per the Procedural By-law\, on the 3rd Wednesday\, however if that day falls too close to the Christmas Holiday break\, Council may\, via resolution\, set the meeting for the 2nd Wednesday. \nMeeting Agendas are posted on the Monday prior to the meeting\, or\, should the Monday be a holiday\, on the Tuesday. \nIf you wish to appear as a deputation or delegation before Council at a Regular Meeting\, please click on the link below to visit the Deputations & Delegations page for details.
URL:https://huronshores.ca/event/regular-council-meeting-39/2019-05-08/
LOCATION:Ontario
CATEGORIES:Council Meeting
ATTACH;FMTTYPE=:
END:VEVENT
BEGIN:VEVENT
DTSTART;TZID=America/Toronto:20190508T190000
DTEND;TZID=America/Toronto:20190508T190000
DTSTAMP:20260423T013848
CREATED:20190425T134541Z
LAST-MODIFIED:20190425T134541Z
UID:10021463-1557342000-1557342000@huronshores.ca
SUMMARY:Special Public Meeting
DESCRIPTION:The Council for the Corporation of the Municipality of Huron Shores\, at the April 24\, 2019 Special Budget Meeting\, passed Resolution #19-08-04 as follows: \n“WHEREAS the Municipality has received an Application for Consent File No. 2019-C-02 for property located in the geographic Township of Thessalon being a proposal to sever a 5.6 hectare (14 acre) parcel of land\, from the retaining 14.5 hectares (36 acres) on lands described as Lot 3\, Lot 1 RCP H788 E of 1R3532 and N of 1R8890\, in the Municipality of Huron Shores; \nNOW THEREFORE BE IT RESOLVED THAT\, as recommended under the Planning Act\, a Special Public Meeting be set for Wednesday\, May 8\, 2019 at 7:00 p.m. in the Council Chambers in order to receive public input either in support of\, or against\, the above-noted application; \nAND THAT the Regular Meeting of Council shall convene following adjournment of the Special Public Meeting.” \nPlease click on the link below to read the original post for further details.  The Agendas for both the Special Public and the Regular Meetings of Council will be posted Monday\, May 6/19.
URL:https://huronshores.ca/event/special-public-meeting-2/
LOCATION:Ontario
CATEGORIES:Council Meeting,Planning & Zoning
ATTACH;FMTTYPE=image/png:https://huronshores.ca/wp-content/uploads/2018/03/crest.png
END:VEVENT
BEGIN:VEVENT
DTSTART;TZID=America/Toronto:20190529T190000
DTEND;TZID=America/Toronto:20190529T190000
DTSTAMP:20260423T013848
CREATED:20190513T170831Z
LAST-MODIFIED:20190513T170831Z
UID:10020367-1559156400-1559156400@huronshores.ca
SUMMARY:Special Meeting of Council
DESCRIPTION:A Special Meeting of Council will be held Wednesday\, May 29/19 at 7:00 p.m.\, as per Resolution #19-10-30\, in order to consider the Natural Playground presentation and updates from Little Rapids Recreation Complex Committee member Kathy Mroz\, as well as discuss the potential Ontario Trillium Fund Grant application for said project.  The Agenda will be posted on Monday\, May 27/19.
URL:https://huronshores.ca/event/special-meeting-of-council-3/
LOCATION:Ontario
CATEGORIES:Council Meeting,Recreation
ATTACH;FMTTYPE=image/png:https://huronshores.ca/wp-content/uploads/2018/03/crest.png
END:VEVENT
END:VCALENDAR