BEGIN:VCALENDAR
VERSION:2.0
PRODID:-//Huron Shores - ECPv6.15.11//NONSGML v1.0//EN
CALSCALE:GREGORIAN
METHOD:PUBLISH
X-ORIGINAL-URL:https://huronshores.ca
X-WR-CALDESC:Events for Huron Shores
REFRESH-INTERVAL;VALUE=DURATION:PT1H
X-Robots-Tag:noindex
X-PUBLISHED-TTL:PT1H
BEGIN:VTIMEZONE
TZID:America/Toronto
BEGIN:DAYLIGHT
TZOFFSETFROM:-0500
TZOFFSETTO:-0400
TZNAME:EDT
DTSTART:20180311T070000
END:DAYLIGHT
BEGIN:STANDARD
TZOFFSETFROM:-0400
TZOFFSETTO:-0500
TZNAME:EST
DTSTART:20181104T060000
END:STANDARD
BEGIN:DAYLIGHT
TZOFFSETFROM:-0500
TZOFFSETTO:-0400
TZNAME:EDT
DTSTART:20190310T070000
END:DAYLIGHT
BEGIN:STANDARD
TZOFFSETFROM:-0400
TZOFFSETTO:-0500
TZNAME:EST
DTSTART:20191103T060000
END:STANDARD
BEGIN:DAYLIGHT
TZOFFSETFROM:-0500
TZOFFSETTO:-0400
TZNAME:EDT
DTSTART:20200308T070000
END:DAYLIGHT
BEGIN:STANDARD
TZOFFSETFROM:-0400
TZOFFSETTO:-0500
TZNAME:EST
DTSTART:20201101T060000
END:STANDARD
BEGIN:DAYLIGHT
TZOFFSETFROM:-0500
TZOFFSETTO:-0400
TZNAME:EDT
DTSTART:20210314T070000
END:DAYLIGHT
BEGIN:STANDARD
TZOFFSETFROM:-0400
TZOFFSETTO:-0500
TZNAME:EST
DTSTART:20211107T060000
END:STANDARD
BEGIN:DAYLIGHT
TZOFFSETFROM:-0500
TZOFFSETTO:-0400
TZNAME:EDT
DTSTART:20220313T070000
END:DAYLIGHT
BEGIN:STANDARD
TZOFFSETFROM:-0400
TZOFFSETTO:-0500
TZNAME:EST
DTSTART:20221106T060000
END:STANDARD
BEGIN:DAYLIGHT
TZOFFSETFROM:-0500
TZOFFSETTO:-0400
TZNAME:EDT
DTSTART:20230312T070000
END:DAYLIGHT
BEGIN:STANDARD
TZOFFSETFROM:-0400
TZOFFSETTO:-0500
TZNAME:EST
DTSTART:20231105T060000
END:STANDARD
BEGIN:DAYLIGHT
TZOFFSETFROM:-0500
TZOFFSETTO:-0400
TZNAME:EDT
DTSTART:20240310T070000
END:DAYLIGHT
BEGIN:STANDARD
TZOFFSETFROM:-0400
TZOFFSETTO:-0500
TZNAME:EST
DTSTART:20241103T060000
END:STANDARD
END:VTIMEZONE
BEGIN:VEVENT
DTSTART;TZID=America/Toronto:20190508T190000
DTEND;TZID=America/Toronto:20190508T190000
DTSTAMP:20260423T164431
CREATED:20190425T134541Z
LAST-MODIFIED:20190425T134541Z
UID:10021463-1557342000-1557342000@huronshores.ca
SUMMARY:Special Public Meeting
DESCRIPTION:The Council for the Corporation of the Municipality of Huron Shores\, at the April 24\, 2019 Special Budget Meeting\, passed Resolution #19-08-04 as follows: \n“WHEREAS the Municipality has received an Application for Consent File No. 2019-C-02 for property located in the geographic Township of Thessalon being a proposal to sever a 5.6 hectare (14 acre) parcel of land\, from the retaining 14.5 hectares (36 acres) on lands described as Lot 3\, Lot 1 RCP H788 E of 1R3532 and N of 1R8890\, in the Municipality of Huron Shores; \nNOW THEREFORE BE IT RESOLVED THAT\, as recommended under the Planning Act\, a Special Public Meeting be set for Wednesday\, May 8\, 2019 at 7:00 p.m. in the Council Chambers in order to receive public input either in support of\, or against\, the above-noted application; \nAND THAT the Regular Meeting of Council shall convene following adjournment of the Special Public Meeting.” \nPlease click on the link below to read the original post for further details.  The Agendas for both the Special Public and the Regular Meetings of Council will be posted Monday\, May 6/19.
URL:https://huronshores.ca/event/special-public-meeting-2/
CATEGORIES:Council Meeting,Planning & Zoning
ATTACH;FMTTYPE=image/png:https://huronshores.ca/wp-content/uploads/2018/03/crest.png
END:VEVENT
BEGIN:VEVENT
DTSTART;TZID=America/Toronto:20190529T190000
DTEND;TZID=America/Toronto:20190529T190000
DTSTAMP:20260423T164431
CREATED:20190513T170831Z
LAST-MODIFIED:20190513T170831Z
UID:10020367-1559156400-1559156400@huronshores.ca
SUMMARY:Special Meeting of Council
DESCRIPTION:A Special Meeting of Council will be held Wednesday\, May 29/19 at 7:00 p.m.\, as per Resolution #19-10-30\, in order to consider the Natural Playground presentation and updates from Little Rapids Recreation Complex Committee member Kathy Mroz\, as well as discuss the potential Ontario Trillium Fund Grant application for said project.  The Agenda will be posted on Monday\, May 27/19.
URL:https://huronshores.ca/event/special-meeting-of-council-3/
CATEGORIES:Council Meeting,Recreation
ATTACH;FMTTYPE=image/png:https://huronshores.ca/wp-content/uploads/2018/03/crest.png
END:VEVENT
BEGIN:VEVENT
DTSTART;TZID=America/Toronto:20190612T190000
DTEND;TZID=America/Toronto:20190612T190000
DTSTAMP:20260423T164431
CREATED:20181214T192845Z
LAST-MODIFIED:20181214T192845Z
UID:10021374-1560366000-1560366000@huronshores.ca
SUMMARY:Regular Council Meeting
DESCRIPTION:The Regular Meeting of Council will be held on the 2nd Wednesday of each month at 7:00 p.m. in the Council Chambers\, 7 Bridge Street\, Iron Bridge.  The 4th Wednesday of each month will be reserved for Special Meetings\, if necessary\, in order for Council to deliberate specific issues\, for education purposes\, or for time-sensitive matters\, etc.  Typically\, Council meets once in December\, as per the Procedural By-law\, on the 3rd Wednesday\, however if that day falls too close to the Christmas Holiday break\, Council may\, via resolution\, set the meeting for the 2nd Wednesday. \nMeeting Agendas are posted on the Monday prior to the meeting\, or\, should the Monday be a holiday\, on the Tuesday. \nIf you wish to appear as a deputation or delegation before Council at a Regular Meeting\, please click on the link below to visit the Deputations & Delegations page for details.
URL:https://huronshores.ca/event/regular-council-meeting-39/2019-06-12/
CATEGORIES:Council Meeting
ATTACH;FMTTYPE=:
END:VEVENT
BEGIN:VEVENT
DTSTART;TZID=America/Toronto:20190710T190000
DTEND;TZID=America/Toronto:20190710T190000
DTSTAMP:20260423T164431
CREATED:20181214T192845Z
LAST-MODIFIED:20181214T192845Z
UID:10021375-1562785200-1562785200@huronshores.ca
SUMMARY:Regular Council Meeting
DESCRIPTION:The Regular Meeting of Council will be held on the 2nd Wednesday of each month at 7:00 p.m. in the Council Chambers\, 7 Bridge Street\, Iron Bridge.  The 4th Wednesday of each month will be reserved for Special Meetings\, if necessary\, in order for Council to deliberate specific issues\, for education purposes\, or for time-sensitive matters\, etc.  Typically\, Council meets once in December\, as per the Procedural By-law\, on the 3rd Wednesday\, however if that day falls too close to the Christmas Holiday break\, Council may\, via resolution\, set the meeting for the 2nd Wednesday. \nMeeting Agendas are posted on the Monday prior to the meeting\, or\, should the Monday be a holiday\, on the Tuesday. \nIf you wish to appear as a deputation or delegation before Council at a Regular Meeting\, please click on the link below to visit the Deputations & Delegations page for details.
URL:https://huronshores.ca/event/regular-council-meeting-39/2019-07-10/
CATEGORIES:Council Meeting
ATTACH;FMTTYPE=:
END:VEVENT
BEGIN:VEVENT
DTSTART;TZID=America/Toronto:20190814T190000
DTEND;TZID=America/Toronto:20190814T190000
DTSTAMP:20260423T164431
CREATED:20181214T192845Z
LAST-MODIFIED:20181214T192845Z
UID:10021376-1565809200-1565809200@huronshores.ca
SUMMARY:Regular Council Meeting
DESCRIPTION:The Regular Meeting of Council will be held on the 2nd Wednesday of each month at 7:00 p.m. in the Council Chambers\, 7 Bridge Street\, Iron Bridge.  The 4th Wednesday of each month will be reserved for Special Meetings\, if necessary\, in order for Council to deliberate specific issues\, for education purposes\, or for time-sensitive matters\, etc.  Typically\, Council meets once in December\, as per the Procedural By-law\, on the 3rd Wednesday\, however if that day falls too close to the Christmas Holiday break\, Council may\, via resolution\, set the meeting for the 2nd Wednesday. \nMeeting Agendas are posted on the Monday prior to the meeting\, or\, should the Monday be a holiday\, on the Tuesday. \nIf you wish to appear as a deputation or delegation before Council at a Regular Meeting\, please click on the link below to visit the Deputations & Delegations page for details.
URL:https://huronshores.ca/event/regular-council-meeting-39/2019-08-14/
CATEGORIES:Council Meeting
ATTACH;FMTTYPE=:
END:VEVENT
BEGIN:VEVENT
DTSTART;TZID=America/Toronto:20190911T190000
DTEND;TZID=America/Toronto:20190911T190000
DTSTAMP:20260423T164431
CREATED:20181214T192845Z
LAST-MODIFIED:20181214T192845Z
UID:10021377-1568228400-1568228400@huronshores.ca
SUMMARY:Regular Council Meeting
DESCRIPTION:The Regular Meeting of Council will be held on the 2nd Wednesday of each month at 7:00 p.m. in the Council Chambers\, 7 Bridge Street\, Iron Bridge.  The 4th Wednesday of each month will be reserved for Special Meetings\, if necessary\, in order for Council to deliberate specific issues\, for education purposes\, or for time-sensitive matters\, etc.  Typically\, Council meets once in December\, as per the Procedural By-law\, on the 3rd Wednesday\, however if that day falls too close to the Christmas Holiday break\, Council may\, via resolution\, set the meeting for the 2nd Wednesday. \nMeeting Agendas are posted on the Monday prior to the meeting\, or\, should the Monday be a holiday\, on the Tuesday. \nIf you wish to appear as a deputation or delegation before Council at a Regular Meeting\, please click on the link below to visit the Deputations & Delegations page for details.
URL:https://huronshores.ca/event/regular-council-meeting-39/2019-09-11/
CATEGORIES:Council Meeting
ATTACH;FMTTYPE=:
END:VEVENT
BEGIN:VEVENT
DTSTART;TZID=America/Toronto:20191009T190000
DTEND;TZID=America/Toronto:20191009T190000
DTSTAMP:20260423T164431
CREATED:20181214T192845Z
LAST-MODIFIED:20181214T192845Z
UID:10021378-1570647600-1570647600@huronshores.ca
SUMMARY:Regular Council Meeting
DESCRIPTION:The Regular Meeting of Council will be held on the 2nd Wednesday of each month at 7:00 p.m. in the Council Chambers\, 7 Bridge Street\, Iron Bridge.  The 4th Wednesday of each month will be reserved for Special Meetings\, if necessary\, in order for Council to deliberate specific issues\, for education purposes\, or for time-sensitive matters\, etc.  Typically\, Council meets once in December\, as per the Procedural By-law\, on the 3rd Wednesday\, however if that day falls too close to the Christmas Holiday break\, Council may\, via resolution\, set the meeting for the 2nd Wednesday. \nMeeting Agendas are posted on the Monday prior to the meeting\, or\, should the Monday be a holiday\, on the Tuesday. \nIf you wish to appear as a deputation or delegation before Council at a Regular Meeting\, please click on the link below to visit the Deputations & Delegations page for details.
URL:https://huronshores.ca/event/regular-council-meeting-39/2019-10-09/
CATEGORIES:Council Meeting
ATTACH;FMTTYPE=:
END:VEVENT
BEGIN:VEVENT
DTSTART;TZID=America/Toronto:20191113T190000
DTEND;TZID=America/Toronto:20191113T190000
DTSTAMP:20260423T164431
CREATED:20181214T192845Z
LAST-MODIFIED:20181214T192845Z
UID:10021379-1573671600-1573671600@huronshores.ca
SUMMARY:Regular Council Meeting
DESCRIPTION:The Regular Meeting of Council will be held on the 2nd Wednesday of each month at 7:00 p.m. in the Council Chambers\, 7 Bridge Street\, Iron Bridge.  The 4th Wednesday of each month will be reserved for Special Meetings\, if necessary\, in order for Council to deliberate specific issues\, for education purposes\, or for time-sensitive matters\, etc.  Typically\, Council meets once in December\, as per the Procedural By-law\, on the 3rd Wednesday\, however if that day falls too close to the Christmas Holiday break\, Council may\, via resolution\, set the meeting for the 2nd Wednesday. \nMeeting Agendas are posted on the Monday prior to the meeting\, or\, should the Monday be a holiday\, on the Tuesday. \nIf you wish to appear as a deputation or delegation before Council at a Regular Meeting\, please click on the link below to visit the Deputations & Delegations page for details.
URL:https://huronshores.ca/event/regular-council-meeting-39/2019-11-13/
CATEGORIES:Council Meeting
ATTACH;FMTTYPE=:
END:VEVENT
BEGIN:VEVENT
DTSTART;TZID=America/Toronto:20191211T190000
DTEND;TZID=America/Toronto:20191211T190000
DTSTAMP:20260423T164431
CREATED:20190528T143052Z
LAST-MODIFIED:20190528T143052Z
UID:10021491-1576090800-1576090800@huronshores.ca
SUMMARY:Regular Council Meeting
DESCRIPTION:The Regular Meeting of Council will be held Wednesday\, December 11/19 at 7:00 p.m. in the Council Chambers\, 7 Bridge St.\, Iron Bridge.  The Agenda will be posted on Monday\, December 9/19. If you wish to appear as a deputation or delegation before Council at a Regular Meeting\, please click on the link below to visit the Deputations & Delegations page for details.
URL:https://huronshores.ca/event/regular-council-meeting-40/
CATEGORIES:Council Meeting
ATTACH;FMTTYPE=image/png:https://huronshores.ca/wp-content/uploads/2018/03/crest.png
END:VEVENT
BEGIN:VEVENT
DTSTART;TZID=America/Toronto:20220223T190000
DTEND;TZID=America/Toronto:20220223T190000
DTSTAMP:20260423T164431
CREATED:20200313T142915Z
LAST-MODIFIED:20200313T142915Z
UID:10021499-1645642800-1645642800@huronshores.ca
SUMMARY:Regular Meeting of Council
DESCRIPTION:The Regular Meeting of Council will be held every second and forth Wednesday of each month at 7:00 p.m. in the Council Chambers\, 7 Bridge St.\, Iron Bridge.  The Agenda will be posted on the Monday before the scheduled meeting. If you wish to appear as a deputation or delegation before Council at a Regular Meeting\, please click on the link below to visit the Deputations & Delegations page for details.
URL:https://huronshores.ca/event/19382-2024-02-14/2022-02-23/
CATEGORIES:Council Meeting
END:VEVENT
BEGIN:VEVENT
DTSTART;TZID=America/Toronto:20220309T190000
DTEND;TZID=America/Toronto:20220309T190000
DTSTAMP:20260423T164431
CREATED:20200313T142915Z
LAST-MODIFIED:20200313T142915Z
UID:10021500-1646852400-1646852400@huronshores.ca
SUMMARY:Regular Meeting of Council
DESCRIPTION:The Regular Meeting of Council will be held every second and forth Wednesday of each month at 7:00 p.m. in the Council Chambers\, 7 Bridge St.\, Iron Bridge.  The Agenda will be posted on the Monday before the scheduled meeting. If you wish to appear as a deputation or delegation before Council at a Regular Meeting\, please click on the link below to visit the Deputations & Delegations page for details.
URL:https://huronshores.ca/event/19382-2024-02-14/2022-03-09/
CATEGORIES:Council Meeting
END:VEVENT
BEGIN:VEVENT
DTSTART;TZID=America/Toronto:20220323T190000
DTEND;TZID=America/Toronto:20220323T190000
DTSTAMP:20260423T164431
CREATED:20200313T142915Z
LAST-MODIFIED:20200313T142915Z
UID:10021501-1648062000-1648062000@huronshores.ca
SUMMARY:Regular Meeting of Council
DESCRIPTION:The Regular Meeting of Council will be held every second and forth Wednesday of each month at 7:00 p.m. in the Council Chambers\, 7 Bridge St.\, Iron Bridge.  The Agenda will be posted on the Monday before the scheduled meeting. If you wish to appear as a deputation or delegation before Council at a Regular Meeting\, please click on the link below to visit the Deputations & Delegations page for details.
URL:https://huronshores.ca/event/19382-2024-02-14/2022-03-23/
CATEGORIES:Council Meeting
END:VEVENT
BEGIN:VEVENT
DTSTART;TZID=America/Toronto:20220928T190000
DTEND;TZID=America/Toronto:20220928T220000
DTSTAMP:20260423T164431
CREATED:20220907T181654Z
LAST-MODIFIED:20220921T191823Z
UID:10022394-1664391600-1664402400@huronshores.ca
SUMMARY:Regular Meeting of Council
DESCRIPTION:Regular Meetings of Council are held the 2nd and 4th Wednesday of the month (excluding July\, August\, and December; which are held the 2nd Wednesday only)\, in Council Chambers\, starting at 7:00 p.m. \nThe proposed Agenda for any upcoming Council Meeting is posted on the Monday prior to the meeting. If the Monday is a holiday\, the Agenda will be posted on the Tuesday prior to the meeting. See the Council Meeting – Minutes and Agendas page for the next scheduled Meeting of Council. Please notify the Clerk by 12:00 p.m. the Thursday prior to the Council Meeting should you wish to make a presentation and/or submission to Council. Visit the Deputations and Delegations page for more detail. \nRegister in advance for this meeting should you wish to attend by Zoom:\nhttps://us02web.zoom.us/meeting/register/tZUtdemtrT0tGtSmJRq2NurX1T-YYr6jxiwm \nAfter registering\, you will receive a confirmation email containing information about joining the meeting. \n 
URL:https://huronshores.ca/event/regular-meeting-of-council-4/
LOCATION:Council Chambers\, 7 Bridge Street\, Iron Bridge\, Ontario\, P0R1H0\, Canada
CATEGORIES:Council Meeting
ORGANIZER;CN="Municipality of Huron Shores":MAILTO:email@huronshores.ca
END:VEVENT
BEGIN:VEVENT
DTSTART;TZID=America/Toronto:20221026T190000
DTEND;TZID=America/Toronto:20221026T190000
DTSTAMP:20260423T164431
CREATED:20221014T160034Z
LAST-MODIFIED:20221025T190810Z
UID:10022406-1666810800-1666810800@huronshores.ca
SUMMARY:Regular Meeting of Council
DESCRIPTION:Regular Meetings of Council are held the 2nd and 4th Wednesday of the month (excluding July\, August\, and December; which are held the 2nd Wednesday only)\, in Council Chambers\, starting at 7:00 p.m. \nThe proposed Agenda for any upcoming Council Meeting is posted on the Monday prior to the meeting. If the Monday is a holiday\, the Agenda will be posted on the Tuesday prior to the meeting. See the Council Meeting – Minutes and Agendas page for the next scheduled Meeting of Council. Please notify the Clerk by 12:00 p.m. the Thursday prior to the Council Meeting should you wish to make a presentation and/or submission to Council. Visit the Deputations and Delegations page for more detail. \nRegister in advance for this meeting should you wish to attend by Zoom: \nhttps://us02web.zoom.us/meeting/register/tZYkcOCvrTIoG9VZbW8Y0T89i0eO0crO2gAc \nAfter registering\, you will receive a confirmation email containing information about joining the meeting.
URL:https://huronshores.ca/event/regular-meeting-of-council-5/
LOCATION:Council Chambers\, 7 Bridge Street\, Iron Bridge\, Ontario\, P0R1H0\, Canada
CATEGORIES:Council Meeting
ORGANIZER;CN="Municipality of Huron Shores":MAILTO:email@huronshores.ca
END:VEVENT
BEGIN:VEVENT
DTSTART;TZID=America/Toronto:20221109T190000
DTEND;TZID=America/Toronto:20221109T190000
DTSTAMP:20260423T164431
CREATED:20221014T160141Z
LAST-MODIFIED:20221108T144946Z
UID:10022407-1668020400-1668020400@huronshores.ca
SUMMARY:Regular Meeting of Council
DESCRIPTION:Regular Meetings of Council are held the 2nd and 4th Wednesday of the month (excluding July\, August\, and December; which are held the 2nd Wednesday only)\, in Council Chambers\, starting at 7:00 p.m. \nThe proposed Agenda for any upcoming Council Meeting is posted on the Monday prior to the meeting. If the Monday is a holiday\, the Agenda will be posted on the Tuesday prior to the meeting. See the Council Meeting – Minutes and Agendas page for the next scheduled Meeting of Council. Please notify the Clerk by 12:00 p.m. the Thursday prior to the Council Meeting should you wish to make a presentation and/or submission to Council. Visit the Deputations and Delegations page for more detail. \nRegister in advance for this meeting should you wish to attend by Zoom: \nhttps://us02web.zoom.us/meeting/register/tZEudOisrz8iGtZvMnEQB1hSpOonFTkAPg-h \nAfter registering\, you will receive a confirmation email containing information about joining the meeting.
URL:https://huronshores.ca/event/regular-meeting-of-council-6/
LOCATION:Council Chambers\, 7 Bridge Street\, Iron Bridge\, Ontario\, P0R1H0\, Canada
CATEGORIES:Council Meeting
ORGANIZER;CN="Municipality of Huron Shores":MAILTO:email@huronshores.ca
END:VEVENT
BEGIN:VEVENT
DTSTART;TZID=America/Toronto:20221123T190000
DTEND;TZID=America/Toronto:20221123T190000
DTSTAMP:20260423T164431
CREATED:20221014T160311Z
LAST-MODIFIED:20221123T162352Z
UID:10022408-1669230000-1669230000@huronshores.ca
SUMMARY:Regular Meeting of Council
DESCRIPTION:Regular Meetings of Council are held the 2nd and 4th Wednesday of the month (excluding July\, August\, and December; which are held the 2nd Wednesday only)\, in Council Chambers\, starting at 7:00 p.m. \nThe proposed Agenda for any upcoming Council Meeting is posted on the Monday prior to the meeting. If the Monday is a holiday\, the Agenda will be posted on the Tuesday prior to the meeting. See the Council Meeting – Minutes and Agendas page for the next scheduled Meeting of Council. Please notify the Clerk by 12:00 p.m. the Thursday prior to the Council Meeting should you wish to make a presentation and/or submission to Council. Visit the Deputations and Delegations page for more detail. \nRegister in advance for this meeting should you wish to attend by Zoom: \nhttps://us02web.zoom.us/meeting/register/tZApce2rrD8oGN06d8u3DlnJEg8ym6e7OAXP \nAfter registering\, you will receive a confirmation email containing information about joining the meeting.
URL:https://huronshores.ca/event/regular-meeting-of-council-7/
LOCATION:Council Chambers\, 7 Bridge Street\, Iron Bridge\, Ontario\, P0R1H0\, Canada
CATEGORIES:Council Meeting
ORGANIZER;CN="Municipality of Huron Shores":MAILTO:email@huronshores.ca
END:VEVENT
BEGIN:VEVENT
DTSTART;TZID=America/Toronto:20221214T190000
DTEND;TZID=America/Toronto:20221214T190000
DTSTAMP:20260423T164431
CREATED:20221014T160420Z
LAST-MODIFIED:20221213T135921Z
UID:10022409-1671044400-1671044400@huronshores.ca
SUMMARY:Regular Meeting of Council
DESCRIPTION:Regular Meetings of Council are held the 2nd and 4th Wednesday of the month (excluding July\, August\, and December; which are held the 2nd Wednesday only)\, in Council Chambers\, starting at 7:00 p.m. \nThe proposed Agenda for any upcoming Council Meeting is posted on the Monday prior to the meeting. If the Monday is a holiday\, the Agenda will be posted on the Tuesday prior to the meeting. See the Council Meeting – Minutes and Agendas page for the next scheduled Meeting of Council. Please notify the Clerk by 12:00 p.m. the Thursday prior to the Council Meeting should you wish to make a presentation and/or submission to Council. Visit the Deputations and Delegations page for more detail. \nRegister in advance for this meeting:\nhttps://us02web.zoom.us/meeting/register/tZAode6grjIvGdz-_CjyzVDK71nOHmSHk8mx \nAfter registering\, you will receive a confirmation email containing information about joining the meeting.
URL:https://huronshores.ca/event/regular-meeting-of-council-8/
LOCATION:Council Chambers\, 7 Bridge Street\, Iron Bridge\, Ontario\, P0R1H0\, Canada
CATEGORIES:Council Meeting
ORGANIZER;CN="Municipality of Huron Shores":MAILTO:email@huronshores.ca
END:VEVENT
BEGIN:VEVENT
DTSTART;TZID=America/Toronto:20230208T190000
DTEND;TZID=America/Toronto:20230208T220000
DTSTAMP:20260423T164431
CREATED:20230126T141455Z
LAST-MODIFIED:20230208T144434Z
UID:10022420-1675882800-1675893600@huronshores.ca
SUMMARY:Regular Meeting of Council
DESCRIPTION:Regular Meetings of Council are held in Council Chambers the 2nd Wednesday of the month\, starting at 7:00 p.m. The 4th Wednesday of every month shall be reserved for Special Meetings\, as required. \nThe proposed Agenda for any upcoming Council Meeting is posted on the Monday prior to the meeting. If the Monday is a holiday\, the Agenda will be posted on the Tuesday prior to the meeting. See the Council Meeting – Minutes and Agendas page for the next scheduled Meeting of Council. Please notify the Clerk by 12:00 p.m. the Thursday prior to the Council Meeting should you wish to make a presentation and/or submission to Council. Visit the Deputations and Delegations page for more detail. \nRegister via Zoom in advance for this meeting: \nhttps://us02web.zoom.us/meeting/register/tZcsdu-spjopHtD5PML8oM0rORt2U6mLc9oY
URL:https://huronshores.ca/event/regular-meeting-of-council-9/
LOCATION:Council Chambers\, 7 Bridge Street\, Iron Bridge\, Ontario\, P0R1H0\, Canada
CATEGORIES:Community News,Council Meeting
ORGANIZER;CN="Municipality of Huron Shores":MAILTO:email@huronshores.ca
END:VEVENT
BEGIN:VEVENT
DTSTART;TZID=America/Toronto:20230308T190000
DTEND;TZID=America/Toronto:20230308T220000
DTSTAMP:20260423T164431
CREATED:20230126T141602Z
LAST-MODIFIED:20230208T154815Z
UID:10022421-1678302000-1678312800@huronshores.ca
SUMMARY:Regular Meeting of Council
DESCRIPTION:Regular Meetings of Council are held in Council Chambers the 2nd Wednesday of the month\, starting at 7:00 p.m. The 4th Wednesday of every month shall be reserved for Special Meetings\, as required. \nThe proposed Agenda for any upcoming Council Meeting is posted on the Monday prior to the meeting. If the Monday is a holiday\, the Agenda will be posted on the Tuesday prior to the meeting. See the Council Meeting – Minutes and Agendas page for the next scheduled Meeting of Council. Please notify the Clerk by 12:00 p.m. the Thursday prior to the Council Meeting should you wish to make a presentation and/or submission to Council. Visit the Deputations and Delegations page for more detail. \nRegister in advance for this meeting: \nhttps://us02web.zoom.us/meeting/register/tZcrd-qprzgrGd2TrLNDOf2BQPrnFs-V6ncd
URL:https://huronshores.ca/event/regular-meeting-of-council-10/
LOCATION:Council Chambers\, 7 Bridge Street\, Iron Bridge\, Ontario\, P0R1H0\, Canada
CATEGORIES:Community News,Council Meeting
ORGANIZER;CN="Municipality of Huron Shores":MAILTO:email@huronshores.ca
END:VEVENT
END:VCALENDAR