BEGIN:VCALENDAR
VERSION:2.0
PRODID:-//Huron Shores - ECPv6.15.11//NONSGML v1.0//EN
CALSCALE:GREGORIAN
METHOD:PUBLISH
X-ORIGINAL-URL:https://huronshores.ca
X-WR-CALDESC:Events for Huron Shores
REFRESH-INTERVAL;VALUE=DURATION:PT1H
X-Robots-Tag:noindex
X-PUBLISHED-TTL:PT1H
BEGIN:VTIMEZONE
TZID:America/Toronto
BEGIN:DAYLIGHT
TZOFFSETFROM:-0500
TZOFFSETTO:-0400
TZNAME:EDT
DTSTART:20170312T070000
END:DAYLIGHT
BEGIN:STANDARD
TZOFFSETFROM:-0400
TZOFFSETTO:-0500
TZNAME:EST
DTSTART:20171105T060000
END:STANDARD
BEGIN:DAYLIGHT
TZOFFSETFROM:-0500
TZOFFSETTO:-0400
TZNAME:EDT
DTSTART:20180311T070000
END:DAYLIGHT
BEGIN:STANDARD
TZOFFSETFROM:-0400
TZOFFSETTO:-0500
TZNAME:EST
DTSTART:20181104T060000
END:STANDARD
BEGIN:DAYLIGHT
TZOFFSETFROM:-0500
TZOFFSETTO:-0400
TZNAME:EDT
DTSTART:20190310T070000
END:DAYLIGHT
BEGIN:STANDARD
TZOFFSETFROM:-0400
TZOFFSETTO:-0500
TZNAME:EST
DTSTART:20191103T060000
END:STANDARD
BEGIN:DAYLIGHT
TZOFFSETFROM:-0500
TZOFFSETTO:-0400
TZNAME:EDT
DTSTART:20200308T070000
END:DAYLIGHT
BEGIN:STANDARD
TZOFFSETFROM:-0400
TZOFFSETTO:-0500
TZNAME:EST
DTSTART:20201101T060000
END:STANDARD
END:VTIMEZONE
BEGIN:VEVENT
DTSTART;TZID=America/Toronto:20180818T090000
DTEND;TZID=America/Toronto:20180818T140000
DTSTAMP:20260425T113226
CREATED:20180109T194134Z
LAST-MODIFIED:20180109T194134Z
UID:10020499-1534582800-1534600800@huronshores.ca
SUMMARY:Sowerby Farmers' Market
DESCRIPTION:The Farmers’ Market is held on Saturdays from 9:00 a.m. to 2:00 p.m. from mid-June to October at the Historic Cordukes/Weber 12-Sided Barn located at 1410 Basswood Lake Rd.\, just north of the intersection with Highway 17 in Sowerby.
URL:https://huronshores.ca/event/sowerby-farmers-market-4/2018-08-18/
LOCATION:Ontario
CATEGORIES:Community News,Local Food
ATTACH;FMTTYPE=image/jpeg:https://huronshores.ca/wp-content/uploads/2011/08/Historic-Cordukes-Weber-12-Sided-Barn-Sign1.jpg
END:VEVENT
BEGIN:VEVENT
DTSTART;TZID=America/Toronto:20180818T090000
DTEND;TZID=America/Toronto:20180818T140000
DTSTAMP:20260425T113226
CREATED:20180109T194634Z
LAST-MODIFIED:20180109T194634Z
UID:10020514-1534582800-1534600800@huronshores.ca
SUMMARY:Iron Bridge Farmers' Market
DESCRIPTION:The Iron Bridge Farmers’ Market is open on Saturdays\, 9:00 a.m. – 2:00 p.m.\, from the end of June to mid-September at the Gazebo at the Iron Bridge Historical Museum\, 1 James Street.
URL:https://huronshores.ca/event/iron-bridge-farmers-market-3/2018-08-18/
LOCATION:Ontario
CATEGORIES:Community News,Local Food
ATTACH;FMTTYPE=image/jpeg:https://huronshores.ca/wp-content/uploads/2013/12/Farmers-Market-Produce.jpg
END:VEVENT
BEGIN:VEVENT
DTSTART;TZID=America/Toronto:20180825T090000
DTEND;TZID=America/Toronto:20180825T140000
DTSTAMP:20260425T113226
CREATED:20180109T194134Z
LAST-MODIFIED:20180109T194134Z
UID:10020500-1535187600-1535205600@huronshores.ca
SUMMARY:Sowerby Farmers' Market
DESCRIPTION:The Farmers’ Market is held on Saturdays from 9:00 a.m. to 2:00 p.m. from mid-June to October at the Historic Cordukes/Weber 12-Sided Barn located at 1410 Basswood Lake Rd.\, just north of the intersection with Highway 17 in Sowerby.
URL:https://huronshores.ca/event/sowerby-farmers-market-4/2018-08-25/
LOCATION:Ontario
CATEGORIES:Community News,Local Food
ATTACH;FMTTYPE=image/jpeg:https://huronshores.ca/wp-content/uploads/2011/08/Historic-Cordukes-Weber-12-Sided-Barn-Sign1.jpg
END:VEVENT
BEGIN:VEVENT
DTSTART;TZID=America/Toronto:20180825T090000
DTEND;TZID=America/Toronto:20180825T140000
DTSTAMP:20260425T113226
CREATED:20180109T194634Z
LAST-MODIFIED:20180109T194634Z
UID:10020515-1535187600-1535205600@huronshores.ca
SUMMARY:Iron Bridge Farmers' Market
DESCRIPTION:The Iron Bridge Farmers’ Market is open on Saturdays\, 9:00 a.m. – 2:00 p.m.\, from the end of June to mid-September at the Gazebo at the Iron Bridge Historical Museum\, 1 James Street.
URL:https://huronshores.ca/event/iron-bridge-farmers-market-3/2018-08-25/
LOCATION:Ontario
CATEGORIES:Community News,Local Food
ATTACH;FMTTYPE=image/jpeg:https://huronshores.ca/wp-content/uploads/2013/12/Farmers-Market-Produce.jpg
END:VEVENT
BEGIN:VEVENT
DTSTART;VALUE=DATE:20180901
DTEND;VALUE=DATE:20180902
DTSTAMP:20260425T113226
CREATED:20171129T202344Z
LAST-MODIFIED:20171129T202344Z
UID:10020419-1535760000-1535846399@huronshores.ca
SUMMARY:Iron Bridge Fall Fair
DESCRIPTION:The Iron Bridge Agricultural Society’s Fall Fair is Saturday\, September 1/18.  Watch for details!
URL:https://huronshores.ca/event/iron-bridge-fall-fair-4/
LOCATION:Ontario
CATEGORIES:Community News,Local Food
ATTACH;FMTTYPE=image/gif:https://huronshores.ca/wp-content/uploads/2013/08/Fall-Fair.gif
END:VEVENT
BEGIN:VEVENT
DTSTART;TZID=America/Toronto:20180901T090000
DTEND;TZID=America/Toronto:20180901T140000
DTSTAMP:20260425T113226
CREATED:20180109T194134Z
LAST-MODIFIED:20180109T194134Z
UID:10020501-1535792400-1535810400@huronshores.ca
SUMMARY:Sowerby Farmers' Market
DESCRIPTION:The Farmers’ Market is held on Saturdays from 9:00 a.m. to 2:00 p.m. from mid-June to October at the Historic Cordukes/Weber 12-Sided Barn located at 1410 Basswood Lake Rd.\, just north of the intersection with Highway 17 in Sowerby.
URL:https://huronshores.ca/event/sowerby-farmers-market-4/2018-09-01/
LOCATION:Ontario
CATEGORIES:Community News,Local Food
ATTACH;FMTTYPE=image/jpeg:https://huronshores.ca/wp-content/uploads/2011/08/Historic-Cordukes-Weber-12-Sided-Barn-Sign1.jpg
END:VEVENT
BEGIN:VEVENT
DTSTART;TZID=America/Toronto:20180901T090000
DTEND;TZID=America/Toronto:20180901T140000
DTSTAMP:20260425T113226
CREATED:20180109T194634Z
LAST-MODIFIED:20180109T194634Z
UID:10020516-1535792400-1535810400@huronshores.ca
SUMMARY:Iron Bridge Farmers' Market
DESCRIPTION:The Iron Bridge Farmers’ Market is open on Saturdays\, 9:00 a.m. – 2:00 p.m.\, from the end of June to mid-September at the Gazebo at the Iron Bridge Historical Museum\, 1 James Street.
URL:https://huronshores.ca/event/iron-bridge-farmers-market-3/2018-09-01/
LOCATION:Ontario
CATEGORIES:Community News,Local Food
ATTACH;FMTTYPE=image/jpeg:https://huronshores.ca/wp-content/uploads/2013/12/Farmers-Market-Produce.jpg
END:VEVENT
BEGIN:VEVENT
DTSTART;TZID=America/Toronto:20180908T090000
DTEND;TZID=America/Toronto:20180908T140000
DTSTAMP:20260425T113226
CREATED:20180109T194134Z
LAST-MODIFIED:20180109T194134Z
UID:10020502-1536397200-1536415200@huronshores.ca
SUMMARY:Sowerby Farmers' Market
DESCRIPTION:The Farmers’ Market is held on Saturdays from 9:00 a.m. to 2:00 p.m. from mid-June to October at the Historic Cordukes/Weber 12-Sided Barn located at 1410 Basswood Lake Rd.\, just north of the intersection with Highway 17 in Sowerby.
URL:https://huronshores.ca/event/sowerby-farmers-market-4/2018-09-08/
LOCATION:Ontario
CATEGORIES:Community News,Local Food
ATTACH;FMTTYPE=image/jpeg:https://huronshores.ca/wp-content/uploads/2011/08/Historic-Cordukes-Weber-12-Sided-Barn-Sign1.jpg
END:VEVENT
BEGIN:VEVENT
DTSTART;TZID=America/Toronto:20180908T090000
DTEND;TZID=America/Toronto:20180908T140000
DTSTAMP:20260425T113226
CREATED:20180109T194634Z
LAST-MODIFIED:20180109T194634Z
UID:10020517-1536397200-1536415200@huronshores.ca
SUMMARY:Iron Bridge Farmers' Market
DESCRIPTION:The Iron Bridge Farmers’ Market is open on Saturdays\, 9:00 a.m. – 2:00 p.m.\, from the end of June to mid-September at the Gazebo at the Iron Bridge Historical Museum\, 1 James Street.
URL:https://huronshores.ca/event/iron-bridge-farmers-market-3/2018-09-08/
LOCATION:Ontario
CATEGORIES:Community News,Local Food
ATTACH;FMTTYPE=image/jpeg:https://huronshores.ca/wp-content/uploads/2013/12/Farmers-Market-Produce.jpg
END:VEVENT
BEGIN:VEVENT
DTSTART;TZID=America/Toronto:20180915T090000
DTEND;TZID=America/Toronto:20180915T140000
DTSTAMP:20260425T113226
CREATED:20180109T194134Z
LAST-MODIFIED:20180109T194134Z
UID:10020503-1537002000-1537020000@huronshores.ca
SUMMARY:Sowerby Farmers' Market
DESCRIPTION:The Farmers’ Market is held on Saturdays from 9:00 a.m. to 2:00 p.m. from mid-June to October at the Historic Cordukes/Weber 12-Sided Barn located at 1410 Basswood Lake Rd.\, just north of the intersection with Highway 17 in Sowerby.
URL:https://huronshores.ca/event/sowerby-farmers-market-4/2018-09-15/
LOCATION:Ontario
CATEGORIES:Community News,Local Food
ATTACH;FMTTYPE=image/jpeg:https://huronshores.ca/wp-content/uploads/2011/08/Historic-Cordukes-Weber-12-Sided-Barn-Sign1.jpg
END:VEVENT
BEGIN:VEVENT
DTSTART;TZID=America/Toronto:20180915T090000
DTEND;TZID=America/Toronto:20180915T140000
DTSTAMP:20260425T113226
CREATED:20180109T194634Z
LAST-MODIFIED:20180109T194634Z
UID:10020518-1537002000-1537020000@huronshores.ca
SUMMARY:Iron Bridge Farmers' Market
DESCRIPTION:The Iron Bridge Farmers’ Market is open on Saturdays\, 9:00 a.m. – 2:00 p.m.\, from the end of June to mid-September at the Gazebo at the Iron Bridge Historical Museum\, 1 James Street.
URL:https://huronshores.ca/event/iron-bridge-farmers-market-3/2018-09-15/
LOCATION:Ontario
CATEGORIES:Community News,Local Food
ATTACH;FMTTYPE=image/jpeg:https://huronshores.ca/wp-content/uploads/2013/12/Farmers-Market-Produce.jpg
END:VEVENT
BEGIN:VEVENT
DTSTART;TZID=America/Toronto:20180922T090000
DTEND;TZID=America/Toronto:20180922T140000
DTSTAMP:20260425T113226
CREATED:20180109T194134Z
LAST-MODIFIED:20180109T194134Z
UID:10020504-1537606800-1537624800@huronshores.ca
SUMMARY:Sowerby Farmers' Market
DESCRIPTION:The Farmers’ Market is held on Saturdays from 9:00 a.m. to 2:00 p.m. from mid-June to October at the Historic Cordukes/Weber 12-Sided Barn located at 1410 Basswood Lake Rd.\, just north of the intersection with Highway 17 in Sowerby.
URL:https://huronshores.ca/event/sowerby-farmers-market-4/2018-09-22/
LOCATION:Ontario
CATEGORIES:Community News,Local Food
ATTACH;FMTTYPE=image/jpeg:https://huronshores.ca/wp-content/uploads/2011/08/Historic-Cordukes-Weber-12-Sided-Barn-Sign1.jpg
END:VEVENT
BEGIN:VEVENT
DTSTART;TZID=America/Toronto:20180929T090000
DTEND;TZID=America/Toronto:20180929T140000
DTSTAMP:20260425T113226
CREATED:20180109T194134Z
LAST-MODIFIED:20180109T194134Z
UID:10020505-1538211600-1538229600@huronshores.ca
SUMMARY:Sowerby Farmers' Market
DESCRIPTION:The Farmers’ Market is held on Saturdays from 9:00 a.m. to 2:00 p.m. from mid-June to October at the Historic Cordukes/Weber 12-Sided Barn located at 1410 Basswood Lake Rd.\, just north of the intersection with Highway 17 in Sowerby.
URL:https://huronshores.ca/event/sowerby-farmers-market-4/2018-09-29/
LOCATION:Ontario
CATEGORIES:Community News,Local Food
ATTACH;FMTTYPE=image/jpeg:https://huronshores.ca/wp-content/uploads/2011/08/Historic-Cordukes-Weber-12-Sided-Barn-Sign1.jpg
END:VEVENT
BEGIN:VEVENT
DTSTART;TZID=America/Toronto:20181006T090000
DTEND;TZID=America/Toronto:20181006T140000
DTSTAMP:20260425T113226
CREATED:20180109T194134Z
LAST-MODIFIED:20180109T194134Z
UID:10020506-1538816400-1538834400@huronshores.ca
SUMMARY:Sowerby Farmers' Market
DESCRIPTION:The Farmers’ Market is held on Saturdays from 9:00 a.m. to 2:00 p.m. from mid-June to October at the Historic Cordukes/Weber 12-Sided Barn located at 1410 Basswood Lake Rd.\, just north of the intersection with Highway 17 in Sowerby.
URL:https://huronshores.ca/event/sowerby-farmers-market-4/2018-10-06/
LOCATION:Ontario
CATEGORIES:Community News,Local Food
ATTACH;FMTTYPE=image/jpeg:https://huronshores.ca/wp-content/uploads/2011/08/Historic-Cordukes-Weber-12-Sided-Barn-Sign1.jpg
END:VEVENT
BEGIN:VEVENT
DTSTART;TZID=America/Toronto:20181026T170000
DTEND;TZID=America/Toronto:20181026T190000
DTSTAMP:20260425T113226
CREATED:20181009T181345Z
LAST-MODIFIED:20181009T181345Z
UID:10021330-1540573200-1540580400@huronshores.ca
SUMMARY:Fish Fry
DESCRIPTION:Thessalon RC Legion Branch 182 hosts a Fish Fry\, Friday\, October 26/18 from 5:00-7:00 p.m.  Take-outs should be called in by 4:30 p.m. & picked up by 5:00 p.m. Call 705-842-2418.
URL:https://huronshores.ca/event/fish-fry-5/
LOCATION:Ontario
CATEGORIES:Community News,Local Food
ATTACH;FMTTYPE=image/jpeg:https://huronshores.ca/wp-content/uploads/2015/12/Friday-Fish-Fry.jpg
END:VEVENT
BEGIN:VEVENT
DTSTART;TZID=America/Toronto:20181027T113000
DTEND;TZID=America/Toronto:20181027T133000
DTSTAMP:20260425T113226
CREATED:20181009T182025Z
LAST-MODIFIED:20181009T182025Z
UID:10021333-1540639800-1540647000@huronshores.ca
SUMMARY:"Christmas in the Country" Luncheon
DESCRIPTION:The Cloudslee UCW will host a “Christmas in the Country” Luncheon\, Saturday\, October 27/18 from 11:30 a.m.-1:30 p.m. at the Bruce Station Community Hall.  Soup\, sandwiches\, dessert\, tea\, coffee\, bake\, bazaar & touch & take tables.  Door prize.  Bring your friends & family.
URL:https://huronshores.ca/event/christmas-in-the-country-luncheon/
LOCATION:Ontario
CATEGORIES:Community News,Local Food
ATTACH;FMTTYPE=image/jpeg:https://huronshores.ca/wp-content/uploads/2017/11/Christmas-Bake-Sale-Bazaar.jpg
END:VEVENT
BEGIN:VEVENT
DTSTART;TZID=America/Toronto:20181027T170000
DTEND;TZID=America/Toronto:20181027T170000
DTSTAMP:20260425T113226
CREATED:20181009T182607Z
LAST-MODIFIED:20181009T182607Z
UID:10021334-1540659600-1540659600@huronshores.ca
SUMMARY:Fall Ham/Sausage & Bean Supper
DESCRIPTION:The Iron Bridge Lions Club will host a Fall Ham/Sausage & Bean Supper\, Saturday\, October 27/18\, at 5:00 p.m.\, at the Iron Bridge Lions Club Hall\, 10 Clarissa Street.  This is a fundraiser for the accessibility renovation project at the Hall. Adults $18/person.  Call Janet for information on tickets (705-843-2208).
URL:https://huronshores.ca/event/fall-ham-sausage-bean-supper/
LOCATION:Ontario
CATEGORIES:Community News,Local Food
ATTACH;FMTTYPE=image/jpeg:https://huronshores.ca/wp-content/uploads/2015/11/Ham-Supper.jpg
END:VEVENT
BEGIN:VEVENT
DTSTART;TZID=America/Toronto:20181130T170000
DTEND;TZID=America/Toronto:20181130T190000
DTSTAMP:20260425T113226
CREATED:20181009T185456Z
LAST-MODIFIED:20181009T185456Z
UID:10021337-1543597200-1543604400@huronshores.ca
SUMMARY:Fish Fry
DESCRIPTION:Thessalon RC Legion Branch 182 hosts a Fish Fry\, Friday\, November 30/18 from 5:00-7:00 p.m.  Take-outs should be called in by 4:30 p.m. & picked up by 5:00 p.m. Call 705-842-2418.
URL:https://huronshores.ca/event/fish-fry-6/
LOCATION:Ontario
CATEGORIES:Community News,Local Food
ATTACH;FMTTYPE=image/jpeg:https://huronshores.ca/wp-content/uploads/2015/12/Friday-Fish-Fry.jpg
END:VEVENT
BEGIN:VEVENT
DTSTART;TZID=America/Toronto:20181201T113000
DTEND;TZID=America/Toronto:20181201T133000
DTSTAMP:20260425T113226
CREATED:20181009T191110Z
LAST-MODIFIED:20181009T191110Z
UID:10021341-1543663800-1543671000@huronshores.ca
SUMMARY:Christmas Luncheon & Bake Sale
DESCRIPTION:A Christmas Luncheon & Bake Sale will be held at Zion United Church\, Thessalon\, Saturday\, December 1/18 from 11:30 a.m. to 1:30 p.m.  Soup\, sandwiches\, relish tray\, dessert\, coffee\, tea\, juice.  Touch & Take table & silent auction.  Door prize.  Hosted by the Little Rapids Church Ladies.
URL:https://huronshores.ca/event/christmas-luncheon-bake-sale-3/
LOCATION:Ontario
CATEGORIES:Community News,Local Food
ATTACH;FMTTYPE=image/jpeg:https://huronshores.ca/wp-content/uploads/2015/11/Soup-Sandwich-1.jpg
END:VEVENT
BEGIN:VEVENT
DTSTART;TZID=America/Toronto:20190125T170000
DTEND;TZID=America/Toronto:20190125T190000
DTSTAMP:20260425T113226
CREATED:20181009T185730Z
LAST-MODIFIED:20181009T185730Z
UID:10021338-1548435600-1548442800@huronshores.ca
SUMMARY:Fish Fry
DESCRIPTION:Thessalon RC Legion Branch 182 hosts a Fish Fry\, Friday\, January 25/19 from 5:00-7:00 p.m.  Take-outs should be called in by 4:30 p.m. & picked up by 5:00 p.m. Call 705-842-2418.
URL:https://huronshores.ca/event/fish-fry-7/
LOCATION:Ontario
CATEGORIES:Community News,Local Food
ATTACH;FMTTYPE=image/jpeg:https://huronshores.ca/wp-content/uploads/2015/12/Friday-Fish-Fry.jpg
END:VEVENT
BEGIN:VEVENT
DTSTART;TZID=America/Toronto:20190126T163000
DTEND;TZID=America/Toronto:20190126T183000
DTSTAMP:20260425T113226
CREATED:20181119T163218Z
LAST-MODIFIED:20181119T163218Z
UID:10021359-1548520200-1548527400@huronshores.ca
SUMMARY:Lions Fish Fry
DESCRIPTION:The Iron Bridge Lions Club hosts a Fish Fry  on the following dates:  January 26\, February 9\, March 9 & March 23/19.  $18/person at the Iron Bridge Lions Club Hall\, 10 Clarissa St.; 4:30-6:30 p.m.  For more info\, contact the Club at 705-843-2667 or ironbridgelions@yahoo.ca.
URL:https://huronshores.ca/event/lions-fish-fry/
LOCATION:Ontario
CATEGORIES:Community News,Local Food
ATTACH;FMTTYPE=image/jpeg:https://huronshores.ca/wp-content/uploads/2015/12/Fish-Fry.jpg
END:VEVENT
BEGIN:VEVENT
DTSTART;TZID=America/Toronto:20190209T163000
DTEND;TZID=America/Toronto:20190209T183000
DTSTAMP:20260425T113226
CREATED:20181119T163640Z
LAST-MODIFIED:20181119T163640Z
UID:10021360-1549729800-1549737000@huronshores.ca
SUMMARY:Lions Fish Fry
DESCRIPTION:The Iron Bridge Lions Club hosts a Fish Fry  on the following dates:  January 26\, February 9\, March 9 & March 23/19.  $18/person at the Iron Bridge Lions Club Hall\, 10 Clarissa St.; 4:30-6:30 p.m.  For more info\, contact the Club at 705-843-2667 or ironbridgelions@yahoo.ca.
URL:https://huronshores.ca/event/lions-fish-fry-2/2019-02-09/
LOCATION:Ontario
CATEGORIES:Community News,Local Food
ATTACH;FMTTYPE=image/jpeg:https://huronshores.ca/wp-content/uploads/2015/12/Fish-Fry.jpg
END:VEVENT
BEGIN:VEVENT
DTSTART;TZID=America/Toronto:20190212T180000
DTEND;TZID=America/Toronto:20190212T203000
DTSTAMP:20260425T113226
CREATED:20190129T173120Z
LAST-MODIFIED:20190129T173120Z
UID:10021415-1549994400-1550003400@huronshores.ca
SUMMARY:Bridging the Gap between Farm & Market
DESCRIPTION:
URL:https://huronshores.ca/event/bridging-the-gap-between-farm-market/
LOCATION:Ontario
CATEGORIES:Community News,Farmers' Markets,Local Food
ATTACH;FMTTYPE=image/jpeg:https://huronshores.ca/wp-content/uploads/2016/03/Johnson-Farmers-Market-Logo.jpg
END:VEVENT
BEGIN:VEVENT
DTSTART;TZID=America/Toronto:20190218T193000
DTEND;TZID=America/Toronto:20190218T193000
DTSTAMP:20260425T113226
CREATED:20190128T152101Z
LAST-MODIFIED:20190128T152101Z
UID:10021409-1550518200-1550518200@huronshores.ca
SUMMARY:Pioneer Night
DESCRIPTION:Thessalon Township Heritage Association’s annual Pioneer Night is Monday\, February 18/19\, 7:30 p.m. at the Thessalon Twp. Community Centre (4 Little Rapids Rd.)  An evening of old-time entertainment – A trip down memory lane\, historical activity\, live music\, local talent\, door prizes.  An old-fashioned lunch following the program.   Everyone welcome!
URL:https://huronshores.ca/event/pioneer-night-4/
LOCATION:Ontario
CATEGORIES:Community News,Local Food
ATTACH;FMTTYPE=image/bmp:https://huronshores.ca/wp-content/uploads/2010/07/Thessalon-Twp-2.bmp
END:VEVENT
BEGIN:VEVENT
DTSTART;TZID=America/Toronto:20190309T163000
DTEND;TZID=America/Toronto:20190309T183000
DTSTAMP:20260425T113226
CREATED:20181119T163640Z
LAST-MODIFIED:20181119T163640Z
UID:10021361-1552149000-1552156200@huronshores.ca
SUMMARY:Lions Fish Fry
DESCRIPTION:The Iron Bridge Lions Club hosts a Fish Fry  on the following dates:  January 26\, February 9\, March 9 & March 23/19.  $18/person at the Iron Bridge Lions Club Hall\, 10 Clarissa St.; 4:30-6:30 p.m.  For more info\, contact the Club at 705-843-2667 or ironbridgelions@yahoo.ca.
URL:https://huronshores.ca/event/lions-fish-fry-2/2019-03-09/
LOCATION:Ontario
CATEGORIES:Community News,Local Food
ATTACH;FMTTYPE=image/jpeg:https://huronshores.ca/wp-content/uploads/2015/12/Fish-Fry.jpg
END:VEVENT
BEGIN:VEVENT
DTSTART;TZID=America/Toronto:20190314T183000
DTEND;TZID=America/Toronto:20190314T203000
DTSTAMP:20260425T113226
CREATED:20190225T144744Z
LAST-MODIFIED:20190225T144744Z
UID:10021430-1552588200-1552595400@huronshores.ca
SUMMARY:Bridging the Gap Between Field & Market - Re-Scheduled
DESCRIPTION:
URL:https://huronshores.ca/event/bridging-the-gap-between-field-market-re-scheduled/
LOCATION:Ontario
CATEGORIES:Community News,Farmers' Markets,Local Food
ATTACH;FMTTYPE=image/jpeg:https://huronshores.ca/wp-content/uploads/2016/03/Johnson-Farmers-Market-Logo.jpg
END:VEVENT
BEGIN:VEVENT
DTSTART;TZID=America/Toronto:20190323T163000
DTEND;TZID=America/Toronto:20190323T183000
DTSTAMP:20260425T113226
CREATED:20181119T163640Z
LAST-MODIFIED:20181119T163640Z
UID:10021362-1553358600-1553365800@huronshores.ca
SUMMARY:Lions Fish Fry
DESCRIPTION:The Iron Bridge Lions Club hosts a Fish Fry  on the following dates:  January 26\, February 9\, March 9 & March 23/19.  $18/person at the Iron Bridge Lions Club Hall\, 10 Clarissa St.; 4:30-6:30 p.m.  For more info\, contact the Club at 705-843-2667 or ironbridgelions@yahoo.ca.
URL:https://huronshores.ca/event/lions-fish-fry-2/2019-03-23/
LOCATION:Ontario
CATEGORIES:Community News,Local Food
ATTACH;FMTTYPE=image/jpeg:https://huronshores.ca/wp-content/uploads/2015/12/Fish-Fry.jpg
END:VEVENT
BEGIN:VEVENT
DTSTART;TZID=America/Toronto:20190331T093000
DTEND;TZID=America/Toronto:20190331T140000
DTSTAMP:20260425T113226
CREATED:20190220T170603Z
LAST-MODIFIED:20190220T170603Z
UID:10021429-1554024600-1554040800@huronshores.ca
SUMMARY:Pancake Brunch
DESCRIPTION:The Sowerby Heritage Centre Committee will host its annual Pancake Brunch\, Sunday\, March 31/19 from 9:30 a.m. – 2:00 p.m. at Sowerby Hall\, 1410 Basswood Lake Rd.  Adults $12; Children aged 5-12 $6; Under 5 – Free.  Pancakes\, sausages\, boiled eggs\, maple syrup\, oranges\, coffee and muffins.  Come and join in the fun!
URL:https://huronshores.ca/event/pancake-brunch/
LOCATION:Ontario
CATEGORIES:Community News,Local Food
ATTACH;FMTTYPE=image/png:https://huronshores.ca/wp-content/uploads/2014/03/Pancakes.png
END:VEVENT
BEGIN:VEVENT
DTSTART;TZID=America/Toronto:20190504T090000
DTEND;TZID=America/Toronto:20190504T140000
DTSTAMP:20260425T113226
CREATED:20190328T164338Z
LAST-MODIFIED:20190328T164338Z
UID:10020362-1556960400-1556978400@huronshores.ca
SUMMARY:Fur & Feather Sale
DESCRIPTION: 
URL:https://huronshores.ca/event/fur-feather-sale/
LOCATION:Ontario
CATEGORIES:Community News,Local Food
ATTACH;FMTTYPE=image/jpeg:https://huronshores.ca/wp-content/uploads/2019/03/Baby-Chicks.jpg
END:VEVENT
BEGIN:VEVENT
DTSTART;TZID=America/Toronto:20190509T113000
DTEND;TZID=America/Toronto:20190509T133000
DTSTAMP:20260425T113226
CREATED:20190425T185308Z
LAST-MODIFIED:20190425T185308Z
UID:10021466-1557401400-1557408600@huronshores.ca
SUMMARY:Spring Luncheon & Bake Sale
DESCRIPTION:The NSHN Auxiliary – Thessalon Site will host a Spring Luncheon & Bake Sale\, Thursday\, May 9/19 from 11:30 a.m. to 1:30 p.m. at the IOOF Hall\, Thessalon.  Cold plate & dessert being served.  Bake table.  Tickets for Afghan available.  Proceeds to local hospital to assist with the purchase of equipment.
URL:https://huronshores.ca/event/spring-luncheon-bake-sale-2/
LOCATION:Ontario
CATEGORIES:Community News,Fundraiser,Local Food
ATTACH;FMTTYPE=image/png:https://huronshores.ca/wp-content/uploads/2015/11/Bake-Sale.png
END:VEVENT
END:VCALENDAR