BEGIN:VCALENDAR
VERSION:2.0
PRODID:-//Huron Shores - ECPv6.15.11//NONSGML v1.0//EN
CALSCALE:GREGORIAN
METHOD:PUBLISH
X-ORIGINAL-URL:https://huronshores.ca
X-WR-CALDESC:Events for Huron Shores
REFRESH-INTERVAL;VALUE=DURATION:PT1H
X-Robots-Tag:noindex
X-PUBLISHED-TTL:PT1H
BEGIN:VTIMEZONE
TZID:America/Toronto
BEGIN:DAYLIGHT
TZOFFSETFROM:-0500
TZOFFSETTO:-0400
TZNAME:EDT
DTSTART:20180311T070000
END:DAYLIGHT
BEGIN:STANDARD
TZOFFSETFROM:-0400
TZOFFSETTO:-0500
TZNAME:EST
DTSTART:20181104T060000
END:STANDARD
BEGIN:DAYLIGHT
TZOFFSETFROM:-0500
TZOFFSETTO:-0400
TZNAME:EDT
DTSTART:20190310T070000
END:DAYLIGHT
BEGIN:STANDARD
TZOFFSETFROM:-0400
TZOFFSETTO:-0500
TZNAME:EST
DTSTART:20191103T060000
END:STANDARD
BEGIN:DAYLIGHT
TZOFFSETFROM:-0500
TZOFFSETTO:-0400
TZNAME:EDT
DTSTART:20200308T070000
END:DAYLIGHT
BEGIN:STANDARD
TZOFFSETFROM:-0400
TZOFFSETTO:-0500
TZNAME:EST
DTSTART:20201101T060000
END:STANDARD
BEGIN:DAYLIGHT
TZOFFSETFROM:-0500
TZOFFSETTO:-0400
TZNAME:EDT
DTSTART:20210314T070000
END:DAYLIGHT
BEGIN:STANDARD
TZOFFSETFROM:-0400
TZOFFSETTO:-0500
TZNAME:EST
DTSTART:20211107T060000
END:STANDARD
BEGIN:DAYLIGHT
TZOFFSETFROM:-0500
TZOFFSETTO:-0400
TZNAME:EDT
DTSTART:20220313T070000
END:DAYLIGHT
BEGIN:STANDARD
TZOFFSETFROM:-0400
TZOFFSETTO:-0500
TZNAME:EST
DTSTART:20221106T060000
END:STANDARD
BEGIN:DAYLIGHT
TZOFFSETFROM:-0500
TZOFFSETTO:-0400
TZNAME:EDT
DTSTART:20230312T070000
END:DAYLIGHT
BEGIN:STANDARD
TZOFFSETFROM:-0400
TZOFFSETTO:-0500
TZNAME:EST
DTSTART:20231105T060000
END:STANDARD
BEGIN:DAYLIGHT
TZOFFSETFROM:-0500
TZOFFSETTO:-0400
TZNAME:EDT
DTSTART:20240310T070000
END:DAYLIGHT
BEGIN:STANDARD
TZOFFSETFROM:-0400
TZOFFSETTO:-0500
TZNAME:EST
DTSTART:20241103T060000
END:STANDARD
BEGIN:DAYLIGHT
TZOFFSETFROM:-0500
TZOFFSETTO:-0400
TZNAME:EDT
DTSTART:20250309T070000
END:DAYLIGHT
BEGIN:STANDARD
TZOFFSETFROM:-0400
TZOFFSETTO:-0500
TZNAME:EST
DTSTART:20251102T060000
END:STANDARD
BEGIN:DAYLIGHT
TZOFFSETFROM:-0500
TZOFFSETTO:-0400
TZNAME:EDT
DTSTART:20260308T070000
END:DAYLIGHT
BEGIN:STANDARD
TZOFFSETFROM:-0400
TZOFFSETTO:-0500
TZNAME:EST
DTSTART:20261101T060000
END:STANDARD
BEGIN:DAYLIGHT
TZOFFSETFROM:-0500
TZOFFSETTO:-0400
TZNAME:EDT
DTSTART:20270314T070000
END:DAYLIGHT
BEGIN:STANDARD
TZOFFSETFROM:-0400
TZOFFSETTO:-0500
TZNAME:EST
DTSTART:20271107T060000
END:STANDARD
END:VTIMEZONE
BEGIN:VEVENT
DTSTART;VALUE=DATE:20190422
DTEND;VALUE=DATE:20190423
DTSTAMP:20260423T074525
CREATED:20181119T165723Z
LAST-MODIFIED:20181119T165723Z
UID:10021364-1555891200-1555977599@huronshores.ca
SUMMARY:Easter Monday
DESCRIPTION:The Municipal Office will be closed in observance of Good Friday\, April 19 and Easter Monday\, April 22/19.  The Waste Sites will be open Saturday\, April 20/19\, but will be closed for Easter Monday\, April 22/19.  The Office will re-open Tuesday\, April 23/19 at 8:30 a.m.  Happy Easter from Council and staff!
URL:https://huronshores.ca/event/easter-monday-4/
CATEGORIES:Community News,Office Closure,Waste Disposal
ATTACH;FMTTYPE=image/jpeg:https://huronshores.ca/wp-content/uploads/2017/03/Easter-Egg-Hunt-Chick.jpg
END:VEVENT
BEGIN:VEVENT
DTSTART;VALUE=DATE:20190520
DTEND;VALUE=DATE:20190521
DTSTAMP:20260423T074525
CREATED:20181214T202105Z
LAST-MODIFIED:20181214T202105Z
UID:10020121-1558310400-1558396799@huronshores.ca
SUMMARY:Victoria Day
DESCRIPTION:The Municipal Office and all Waste Sites will be closed for the Victoria Day holiday.  The Office will re-open Tuesday\, May 21 at 8:30 a.m.  The Waste Sites will re-open Wednesday\, May 22 at 4:00 p.m.  Happy Victoria Day from Council and staff of Huron Shores!
URL:https://huronshores.ca/event/victoria-day-4/
CATEGORIES:Community News,Office Closure,Waste Disposal
ATTACH;FMTTYPE=image/jpeg:https://huronshores.ca/wp-content/uploads/2015/05/Victoria-Day-2014.jpg
END:VEVENT
BEGIN:VEVENT
DTSTART;VALUE=DATE:20190805
DTEND;VALUE=DATE:20190806
DTSTAMP:20260423T074525
CREATED:20181214T212317Z
LAST-MODIFIED:20181214T212317Z
UID:10020131-1564963200-1565049599@huronshores.ca
SUMMARY:Civic Holiday
DESCRIPTION:The Municipal Office and all Waste Sites will be closed for the Civic Holiday Monday.  The Office re-opens on Tuesday\, August 6/19 at 8:30 a.m.  The Waste Sites will be open on Wednesday\, August 7/19 from 4:00 to 8:00 p.m.\, Regular Summer Hours of Operation.
URL:https://huronshores.ca/event/civic-holiday-5/
CATEGORIES:Office Closure,Waste Disposal
ATTACH;FMTTYPE=image/jpeg:https://huronshores.ca/wp-content/uploads/2015/07/August-Civic-Holiday.jpg
END:VEVENT
BEGIN:VEVENT
DTSTART;VALUE=DATE:20190902
DTEND;VALUE=DATE:20190903
DTSTAMP:20260423T074525
CREATED:20181218T194844Z
LAST-MODIFIED:20181218T194844Z
UID:10020134-1567382400-1567468799@huronshores.ca
SUMMARY:Labour Day
DESCRIPTION:The Municipal Office & all Waste Sites will be closed for the Labour Day holiday Monday.  The Office will re-open Tuesday\, September 3/19 at 8:30 a.m.; the Waste Sites will re-open Wednesday from 4:00-8:00 p.m.\, Regular Summer Hours of Operation.  Happy Labour Day from Council\, staff and the Fire Department!
URL:https://huronshores.ca/event/labour-day-5/
CATEGORIES:Community News,Office Closure,Waste Disposal
ATTACH;FMTTYPE=image/png:https://huronshores.ca/wp-content/uploads/2015/07/Happy-Labour-Day.png
END:VEVENT
BEGIN:VEVENT
DTSTART;VALUE=DATE:20191001
DTEND;VALUE=DATE:20191002
DTSTAMP:20260423T074525
CREATED:20181218T201345Z
LAST-MODIFIED:20181218T201345Z
UID:10021385-1569888000-1569974399@huronshores.ca
SUMMARY:Waste Disposal Sites - Winter Hours of Operation
DESCRIPTION:From October 1st to March 31st\, all Waste Disposal Sites switch to Winter Hours of Operation:  Mondays and Wednesdays\, 2:00-6:00 p.m.; Saturdays\, 9:00 a.m.-5:00 p.m.  Please click on the link below to visit the Waste Disposal & Recycling Program page to learn more.
URL:https://huronshores.ca/event/waste-disposal-sites-winter-hours-of-operation/
CATEGORIES:Waste Disposal
ATTACH;FMTTYPE=image/jpeg:https://huronshores.ca/wp-content/uploads/2015/09/Recycling.jpg
END:VEVENT
BEGIN:VEVENT
DTSTART;VALUE=DATE:20191014
DTEND;VALUE=DATE:20191015
DTSTAMP:20260423T074525
CREATED:20181218T195730Z
LAST-MODIFIED:20181218T195730Z
UID:10020135-1571011200-1571097599@huronshores.ca
SUMMARY:Thanksgiving Day
DESCRIPTION:The Municipal Office and all Waste Sites will be closed in observance of the Thanksgiving Day holiday\, Monday\, October 14/19.  The Office will re-open Tuesday\, October 15\, at 8:30 a.m.; the Waste Sites will re-open Wednesday\, October 16\, from 2:00-6:00 p.m.\, Regular Winter Hours of Operation.  Happy Thanksgiving from Council\, staff and the Fire Department of the Municipality of Huron Shores!
URL:https://huronshores.ca/event/thanksgiving-day-4/
CATEGORIES:Community News,Office Closure,Waste Disposal
ATTACH;FMTTYPE=image/jpeg:https://huronshores.ca/wp-content/uploads/2015/07/Happy-Thanksgiving-Day.jpg
END:VEVENT
BEGIN:VEVENT
DTSTART;VALUE=DATE:20191111
DTEND;VALUE=DATE:20191112
DTSTAMP:20260423T074525
CREATED:20171129T205932Z
LAST-MODIFIED:20171129T205932Z
UID:10020430-1573430400-1573516799@huronshores.ca
SUMMARY:Remembrance Day
DESCRIPTION:If Remembrance Day falls on a regular business day\, the Municipal Office will be CLOSED.  If the day falls on a regular Waste Site operating day (Monday\, Wednesday\, or Saturday)\, all the Waste Sites will be CLOSED in observance as well. \nPlease take the time to thank a veteran or a member of the armed forces/reserves and attend one of your community’s Remembrance Day services.  Services in our area are in Blind River\, Iron Bridge\, and Thessalon.  Lest we forget.
URL:https://huronshores.ca/event/remembrance-day-2/2019-11-11/
CATEGORIES:Community News,Office Closure,Waste Disposal
ATTACH;FMTTYPE=image/jpeg:https://huronshores.ca/wp-content/uploads/2014/11/remembrance-poppy.jpg
END:VEVENT
BEGIN:VEVENT
DTSTART;VALUE=DATE:20200101
DTEND;VALUE=DATE:20200102
DTSTAMP:20260423T074525
CREATED:20181218T200311Z
LAST-MODIFIED:20181218T200311Z
UID:10021382-1577836800-1577923199@huronshores.ca
SUMMARY:New Year's Day
DESCRIPTION:Happy New Year!
URL:https://huronshores.ca/event/new-years-day-3/
CATEGORIES:Community News,Office Closure,Waste Disposal
ATTACH;FMTTYPE=image/jpeg:https://huronshores.ca/wp-content/uploads/2015/09/Happy-New-Year-Snowman.jpg
END:VEVENT
BEGIN:VEVENT
DTSTART;VALUE=DATE:20201111
DTEND;VALUE=DATE:20201112
DTSTAMP:20260423T074525
CREATED:20171129T205932Z
LAST-MODIFIED:20171129T205932Z
UID:10020431-1605052800-1605139199@huronshores.ca
SUMMARY:Remembrance Day
DESCRIPTION:If Remembrance Day falls on a regular business day\, the Municipal Office will be CLOSED.  If the day falls on a regular Waste Site operating day (Monday\, Wednesday\, or Saturday)\, all the Waste Sites will be CLOSED in observance as well. \nPlease take the time to thank a veteran or a member of the armed forces/reserves and attend one of your community’s Remembrance Day services.  Services in our area are in Blind River\, Iron Bridge\, and Thessalon.  Lest we forget.
URL:https://huronshores.ca/event/remembrance-day-2/2020-11-11/
CATEGORIES:Community News,Office Closure,Waste Disposal
ATTACH;FMTTYPE=image/jpeg:https://huronshores.ca/wp-content/uploads/2014/11/remembrance-poppy.jpg
END:VEVENT
BEGIN:VEVENT
DTSTART;VALUE=DATE:20211111
DTEND;VALUE=DATE:20211112
DTSTAMP:20260423T074525
CREATED:20171129T205932Z
LAST-MODIFIED:20171129T205932Z
UID:10020432-1636588800-1636675199@huronshores.ca
SUMMARY:Remembrance Day
DESCRIPTION:If Remembrance Day falls on a regular business day\, the Municipal Office will be CLOSED.  If the day falls on a regular Waste Site operating day (Monday\, Wednesday\, or Saturday)\, all the Waste Sites will be CLOSED in observance as well. \nPlease take the time to thank a veteran or a member of the armed forces/reserves and attend one of your community’s Remembrance Day services.  Services in our area are in Blind River\, Iron Bridge\, and Thessalon.  Lest we forget.
URL:https://huronshores.ca/event/remembrance-day-2/2021-11-11/
CATEGORIES:Community News,Office Closure,Waste Disposal
ATTACH;FMTTYPE=image/jpeg:https://huronshores.ca/wp-content/uploads/2014/11/remembrance-poppy.jpg
END:VEVENT
BEGIN:VEVENT
DTSTART;VALUE=DATE:20220221
DTEND;VALUE=DATE:20220222
DTSTAMP:20260423T074525
CREATED:20220216T153800Z
LAST-MODIFIED:20220216T153800Z
UID:10021506-1645401600-1645487999@huronshores.ca
SUMMARY:Family Day
DESCRIPTION:The Municipal Office and all Waste Disposal Sites will be CLOSED on Monday\, February 21\, 2022 in observance of Family Day.  The Office will re-open on Tuesday\, February 22nd at 8:30 a.m.  The Waste Sites will re-open at their regular winter hours of operation on Wednesday\, February 23rd from 2:00 to 6:00 p.m.  Happy Family Day from Council and Staff of Huron Shores!
URL:https://huronshores.ca/event/family-day-5/
CATEGORIES:Community News,Office Closure,Waste Disposal
END:VEVENT
BEGIN:VEVENT
DTSTART;TZID=America/Toronto:20221223T080000
DTEND;TZID=America/Toronto:20230102T170000
DTSTAMP:20260423T074525
CREATED:20221014T161204Z
LAST-MODIFIED:20221014T161204Z
UID:10022410-1671782400-1672678800@huronshores.ca
SUMMARY:Christmas Office and Waste Disposal Closure
DESCRIPTION:The Municipal Office will be CLOSED for the Christmas holidays from Friday\, December 23/22 to Monday\, January 2/23 inclusive. The Office will re-open on Tuesday\, January 3rd\, 2023\, at 8:30 a.m. Municipal Waste Sites will be closed on Monday\, December 26\, 2022. \nCouncil\, Staff and the Fire Department wish you and your family a Happy and Safe Christmas and New Year!
URL:https://huronshores.ca/event/christmas-office-and-waste-disposal-closure/
LOCATION:Municipal Office\, 7 Bridge Street\, Iron Bridge\, Ontario\, P0R 1H0\, Canada
CATEGORIES:Office Closure,Waste Disposal
ORGANIZER;CN="Municipality of Huron Shores":MAILTO:email@huronshores.ca
END:VEVENT
BEGIN:VEVENT
DTSTART;TZID=America/Toronto:20260725T090000
DTEND;TZID=America/Toronto:20260725T130000
DTSTAMP:20260423T074525
CREATED:20260325T131148Z
LAST-MODIFIED:20260325T131148Z
UID:10024751-1784970000-1784984400@huronshores.ca
SUMMARY:Household Hazardous Waste Day – Blind River ♻️
DESCRIPTION:Got old paint\, chemicals\, batteries\, or other hazardous materials sitting around? Here’s your chance to dispose of them safely! \nThe Town of Blind River is hosting their Household Hazardous Waste Day\, and Huron Shores residents are welcome to attend. \n📅 Date: July 25\, 2026🕘 Time: 9:00 AM – 1:00 PM📍 Location: Blind River Community Centre Parking Lot110 Indiana Avenue \n⚠️ Please note: The Municipality of Huron Shores does not collect household hazardous waste at our landfill sites\, so this is a great opportunity to properly dispose of these items. \nThis event only takes place every two years\, so don’t miss it! \n🧪 Help keep our community safe and environmentally friendly by disposing of hazardous waste the right way. \n👉 For updates\, be sure to follow the Town of Blind River’s news and notices.
URL:https://huronshores.ca/event/household-hazardous-waste-day-blind-river-%e2%99%bb%ef%b8%8f/
LOCATION:Blind River Community Centre\, 110 Indiana Street\, Blind River\, Ontario\, P0R1B0\, Canada
CATEGORIES:Community News,Waste Disposal
END:VEVENT
END:VCALENDAR