BEGIN:VCALENDAR
VERSION:2.0
PRODID:-//Huron Shores - ECPv6.15.11//NONSGML v1.0//EN
CALSCALE:GREGORIAN
METHOD:PUBLISH
X-ORIGINAL-URL:https://huronshores.ca
X-WR-CALDESC:Events for Huron Shores
REFRESH-INTERVAL;VALUE=DURATION:PT1H
X-Robots-Tag:noindex
X-PUBLISHED-TTL:PT1H
BEGIN:VTIMEZONE
TZID:America/Toronto
BEGIN:DAYLIGHT
TZOFFSETFROM:-0500
TZOFFSETTO:-0400
TZNAME:EDT
DTSTART:20160313T070000
END:DAYLIGHT
BEGIN:STANDARD
TZOFFSETFROM:-0400
TZOFFSETTO:-0500
TZNAME:EST
DTSTART:20161106T060000
END:STANDARD
BEGIN:DAYLIGHT
TZOFFSETFROM:-0500
TZOFFSETTO:-0400
TZNAME:EDT
DTSTART:20170312T070000
END:DAYLIGHT
BEGIN:STANDARD
TZOFFSETFROM:-0400
TZOFFSETTO:-0500
TZNAME:EST
DTSTART:20171105T060000
END:STANDARD
BEGIN:DAYLIGHT
TZOFFSETFROM:-0500
TZOFFSETTO:-0400
TZNAME:EDT
DTSTART:20180311T070000
END:DAYLIGHT
BEGIN:STANDARD
TZOFFSETFROM:-0400
TZOFFSETTO:-0500
TZNAME:EST
DTSTART:20181104T060000
END:STANDARD
END:VTIMEZONE
BEGIN:VEVENT
DTSTART;TZID=America/Toronto:20170301T140000
DTEND;TZID=America/Toronto:20170301T153000
DTSTAMP:20260424T055443
CREATED:20151021T181815Z
LAST-MODIFIED:20151021T181815Z
UID:10016233-1488376800-1488382200@huronshores.ca
SUMMARY:Alzheimer Info & Discussion Group
DESCRIPTION:The Alzheimer Society of Sault Ste. Marie & Algoma District hosts an Information & Discussion Group on the 2nd Wednesday of each month\, at the Calvary Gospel Church\, 55 Queen Street\, Blind River from 2:00 – 3:30 p.m.  For more information please call Tanya\, First Link Coordinator\, at 705-848-8145.
URL:https://huronshores.ca/event/alzheimer-info-discussion-group-2/2017-03-01/
CATEGORIES:Community News
ATTACH;FMTTYPE=image/jpeg:https://huronshores.ca/wp-content/uploads/2013/01/Alzheimers-Disease.jpg
END:VEVENT
BEGIN:VEVENT
DTSTART;TZID=America/Toronto:20170301T193000
DTEND;TZID=America/Toronto:20170301T193000
DTSTAMP:20260424T055443
CREATED:20160721T182330Z
LAST-MODIFIED:20160721T182330Z
UID:10019660-1488396600-1488396600@huronshores.ca
SUMMARY:Jammin' Session at the Thessalon Community Curling Club
DESCRIPTION:Every Wedneday night at 7:30PM\, join us at Thessalon Community Curling Club for our Jammin’ Session. You play an instrument and love to play with other instrumentalists\, or just love to listen to live music\, then come on down…the bar is open! Everyone welcome! Bring a friend!
URL:https://huronshores.ca/event/jammin-session-at-the-thessalon-community-curling-club/2017-03-01/
CATEGORIES:Recreation
END:VEVENT
BEGIN:VEVENT
DTSTART;TZID=America/Toronto:20170302T140000
DTEND;TZID=America/Toronto:20170302T153000
DTSTAMP:20260424T055443
CREATED:20151021T181815Z
LAST-MODIFIED:20151021T181815Z
UID:10016234-1488463200-1488468600@huronshores.ca
SUMMARY:Alzheimer Info & Discussion Group
DESCRIPTION:The Alzheimer Society of Sault Ste. Marie & Algoma District hosts an Information & Discussion Group on the 2nd Wednesday of each month\, at the Calvary Gospel Church\, 55 Queen Street\, Blind River from 2:00 – 3:30 p.m.  For more information please call Tanya\, First Link Coordinator\, at 705-848-8145.
URL:https://huronshores.ca/event/alzheimer-info-discussion-group-2/2017-03-02/
CATEGORIES:Community News
ATTACH;FMTTYPE=image/jpeg:https://huronshores.ca/wp-content/uploads/2013/01/Alzheimers-Disease.jpg
END:VEVENT
BEGIN:VEVENT
DTSTART;TZID=America/Toronto:20170302T180000
DTEND;TZID=America/Toronto:20170302T230000
DTSTAMP:20260424T055443
CREATED:20161124T201312Z
LAST-MODIFIED:20161124T201312Z
UID:10019976-1488477600-1488495600@huronshores.ca
SUMMARY:Wing Nite
DESCRIPTION:Wing Nite at the Thessalon Curling Club.  First Friday of the month.  Doors open at 6:00 p.m. All you can eat wings!  Bar is open.  Everyone welcome!
URL:https://huronshores.ca/event/wing-nite-3/2017-03-02/
CATEGORIES:Community News
ATTACH;FMTTYPE=image/jpeg:https://huronshores.ca/wp-content/uploads/2014/02/Wing-Night.jpg
END:VEVENT
BEGIN:VEVENT
DTSTART;TZID=America/Toronto:20170303T140000
DTEND;TZID=America/Toronto:20170303T140000
DTSTAMP:20260424T055443
CREATED:20170223T151815Z
LAST-MODIFIED:20170223T151815Z
UID:10020085-1488549600-1488549600@huronshores.ca
SUMMARY:World Day of Prayer
DESCRIPTION:A World Day of Prayer service will be held on Friday\, March 3/17 at 2:00 p.m. at St. Ambrose Parish\, Thessalon.  The theme this year is “Am I Being Unfair to You?” World Day of Prayer 2017 written by the World Day of Prayer Committee of The Philippines.  A time of fellowship and refreshment follows the service.  This is an ecumenical service\, all are welcome.  To learn more about World Day of Prayer\, please click on the link below.
URL:https://huronshores.ca/event/world-day-of-prayer-3/
CATEGORIES:Community News
ATTACH;FMTTYPE=image/jpeg:https://huronshores.ca/wp-content/uploads/2017/02/World-Day-of-Prayer-2017.jpg
END:VEVENT
BEGIN:VEVENT
DTSTART;TZID=America/Toronto:20170303T140000
DTEND;TZID=America/Toronto:20170303T153000
DTSTAMP:20260424T055443
CREATED:20151021T181815Z
LAST-MODIFIED:20151021T181815Z
UID:10016235-1488549600-1488555000@huronshores.ca
SUMMARY:Alzheimer Info & Discussion Group
DESCRIPTION:The Alzheimer Society of Sault Ste. Marie & Algoma District hosts an Information & Discussion Group on the 2nd Wednesday of each month\, at the Calvary Gospel Church\, 55 Queen Street\, Blind River from 2:00 – 3:30 p.m.  For more information please call Tanya\, First Link Coordinator\, at 705-848-8145.
URL:https://huronshores.ca/event/alzheimer-info-discussion-group-2/2017-03-03/
CATEGORIES:Community News
ATTACH;FMTTYPE=image/jpeg:https://huronshores.ca/wp-content/uploads/2013/01/Alzheimers-Disease.jpg
END:VEVENT
BEGIN:VEVENT
DTSTART;TZID=America/Toronto:20170304T140000
DTEND;TZID=America/Toronto:20170304T153000
DTSTAMP:20260424T055443
CREATED:20151021T181815Z
LAST-MODIFIED:20151021T181815Z
UID:10016236-1488636000-1488641400@huronshores.ca
SUMMARY:Alzheimer Info & Discussion Group
DESCRIPTION:The Alzheimer Society of Sault Ste. Marie & Algoma District hosts an Information & Discussion Group on the 2nd Wednesday of each month\, at the Calvary Gospel Church\, 55 Queen Street\, Blind River from 2:00 – 3:30 p.m.  For more information please call Tanya\, First Link Coordinator\, at 705-848-8145.
URL:https://huronshores.ca/event/alzheimer-info-discussion-group-2/2017-03-04/
CATEGORIES:Community News
ATTACH;FMTTYPE=image/jpeg:https://huronshores.ca/wp-content/uploads/2013/01/Alzheimers-Disease.jpg
END:VEVENT
BEGIN:VEVENT
DTSTART;TZID=America/Toronto:20170305T140000
DTEND;TZID=America/Toronto:20170305T153000
DTSTAMP:20260424T055443
CREATED:20151021T181815Z
LAST-MODIFIED:20151021T181815Z
UID:10016237-1488722400-1488727800@huronshores.ca
SUMMARY:Alzheimer Info & Discussion Group
DESCRIPTION:The Alzheimer Society of Sault Ste. Marie & Algoma District hosts an Information & Discussion Group on the 2nd Wednesday of each month\, at the Calvary Gospel Church\, 55 Queen Street\, Blind River from 2:00 – 3:30 p.m.  For more information please call Tanya\, First Link Coordinator\, at 705-848-8145.
URL:https://huronshores.ca/event/alzheimer-info-discussion-group-2/2017-03-05/
CATEGORIES:Community News
ATTACH;FMTTYPE=image/jpeg:https://huronshores.ca/wp-content/uploads/2013/01/Alzheimers-Disease.jpg
END:VEVENT
BEGIN:VEVENT
DTSTART;TZID=America/Toronto:20170306T140000
DTEND;TZID=America/Toronto:20170306T153000
DTSTAMP:20260424T055443
CREATED:20151021T181815Z
LAST-MODIFIED:20151021T181815Z
UID:10016238-1488808800-1488814200@huronshores.ca
SUMMARY:Alzheimer Info & Discussion Group
DESCRIPTION:The Alzheimer Society of Sault Ste. Marie & Algoma District hosts an Information & Discussion Group on the 2nd Wednesday of each month\, at the Calvary Gospel Church\, 55 Queen Street\, Blind River from 2:00 – 3:30 p.m.  For more information please call Tanya\, First Link Coordinator\, at 705-848-8145.
URL:https://huronshores.ca/event/alzheimer-info-discussion-group-2/2017-03-06/
CATEGORIES:Community News
ATTACH;FMTTYPE=image/jpeg:https://huronshores.ca/wp-content/uploads/2013/01/Alzheimers-Disease.jpg
END:VEVENT
BEGIN:VEVENT
DTSTART;TZID=America/Toronto:20170307T140000
DTEND;TZID=America/Toronto:20170307T153000
DTSTAMP:20260424T055443
CREATED:20151021T181815Z
LAST-MODIFIED:20151021T181815Z
UID:10016239-1488895200-1488900600@huronshores.ca
SUMMARY:Alzheimer Info & Discussion Group
DESCRIPTION:The Alzheimer Society of Sault Ste. Marie & Algoma District hosts an Information & Discussion Group on the 2nd Wednesday of each month\, at the Calvary Gospel Church\, 55 Queen Street\, Blind River from 2:00 – 3:30 p.m.  For more information please call Tanya\, First Link Coordinator\, at 705-848-8145.
URL:https://huronshores.ca/event/alzheimer-info-discussion-group-2/2017-03-07/
CATEGORIES:Community News
ATTACH;FMTTYPE=image/jpeg:https://huronshores.ca/wp-content/uploads/2013/01/Alzheimers-Disease.jpg
END:VEVENT
BEGIN:VEVENT
DTSTART;TZID=America/Toronto:20170308T140000
DTEND;TZID=America/Toronto:20170308T153000
DTSTAMP:20260424T055443
CREATED:20151021T181815Z
LAST-MODIFIED:20151021T181815Z
UID:10016240-1488981600-1488987000@huronshores.ca
SUMMARY:Alzheimer Info & Discussion Group
DESCRIPTION:The Alzheimer Society of Sault Ste. Marie & Algoma District hosts an Information & Discussion Group on the 2nd Wednesday of each month\, at the Calvary Gospel Church\, 55 Queen Street\, Blind River from 2:00 – 3:30 p.m.  For more information please call Tanya\, First Link Coordinator\, at 705-848-8145.
URL:https://huronshores.ca/event/alzheimer-info-discussion-group-2/2017-03-08/
CATEGORIES:Community News
ATTACH;FMTTYPE=image/jpeg:https://huronshores.ca/wp-content/uploads/2013/01/Alzheimers-Disease.jpg
END:VEVENT
BEGIN:VEVENT
DTSTART;TZID=America/Toronto:20170308T190000
DTEND;TZID=America/Toronto:20170308T190000
DTSTAMP:20260424T055443
CREATED:20161216T202607Z
LAST-MODIFIED:20161216T202607Z
UID:10019999-1488999600-1488999600@huronshores.ca
SUMMARY:Regular Council Meeting
DESCRIPTION:The Regular Meeting of Council will convene at 7:00 p.m. in the Council Chambers\, 7 Bridge Street\, Iron Bridge.  The Agenda is posted on huronshores.ca and at the Municipal Office the Monday prior unless that day is a holiday.  It would then be posted on the Tuesday.  Council Meetings are held as follows:  January – June & September – November\, 2nd & 4th Wednesdays; July & August\, 2nd Wednesday only; December\, 3rd Wednesday unless otherwise scheduled.  Periodically Special Meetings are called in order to deliberate a specific matter.  As per the Municipal Act\, all Council Meetings are conducted in public.  Members of the public are able to observe the proceedings from the gallery.  If you wish to address Council directly with respect to a specific matter or concern\, please contact the Municipal Office by the Friday prior in order to be included as a Delegation on the Meeting Agenda.  Please click on the link below to learn more about Delegations and Deputations.
URL:https://huronshores.ca/event/regular-council-meeting-29/2017-03-08/
CATEGORIES:Council Meeting
ATTACH;FMTTYPE=:
END:VEVENT
BEGIN:VEVENT
DTSTART;TZID=America/Toronto:20170308T193000
DTEND;TZID=America/Toronto:20170308T193000
DTSTAMP:20260424T055443
CREATED:20160721T182330Z
LAST-MODIFIED:20160721T182330Z
UID:10019661-1489001400-1489001400@huronshores.ca
SUMMARY:Jammin' Session at the Thessalon Community Curling Club
DESCRIPTION:Every Wedneday night at 7:30PM\, join us at Thessalon Community Curling Club for our Jammin’ Session. You play an instrument and love to play with other instrumentalists\, or just love to listen to live music\, then come on down…the bar is open! Everyone welcome! Bring a friend!
URL:https://huronshores.ca/event/jammin-session-at-the-thessalon-community-curling-club/2017-03-08/
CATEGORIES:Recreation
END:VEVENT
BEGIN:VEVENT
DTSTART;TZID=America/Toronto:20170309T110000
DTEND;TZID=America/Toronto:20170309T120000
DTSTAMP:20260424T055443
CREATED:20161129T195241Z
LAST-MODIFIED:20161129T195241Z
UID:10019989-1489057200-1489060800@huronshores.ca
SUMMARY:MP Carol Hughes Constituency Clinic
DESCRIPTION:Algoma-Manitoulin-Kapuskasing MP Carol Hughes will hold  Constituency Clinics in 2017 from 11:00 a.m. to Noon at the Municipal Office\, 7 Bridge St.\, Iron Bridge on the following Thursdays:  January 12\, March 9\, May 11\, September 7\, and November 9.  For further information please contact the Elliot Lake  Constituency Office as listed below.
URL:https://huronshores.ca/event/mp-carol-hughes-constituency-clinic/2017-03-09/
CATEGORIES:Community News
ATTACH;FMTTYPE=image/jpeg:https://huronshores.ca/wp-content/uploads/2016/11/HughesCarol_NDP1.jpg
END:VEVENT
BEGIN:VEVENT
DTSTART;TZID=America/Toronto:20170309T140000
DTEND;TZID=America/Toronto:20170309T153000
DTSTAMP:20260424T055443
CREATED:20151021T181815Z
LAST-MODIFIED:20151021T181815Z
UID:10016241-1489068000-1489073400@huronshores.ca
SUMMARY:Alzheimer Info & Discussion Group
DESCRIPTION:The Alzheimer Society of Sault Ste. Marie & Algoma District hosts an Information & Discussion Group on the 2nd Wednesday of each month\, at the Calvary Gospel Church\, 55 Queen Street\, Blind River from 2:00 – 3:30 p.m.  For more information please call Tanya\, First Link Coordinator\, at 705-848-8145.
URL:https://huronshores.ca/event/alzheimer-info-discussion-group-2/2017-03-09/
CATEGORIES:Community News
ATTACH;FMTTYPE=image/jpeg:https://huronshores.ca/wp-content/uploads/2013/01/Alzheimers-Disease.jpg
END:VEVENT
BEGIN:VEVENT
DTSTART;TZID=America/Toronto:20170310T140000
DTEND;TZID=America/Toronto:20170310T153000
DTSTAMP:20260424T055443
CREATED:20151021T181815Z
LAST-MODIFIED:20151021T181815Z
UID:10016242-1489154400-1489159800@huronshores.ca
SUMMARY:Alzheimer Info & Discussion Group
DESCRIPTION:The Alzheimer Society of Sault Ste. Marie & Algoma District hosts an Information & Discussion Group on the 2nd Wednesday of each month\, at the Calvary Gospel Church\, 55 Queen Street\, Blind River from 2:00 – 3:30 p.m.  For more information please call Tanya\, First Link Coordinator\, at 705-848-8145.
URL:https://huronshores.ca/event/alzheimer-info-discussion-group-2/2017-03-10/
CATEGORIES:Community News
ATTACH;FMTTYPE=image/jpeg:https://huronshores.ca/wp-content/uploads/2013/01/Alzheimers-Disease.jpg
END:VEVENT
BEGIN:VEVENT
DTSTART;TZID=America/Toronto:20170311T100000
DTEND;TZID=America/Toronto:20170311T150000
DTSTAMP:20260424T055443
CREATED:20170214T192747Z
LAST-MODIFIED:20170214T192747Z
UID:10020084-1489226400-1489244400@huronshores.ca
SUMMARY:Seedy Saturday
DESCRIPTION:Central Algoma Seedy Saturday\, March 11/17\, Central Algoma Secondary School (CASS)\, 32 Kensington Rd.\, Desbarats from 10:00 a.m. to 3:00 p.m.  There will be presentations\, demonstrations\, door prizes\, children’s activities\, exhibitors\, vendors\, a seed swap and seed sales\, food and refreshment.  Accessible Venue. For more info contact:  seedysat@gmail.com
URL:https://huronshores.ca/event/seedy-saturday/
CATEGORIES:Community News,Farmers' Markets
ATTACH;FMTTYPE=image/jpeg:https://huronshores.ca/wp-content/uploads/2017/02/seeds_4.jpg
END:VEVENT
BEGIN:VEVENT
DTSTART;TZID=America/Toronto:20170311T140000
DTEND;TZID=America/Toronto:20170311T153000
DTSTAMP:20260424T055443
CREATED:20151021T181815Z
LAST-MODIFIED:20151021T181815Z
UID:10016243-1489240800-1489246200@huronshores.ca
SUMMARY:Alzheimer Info & Discussion Group
DESCRIPTION:The Alzheimer Society of Sault Ste. Marie & Algoma District hosts an Information & Discussion Group on the 2nd Wednesday of each month\, at the Calvary Gospel Church\, 55 Queen Street\, Blind River from 2:00 – 3:30 p.m.  For more information please call Tanya\, First Link Coordinator\, at 705-848-8145.
URL:https://huronshores.ca/event/alzheimer-info-discussion-group-2/2017-03-11/
CATEGORIES:Community News
ATTACH;FMTTYPE=image/jpeg:https://huronshores.ca/wp-content/uploads/2013/01/Alzheimers-Disease.jpg
END:VEVENT
BEGIN:VEVENT
DTSTART;TZID=America/Toronto:20170311T163000
DTEND;TZID=America/Toronto:20170311T183000
DTSTAMP:20260424T055443
CREATED:20170223T154053Z
LAST-MODIFIED:20170223T154053Z
UID:10020088-1489249800-1489257000@huronshores.ca
SUMMARY:Lions Club Fish Fry
DESCRIPTION:The Iron Bridge Lions Club hosts an all-you-can-eat Fish Fry at the Club Hall\, 10 Clarissa St.\, from 4:30 to 6:30 p.m. Call 705-843-2208 for details.
URL:https://huronshores.ca/event/lions-club-fish-fry-2/2017-03-11/
CATEGORIES:Community News,Local Food
ATTACH;FMTTYPE=image/jpeg:https://huronshores.ca/wp-content/uploads/2015/12/Fish-Fry.jpg
END:VEVENT
BEGIN:VEVENT
DTSTART;VALUE=DATE:20170312
DTEND;VALUE=DATE:20170313
DTSTAMP:20260424T055443
CREATED:20161219T203452Z
LAST-MODIFIED:20161219T203452Z
UID:10020032-1489276800-1489363199@huronshores.ca
SUMMARY:Daylight Saving Time Begins
DESCRIPTION:Get ready to spring forward!  Remember to set your clocks forward one hour when you go to bed on Saturday night.  Daylight Saving Time begins in the early hours of Sunday\, March 12/17.
URL:https://huronshores.ca/event/daylight-saving-time-begins-2/
CATEGORIES:Community News
ATTACH;FMTTYPE=image/jpeg:https://huronshores.ca/wp-content/uploads/2016/01/Spring-Forward.jpg
END:VEVENT
BEGIN:VEVENT
DTSTART;TZID=America/Toronto:20170312T140000
DTEND;TZID=America/Toronto:20170312T153000
DTSTAMP:20260424T055443
CREATED:20151021T181815Z
LAST-MODIFIED:20151021T181815Z
UID:10016244-1489327200-1489332600@huronshores.ca
SUMMARY:Alzheimer Info & Discussion Group
DESCRIPTION:The Alzheimer Society of Sault Ste. Marie & Algoma District hosts an Information & Discussion Group on the 2nd Wednesday of each month\, at the Calvary Gospel Church\, 55 Queen Street\, Blind River from 2:00 – 3:30 p.m.  For more information please call Tanya\, First Link Coordinator\, at 705-848-8145.
URL:https://huronshores.ca/event/alzheimer-info-discussion-group-2/2017-03-12/
CATEGORIES:Community News
ATTACH;FMTTYPE=image/jpeg:https://huronshores.ca/wp-content/uploads/2013/01/Alzheimers-Disease.jpg
END:VEVENT
BEGIN:VEVENT
DTSTART;TZID=America/Toronto:20170312T140000
DTEND;TZID=America/Toronto:20170312T160000
DTSTAMP:20260424T055443
CREATED:20170227T200019Z
LAST-MODIFIED:20170227T200019Z
UID:10020095-1489327200-1489334400@huronshores.ca
SUMMARY:March Break Family Fun Time
DESCRIPTION:During March Break\, from Sunday\, March 12th to Friday\, March 17th\, the Iron Bridge Recreation Committee will host Family Fun Time from 2:00 to 4:00 p.m. at the Recreation Centre\, 1 Chiblow Lake Road.  Plenty of activities for all ages!  Play equipment and supplies provided under the North Channel Healthy Kids Community Challenge Program.
URL:https://huronshores.ca/event/march-break-family-fun-time/2017-03-12/
CATEGORIES:Community News,Recreation
ATTACH;FMTTYPE=image/jpeg:https://huronshores.ca/wp-content/uploads/2015/09/Family-Activities.jpeg
END:VEVENT
BEGIN:VEVENT
DTSTART;TZID=America/Toronto:20170313T140000
DTEND;TZID=America/Toronto:20170313T153000
DTSTAMP:20260424T055443
CREATED:20151021T181815Z
LAST-MODIFIED:20151021T181815Z
UID:10016245-1489413600-1489419000@huronshores.ca
SUMMARY:Alzheimer Info & Discussion Group
DESCRIPTION:The Alzheimer Society of Sault Ste. Marie & Algoma District hosts an Information & Discussion Group on the 2nd Wednesday of each month\, at the Calvary Gospel Church\, 55 Queen Street\, Blind River from 2:00 – 3:30 p.m.  For more information please call Tanya\, First Link Coordinator\, at 705-848-8145.
URL:https://huronshores.ca/event/alzheimer-info-discussion-group-2/2017-03-13/
CATEGORIES:Community News
ATTACH;FMTTYPE=image/jpeg:https://huronshores.ca/wp-content/uploads/2013/01/Alzheimers-Disease.jpg
END:VEVENT
BEGIN:VEVENT
DTSTART;TZID=America/Toronto:20170313T140000
DTEND;TZID=America/Toronto:20170313T160000
DTSTAMP:20260424T055443
CREATED:20170227T200019Z
LAST-MODIFIED:20170227T200019Z
UID:10020096-1489413600-1489420800@huronshores.ca
SUMMARY:March Break Family Fun Time
DESCRIPTION:During March Break\, from Sunday\, March 12th to Friday\, March 17th\, the Iron Bridge Recreation Committee will host Family Fun Time from 2:00 to 4:00 p.m. at the Recreation Centre\, 1 Chiblow Lake Road.  Plenty of activities for all ages!  Play equipment and supplies provided under the North Channel Healthy Kids Community Challenge Program.
URL:https://huronshores.ca/event/march-break-family-fun-time/2017-03-13/
CATEGORIES:Community News,Recreation
ATTACH;FMTTYPE=image/jpeg:https://huronshores.ca/wp-content/uploads/2015/09/Family-Activities.jpeg
END:VEVENT
BEGIN:VEVENT
DTSTART;TZID=America/Toronto:20170314T140000
DTEND;TZID=America/Toronto:20170314T153000
DTSTAMP:20260424T055443
CREATED:20151021T181815Z
LAST-MODIFIED:20151021T181815Z
UID:10016246-1489500000-1489505400@huronshores.ca
SUMMARY:Alzheimer Info & Discussion Group
DESCRIPTION:The Alzheimer Society of Sault Ste. Marie & Algoma District hosts an Information & Discussion Group on the 2nd Wednesday of each month\, at the Calvary Gospel Church\, 55 Queen Street\, Blind River from 2:00 – 3:30 p.m.  For more information please call Tanya\, First Link Coordinator\, at 705-848-8145.
URL:https://huronshores.ca/event/alzheimer-info-discussion-group-2/2017-03-14/
CATEGORIES:Community News
ATTACH;FMTTYPE=image/jpeg:https://huronshores.ca/wp-content/uploads/2013/01/Alzheimers-Disease.jpg
END:VEVENT
BEGIN:VEVENT
DTSTART;TZID=America/Toronto:20170314T140000
DTEND;TZID=America/Toronto:20170314T160000
DTSTAMP:20260424T055443
CREATED:20170227T200019Z
LAST-MODIFIED:20170227T200019Z
UID:10020097-1489500000-1489507200@huronshores.ca
SUMMARY:March Break Family Fun Time
DESCRIPTION:During March Break\, from Sunday\, March 12th to Friday\, March 17th\, the Iron Bridge Recreation Committee will host Family Fun Time from 2:00 to 4:00 p.m. at the Recreation Centre\, 1 Chiblow Lake Road.  Plenty of activities for all ages!  Play equipment and supplies provided under the North Channel Healthy Kids Community Challenge Program.
URL:https://huronshores.ca/event/march-break-family-fun-time/2017-03-14/
CATEGORIES:Community News,Recreation
ATTACH;FMTTYPE=image/jpeg:https://huronshores.ca/wp-content/uploads/2015/09/Family-Activities.jpeg
END:VEVENT
BEGIN:VEVENT
DTSTART;TZID=America/Toronto:20170315T140000
DTEND;TZID=America/Toronto:20170315T153000
DTSTAMP:20260424T055443
CREATED:20151021T181815Z
LAST-MODIFIED:20151021T181815Z
UID:10016247-1489586400-1489591800@huronshores.ca
SUMMARY:Alzheimer Info & Discussion Group
DESCRIPTION:The Alzheimer Society of Sault Ste. Marie & Algoma District hosts an Information & Discussion Group on the 2nd Wednesday of each month\, at the Calvary Gospel Church\, 55 Queen Street\, Blind River from 2:00 – 3:30 p.m.  For more information please call Tanya\, First Link Coordinator\, at 705-848-8145.
URL:https://huronshores.ca/event/alzheimer-info-discussion-group-2/2017-03-15/
CATEGORIES:Community News
ATTACH;FMTTYPE=image/jpeg:https://huronshores.ca/wp-content/uploads/2013/01/Alzheimers-Disease.jpg
END:VEVENT
BEGIN:VEVENT
DTSTART;TZID=America/Toronto:20170315T140000
DTEND;TZID=America/Toronto:20170315T160000
DTSTAMP:20260424T055443
CREATED:20170227T200019Z
LAST-MODIFIED:20170227T200019Z
UID:10020098-1489586400-1489593600@huronshores.ca
SUMMARY:March Break Family Fun Time
DESCRIPTION:During March Break\, from Sunday\, March 12th to Friday\, March 17th\, the Iron Bridge Recreation Committee will host Family Fun Time from 2:00 to 4:00 p.m. at the Recreation Centre\, 1 Chiblow Lake Road.  Plenty of activities for all ages!  Play equipment and supplies provided under the North Channel Healthy Kids Community Challenge Program.
URL:https://huronshores.ca/event/march-break-family-fun-time/2017-03-15/
CATEGORIES:Community News,Recreation
ATTACH;FMTTYPE=image/jpeg:https://huronshores.ca/wp-content/uploads/2015/09/Family-Activities.jpeg
END:VEVENT
BEGIN:VEVENT
DTSTART;TZID=America/Toronto:20170315T193000
DTEND;TZID=America/Toronto:20170315T193000
DTSTAMP:20260424T055443
CREATED:20160721T182330Z
LAST-MODIFIED:20160721T182330Z
UID:10019662-1489606200-1489606200@huronshores.ca
SUMMARY:Jammin' Session at the Thessalon Community Curling Club
DESCRIPTION:Every Wedneday night at 7:30PM\, join us at Thessalon Community Curling Club for our Jammin’ Session. You play an instrument and love to play with other instrumentalists\, or just love to listen to live music\, then come on down…the bar is open! Everyone welcome! Bring a friend!
URL:https://huronshores.ca/event/jammin-session-at-the-thessalon-community-curling-club/2017-03-15/
CATEGORIES:Recreation
END:VEVENT
BEGIN:VEVENT
DTSTART;TZID=America/Toronto:20170316T140000
DTEND;TZID=America/Toronto:20170316T153000
DTSTAMP:20260424T055443
CREATED:20151021T181815Z
LAST-MODIFIED:20151021T181815Z
UID:10016248-1489672800-1489678200@huronshores.ca
SUMMARY:Alzheimer Info & Discussion Group
DESCRIPTION:The Alzheimer Society of Sault Ste. Marie & Algoma District hosts an Information & Discussion Group on the 2nd Wednesday of each month\, at the Calvary Gospel Church\, 55 Queen Street\, Blind River from 2:00 – 3:30 p.m.  For more information please call Tanya\, First Link Coordinator\, at 705-848-8145.
URL:https://huronshores.ca/event/alzheimer-info-discussion-group-2/2017-03-16/
CATEGORIES:Community News
ATTACH;FMTTYPE=image/jpeg:https://huronshores.ca/wp-content/uploads/2013/01/Alzheimers-Disease.jpg
END:VEVENT
END:VCALENDAR