BEGIN:VCALENDAR
VERSION:2.0
PRODID:-//Huron Shores - ECPv6.15.11//NONSGML v1.0//EN
CALSCALE:GREGORIAN
METHOD:PUBLISH
X-ORIGINAL-URL:https://huronshores.ca
X-WR-CALDESC:Events for Huron Shores
REFRESH-INTERVAL;VALUE=DURATION:PT1H
X-Robots-Tag:noindex
X-PUBLISHED-TTL:PT1H
BEGIN:VTIMEZONE
TZID:America/Toronto
BEGIN:DAYLIGHT
TZOFFSETFROM:-0500
TZOFFSETTO:-0400
TZNAME:EDT
DTSTART:20170312T070000
END:DAYLIGHT
BEGIN:STANDARD
TZOFFSETFROM:-0400
TZOFFSETTO:-0500
TZNAME:EST
DTSTART:20171105T060000
END:STANDARD
BEGIN:DAYLIGHT
TZOFFSETFROM:-0500
TZOFFSETTO:-0400
TZNAME:EDT
DTSTART:20180311T070000
END:DAYLIGHT
BEGIN:STANDARD
TZOFFSETFROM:-0400
TZOFFSETTO:-0500
TZNAME:EST
DTSTART:20181104T060000
END:STANDARD
BEGIN:DAYLIGHT
TZOFFSETFROM:-0500
TZOFFSETTO:-0400
TZNAME:EDT
DTSTART:20190310T070000
END:DAYLIGHT
BEGIN:STANDARD
TZOFFSETFROM:-0400
TZOFFSETTO:-0500
TZNAME:EST
DTSTART:20191103T060000
END:STANDARD
END:VTIMEZONE
BEGIN:VEVENT
DTSTART;TZID=America/Toronto:20181024T190000
DTEND;TZID=America/Toronto:20181024T200000
DTSTAMP:20260423T075251
CREATED:20180820T124008Z
LAST-MODIFIED:20180820T124008Z
UID:10020604-1540407600-1540411200@huronshores.ca
SUMMARY:Rollerblade Ball Hockey
DESCRIPTION:Begins on August 1st\, 2018 and runs every Wednesday night at 7:00 pm.  Kids of all ages welcome! Hosted by the Iron Bridge Recreation Committee. \nAdmission: $2/kid; Note: Must have knee and elbow pads and a helmet.
URL:https://huronshores.ca/event/rollerblade-ball-hockey/2018-10-24/
LOCATION:Ontario
CATEGORIES:Recreation
END:VEVENT
BEGIN:VEVENT
DTSTART;TZID=America/Toronto:20181024T193000
DTEND;TZID=America/Toronto:20181024T193000
DTSTAMP:20260423T075251
CREATED:20160721T182330Z
LAST-MODIFIED:20160721T182330Z
UID:10019746-1540409400-1540409400@huronshores.ca
SUMMARY:Jammin' Session at the Thessalon Community Curling Club
DESCRIPTION:Every Wedneday night at 7:30PM\, join us at Thessalon Community Curling Club for our Jammin’ Session. You play an instrument and love to play with other instrumentalists\, or just love to listen to live music\, then come on down…the bar is open! Everyone welcome! Bring a friend!
URL:https://huronshores.ca/event/jammin-session-at-the-thessalon-community-curling-club/2018-10-24/
LOCATION:Ontario
CATEGORIES:Recreation
END:VEVENT
BEGIN:VEVENT
DTSTART;TZID=America/Toronto:20181025T140000
DTEND;TZID=America/Toronto:20181025T153000
DTSTAMP:20260423T075251
CREATED:20151021T181815Z
LAST-MODIFIED:20151021T181815Z
UID:10016837-1540476000-1540481400@huronshores.ca
SUMMARY:Alzheimer Info & Discussion Group
DESCRIPTION:The Alzheimer Society of Sault Ste. Marie & Algoma District hosts an Information & Discussion Group on the 2nd Wednesday of each month\, at the Calvary Gospel Church\, 55 Queen Street\, Blind River from 2:00 – 3:30 p.m.  For more information please call Tanya\, First Link Coordinator\, at 705-848-8145.
URL:https://huronshores.ca/event/alzheimer-info-discussion-group-2/2018-10-25/
LOCATION:Ontario
CATEGORIES:Community News
ATTACH;FMTTYPE=image/jpeg:https://huronshores.ca/wp-content/uploads/2013/01/Alzheimers-Disease.jpg
END:VEVENT
BEGIN:VEVENT
DTSTART;TZID=America/Toronto:20181025T180000
DTEND;TZID=America/Toronto:20181025T190000
DTSTAMP:20260423T075251
CREATED:20180820T124956Z
LAST-MODIFIED:20180820T124956Z
UID:10020972-1540490400-1540494000@huronshores.ca
SUMMARY:Iron Bridge Recreation Family Walking Group
DESCRIPTION:Every Thursday beginning on August 9\, 2018 from 6:00-7:00 pm at the Iron Bridge Recreation Centre.  Hosted by the Iron Bridge Recreation Committee. \nFee by donation. Families are all welcomed to come! There will be toys for children to play with\, or they can join the walking group. There will be fitness tracker sheets available; a prize will be awarded for the most active participant. \nBenefits of walking:\nEvery minute of walking can extend your life by 1.5-2 minutes.\nIncreases physical activity.\nLowers obesity rates.\nLower risk of chronic diseases such as diabetes\, stroke and heart disease.\nReduces stress and depression.
URL:https://huronshores.ca/event/iron-bridge-recreation-family-walking-group/2018-10-25/
LOCATION:Ontario
CATEGORIES:Recreation
END:VEVENT
BEGIN:VEVENT
DTSTART;TZID=America/Toronto:20181026T140000
DTEND;TZID=America/Toronto:20181026T153000
DTSTAMP:20260423T075251
CREATED:20151021T181815Z
LAST-MODIFIED:20151021T181815Z
UID:10016838-1540562400-1540567800@huronshores.ca
SUMMARY:Alzheimer Info & Discussion Group
DESCRIPTION:The Alzheimer Society of Sault Ste. Marie & Algoma District hosts an Information & Discussion Group on the 2nd Wednesday of each month\, at the Calvary Gospel Church\, 55 Queen Street\, Blind River from 2:00 – 3:30 p.m.  For more information please call Tanya\, First Link Coordinator\, at 705-848-8145.
URL:https://huronshores.ca/event/alzheimer-info-discussion-group-2/2018-10-26/
LOCATION:Ontario
CATEGORIES:Community News
ATTACH;FMTTYPE=image/jpeg:https://huronshores.ca/wp-content/uploads/2013/01/Alzheimers-Disease.jpg
END:VEVENT
BEGIN:VEVENT
DTSTART;TZID=America/Toronto:20181026T170000
DTEND;TZID=America/Toronto:20181026T190000
DTSTAMP:20260423T075251
CREATED:20181009T181345Z
LAST-MODIFIED:20181009T181345Z
UID:10021330-1540573200-1540580400@huronshores.ca
SUMMARY:Fish Fry
DESCRIPTION:Thessalon RC Legion Branch 182 hosts a Fish Fry\, Friday\, October 26/18 from 5:00-7:00 p.m.  Take-outs should be called in by 4:30 p.m. & picked up by 5:00 p.m. Call 705-842-2418.
URL:https://huronshores.ca/event/fish-fry-5/
LOCATION:Ontario
CATEGORIES:Community News,Local Food
ATTACH;FMTTYPE=image/jpeg:https://huronshores.ca/wp-content/uploads/2015/12/Friday-Fish-Fry.jpg
END:VEVENT
BEGIN:VEVENT
DTSTART;TZID=America/Toronto:20181027T113000
DTEND;TZID=America/Toronto:20181027T133000
DTSTAMP:20260423T075251
CREATED:20181009T182025Z
LAST-MODIFIED:20181009T182025Z
UID:10021333-1540639800-1540647000@huronshores.ca
SUMMARY:"Christmas in the Country" Luncheon
DESCRIPTION:The Cloudslee UCW will host a “Christmas in the Country” Luncheon\, Saturday\, October 27/18 from 11:30 a.m.-1:30 p.m. at the Bruce Station Community Hall.  Soup\, sandwiches\, dessert\, tea\, coffee\, bake\, bazaar & touch & take tables.  Door prize.  Bring your friends & family.
URL:https://huronshores.ca/event/christmas-in-the-country-luncheon/
LOCATION:Ontario
CATEGORIES:Community News,Local Food
ATTACH;FMTTYPE=image/jpeg:https://huronshores.ca/wp-content/uploads/2017/11/Christmas-Bake-Sale-Bazaar.jpg
END:VEVENT
BEGIN:VEVENT
DTSTART;TZID=America/Toronto:20181027T140000
DTEND;TZID=America/Toronto:20181027T153000
DTSTAMP:20260423T075251
CREATED:20151021T181815Z
LAST-MODIFIED:20151021T181815Z
UID:10016839-1540648800-1540654200@huronshores.ca
SUMMARY:Alzheimer Info & Discussion Group
DESCRIPTION:The Alzheimer Society of Sault Ste. Marie & Algoma District hosts an Information & Discussion Group on the 2nd Wednesday of each month\, at the Calvary Gospel Church\, 55 Queen Street\, Blind River from 2:00 – 3:30 p.m.  For more information please call Tanya\, First Link Coordinator\, at 705-848-8145.
URL:https://huronshores.ca/event/alzheimer-info-discussion-group-2/2018-10-27/
LOCATION:Ontario
CATEGORIES:Community News
ATTACH;FMTTYPE=image/jpeg:https://huronshores.ca/wp-content/uploads/2013/01/Alzheimers-Disease.jpg
END:VEVENT
BEGIN:VEVENT
DTSTART;TZID=America/Toronto:20181027T170000
DTEND;TZID=America/Toronto:20181027T170000
DTSTAMP:20260423T075251
CREATED:20181009T182607Z
LAST-MODIFIED:20181009T182607Z
UID:10021334-1540659600-1540659600@huronshores.ca
SUMMARY:Fall Ham/Sausage & Bean Supper
DESCRIPTION:The Iron Bridge Lions Club will host a Fall Ham/Sausage & Bean Supper\, Saturday\, October 27/18\, at 5:00 p.m.\, at the Iron Bridge Lions Club Hall\, 10 Clarissa Street.  This is a fundraiser for the accessibility renovation project at the Hall. Adults $18/person.  Call Janet for information on tickets (705-843-2208).
URL:https://huronshores.ca/event/fall-ham-sausage-bean-supper/
LOCATION:Ontario
CATEGORIES:Community News,Local Food
ATTACH;FMTTYPE=image/jpeg:https://huronshores.ca/wp-content/uploads/2015/11/Ham-Supper.jpg
END:VEVENT
BEGIN:VEVENT
DTSTART;TZID=America/Toronto:20181028T140000
DTEND;TZID=America/Toronto:20181028T153000
DTSTAMP:20260423T075251
CREATED:20151021T181815Z
LAST-MODIFIED:20151021T181815Z
UID:10016840-1540735200-1540740600@huronshores.ca
SUMMARY:Alzheimer Info & Discussion Group
DESCRIPTION:The Alzheimer Society of Sault Ste. Marie & Algoma District hosts an Information & Discussion Group on the 2nd Wednesday of each month\, at the Calvary Gospel Church\, 55 Queen Street\, Blind River from 2:00 – 3:30 p.m.  For more information please call Tanya\, First Link Coordinator\, at 705-848-8145.
URL:https://huronshores.ca/event/alzheimer-info-discussion-group-2/2018-10-28/
LOCATION:Ontario
CATEGORIES:Community News
ATTACH;FMTTYPE=image/jpeg:https://huronshores.ca/wp-content/uploads/2013/01/Alzheimers-Disease.jpg
END:VEVENT
BEGIN:VEVENT
DTSTART;TZID=America/Toronto:20181029T140000
DTEND;TZID=America/Toronto:20181029T153000
DTSTAMP:20260423T075251
CREATED:20151021T181815Z
LAST-MODIFIED:20151021T181815Z
UID:10016841-1540821600-1540827000@huronshores.ca
SUMMARY:Alzheimer Info & Discussion Group
DESCRIPTION:The Alzheimer Society of Sault Ste. Marie & Algoma District hosts an Information & Discussion Group on the 2nd Wednesday of each month\, at the Calvary Gospel Church\, 55 Queen Street\, Blind River from 2:00 – 3:30 p.m.  For more information please call Tanya\, First Link Coordinator\, at 705-848-8145.
URL:https://huronshores.ca/event/alzheimer-info-discussion-group-2/2018-10-29/
LOCATION:Ontario
CATEGORIES:Community News
ATTACH;FMTTYPE=image/jpeg:https://huronshores.ca/wp-content/uploads/2013/01/Alzheimers-Disease.jpg
END:VEVENT
BEGIN:VEVENT
DTSTART;TZID=America/Toronto:20181030T140000
DTEND;TZID=America/Toronto:20181030T153000
DTSTAMP:20260423T075251
CREATED:20151021T181815Z
LAST-MODIFIED:20151021T181815Z
UID:10016842-1540908000-1540913400@huronshores.ca
SUMMARY:Alzheimer Info & Discussion Group
DESCRIPTION:The Alzheimer Society of Sault Ste. Marie & Algoma District hosts an Information & Discussion Group on the 2nd Wednesday of each month\, at the Calvary Gospel Church\, 55 Queen Street\, Blind River from 2:00 – 3:30 p.m.  For more information please call Tanya\, First Link Coordinator\, at 705-848-8145.
URL:https://huronshores.ca/event/alzheimer-info-discussion-group-2/2018-10-30/
LOCATION:Ontario
CATEGORIES:Community News
ATTACH;FMTTYPE=image/jpeg:https://huronshores.ca/wp-content/uploads/2013/01/Alzheimers-Disease.jpg
END:VEVENT
BEGIN:VEVENT
DTSTART;TZID=America/Toronto:20181031T140000
DTEND;TZID=America/Toronto:20181031T153000
DTSTAMP:20260423T075251
CREATED:20151021T181815Z
LAST-MODIFIED:20151021T181815Z
UID:10016843-1540994400-1540999800@huronshores.ca
SUMMARY:Alzheimer Info & Discussion Group
DESCRIPTION:The Alzheimer Society of Sault Ste. Marie & Algoma District hosts an Information & Discussion Group on the 2nd Wednesday of each month\, at the Calvary Gospel Church\, 55 Queen Street\, Blind River from 2:00 – 3:30 p.m.  For more information please call Tanya\, First Link Coordinator\, at 705-848-8145.
URL:https://huronshores.ca/event/alzheimer-info-discussion-group-2/2018-10-31/
LOCATION:Ontario
CATEGORIES:Community News
ATTACH;FMTTYPE=image/jpeg:https://huronshores.ca/wp-content/uploads/2013/01/Alzheimers-Disease.jpg
END:VEVENT
BEGIN:VEVENT
DTSTART;TZID=America/Toronto:20181031T190000
DTEND;TZID=America/Toronto:20181031T200000
DTSTAMP:20260423T075251
CREATED:20180820T124008Z
LAST-MODIFIED:20180820T124008Z
UID:10020605-1541012400-1541016000@huronshores.ca
SUMMARY:Rollerblade Ball Hockey
DESCRIPTION:Begins on August 1st\, 2018 and runs every Wednesday night at 7:00 pm.  Kids of all ages welcome! Hosted by the Iron Bridge Recreation Committee. \nAdmission: $2/kid; Note: Must have knee and elbow pads and a helmet.
URL:https://huronshores.ca/event/rollerblade-ball-hockey/2018-10-31/
LOCATION:Ontario
CATEGORIES:Recreation
END:VEVENT
BEGIN:VEVENT
DTSTART;TZID=America/Toronto:20181031T193000
DTEND;TZID=America/Toronto:20181031T193000
DTSTAMP:20260423T075251
CREATED:20160721T182330Z
LAST-MODIFIED:20160721T182330Z
UID:10019747-1541014200-1541014200@huronshores.ca
SUMMARY:Jammin' Session at the Thessalon Community Curling Club
DESCRIPTION:Every Wedneday night at 7:30PM\, join us at Thessalon Community Curling Club for our Jammin’ Session. You play an instrument and love to play with other instrumentalists\, or just love to listen to live music\, then come on down…the bar is open! Everyone welcome! Bring a friend!
URL:https://huronshores.ca/event/jammin-session-at-the-thessalon-community-curling-club/2018-10-31/
LOCATION:Ontario
CATEGORIES:Recreation
END:VEVENT
BEGIN:VEVENT
DTSTART;TZID=America/Toronto:20181101T140000
DTEND;TZID=America/Toronto:20181101T153000
DTSTAMP:20260423T075251
CREATED:20151021T181815Z
LAST-MODIFIED:20151021T181815Z
UID:10016844-1541080800-1541086200@huronshores.ca
SUMMARY:Alzheimer Info & Discussion Group
DESCRIPTION:The Alzheimer Society of Sault Ste. Marie & Algoma District hosts an Information & Discussion Group on the 2nd Wednesday of each month\, at the Calvary Gospel Church\, 55 Queen Street\, Blind River from 2:00 – 3:30 p.m.  For more information please call Tanya\, First Link Coordinator\, at 705-848-8145.
URL:https://huronshores.ca/event/alzheimer-info-discussion-group-2/2018-11-01/
LOCATION:Ontario
CATEGORIES:Community News
ATTACH;FMTTYPE=image/jpeg:https://huronshores.ca/wp-content/uploads/2013/01/Alzheimers-Disease.jpg
END:VEVENT
BEGIN:VEVENT
DTSTART;TZID=America/Toronto:20181101T180000
DTEND;TZID=America/Toronto:20181101T190000
DTSTAMP:20260423T075251
CREATED:20180820T124956Z
LAST-MODIFIED:20180820T124956Z
UID:10020973-1541095200-1541098800@huronshores.ca
SUMMARY:Iron Bridge Recreation Family Walking Group
DESCRIPTION:Every Thursday beginning on August 9\, 2018 from 6:00-7:00 pm at the Iron Bridge Recreation Centre.  Hosted by the Iron Bridge Recreation Committee. \nFee by donation. Families are all welcomed to come! There will be toys for children to play with\, or they can join the walking group. There will be fitness tracker sheets available; a prize will be awarded for the most active participant. \nBenefits of walking:\nEvery minute of walking can extend your life by 1.5-2 minutes.\nIncreases physical activity.\nLowers obesity rates.\nLower risk of chronic diseases such as diabetes\, stroke and heart disease.\nReduces stress and depression.
URL:https://huronshores.ca/event/iron-bridge-recreation-family-walking-group/2018-11-01/
LOCATION:Ontario
CATEGORIES:Recreation
END:VEVENT
BEGIN:VEVENT
DTSTART;TZID=America/Toronto:20181102T140000
DTEND;TZID=America/Toronto:20181102T153000
DTSTAMP:20260423T075251
CREATED:20151021T181815Z
LAST-MODIFIED:20151021T181815Z
UID:10016845-1541167200-1541172600@huronshores.ca
SUMMARY:Alzheimer Info & Discussion Group
DESCRIPTION:The Alzheimer Society of Sault Ste. Marie & Algoma District hosts an Information & Discussion Group on the 2nd Wednesday of each month\, at the Calvary Gospel Church\, 55 Queen Street\, Blind River from 2:00 – 3:30 p.m.  For more information please call Tanya\, First Link Coordinator\, at 705-848-8145.
URL:https://huronshores.ca/event/alzheimer-info-discussion-group-2/2018-11-02/
LOCATION:Ontario
CATEGORIES:Community News
ATTACH;FMTTYPE=image/jpeg:https://huronshores.ca/wp-content/uploads/2013/01/Alzheimers-Disease.jpg
END:VEVENT
BEGIN:VEVENT
DTSTART;TZID=America/Toronto:20181103T140000
DTEND;TZID=America/Toronto:20181103T153000
DTSTAMP:20260423T075251
CREATED:20151021T181815Z
LAST-MODIFIED:20151021T181815Z
UID:10016846-1541253600-1541259000@huronshores.ca
SUMMARY:Alzheimer Info & Discussion Group
DESCRIPTION:The Alzheimer Society of Sault Ste. Marie & Algoma District hosts an Information & Discussion Group on the 2nd Wednesday of each month\, at the Calvary Gospel Church\, 55 Queen Street\, Blind River from 2:00 – 3:30 p.m.  For more information please call Tanya\, First Link Coordinator\, at 705-848-8145.
URL:https://huronshores.ca/event/alzheimer-info-discussion-group-2/2018-11-03/
LOCATION:Ontario
CATEGORIES:Community News
ATTACH;FMTTYPE=image/jpeg:https://huronshores.ca/wp-content/uploads/2013/01/Alzheimers-Disease.jpg
END:VEVENT
BEGIN:VEVENT
DTSTART;TZID=America/Toronto:20181104T020000
DTEND;TZID=America/Toronto:20181104T020000
DTSTAMP:20260423T075251
CREATED:20171129T205256Z
LAST-MODIFIED:20171129T205256Z
UID:10020428-1541296800-1541296800@huronshores.ca
SUMMARY:Daylight Saving Time Ends
DESCRIPTION:Remember to set your clocks back one hour when you go to bed on Saturday night for Daylight Saving Time ends at 2:00 a.m. on Sunday\, November 4/18.
URL:https://huronshores.ca/event/daylight-saving-time-ends-4/
LOCATION:Ontario
CATEGORIES:Community News
ATTACH;FMTTYPE=image/jpeg:https://huronshores.ca/wp-content/uploads/2015/07/fall-back.jpg
END:VEVENT
BEGIN:VEVENT
DTSTART;TZID=America/Toronto:20181104T140000
DTEND;TZID=America/Toronto:20181104T153000
DTSTAMP:20260423T075251
CREATED:20151021T181815Z
LAST-MODIFIED:20151021T181815Z
UID:10016847-1541340000-1541345400@huronshores.ca
SUMMARY:Alzheimer Info & Discussion Group
DESCRIPTION:The Alzheimer Society of Sault Ste. Marie & Algoma District hosts an Information & Discussion Group on the 2nd Wednesday of each month\, at the Calvary Gospel Church\, 55 Queen Street\, Blind River from 2:00 – 3:30 p.m.  For more information please call Tanya\, First Link Coordinator\, at 705-848-8145.
URL:https://huronshores.ca/event/alzheimer-info-discussion-group-2/2018-11-04/
LOCATION:Ontario
CATEGORIES:Community News
ATTACH;FMTTYPE=image/jpeg:https://huronshores.ca/wp-content/uploads/2013/01/Alzheimers-Disease.jpg
END:VEVENT
BEGIN:VEVENT
DTSTART;TZID=America/Toronto:20181105T140000
DTEND;TZID=America/Toronto:20181105T153000
DTSTAMP:20260423T075251
CREATED:20151021T181815Z
LAST-MODIFIED:20151021T181815Z
UID:10016848-1541426400-1541431800@huronshores.ca
SUMMARY:Alzheimer Info & Discussion Group
DESCRIPTION:The Alzheimer Society of Sault Ste. Marie & Algoma District hosts an Information & Discussion Group on the 2nd Wednesday of each month\, at the Calvary Gospel Church\, 55 Queen Street\, Blind River from 2:00 – 3:30 p.m.  For more information please call Tanya\, First Link Coordinator\, at 705-848-8145.
URL:https://huronshores.ca/event/alzheimer-info-discussion-group-2/2018-11-05/
LOCATION:Ontario
CATEGORIES:Community News
ATTACH;FMTTYPE=image/jpeg:https://huronshores.ca/wp-content/uploads/2013/01/Alzheimers-Disease.jpg
END:VEVENT
BEGIN:VEVENT
DTSTART;TZID=America/Toronto:20181106T140000
DTEND;TZID=America/Toronto:20181106T153000
DTSTAMP:20260423T075251
CREATED:20151021T181815Z
LAST-MODIFIED:20151021T181815Z
UID:10016849-1541512800-1541518200@huronshores.ca
SUMMARY:Alzheimer Info & Discussion Group
DESCRIPTION:The Alzheimer Society of Sault Ste. Marie & Algoma District hosts an Information & Discussion Group on the 2nd Wednesday of each month\, at the Calvary Gospel Church\, 55 Queen Street\, Blind River from 2:00 – 3:30 p.m.  For more information please call Tanya\, First Link Coordinator\, at 705-848-8145.
URL:https://huronshores.ca/event/alzheimer-info-discussion-group-2/2018-11-06/
LOCATION:Ontario
CATEGORIES:Community News
ATTACH;FMTTYPE=image/jpeg:https://huronshores.ca/wp-content/uploads/2013/01/Alzheimers-Disease.jpg
END:VEVENT
BEGIN:VEVENT
DTSTART;TZID=America/Toronto:20181107T140000
DTEND;TZID=America/Toronto:20181107T153000
DTSTAMP:20260423T075251
CREATED:20151021T181815Z
LAST-MODIFIED:20151021T181815Z
UID:10016850-1541599200-1541604600@huronshores.ca
SUMMARY:Alzheimer Info & Discussion Group
DESCRIPTION:The Alzheimer Society of Sault Ste. Marie & Algoma District hosts an Information & Discussion Group on the 2nd Wednesday of each month\, at the Calvary Gospel Church\, 55 Queen Street\, Blind River from 2:00 – 3:30 p.m.  For more information please call Tanya\, First Link Coordinator\, at 705-848-8145.
URL:https://huronshores.ca/event/alzheimer-info-discussion-group-2/2018-11-07/
LOCATION:Ontario
CATEGORIES:Community News
ATTACH;FMTTYPE=image/jpeg:https://huronshores.ca/wp-content/uploads/2013/01/Alzheimers-Disease.jpg
END:VEVENT
BEGIN:VEVENT
DTSTART;TZID=America/Toronto:20181107T190000
DTEND;TZID=America/Toronto:20181107T200000
DTSTAMP:20260423T075251
CREATED:20180820T124008Z
LAST-MODIFIED:20180820T124008Z
UID:10020606-1541617200-1541620800@huronshores.ca
SUMMARY:Rollerblade Ball Hockey
DESCRIPTION:Begins on August 1st\, 2018 and runs every Wednesday night at 7:00 pm.  Kids of all ages welcome! Hosted by the Iron Bridge Recreation Committee. \nAdmission: $2/kid; Note: Must have knee and elbow pads and a helmet.
URL:https://huronshores.ca/event/rollerblade-ball-hockey/2018-11-07/
LOCATION:Ontario
CATEGORIES:Recreation
END:VEVENT
BEGIN:VEVENT
DTSTART;TZID=America/Toronto:20181107T193000
DTEND;TZID=America/Toronto:20181107T193000
DTSTAMP:20260423T075251
CREATED:20160721T182330Z
LAST-MODIFIED:20160721T182330Z
UID:10019748-1541619000-1541619000@huronshores.ca
SUMMARY:Jammin' Session at the Thessalon Community Curling Club
DESCRIPTION:Every Wedneday night at 7:30PM\, join us at Thessalon Community Curling Club for our Jammin’ Session. You play an instrument and love to play with other instrumentalists\, or just love to listen to live music\, then come on down…the bar is open! Everyone welcome! Bring a friend!
URL:https://huronshores.ca/event/jammin-session-at-the-thessalon-community-curling-club/2018-11-07/
LOCATION:Ontario
CATEGORIES:Recreation
END:VEVENT
BEGIN:VEVENT
DTSTART;TZID=America/Toronto:20181108T140000
DTEND;TZID=America/Toronto:20181108T153000
DTSTAMP:20260423T075251
CREATED:20151021T181815Z
LAST-MODIFIED:20151021T181815Z
UID:10016851-1541685600-1541691000@huronshores.ca
SUMMARY:Alzheimer Info & Discussion Group
DESCRIPTION:The Alzheimer Society of Sault Ste. Marie & Algoma District hosts an Information & Discussion Group on the 2nd Wednesday of each month\, at the Calvary Gospel Church\, 55 Queen Street\, Blind River from 2:00 – 3:30 p.m.  For more information please call Tanya\, First Link Coordinator\, at 705-848-8145.
URL:https://huronshores.ca/event/alzheimer-info-discussion-group-2/2018-11-08/
LOCATION:Ontario
CATEGORIES:Community News
ATTACH;FMTTYPE=image/jpeg:https://huronshores.ca/wp-content/uploads/2013/01/Alzheimers-Disease.jpg
END:VEVENT
BEGIN:VEVENT
DTSTART;TZID=America/Toronto:20181108T180000
DTEND;TZID=America/Toronto:20181108T190000
DTSTAMP:20260423T075251
CREATED:20180820T124956Z
LAST-MODIFIED:20180820T124956Z
UID:10020974-1541700000-1541703600@huronshores.ca
SUMMARY:Iron Bridge Recreation Family Walking Group
DESCRIPTION:Every Thursday beginning on August 9\, 2018 from 6:00-7:00 pm at the Iron Bridge Recreation Centre.  Hosted by the Iron Bridge Recreation Committee. \nFee by donation. Families are all welcomed to come! There will be toys for children to play with\, or they can join the walking group. There will be fitness tracker sheets available; a prize will be awarded for the most active participant. \nBenefits of walking:\nEvery minute of walking can extend your life by 1.5-2 minutes.\nIncreases physical activity.\nLowers obesity rates.\nLower risk of chronic diseases such as diabetes\, stroke and heart disease.\nReduces stress and depression.
URL:https://huronshores.ca/event/iron-bridge-recreation-family-walking-group/2018-11-08/
LOCATION:Ontario
CATEGORIES:Recreation
END:VEVENT
BEGIN:VEVENT
DTSTART;TZID=America/Toronto:20181109T140000
DTEND;TZID=America/Toronto:20181109T153000
DTSTAMP:20260423T075251
CREATED:20151021T181815Z
LAST-MODIFIED:20151021T181815Z
UID:10016852-1541772000-1541777400@huronshores.ca
SUMMARY:Alzheimer Info & Discussion Group
DESCRIPTION:The Alzheimer Society of Sault Ste. Marie & Algoma District hosts an Information & Discussion Group on the 2nd Wednesday of each month\, at the Calvary Gospel Church\, 55 Queen Street\, Blind River from 2:00 – 3:30 p.m.  For more information please call Tanya\, First Link Coordinator\, at 705-848-8145.
URL:https://huronshores.ca/event/alzheimer-info-discussion-group-2/2018-11-09/
LOCATION:Ontario
CATEGORIES:Community News
ATTACH;FMTTYPE=image/jpeg:https://huronshores.ca/wp-content/uploads/2013/01/Alzheimers-Disease.jpg
END:VEVENT
BEGIN:VEVENT
DTSTART;TZID=America/Toronto:20181110T140000
DTEND;TZID=America/Toronto:20181110T153000
DTSTAMP:20260423T075251
CREATED:20151021T181815Z
LAST-MODIFIED:20151021T181815Z
UID:10016853-1541858400-1541863800@huronshores.ca
SUMMARY:Alzheimer Info & Discussion Group
DESCRIPTION:The Alzheimer Society of Sault Ste. Marie & Algoma District hosts an Information & Discussion Group on the 2nd Wednesday of each month\, at the Calvary Gospel Church\, 55 Queen Street\, Blind River from 2:00 – 3:30 p.m.  For more information please call Tanya\, First Link Coordinator\, at 705-848-8145.
URL:https://huronshores.ca/event/alzheimer-info-discussion-group-2/2018-11-10/
LOCATION:Ontario
CATEGORIES:Community News
ATTACH;FMTTYPE=image/jpeg:https://huronshores.ca/wp-content/uploads/2013/01/Alzheimers-Disease.jpg
END:VEVENT
END:VCALENDAR