BEGIN:VCALENDAR
VERSION:2.0
PRODID:-//Huron Shores - ECPv6.15.11//NONSGML v1.0//EN
CALSCALE:GREGORIAN
METHOD:PUBLISH
X-ORIGINAL-URL:https://huronshores.ca
X-WR-CALDESC:Events for Huron Shores
REFRESH-INTERVAL;VALUE=DURATION:PT1H
X-Robots-Tag:noindex
X-PUBLISHED-TTL:PT1H
BEGIN:VTIMEZONE
TZID:America/Toronto
BEGIN:DAYLIGHT
TZOFFSETFROM:-0500
TZOFFSETTO:-0400
TZNAME:EDT
DTSTART:20150308T070000
END:DAYLIGHT
BEGIN:STANDARD
TZOFFSETFROM:-0400
TZOFFSETTO:-0500
TZNAME:EST
DTSTART:20151101T060000
END:STANDARD
BEGIN:DAYLIGHT
TZOFFSETFROM:-0500
TZOFFSETTO:-0400
TZNAME:EDT
DTSTART:20160313T070000
END:DAYLIGHT
BEGIN:STANDARD
TZOFFSETFROM:-0400
TZOFFSETTO:-0500
TZNAME:EST
DTSTART:20161106T060000
END:STANDARD
BEGIN:DAYLIGHT
TZOFFSETFROM:-0500
TZOFFSETTO:-0400
TZNAME:EDT
DTSTART:20170312T070000
END:DAYLIGHT
BEGIN:STANDARD
TZOFFSETFROM:-0400
TZOFFSETTO:-0500
TZNAME:EST
DTSTART:20171105T060000
END:STANDARD
END:VTIMEZONE
BEGIN:VEVENT
DTSTART;TZID=America/Toronto:20161113T140000
DTEND;TZID=America/Toronto:20161113T153000
DTSTAMP:20260425T131532
CREATED:20151021T181815Z
LAST-MODIFIED:20151021T181815Z
UID:10016125-1479045600-1479051000@huronshores.ca
SUMMARY:Alzheimer Info & Discussion Group
DESCRIPTION:The Alzheimer Society of Sault Ste. Marie & Algoma District hosts an Information & Discussion Group on the 2nd Wednesday of each month\, at the Calvary Gospel Church\, 55 Queen Street\, Blind River from 2:00 – 3:30 p.m.  For more information please call Tanya\, First Link Coordinator\, at 705-848-8145.
URL:https://huronshores.ca/event/alzheimer-info-discussion-group-2/2016-11-13/
LOCATION:Ontario
CATEGORIES:Community News
ATTACH;FMTTYPE=image/jpeg:https://huronshores.ca/wp-content/uploads/2013/01/Alzheimers-Disease.jpg
END:VEVENT
BEGIN:VEVENT
DTSTART;TZID=America/Toronto:20161114T140000
DTEND;TZID=America/Toronto:20161114T153000
DTSTAMP:20260425T131532
CREATED:20151021T181815Z
LAST-MODIFIED:20151021T181815Z
UID:10016126-1479132000-1479137400@huronshores.ca
SUMMARY:Alzheimer Info & Discussion Group
DESCRIPTION:The Alzheimer Society of Sault Ste. Marie & Algoma District hosts an Information & Discussion Group on the 2nd Wednesday of each month\, at the Calvary Gospel Church\, 55 Queen Street\, Blind River from 2:00 – 3:30 p.m.  For more information please call Tanya\, First Link Coordinator\, at 705-848-8145.
URL:https://huronshores.ca/event/alzheimer-info-discussion-group-2/2016-11-14/
LOCATION:Ontario
CATEGORIES:Community News
ATTACH;FMTTYPE=image/jpeg:https://huronshores.ca/wp-content/uploads/2013/01/Alzheimers-Disease.jpg
END:VEVENT
BEGIN:VEVENT
DTSTART;TZID=America/Toronto:20161115T140000
DTEND;TZID=America/Toronto:20161115T153000
DTSTAMP:20260425T131532
CREATED:20151021T181815Z
LAST-MODIFIED:20151021T181815Z
UID:10016127-1479218400-1479223800@huronshores.ca
SUMMARY:Alzheimer Info & Discussion Group
DESCRIPTION:The Alzheimer Society of Sault Ste. Marie & Algoma District hosts an Information & Discussion Group on the 2nd Wednesday of each month\, at the Calvary Gospel Church\, 55 Queen Street\, Blind River from 2:00 – 3:30 p.m.  For more information please call Tanya\, First Link Coordinator\, at 705-848-8145.
URL:https://huronshores.ca/event/alzheimer-info-discussion-group-2/2016-11-15/
LOCATION:Ontario
CATEGORIES:Community News
ATTACH;FMTTYPE=image/jpeg:https://huronshores.ca/wp-content/uploads/2013/01/Alzheimers-Disease.jpg
END:VEVENT
BEGIN:VEVENT
DTSTART;TZID=America/Toronto:20161116T140000
DTEND;TZID=America/Toronto:20161116T153000
DTSTAMP:20260425T131532
CREATED:20151021T181815Z
LAST-MODIFIED:20151021T181815Z
UID:10016128-1479304800-1479310200@huronshores.ca
SUMMARY:Alzheimer Info & Discussion Group
DESCRIPTION:The Alzheimer Society of Sault Ste. Marie & Algoma District hosts an Information & Discussion Group on the 2nd Wednesday of each month\, at the Calvary Gospel Church\, 55 Queen Street\, Blind River from 2:00 – 3:30 p.m.  For more information please call Tanya\, First Link Coordinator\, at 705-848-8145.
URL:https://huronshores.ca/event/alzheimer-info-discussion-group-2/2016-11-16/
LOCATION:Ontario
CATEGORIES:Community News
ATTACH;FMTTYPE=image/jpeg:https://huronshores.ca/wp-content/uploads/2013/01/Alzheimers-Disease.jpg
END:VEVENT
BEGIN:VEVENT
DTSTART;TZID=America/Toronto:20161116T193000
DTEND;TZID=America/Toronto:20161116T193000
DTSTAMP:20260425T131532
CREATED:20160721T182330Z
LAST-MODIFIED:20160721T182330Z
UID:10019645-1479324600-1479324600@huronshores.ca
SUMMARY:Jammin' Session at the Thessalon Community Curling Club
DESCRIPTION:Every Wedneday night at 7:30PM\, join us at Thessalon Community Curling Club for our Jammin’ Session. You play an instrument and love to play with other instrumentalists\, or just love to listen to live music\, then come on down…the bar is open! Everyone welcome! Bring a friend!
URL:https://huronshores.ca/event/jammin-session-at-the-thessalon-community-curling-club/2016-11-16/
LOCATION:Ontario
CATEGORIES:Recreation
END:VEVENT
BEGIN:VEVENT
DTSTART;TZID=America/Toronto:20161117T140000
DTEND;TZID=America/Toronto:20161117T153000
DTSTAMP:20260425T131532
CREATED:20151021T181815Z
LAST-MODIFIED:20151021T181815Z
UID:10016129-1479391200-1479396600@huronshores.ca
SUMMARY:Alzheimer Info & Discussion Group
DESCRIPTION:The Alzheimer Society of Sault Ste. Marie & Algoma District hosts an Information & Discussion Group on the 2nd Wednesday of each month\, at the Calvary Gospel Church\, 55 Queen Street\, Blind River from 2:00 – 3:30 p.m.  For more information please call Tanya\, First Link Coordinator\, at 705-848-8145.
URL:https://huronshores.ca/event/alzheimer-info-discussion-group-2/2016-11-17/
LOCATION:Ontario
CATEGORIES:Community News
ATTACH;FMTTYPE=image/jpeg:https://huronshores.ca/wp-content/uploads/2013/01/Alzheimers-Disease.jpg
END:VEVENT
BEGIN:VEVENT
DTSTART;TZID=America/Toronto:20161118T140000
DTEND;TZID=America/Toronto:20161118T153000
DTSTAMP:20260425T131532
CREATED:20151021T181815Z
LAST-MODIFIED:20151021T181815Z
UID:10016130-1479477600-1479483000@huronshores.ca
SUMMARY:Alzheimer Info & Discussion Group
DESCRIPTION:The Alzheimer Society of Sault Ste. Marie & Algoma District hosts an Information & Discussion Group on the 2nd Wednesday of each month\, at the Calvary Gospel Church\, 55 Queen Street\, Blind River from 2:00 – 3:30 p.m.  For more information please call Tanya\, First Link Coordinator\, at 705-848-8145.
URL:https://huronshores.ca/event/alzheimer-info-discussion-group-2/2016-11-18/
LOCATION:Ontario
CATEGORIES:Community News
ATTACH;FMTTYPE=image/jpeg:https://huronshores.ca/wp-content/uploads/2013/01/Alzheimers-Disease.jpg
END:VEVENT
BEGIN:VEVENT
DTSTART;TZID=America/Toronto:20161119T140000
DTEND;TZID=America/Toronto:20161119T153000
DTSTAMP:20260425T131532
CREATED:20151021T181815Z
LAST-MODIFIED:20151021T181815Z
UID:10016131-1479564000-1479569400@huronshores.ca
SUMMARY:Alzheimer Info & Discussion Group
DESCRIPTION:The Alzheimer Society of Sault Ste. Marie & Algoma District hosts an Information & Discussion Group on the 2nd Wednesday of each month\, at the Calvary Gospel Church\, 55 Queen Street\, Blind River from 2:00 – 3:30 p.m.  For more information please call Tanya\, First Link Coordinator\, at 705-848-8145.
URL:https://huronshores.ca/event/alzheimer-info-discussion-group-2/2016-11-19/
LOCATION:Ontario
CATEGORIES:Community News
ATTACH;FMTTYPE=image/jpeg:https://huronshores.ca/wp-content/uploads/2013/01/Alzheimers-Disease.jpg
END:VEVENT
BEGIN:VEVENT
DTSTART;TZID=America/Toronto:20161120T140000
DTEND;TZID=America/Toronto:20161120T153000
DTSTAMP:20260425T131532
CREATED:20151021T181815Z
LAST-MODIFIED:20151021T181815Z
UID:10016132-1479650400-1479655800@huronshores.ca
SUMMARY:Alzheimer Info & Discussion Group
DESCRIPTION:The Alzheimer Society of Sault Ste. Marie & Algoma District hosts an Information & Discussion Group on the 2nd Wednesday of each month\, at the Calvary Gospel Church\, 55 Queen Street\, Blind River from 2:00 – 3:30 p.m.  For more information please call Tanya\, First Link Coordinator\, at 705-848-8145.
URL:https://huronshores.ca/event/alzheimer-info-discussion-group-2/2016-11-20/
LOCATION:Ontario
CATEGORIES:Community News
ATTACH;FMTTYPE=image/jpeg:https://huronshores.ca/wp-content/uploads/2013/01/Alzheimers-Disease.jpg
END:VEVENT
BEGIN:VEVENT
DTSTART;TZID=America/Toronto:20161121T140000
DTEND;TZID=America/Toronto:20161121T153000
DTSTAMP:20260425T131532
CREATED:20151021T181815Z
LAST-MODIFIED:20151021T181815Z
UID:10016133-1479736800-1479742200@huronshores.ca
SUMMARY:Alzheimer Info & Discussion Group
DESCRIPTION:The Alzheimer Society of Sault Ste. Marie & Algoma District hosts an Information & Discussion Group on the 2nd Wednesday of each month\, at the Calvary Gospel Church\, 55 Queen Street\, Blind River from 2:00 – 3:30 p.m.  For more information please call Tanya\, First Link Coordinator\, at 705-848-8145.
URL:https://huronshores.ca/event/alzheimer-info-discussion-group-2/2016-11-21/
LOCATION:Ontario
CATEGORIES:Community News
ATTACH;FMTTYPE=image/jpeg:https://huronshores.ca/wp-content/uploads/2013/01/Alzheimers-Disease.jpg
END:VEVENT
BEGIN:VEVENT
DTSTART;TZID=America/Toronto:20161122T140000
DTEND;TZID=America/Toronto:20161122T153000
DTSTAMP:20260425T131532
CREATED:20151021T181815Z
LAST-MODIFIED:20151021T181815Z
UID:10016134-1479823200-1479828600@huronshores.ca
SUMMARY:Alzheimer Info & Discussion Group
DESCRIPTION:The Alzheimer Society of Sault Ste. Marie & Algoma District hosts an Information & Discussion Group on the 2nd Wednesday of each month\, at the Calvary Gospel Church\, 55 Queen Street\, Blind River from 2:00 – 3:30 p.m.  For more information please call Tanya\, First Link Coordinator\, at 705-848-8145.
URL:https://huronshores.ca/event/alzheimer-info-discussion-group-2/2016-11-22/
LOCATION:Ontario
CATEGORIES:Community News
ATTACH;FMTTYPE=image/jpeg:https://huronshores.ca/wp-content/uploads/2013/01/Alzheimers-Disease.jpg
END:VEVENT
BEGIN:VEVENT
DTSTART;TZID=America/Toronto:20161123T093000
DTEND;TZID=America/Toronto:20161123T113000
DTSTAMP:20260425T131532
CREATED:20160916T200955Z
LAST-MODIFIED:20160916T200955Z
UID:10019464-1479893400-1479900600@huronshores.ca
SUMMARY:Coffee Time
DESCRIPTION:Join us for “Coffee Time” at Zion United Church\, in the lower level\, from 9:30 -11:30 a.m. on the second and fourth Wednesday of the month.  Enjoy coffee and fellowship.
URL:https://huronshores.ca/event/coffee-time/2016-11-23/
LOCATION:Ontario
CATEGORIES:Community News
ATTACH;FMTTYPE=image/jpeg:https://huronshores.ca/wp-content/uploads/2012/09/coffee_cup_clip_art_154678.jpg
END:VEVENT
BEGIN:VEVENT
DTSTART;TZID=America/Toronto:20161123T140000
DTEND;TZID=America/Toronto:20161123T153000
DTSTAMP:20260425T131532
CREATED:20151021T181815Z
LAST-MODIFIED:20151021T181815Z
UID:10016135-1479909600-1479915000@huronshores.ca
SUMMARY:Alzheimer Info & Discussion Group
DESCRIPTION:The Alzheimer Society of Sault Ste. Marie & Algoma District hosts an Information & Discussion Group on the 2nd Wednesday of each month\, at the Calvary Gospel Church\, 55 Queen Street\, Blind River from 2:00 – 3:30 p.m.  For more information please call Tanya\, First Link Coordinator\, at 705-848-8145.
URL:https://huronshores.ca/event/alzheimer-info-discussion-group-2/2016-11-23/
LOCATION:Ontario
CATEGORIES:Community News
ATTACH;FMTTYPE=image/jpeg:https://huronshores.ca/wp-content/uploads/2013/01/Alzheimers-Disease.jpg
END:VEVENT
BEGIN:VEVENT
DTSTART;TZID=America/Toronto:20161123T190000
DTEND;TZID=America/Toronto:20161123T190000
DTSTAMP:20260425T131532
CREATED:20160115T195152Z
LAST-MODIFIED:20160115T195152Z
UID:10019488-1479927600-1479927600@huronshores.ca
SUMMARY:Regular Council Meeting
DESCRIPTION:The Regular Meeting of Council will be held Wednesday\, November 23/16 at 7:00 p.m. in the Council Chambers\, 7 Bridge Street\, Iron Bridge.  The Agenda was posted on Monday\, November 21/16.  Please click on the link below to view the Agenda post.
URL:https://huronshores.ca/event/regular-council-meeting-28/
LOCATION:Ontario
CATEGORIES:Council Meeting
ATTACH;FMTTYPE=:
END:VEVENT
BEGIN:VEVENT
DTSTART;TZID=America/Toronto:20161123T193000
DTEND;TZID=America/Toronto:20161123T193000
DTSTAMP:20260425T131532
CREATED:20160721T182330Z
LAST-MODIFIED:20160721T182330Z
UID:10019646-1479929400-1479929400@huronshores.ca
SUMMARY:Jammin' Session at the Thessalon Community Curling Club
DESCRIPTION:Every Wedneday night at 7:30PM\, join us at Thessalon Community Curling Club for our Jammin’ Session. You play an instrument and love to play with other instrumentalists\, or just love to listen to live music\, then come on down…the bar is open! Everyone welcome! Bring a friend!
URL:https://huronshores.ca/event/jammin-session-at-the-thessalon-community-curling-club/2016-11-23/
LOCATION:Ontario
CATEGORIES:Recreation
END:VEVENT
BEGIN:VEVENT
DTSTART;TZID=America/Toronto:20161124T133000
DTEND;TZID=America/Toronto:20161124T163000
DTSTAMP:20260425T131532
CREATED:20161124T200555Z
LAST-MODIFIED:20161124T200555Z
UID:10019963-1479994200-1480005000@huronshores.ca
SUMMARY:Sowerby Art Group
DESCRIPTION:The Sowerby Art Group meets at Sowerby Hall\, 1410 Basswood Lake Rd.\, on Thursdays at 1:30 p.m.  All enthusiastic artists are welcome!
URL:https://huronshores.ca/event/sowerby-art-group/2016-11-24/
LOCATION:Ontario
CATEGORIES:Community News,Recreation
ATTACH;FMTTYPE=image/jpeg:https://huronshores.ca/wp-content/uploads/2014/06/Call-for-Artists.jpg
END:VEVENT
BEGIN:VEVENT
DTSTART;TZID=America/Toronto:20161124T140000
DTEND;TZID=America/Toronto:20161124T153000
DTSTAMP:20260425T131532
CREATED:20151021T181815Z
LAST-MODIFIED:20151021T181815Z
UID:10016136-1479996000-1480001400@huronshores.ca
SUMMARY:Alzheimer Info & Discussion Group
DESCRIPTION:The Alzheimer Society of Sault Ste. Marie & Algoma District hosts an Information & Discussion Group on the 2nd Wednesday of each month\, at the Calvary Gospel Church\, 55 Queen Street\, Blind River from 2:00 – 3:30 p.m.  For more information please call Tanya\, First Link Coordinator\, at 705-848-8145.
URL:https://huronshores.ca/event/alzheimer-info-discussion-group-2/2016-11-24/
LOCATION:Ontario
CATEGORIES:Community News
ATTACH;FMTTYPE=image/jpeg:https://huronshores.ca/wp-content/uploads/2013/01/Alzheimers-Disease.jpg
END:VEVENT
BEGIN:VEVENT
DTSTART;TZID=America/Toronto:20161125T140000
DTEND;TZID=America/Toronto:20161125T153000
DTSTAMP:20260425T131532
CREATED:20151021T181815Z
LAST-MODIFIED:20151021T181815Z
UID:10016137-1480082400-1480087800@huronshores.ca
SUMMARY:Alzheimer Info & Discussion Group
DESCRIPTION:The Alzheimer Society of Sault Ste. Marie & Algoma District hosts an Information & Discussion Group on the 2nd Wednesday of each month\, at the Calvary Gospel Church\, 55 Queen Street\, Blind River from 2:00 – 3:30 p.m.  For more information please call Tanya\, First Link Coordinator\, at 705-848-8145.
URL:https://huronshores.ca/event/alzheimer-info-discussion-group-2/2016-11-25/
LOCATION:Ontario
CATEGORIES:Community News
ATTACH;FMTTYPE=image/jpeg:https://huronshores.ca/wp-content/uploads/2013/01/Alzheimers-Disease.jpg
END:VEVENT
BEGIN:VEVENT
DTSTART;TZID=America/Toronto:20161125T190000
DTEND;TZID=America/Toronto:20161125T210000
DTSTAMP:20260425T131532
CREATED:20161124T201917Z
LAST-MODIFIED:20161124T201917Z
UID:10019977-1480100400-1480107600@huronshores.ca
SUMMARY:Music & Coffee at the Library
DESCRIPTION:The Thessalon Public Library hosts a Music and Coffee Night\, Friday\, November 25/16\, from 7:00 to 9:00 p.m.  Enjoy the sounds of the St. Pierre Brothers.
URL:https://huronshores.ca/event/music-coffee-at-the-library/
LOCATION:Ontario
CATEGORIES:Community News,Recreation
ATTACH;FMTTYPE=image/jpeg:https://huronshores.ca/wp-content/uploads/2012/09/coffee_cup_clip_art_154678.jpg
END:VEVENT
BEGIN:VEVENT
DTSTART;TZID=America/Toronto:20161126T100000
DTEND;TZID=America/Toronto:20161126T150000
DTSTAMP:20260425T131532
CREATED:20161124T194041Z
LAST-MODIFIED:20161124T194041Z
UID:10019961-1480154400-1480172400@huronshores.ca
SUMMARY:Christmas Bazaar
DESCRIPTION:The Iron Bridge Lions Club is hosting its Annual Christmas Bazaar on Saturday\, November 26th\, from 10:00 a.m. to 3:00 p.m. at the Hall located at 10 Clarissa Street. Come and see the new and returning exhibitors\, you’ll be sure to find stocking stuffers for everyone on your list.  Admission is by donation or bring a non-perishable food item for the Lions Christmas Hamper program.  Lunch is available from the canteen.  For more details call Janet at 705-843-2208.
URL:https://huronshores.ca/event/christmas-bazaar/
LOCATION:Ontario
CATEGORIES:Community News
ATTACH;FMTTYPE=image/jpeg:https://huronshores.ca/wp-content/uploads/2015/11/Annual-Christmas-Bazaar.jpg
END:VEVENT
BEGIN:VEVENT
DTSTART;TZID=America/Toronto:20161126T140000
DTEND;TZID=America/Toronto:20161126T153000
DTSTAMP:20260425T131532
CREATED:20151021T181815Z
LAST-MODIFIED:20151021T181815Z
UID:10016138-1480168800-1480174200@huronshores.ca
SUMMARY:Alzheimer Info & Discussion Group
DESCRIPTION:The Alzheimer Society of Sault Ste. Marie & Algoma District hosts an Information & Discussion Group on the 2nd Wednesday of each month\, at the Calvary Gospel Church\, 55 Queen Street\, Blind River from 2:00 – 3:30 p.m.  For more information please call Tanya\, First Link Coordinator\, at 705-848-8145.
URL:https://huronshores.ca/event/alzheimer-info-discussion-group-2/2016-11-26/
LOCATION:Ontario
CATEGORIES:Community News
ATTACH;FMTTYPE=image/jpeg:https://huronshores.ca/wp-content/uploads/2013/01/Alzheimers-Disease.jpg
END:VEVENT
BEGIN:VEVENT
DTSTART;TZID=America/Toronto:20161126T160000
DTEND;TZID=America/Toronto:20161126T190000
DTSTAMP:20260425T131532
CREATED:20161124T195750Z
LAST-MODIFIED:20161124T195750Z
UID:10019962-1480176000-1480186800@huronshores.ca
SUMMARY:Pork Supper Fundraiser
DESCRIPTION:Camp McDougall is hosting a Pork Supper fundraiser on Saturday\, November 26/16 from 4:00 to 7:00 p.m. at the Iron Bridge Rec Centre\, 1 Chiblow Lake Rd.  Proceeds from the dinner will assist with the cost of the water line replacement.  Tickets:  Adults $20; Ages 6-12 $10; Ages 5 & under – Free.  Tickets available at the following locations: \n\nBlind River:  Mitchell Pharmacy\, Vegas Fabrics & Gifts\nIron Bridge:  Village General Store\, MacDonald’s Food Market\nThessalon:  Maple Ridge Store\, Northern Credit Union\, Forestland\, Stedman’s V & S\nBruce Mines:  Nugget Food Store\nSt. Joseph Island:  Kent’s Corners\nOR call 705-842-5534
URL:https://huronshores.ca/event/pork-supper-fundraiser/
LOCATION:Ontario
CATEGORIES:Community News,Fundraiser
ATTACH;FMTTYPE=image/png:https://huronshores.ca/wp-content/uploads/2016/11/Prok-Supper.png
END:VEVENT
BEGIN:VEVENT
DTSTART;TZID=America/Toronto:20161127T140000
DTEND;TZID=America/Toronto:20161127T153000
DTSTAMP:20260425T131532
CREATED:20151021T181815Z
LAST-MODIFIED:20151021T181815Z
UID:10016139-1480255200-1480260600@huronshores.ca
SUMMARY:Alzheimer Info & Discussion Group
DESCRIPTION:The Alzheimer Society of Sault Ste. Marie & Algoma District hosts an Information & Discussion Group on the 2nd Wednesday of each month\, at the Calvary Gospel Church\, 55 Queen Street\, Blind River from 2:00 – 3:30 p.m.  For more information please call Tanya\, First Link Coordinator\, at 705-848-8145.
URL:https://huronshores.ca/event/alzheimer-info-discussion-group-2/2016-11-27/
LOCATION:Ontario
CATEGORIES:Community News
ATTACH;FMTTYPE=image/jpeg:https://huronshores.ca/wp-content/uploads/2013/01/Alzheimers-Disease.jpg
END:VEVENT
BEGIN:VEVENT
DTSTART;VALUE=DATE:20161128
DTEND;VALUE=DATE:20161210
DTSTAMP:20260425T131532
CREATED:20161125T212806Z
LAST-MODIFIED:20161125T212806Z
UID:10019986-1480291200-1481327999@huronshores.ca
SUMMARY:"Push for Change"
DESCRIPTION:This is a food/clothing/toy drive in partnership with the  North Channel Poverty Awareness Network and the OPP from November 28-December 9.  The Municipal Office is a donation drop-off site.  Please click on the link below for suggested donation items and other details.
URL:https://huronshores.ca/event/push-for-change/
LOCATION:Ontario
CATEGORIES:Community News
ATTACH;FMTTYPE=image/png:https://huronshores.ca/wp-content/uploads/2016/11/Push-for-Change.png
END:VEVENT
BEGIN:VEVENT
DTSTART;TZID=America/Toronto:20161128T140000
DTEND;TZID=America/Toronto:20161128T153000
DTSTAMP:20260425T131532
CREATED:20151021T181815Z
LAST-MODIFIED:20151021T181815Z
UID:10016140-1480341600-1480347000@huronshores.ca
SUMMARY:Alzheimer Info & Discussion Group
DESCRIPTION:The Alzheimer Society of Sault Ste. Marie & Algoma District hosts an Information & Discussion Group on the 2nd Wednesday of each month\, at the Calvary Gospel Church\, 55 Queen Street\, Blind River from 2:00 – 3:30 p.m.  For more information please call Tanya\, First Link Coordinator\, at 705-848-8145.
URL:https://huronshores.ca/event/alzheimer-info-discussion-group-2/2016-11-28/
LOCATION:Ontario
CATEGORIES:Community News
ATTACH;FMTTYPE=image/jpeg:https://huronshores.ca/wp-content/uploads/2013/01/Alzheimers-Disease.jpg
END:VEVENT
BEGIN:VEVENT
DTSTART;TZID=America/Toronto:20161129T140000
DTEND;TZID=America/Toronto:20161129T153000
DTSTAMP:20260425T131532
CREATED:20151021T181815Z
LAST-MODIFIED:20151021T181815Z
UID:10016141-1480428000-1480433400@huronshores.ca
SUMMARY:Alzheimer Info & Discussion Group
DESCRIPTION:The Alzheimer Society of Sault Ste. Marie & Algoma District hosts an Information & Discussion Group on the 2nd Wednesday of each month\, at the Calvary Gospel Church\, 55 Queen Street\, Blind River from 2:00 – 3:30 p.m.  For more information please call Tanya\, First Link Coordinator\, at 705-848-8145.
URL:https://huronshores.ca/event/alzheimer-info-discussion-group-2/2016-11-29/
LOCATION:Ontario
CATEGORIES:Community News
ATTACH;FMTTYPE=image/jpeg:https://huronshores.ca/wp-content/uploads/2013/01/Alzheimers-Disease.jpg
END:VEVENT
BEGIN:VEVENT
DTSTART;TZID=America/Toronto:20161130T140000
DTEND;TZID=America/Toronto:20161130T153000
DTSTAMP:20260425T131532
CREATED:20151021T181815Z
LAST-MODIFIED:20151021T181815Z
UID:10016142-1480514400-1480519800@huronshores.ca
SUMMARY:Alzheimer Info & Discussion Group
DESCRIPTION:The Alzheimer Society of Sault Ste. Marie & Algoma District hosts an Information & Discussion Group on the 2nd Wednesday of each month\, at the Calvary Gospel Church\, 55 Queen Street\, Blind River from 2:00 – 3:30 p.m.  For more information please call Tanya\, First Link Coordinator\, at 705-848-8145.
URL:https://huronshores.ca/event/alzheimer-info-discussion-group-2/2016-11-30/
LOCATION:Ontario
CATEGORIES:Community News
ATTACH;FMTTYPE=image/jpeg:https://huronshores.ca/wp-content/uploads/2013/01/Alzheimers-Disease.jpg
END:VEVENT
BEGIN:VEVENT
DTSTART;TZID=America/Toronto:20161130T193000
DTEND;TZID=America/Toronto:20161130T193000
DTSTAMP:20260425T131532
CREATED:20160721T182330Z
LAST-MODIFIED:20160721T182330Z
UID:10019647-1480534200-1480534200@huronshores.ca
SUMMARY:Jammin' Session at the Thessalon Community Curling Club
DESCRIPTION:Every Wedneday night at 7:30PM\, join us at Thessalon Community Curling Club for our Jammin’ Session. You play an instrument and love to play with other instrumentalists\, or just love to listen to live music\, then come on down…the bar is open! Everyone welcome! Bring a friend!
URL:https://huronshores.ca/event/jammin-session-at-the-thessalon-community-curling-club/2016-11-30/
LOCATION:Ontario
CATEGORIES:Recreation
END:VEVENT
BEGIN:VEVENT
DTSTART;TZID=America/Toronto:20161201T133000
DTEND;TZID=America/Toronto:20161201T163000
DTSTAMP:20260425T131532
CREATED:20161124T200555Z
LAST-MODIFIED:20161124T200555Z
UID:10019964-1480599000-1480609800@huronshores.ca
SUMMARY:Sowerby Art Group
DESCRIPTION:The Sowerby Art Group meets at Sowerby Hall\, 1410 Basswood Lake Rd.\, on Thursdays at 1:30 p.m.  All enthusiastic artists are welcome!
URL:https://huronshores.ca/event/sowerby-art-group/2016-12-01/
LOCATION:Ontario
CATEGORIES:Community News,Recreation
ATTACH;FMTTYPE=image/jpeg:https://huronshores.ca/wp-content/uploads/2014/06/Call-for-Artists.jpg
END:VEVENT
BEGIN:VEVENT
DTSTART;TZID=America/Toronto:20161201T140000
DTEND;TZID=America/Toronto:20161201T153000
DTSTAMP:20260425T131532
CREATED:20151021T181815Z
LAST-MODIFIED:20151021T181815Z
UID:10016143-1480600800-1480606200@huronshores.ca
SUMMARY:Alzheimer Info & Discussion Group
DESCRIPTION:The Alzheimer Society of Sault Ste. Marie & Algoma District hosts an Information & Discussion Group on the 2nd Wednesday of each month\, at the Calvary Gospel Church\, 55 Queen Street\, Blind River from 2:00 – 3:30 p.m.  For more information please call Tanya\, First Link Coordinator\, at 705-848-8145.
URL:https://huronshores.ca/event/alzheimer-info-discussion-group-2/2016-12-01/
LOCATION:Ontario
CATEGORIES:Community News
ATTACH;FMTTYPE=image/jpeg:https://huronshores.ca/wp-content/uploads/2013/01/Alzheimers-Disease.jpg
END:VEVENT
END:VCALENDAR