BEGIN:VCALENDAR
VERSION:2.0
PRODID:-//Huron Shores - ECPv6.15.11//NONSGML v1.0//EN
CALSCALE:GREGORIAN
METHOD:PUBLISH
X-WR-CALNAME:Huron Shores
X-ORIGINAL-URL:https://huronshores.ca
X-WR-CALDESC:Events for Huron Shores
REFRESH-INTERVAL;VALUE=DURATION:PT1H
X-Robots-Tag:noindex
X-PUBLISHED-TTL:PT1H
BEGIN:VTIMEZONE
TZID:America/Toronto
BEGIN:DAYLIGHT
TZOFFSETFROM:-0500
TZOFFSETTO:-0400
TZNAME:EDT
DTSTART:20160313T070000
END:DAYLIGHT
BEGIN:STANDARD
TZOFFSETFROM:-0400
TZOFFSETTO:-0500
TZNAME:EST
DTSTART:20161106T060000
END:STANDARD
BEGIN:DAYLIGHT
TZOFFSETFROM:-0500
TZOFFSETTO:-0400
TZNAME:EDT
DTSTART:20170312T070000
END:DAYLIGHT
BEGIN:STANDARD
TZOFFSETFROM:-0400
TZOFFSETTO:-0500
TZNAME:EST
DTSTART:20171105T060000
END:STANDARD
BEGIN:DAYLIGHT
TZOFFSETFROM:-0500
TZOFFSETTO:-0400
TZNAME:EDT
DTSTART:20180311T070000
END:DAYLIGHT
BEGIN:STANDARD
TZOFFSETFROM:-0400
TZOFFSETTO:-0500
TZNAME:EST
DTSTART:20181104T060000
END:STANDARD
END:VTIMEZONE
BEGIN:VEVENT
DTSTART;TZID=America/Toronto:20170715T090000
DTEND;TZID=America/Toronto:20170715T140000
DTSTAMP:20260425T072314
CREATED:20170602T132003Z
LAST-MODIFIED:20170602T132003Z
UID:10020142-1500109200-1500127200@huronshores.ca
SUMMARY:Sowerby Farmers' Market
DESCRIPTION:Sowerby Farmers’ Market\, every Saturday\, 9:00 a.m. – 2:00 p.m.\, from June 10 to October 7/17.  Local food producers and artisans offer seasonal fresh veggies\, home-baked goods\, jams\, jellies\, pickles\, handicrafts\, and more.  Vendor tables are $5.00/table/day.  Call Will at 705-843-5567 to book a table.
URL:https://huronshores.ca/event/sowerby-farmers-market-3/2017-07-15/
LOCATION:ON
CATEGORIES:Farmers' Markets,Local Food
ATTACH;FMTTYPE=image/jpeg:https://huronshores.ca/wp-content/uploads/2011/08/Historic-Cordukes-Weber-12-Sided-Barn-Sign1.jpg
END:VEVENT
BEGIN:VEVENT
DTSTART;TZID=America/Toronto:20170715T090000
DTEND;TZID=America/Toronto:20170715T140000
DTSTAMP:20260425T072314
CREATED:20170608T201421Z
LAST-MODIFIED:20170608T201421Z
UID:10020159-1500109200-1500127200@huronshores.ca
SUMMARY:Iron Bridge Farmers' Market
DESCRIPTION:The Iron Bridge Farmers’ Market is on Saturdays\, from 9:00 a.m. to 2:00 p.m. in the covered gazebo at the Iron Bridge Historical Museum\, 1 James Street.  Markets will be held weekly until the end of September.  Items available will include farm produce\, book and yard sale items\, as well\, consignment items may also be included (depending on storage availability). Table rentals are $5/table/day. Contact Carl at 705-843-2486 for details. The Museum is open daily from mid-June to September.
URL:https://huronshores.ca/event/iron-bridge-farmers-market-2/2017-07-15/
LOCATION:ON
CATEGORIES:Community News,Farmers' Markets,Local Food
ATTACH;FMTTYPE=image/jpeg:https://huronshores.ca/wp-content/uploads/2012/03/Ward-3-Museum-Welcome-sign-Web-large.jpg
END:VEVENT
BEGIN:VEVENT
DTSTART;TZID=America/Toronto:20170715T140000
DTEND;TZID=America/Toronto:20170715T153000
DTSTAMP:20260425T072314
CREATED:20151021T181815Z
LAST-MODIFIED:20151021T181815Z
UID:10016369-1500127200-1500132600@huronshores.ca
SUMMARY:Alzheimer Info & Discussion Group
DESCRIPTION:The Alzheimer Society of Sault Ste. Marie & Algoma District hosts an Information & Discussion Group on the 2nd Wednesday of each month\, at the Calvary Gospel Church\, 55 Queen Street\, Blind River from 2:00 – 3:30 p.m.  For more information please call Tanya\, First Link Coordinator\, at 705-848-8145.
URL:https://huronshores.ca/event/alzheimer-info-discussion-group-2/2017-07-15/
LOCATION:ON
CATEGORIES:Community News
ATTACH;FMTTYPE=image/jpeg:https://huronshores.ca/wp-content/uploads/2013/01/Alzheimers-Disease.jpg
END:VEVENT
BEGIN:VEVENT
DTSTART;TZID=America/Toronto:20170716T140000
DTEND;TZID=America/Toronto:20170716T153000
DTSTAMP:20260425T072314
CREATED:20151021T181815Z
LAST-MODIFIED:20151021T181815Z
UID:10016370-1500213600-1500219000@huronshores.ca
SUMMARY:Alzheimer Info & Discussion Group
DESCRIPTION:The Alzheimer Society of Sault Ste. Marie & Algoma District hosts an Information & Discussion Group on the 2nd Wednesday of each month\, at the Calvary Gospel Church\, 55 Queen Street\, Blind River from 2:00 – 3:30 p.m.  For more information please call Tanya\, First Link Coordinator\, at 705-848-8145.
URL:https://huronshores.ca/event/alzheimer-info-discussion-group-2/2017-07-16/
LOCATION:ON
CATEGORIES:Community News
ATTACH;FMTTYPE=image/jpeg:https://huronshores.ca/wp-content/uploads/2013/01/Alzheimers-Disease.jpg
END:VEVENT
BEGIN:VEVENT
DTSTART;TZID=America/Toronto:20170717T140000
DTEND;TZID=America/Toronto:20170717T153000
DTSTAMP:20260425T072314
CREATED:20151021T181815Z
LAST-MODIFIED:20151021T181815Z
UID:10016371-1500300000-1500305400@huronshores.ca
SUMMARY:Alzheimer Info & Discussion Group
DESCRIPTION:The Alzheimer Society of Sault Ste. Marie & Algoma District hosts an Information & Discussion Group on the 2nd Wednesday of each month\, at the Calvary Gospel Church\, 55 Queen Street\, Blind River from 2:00 – 3:30 p.m.  For more information please call Tanya\, First Link Coordinator\, at 705-848-8145.
URL:https://huronshores.ca/event/alzheimer-info-discussion-group-2/2017-07-17/
LOCATION:ON
CATEGORIES:Community News
ATTACH;FMTTYPE=image/jpeg:https://huronshores.ca/wp-content/uploads/2013/01/Alzheimers-Disease.jpg
END:VEVENT
BEGIN:VEVENT
DTSTART;TZID=America/Toronto:20170718T140000
DTEND;TZID=America/Toronto:20170718T153000
DTSTAMP:20260425T072314
CREATED:20151021T181815Z
LAST-MODIFIED:20151021T181815Z
UID:10016372-1500386400-1500391800@huronshores.ca
SUMMARY:Alzheimer Info & Discussion Group
DESCRIPTION:The Alzheimer Society of Sault Ste. Marie & Algoma District hosts an Information & Discussion Group on the 2nd Wednesday of each month\, at the Calvary Gospel Church\, 55 Queen Street\, Blind River from 2:00 – 3:30 p.m.  For more information please call Tanya\, First Link Coordinator\, at 705-848-8145.
URL:https://huronshores.ca/event/alzheimer-info-discussion-group-2/2017-07-18/
LOCATION:ON
CATEGORIES:Community News
ATTACH;FMTTYPE=image/jpeg:https://huronshores.ca/wp-content/uploads/2013/01/Alzheimers-Disease.jpg
END:VEVENT
BEGIN:VEVENT
DTSTART;TZID=America/Toronto:20170718T183000
DTEND;TZID=America/Toronto:20170718T200000
DTSTAMP:20260425T072314
CREATED:20170502T195428Z
LAST-MODIFIED:20170502T195428Z
UID:10020113-1500402600-1500408000@huronshores.ca
SUMMARY:Family Fun Time!
DESCRIPTION:The Iron Bridge Rec Committee hosts Family Fun Time on Tuesday evenings from 6:30 – 8:00 p.m. at the Rec Centre\, 1 Chiblow Lake Rd.  Activities for all ages.  Everyone welcome!
URL:https://huronshores.ca/event/family-fun-time/2017-07-18/
LOCATION:ON
CATEGORIES:Community News,Recreation
ATTACH;FMTTYPE=image/jpeg:https://huronshores.ca/wp-content/uploads/2015/09/Family-Activities.jpeg
END:VEVENT
BEGIN:VEVENT
DTSTART;TZID=America/Toronto:20170719T140000
DTEND;TZID=America/Toronto:20170719T153000
DTSTAMP:20260425T072314
CREATED:20151021T181815Z
LAST-MODIFIED:20151021T181815Z
UID:10016373-1500472800-1500478200@huronshores.ca
SUMMARY:Alzheimer Info & Discussion Group
DESCRIPTION:The Alzheimer Society of Sault Ste. Marie & Algoma District hosts an Information & Discussion Group on the 2nd Wednesday of each month\, at the Calvary Gospel Church\, 55 Queen Street\, Blind River from 2:00 – 3:30 p.m.  For more information please call Tanya\, First Link Coordinator\, at 705-848-8145.
URL:https://huronshores.ca/event/alzheimer-info-discussion-group-2/2017-07-19/
LOCATION:ON
CATEGORIES:Community News
ATTACH;FMTTYPE=image/jpeg:https://huronshores.ca/wp-content/uploads/2013/01/Alzheimers-Disease.jpg
END:VEVENT
BEGIN:VEVENT
DTSTART;TZID=America/Toronto:20170719T193000
DTEND;TZID=America/Toronto:20170719T193000
DTSTAMP:20260425T072314
CREATED:20160721T182330Z
LAST-MODIFIED:20160721T182330Z
UID:10019680-1500492600-1500492600@huronshores.ca
SUMMARY:Jammin' Session at the Thessalon Community Curling Club
DESCRIPTION:Every Wedneday night at 7:30PM\, join us at Thessalon Community Curling Club for our Jammin’ Session. You play an instrument and love to play with other instrumentalists\, or just love to listen to live music\, then come on down…the bar is open! Everyone welcome! Bring a friend!
URL:https://huronshores.ca/event/jammin-session-at-the-thessalon-community-curling-club/2017-07-19/
LOCATION:ON
CATEGORIES:Recreation
END:VEVENT
BEGIN:VEVENT
DTSTART;TZID=America/Toronto:20170720T140000
DTEND;TZID=America/Toronto:20170720T153000
DTSTAMP:20260425T072314
CREATED:20151021T181815Z
LAST-MODIFIED:20151021T181815Z
UID:10016374-1500559200-1500564600@huronshores.ca
SUMMARY:Alzheimer Info & Discussion Group
DESCRIPTION:The Alzheimer Society of Sault Ste. Marie & Algoma District hosts an Information & Discussion Group on the 2nd Wednesday of each month\, at the Calvary Gospel Church\, 55 Queen Street\, Blind River from 2:00 – 3:30 p.m.  For more information please call Tanya\, First Link Coordinator\, at 705-848-8145.
URL:https://huronshores.ca/event/alzheimer-info-discussion-group-2/2017-07-20/
LOCATION:ON
CATEGORIES:Community News
ATTACH;FMTTYPE=image/jpeg:https://huronshores.ca/wp-content/uploads/2013/01/Alzheimers-Disease.jpg
END:VEVENT
BEGIN:VEVENT
DTSTART;TZID=America/Toronto:20170720T183000
DTEND;TZID=America/Toronto:20170720T200000
DTSTAMP:20260425T072314
CREATED:20170719T154640Z
LAST-MODIFIED:20170719T154640Z
UID:10020174-1500575400-1500580800@huronshores.ca
SUMMARY:IBRC Family Paint Night
DESCRIPTION:The Iron Bridge Recreation Committee is hosting a Family Paint Night! \nWhen: Thursday\, July 20\, 2017 at the Iron Bridge Recreation Centre (Arena) \nTime: 6:30 to 8:00 pm \nCosts: \n$30/adult \nOR \n$45/adult and one child (each additional child is $20) \nAll supplies are provided. \nPlease register by contacting Jane Armstrong at 705-843-0425 or email at jane_armstrong_52@hotmail.com \nRegister early! Space is limited to 40 people.
URL:https://huronshores.ca/event/ibrc-family-paint-night/
LOCATION:ON
CATEGORIES:Community News
ATTACH;FMTTYPE=image/jpeg:https://huronshores.ca/wp-content/uploads/2014/06/Call-for-Artists.jpg
END:VEVENT
BEGIN:VEVENT
DTSTART;TZID=America/Toronto:20170721T140000
DTEND;TZID=America/Toronto:20170721T153000
DTSTAMP:20260425T072314
CREATED:20151021T181815Z
LAST-MODIFIED:20151021T181815Z
UID:10016375-1500645600-1500651000@huronshores.ca
SUMMARY:Alzheimer Info & Discussion Group
DESCRIPTION:The Alzheimer Society of Sault Ste. Marie & Algoma District hosts an Information & Discussion Group on the 2nd Wednesday of each month\, at the Calvary Gospel Church\, 55 Queen Street\, Blind River from 2:00 – 3:30 p.m.  For more information please call Tanya\, First Link Coordinator\, at 705-848-8145.
URL:https://huronshores.ca/event/alzheimer-info-discussion-group-2/2017-07-21/
LOCATION:ON
CATEGORIES:Community News
ATTACH;FMTTYPE=image/jpeg:https://huronshores.ca/wp-content/uploads/2013/01/Alzheimers-Disease.jpg
END:VEVENT
BEGIN:VEVENT
DTSTART;TZID=America/Toronto:20170722T090000
DTEND;TZID=America/Toronto:20170722T140000
DTSTAMP:20260425T072314
CREATED:20170602T132003Z
LAST-MODIFIED:20170602T132003Z
UID:10020143-1500714000-1500732000@huronshores.ca
SUMMARY:Sowerby Farmers' Market
DESCRIPTION:Sowerby Farmers’ Market\, every Saturday\, 9:00 a.m. – 2:00 p.m.\, from June 10 to October 7/17.  Local food producers and artisans offer seasonal fresh veggies\, home-baked goods\, jams\, jellies\, pickles\, handicrafts\, and more.  Vendor tables are $5.00/table/day.  Call Will at 705-843-5567 to book a table.
URL:https://huronshores.ca/event/sowerby-farmers-market-3/2017-07-22/
LOCATION:ON
CATEGORIES:Farmers' Markets,Local Food
ATTACH;FMTTYPE=image/jpeg:https://huronshores.ca/wp-content/uploads/2011/08/Historic-Cordukes-Weber-12-Sided-Barn-Sign1.jpg
END:VEVENT
BEGIN:VEVENT
DTSTART;TZID=America/Toronto:20170722T090000
DTEND;TZID=America/Toronto:20170722T140000
DTSTAMP:20260425T072314
CREATED:20170608T201421Z
LAST-MODIFIED:20170608T201421Z
UID:10020160-1500714000-1500732000@huronshores.ca
SUMMARY:Iron Bridge Farmers' Market
DESCRIPTION:The Iron Bridge Farmers’ Market is on Saturdays\, from 9:00 a.m. to 2:00 p.m. in the covered gazebo at the Iron Bridge Historical Museum\, 1 James Street.  Markets will be held weekly until the end of September.  Items available will include farm produce\, book and yard sale items\, as well\, consignment items may also be included (depending on storage availability). Table rentals are $5/table/day. Contact Carl at 705-843-2486 for details. The Museum is open daily from mid-June to September.
URL:https://huronshores.ca/event/iron-bridge-farmers-market-2/2017-07-22/
LOCATION:ON
CATEGORIES:Community News,Farmers' Markets,Local Food
ATTACH;FMTTYPE=image/jpeg:https://huronshores.ca/wp-content/uploads/2012/03/Ward-3-Museum-Welcome-sign-Web-large.jpg
END:VEVENT
BEGIN:VEVENT
DTSTART;TZID=America/Toronto:20170722T100000
DTEND;TZID=America/Toronto:20170722T130000
DTSTAMP:20260425T072314
CREATED:20170711T140516Z
LAST-MODIFIED:20170711T140516Z
UID:10020173-1500717600-1500728400@huronshores.ca
SUMMARY:Cycling Trail Sign Bee
DESCRIPTION:It’s time to connect!!  Come join us on Saturday\, July 22/17 from 10:00 a.m. to 1:00 p.m. to mount path marker signs for Huron Shores’ portion of the Lake Huron North Channel Cycling Route.  Meet us at the Municipal Office to collect your signs and obtain instructions.  If you are able to lend a hand please RSVP by calling 705-843-2033 before Wednesday\, July 18th.  Help us mark our way!
URL:https://huronshores.ca/event/cycling-trail-sign-bee/
LOCATION:ON
CATEGORIES:Community News,Recreation
ATTACH;FMTTYPE=image/png:https://huronshores.ca/wp-content/uploads/2017/05/Great-Lakes-Waterfront-Trail-2.png
END:VEVENT
BEGIN:VEVENT
DTSTART;TZID=America/Toronto:20170722T140000
DTEND;TZID=America/Toronto:20170722T153000
DTSTAMP:20260425T072314
CREATED:20151021T181815Z
LAST-MODIFIED:20151021T181815Z
UID:10016376-1500732000-1500737400@huronshores.ca
SUMMARY:Alzheimer Info & Discussion Group
DESCRIPTION:The Alzheimer Society of Sault Ste. Marie & Algoma District hosts an Information & Discussion Group on the 2nd Wednesday of each month\, at the Calvary Gospel Church\, 55 Queen Street\, Blind River from 2:00 – 3:30 p.m.  For more information please call Tanya\, First Link Coordinator\, at 705-848-8145.
URL:https://huronshores.ca/event/alzheimer-info-discussion-group-2/2017-07-22/
LOCATION:ON
CATEGORIES:Community News
ATTACH;FMTTYPE=image/jpeg:https://huronshores.ca/wp-content/uploads/2013/01/Alzheimers-Disease.jpg
END:VEVENT
BEGIN:VEVENT
DTSTART;TZID=America/Toronto:20170723T140000
DTEND;TZID=America/Toronto:20170723T153000
DTSTAMP:20260425T072314
CREATED:20151021T181815Z
LAST-MODIFIED:20151021T181815Z
UID:10016377-1500818400-1500823800@huronshores.ca
SUMMARY:Alzheimer Info & Discussion Group
DESCRIPTION:The Alzheimer Society of Sault Ste. Marie & Algoma District hosts an Information & Discussion Group on the 2nd Wednesday of each month\, at the Calvary Gospel Church\, 55 Queen Street\, Blind River from 2:00 – 3:30 p.m.  For more information please call Tanya\, First Link Coordinator\, at 705-848-8145.
URL:https://huronshores.ca/event/alzheimer-info-discussion-group-2/2017-07-23/
LOCATION:ON
CATEGORIES:Community News
ATTACH;FMTTYPE=image/jpeg:https://huronshores.ca/wp-content/uploads/2013/01/Alzheimers-Disease.jpg
END:VEVENT
BEGIN:VEVENT
DTSTART;TZID=America/Toronto:20170724T140000
DTEND;TZID=America/Toronto:20170724T153000
DTSTAMP:20260425T072314
CREATED:20151021T181815Z
LAST-MODIFIED:20151021T181815Z
UID:10016378-1500904800-1500910200@huronshores.ca
SUMMARY:Alzheimer Info & Discussion Group
DESCRIPTION:The Alzheimer Society of Sault Ste. Marie & Algoma District hosts an Information & Discussion Group on the 2nd Wednesday of each month\, at the Calvary Gospel Church\, 55 Queen Street\, Blind River from 2:00 – 3:30 p.m.  For more information please call Tanya\, First Link Coordinator\, at 705-848-8145.
URL:https://huronshores.ca/event/alzheimer-info-discussion-group-2/2017-07-24/
LOCATION:ON
CATEGORIES:Community News
ATTACH;FMTTYPE=image/jpeg:https://huronshores.ca/wp-content/uploads/2013/01/Alzheimers-Disease.jpg
END:VEVENT
BEGIN:VEVENT
DTSTART;TZID=America/Toronto:20170725T140000
DTEND;TZID=America/Toronto:20170725T153000
DTSTAMP:20260425T072314
CREATED:20151021T181815Z
LAST-MODIFIED:20151021T181815Z
UID:10016379-1500991200-1500996600@huronshores.ca
SUMMARY:Alzheimer Info & Discussion Group
DESCRIPTION:The Alzheimer Society of Sault Ste. Marie & Algoma District hosts an Information & Discussion Group on the 2nd Wednesday of each month\, at the Calvary Gospel Church\, 55 Queen Street\, Blind River from 2:00 – 3:30 p.m.  For more information please call Tanya\, First Link Coordinator\, at 705-848-8145.
URL:https://huronshores.ca/event/alzheimer-info-discussion-group-2/2017-07-25/
LOCATION:ON
CATEGORIES:Community News
ATTACH;FMTTYPE=image/jpeg:https://huronshores.ca/wp-content/uploads/2013/01/Alzheimers-Disease.jpg
END:VEVENT
BEGIN:VEVENT
DTSTART;TZID=America/Toronto:20170725T183000
DTEND;TZID=America/Toronto:20170725T200000
DTSTAMP:20260425T072314
CREATED:20170502T195428Z
LAST-MODIFIED:20170502T195428Z
UID:10020114-1501007400-1501012800@huronshores.ca
SUMMARY:Family Fun Time!
DESCRIPTION:The Iron Bridge Rec Committee hosts Family Fun Time on Tuesday evenings from 6:30 – 8:00 p.m. at the Rec Centre\, 1 Chiblow Lake Rd.  Activities for all ages.  Everyone welcome!
URL:https://huronshores.ca/event/family-fun-time/2017-07-25/
LOCATION:ON
CATEGORIES:Community News,Recreation
ATTACH;FMTTYPE=image/jpeg:https://huronshores.ca/wp-content/uploads/2015/09/Family-Activities.jpeg
END:VEVENT
BEGIN:VEVENT
DTSTART;TZID=America/Toronto:20170726T140000
DTEND;TZID=America/Toronto:20170726T153000
DTSTAMP:20260425T072314
CREATED:20151021T181815Z
LAST-MODIFIED:20151021T181815Z
UID:10016380-1501077600-1501083000@huronshores.ca
SUMMARY:Alzheimer Info & Discussion Group
DESCRIPTION:The Alzheimer Society of Sault Ste. Marie & Algoma District hosts an Information & Discussion Group on the 2nd Wednesday of each month\, at the Calvary Gospel Church\, 55 Queen Street\, Blind River from 2:00 – 3:30 p.m.  For more information please call Tanya\, First Link Coordinator\, at 705-848-8145.
URL:https://huronshores.ca/event/alzheimer-info-discussion-group-2/2017-07-26/
LOCATION:ON
CATEGORIES:Community News
ATTACH;FMTTYPE=image/jpeg:https://huronshores.ca/wp-content/uploads/2013/01/Alzheimers-Disease.jpg
END:VEVENT
BEGIN:VEVENT
DTSTART;TZID=America/Toronto:20170726T193000
DTEND;TZID=America/Toronto:20170726T193000
DTSTAMP:20260425T072314
CREATED:20160721T182330Z
LAST-MODIFIED:20160721T182330Z
UID:10019681-1501097400-1501097400@huronshores.ca
SUMMARY:Jammin' Session at the Thessalon Community Curling Club
DESCRIPTION:Every Wedneday night at 7:30PM\, join us at Thessalon Community Curling Club for our Jammin’ Session. You play an instrument and love to play with other instrumentalists\, or just love to listen to live music\, then come on down…the bar is open! Everyone welcome! Bring a friend!
URL:https://huronshores.ca/event/jammin-session-at-the-thessalon-community-curling-club/2017-07-26/
LOCATION:ON
CATEGORIES:Recreation
END:VEVENT
BEGIN:VEVENT
DTSTART;TZID=America/Toronto:20170727T140000
DTEND;TZID=America/Toronto:20170727T153000
DTSTAMP:20260425T072314
CREATED:20151021T181815Z
LAST-MODIFIED:20151021T181815Z
UID:10016381-1501164000-1501169400@huronshores.ca
SUMMARY:Alzheimer Info & Discussion Group
DESCRIPTION:The Alzheimer Society of Sault Ste. Marie & Algoma District hosts an Information & Discussion Group on the 2nd Wednesday of each month\, at the Calvary Gospel Church\, 55 Queen Street\, Blind River from 2:00 – 3:30 p.m.  For more information please call Tanya\, First Link Coordinator\, at 705-848-8145.
URL:https://huronshores.ca/event/alzheimer-info-discussion-group-2/2017-07-27/
LOCATION:ON
CATEGORIES:Community News
ATTACH;FMTTYPE=image/jpeg:https://huronshores.ca/wp-content/uploads/2013/01/Alzheimers-Disease.jpg
END:VEVENT
BEGIN:VEVENT
DTSTART;TZID=America/Toronto:20170728T140000
DTEND;TZID=America/Toronto:20170728T153000
DTSTAMP:20260425T072314
CREATED:20151021T181815Z
LAST-MODIFIED:20151021T181815Z
UID:10016382-1501250400-1501255800@huronshores.ca
SUMMARY:Alzheimer Info & Discussion Group
DESCRIPTION:The Alzheimer Society of Sault Ste. Marie & Algoma District hosts an Information & Discussion Group on the 2nd Wednesday of each month\, at the Calvary Gospel Church\, 55 Queen Street\, Blind River from 2:00 – 3:30 p.m.  For more information please call Tanya\, First Link Coordinator\, at 705-848-8145.
URL:https://huronshores.ca/event/alzheimer-info-discussion-group-2/2017-07-28/
LOCATION:ON
CATEGORIES:Community News
ATTACH;FMTTYPE=image/jpeg:https://huronshores.ca/wp-content/uploads/2013/01/Alzheimers-Disease.jpg
END:VEVENT
BEGIN:VEVENT
DTSTART;TZID=America/Toronto:20170729T090000
DTEND;TZID=America/Toronto:20170729T140000
DTSTAMP:20260425T072314
CREATED:20170602T132003Z
LAST-MODIFIED:20170602T132003Z
UID:10020144-1501318800-1501336800@huronshores.ca
SUMMARY:Sowerby Farmers' Market
DESCRIPTION:Sowerby Farmers’ Market\, every Saturday\, 9:00 a.m. – 2:00 p.m.\, from June 10 to October 7/17.  Local food producers and artisans offer seasonal fresh veggies\, home-baked goods\, jams\, jellies\, pickles\, handicrafts\, and more.  Vendor tables are $5.00/table/day.  Call Will at 705-843-5567 to book a table.
URL:https://huronshores.ca/event/sowerby-farmers-market-3/2017-07-29/
LOCATION:ON
CATEGORIES:Farmers' Markets,Local Food
ATTACH;FMTTYPE=image/jpeg:https://huronshores.ca/wp-content/uploads/2011/08/Historic-Cordukes-Weber-12-Sided-Barn-Sign1.jpg
END:VEVENT
BEGIN:VEVENT
DTSTART;TZID=America/Toronto:20170729T090000
DTEND;TZID=America/Toronto:20170729T140000
DTSTAMP:20260425T072314
CREATED:20170608T201421Z
LAST-MODIFIED:20170608T201421Z
UID:10020161-1501318800-1501336800@huronshores.ca
SUMMARY:Iron Bridge Farmers' Market
DESCRIPTION:The Iron Bridge Farmers’ Market is on Saturdays\, from 9:00 a.m. to 2:00 p.m. in the covered gazebo at the Iron Bridge Historical Museum\, 1 James Street.  Markets will be held weekly until the end of September.  Items available will include farm produce\, book and yard sale items\, as well\, consignment items may also be included (depending on storage availability). Table rentals are $5/table/day. Contact Carl at 705-843-2486 for details. The Museum is open daily from mid-June to September.
URL:https://huronshores.ca/event/iron-bridge-farmers-market-2/2017-07-29/
LOCATION:ON
CATEGORIES:Community News,Farmers' Markets,Local Food
ATTACH;FMTTYPE=image/jpeg:https://huronshores.ca/wp-content/uploads/2012/03/Ward-3-Museum-Welcome-sign-Web-large.jpg
END:VEVENT
BEGIN:VEVENT
DTSTART;TZID=America/Toronto:20170729T140000
DTEND;TZID=America/Toronto:20170729T153000
DTSTAMP:20260425T072314
CREATED:20151021T181815Z
LAST-MODIFIED:20151021T181815Z
UID:10016383-1501336800-1501342200@huronshores.ca
SUMMARY:Alzheimer Info & Discussion Group
DESCRIPTION:The Alzheimer Society of Sault Ste. Marie & Algoma District hosts an Information & Discussion Group on the 2nd Wednesday of each month\, at the Calvary Gospel Church\, 55 Queen Street\, Blind River from 2:00 – 3:30 p.m.  For more information please call Tanya\, First Link Coordinator\, at 705-848-8145.
URL:https://huronshores.ca/event/alzheimer-info-discussion-group-2/2017-07-29/
LOCATION:ON
CATEGORIES:Community News
ATTACH;FMTTYPE=image/jpeg:https://huronshores.ca/wp-content/uploads/2013/01/Alzheimers-Disease.jpg
END:VEVENT
BEGIN:VEVENT
DTSTART;TZID=America/Toronto:20170729T150000
DTEND;TZID=America/Toronto:20170730T010000
DTSTAMP:20260425T072314
CREATED:20170504T194143Z
LAST-MODIFIED:20170504T194143Z
UID:10020125-1501340400-1501376400@huronshores.ca
SUMMARY:IBPS Reunion
DESCRIPTION:Calling all former students of the Iron Bridge Public School (IBPS)!  Saturday\, July 29/17 is the IBPS Reunion.  Activities at the Iron Bridge Rec Centre\, 1 Chiblow Lake Rd.\,  begin at 3:00 p.m. with a Come & Go Tea\, Cocktail Hour at 5:00 p.m.; Roast Beef Dinner at 5:00 p.m.; Dance from 8:00 p.m. to 1:00 a.m.  During the Tea the newly refurbished school bell will be unveiled.  Please click on the link below for further information & ticket details. Co-hosted by the Iron Bridge Recreation Committee and the Iron Bridge agricultural Society.
URL:https://huronshores.ca/event/ibps-reunion/
LOCATION:ON
CATEGORIES:Community News
ATTACH;FMTTYPE=image/jpeg:https://huronshores.ca/wp-content/uploads/2017/05/Reunion.jpg
END:VEVENT
BEGIN:VEVENT
DTSTART;TZID=America/Toronto:20170730T100000
DTEND;TZID=America/Toronto:20170730T120000
DTSTAMP:20260425T072314
CREATED:20170721T180752Z
LAST-MODIFIED:20170721T180752Z
UID:10020175-1501408800-1501416000@huronshores.ca
SUMMARY:Big Basswood Lake Association AGM
DESCRIPTION:The Big Basswood Lake Association will be holding its Annual General Meeting on Sunday\, July 30th\, 2017 at Sowerby Hall (1410 Basswood Lake Rd.)\, from 10:00 a.m. to Noon.  The Association has advised that the AGM will be a more formal meeting\, focused on a number of important issues for its members.  An informal speaker night is planned for August 23/17 from 7:00 to 9:00 p.m.\, also at Sowerby Hall.  The speakers have yet to be confirmed.
URL:https://huronshores.ca/event/big-basswood-lake-association-agm/
LOCATION:ON
CATEGORIES:Big Basswood Assn. AGM,Community News
ATTACH;FMTTYPE=image/jpeg:https://huronshores.ca/wp-content/uploads/2015/07/Big-Basswood-Lake-Assn-Logo.jpg
END:VEVENT
BEGIN:VEVENT
DTSTART;TZID=America/Toronto:20170730T140000
DTEND;TZID=America/Toronto:20170730T153000
DTSTAMP:20260425T072314
CREATED:20151021T181815Z
LAST-MODIFIED:20151021T181815Z
UID:10016384-1501423200-1501428600@huronshores.ca
SUMMARY:Alzheimer Info & Discussion Group
DESCRIPTION:The Alzheimer Society of Sault Ste. Marie & Algoma District hosts an Information & Discussion Group on the 2nd Wednesday of each month\, at the Calvary Gospel Church\, 55 Queen Street\, Blind River from 2:00 – 3:30 p.m.  For more information please call Tanya\, First Link Coordinator\, at 705-848-8145.
URL:https://huronshores.ca/event/alzheimer-info-discussion-group-2/2017-07-30/
LOCATION:ON
CATEGORIES:Community News
ATTACH;FMTTYPE=image/jpeg:https://huronshores.ca/wp-content/uploads/2013/01/Alzheimers-Disease.jpg
END:VEVENT
END:VCALENDAR