BEGIN:VCALENDAR
VERSION:2.0
PRODID:-//Huron Shores - ECPv6.15.11//NONSGML v1.0//EN
CALSCALE:GREGORIAN
METHOD:PUBLISH
X-ORIGINAL-URL:https://huronshores.ca
X-WR-CALDESC:Events for Huron Shores
REFRESH-INTERVAL;VALUE=DURATION:PT1H
X-Robots-Tag:noindex
X-PUBLISHED-TTL:PT1H
BEGIN:VTIMEZONE
TZID:America/Toronto
BEGIN:DAYLIGHT
TZOFFSETFROM:-0500
TZOFFSETTO:-0400
TZNAME:EDT
DTSTART:20180311T070000
END:DAYLIGHT
BEGIN:STANDARD
TZOFFSETFROM:-0400
TZOFFSETTO:-0500
TZNAME:EST
DTSTART:20181104T060000
END:STANDARD
BEGIN:DAYLIGHT
TZOFFSETFROM:-0500
TZOFFSETTO:-0400
TZNAME:EDT
DTSTART:20190310T070000
END:DAYLIGHT
BEGIN:STANDARD
TZOFFSETFROM:-0400
TZOFFSETTO:-0500
TZNAME:EST
DTSTART:20191103T060000
END:STANDARD
BEGIN:DAYLIGHT
TZOFFSETFROM:-0500
TZOFFSETTO:-0400
TZNAME:EDT
DTSTART:20200308T070000
END:DAYLIGHT
BEGIN:STANDARD
TZOFFSETFROM:-0400
TZOFFSETTO:-0500
TZNAME:EST
DTSTART:20201101T060000
END:STANDARD
END:VTIMEZONE
BEGIN:VEVENT
DTSTART;TZID=America/Toronto:20190510T170000
DTEND;TZID=America/Toronto:20190510T190000
DTSTAMP:20260421T095929
CREATED:20190501T190349Z
LAST-MODIFIED:20190501T190349Z
UID:10021472-1557507600-1557514800@huronshores.ca
SUMMARY:Pasta Dinner
DESCRIPTION:Elizabeth Rebekah Lodge #339 hosts a Pasta Dinner\, Friday\, May 10/19 from 5:00-7:00 p.m. at the IOOF Hall\, Main St.\, Thessalon.  Adults $15; Children Aged 7-12 $7.50; Tickets available at the door.  All dinner include sides\, dessert\, tea\, coffee & juice.  Proceeds go to the new handicap accessible washroom for the Hall.  Everyone welcome!
URL:https://huronshores.ca/event/pasta-dinner/
LOCATION:ON
CATEGORIES:Community News,Fundraiser
ATTACH;FMTTYPE=image/jpeg:https://huronshores.ca/wp-content/uploads/2014/02/Pasta-Supper.jpg
END:VEVENT
BEGIN:VEVENT
DTSTART;TZID=America/Toronto:20190511T090000
DTEND;TZID=America/Toronto:20190511T140000
DTSTAMP:20260421T095929
CREATED:20190415T174428Z
LAST-MODIFIED:20190415T174428Z
UID:10021447-1557565200-1557583200@huronshores.ca
SUMMARY:Flea Market
DESCRIPTION:The Iron Bridge Recreation Committee hosts its annual Flea Market\, Saturday\, May 11/19 from 9:00 a.m. to 2:00 p.m.  Free admission.  Vendors may call the Municipal Office (705-843-2033) to book your tables.  First table:  $10; Additional tables: $5.  Vendors may set up on Friday night at 7:00 p.m.  Canteen is open for refreshments.
URL:https://huronshores.ca/event/flea-market-3/
LOCATION:ON
CATEGORIES:Community News,Recreation
ATTACH;FMTTYPE=image/jpeg:https://huronshores.ca/wp-content/uploads/2017/05/Flea-Market.jpg
END:VEVENT
BEGIN:VEVENT
DTSTART;TZID=America/Toronto:20190511T140000
DTEND;TZID=America/Toronto:20190511T140000
DTSTAMP:20260421T095929
CREATED:20190415T180222Z
LAST-MODIFIED:20190415T180222Z
UID:10021449-1557583200-1557583200@huronshores.ca
SUMMARY:British Afternoon Tea
DESCRIPTION:
URL:https://huronshores.ca/event/british-afternoon-tea/2019-05-11/
LOCATION:ON
CATEGORIES:Community News
ATTACH;FMTTYPE=image/jpeg:https://huronshores.ca/wp-content/uploads/2019/04/British-Afternoon-Tea-poster.jpg
END:VEVENT
BEGIN:VEVENT
DTSTART;TZID=America/Toronto:20190511T140000
DTEND;TZID=America/Toronto:20190511T153000
DTSTAMP:20260421T095929
CREATED:20151021T181815Z
LAST-MODIFIED:20151021T181815Z
UID:10017035-1557583200-1557588600@huronshores.ca
SUMMARY:Alzheimer Info & Discussion Group
DESCRIPTION:The Alzheimer Society of Sault Ste. Marie & Algoma District hosts an Information & Discussion Group on the 2nd Wednesday of each month\, at the Calvary Gospel Church\, 55 Queen Street\, Blind River from 2:00 – 3:30 p.m.  For more information please call Tanya\, First Link Coordinator\, at 705-848-8145.
URL:https://huronshores.ca/event/alzheimer-info-discussion-group-2/2019-05-11/
LOCATION:ON
CATEGORIES:Community News
ATTACH;FMTTYPE=image/jpeg:https://huronshores.ca/wp-content/uploads/2013/01/Alzheimers-Disease.jpg
END:VEVENT
BEGIN:VEVENT
DTSTART;VALUE=DATE:20190512
DTEND;VALUE=DATE:20190513
DTSTAMP:20260421T095929
CREATED:20181214T201708Z
LAST-MODIFIED:20181214T201708Z
UID:10020120-1557619200-1557705599@huronshores.ca
SUMMARY:Mother's Day
DESCRIPTION:Happy Mother’s Day!
URL:https://huronshores.ca/event/mothers-day-3/
LOCATION:ON
CATEGORIES:Community News
ATTACH;FMTTYPE=image/jpeg:https://huronshores.ca/wp-content/uploads/2016/01/Happy-Mothers-Day.jpg
END:VEVENT
BEGIN:VEVENT
DTSTART;TZID=America/Toronto:20190512T140000
DTEND;TZID=America/Toronto:20190512T153000
DTSTAMP:20260421T095929
CREATED:20151021T181815Z
LAST-MODIFIED:20151021T181815Z
UID:10017036-1557669600-1557675000@huronshores.ca
SUMMARY:Alzheimer Info & Discussion Group
DESCRIPTION:The Alzheimer Society of Sault Ste. Marie & Algoma District hosts an Information & Discussion Group on the 2nd Wednesday of each month\, at the Calvary Gospel Church\, 55 Queen Street\, Blind River from 2:00 – 3:30 p.m.  For more information please call Tanya\, First Link Coordinator\, at 705-848-8145.
URL:https://huronshores.ca/event/alzheimer-info-discussion-group-2/2019-05-12/
LOCATION:ON
CATEGORIES:Community News
ATTACH;FMTTYPE=image/jpeg:https://huronshores.ca/wp-content/uploads/2013/01/Alzheimers-Disease.jpg
END:VEVENT
BEGIN:VEVENT
DTSTART;TZID=America/Toronto:20190513T140000
DTEND;TZID=America/Toronto:20190513T153000
DTSTAMP:20260421T095929
CREATED:20151021T181815Z
LAST-MODIFIED:20151021T181815Z
UID:10017037-1557756000-1557761400@huronshores.ca
SUMMARY:Alzheimer Info & Discussion Group
DESCRIPTION:The Alzheimer Society of Sault Ste. Marie & Algoma District hosts an Information & Discussion Group on the 2nd Wednesday of each month\, at the Calvary Gospel Church\, 55 Queen Street\, Blind River from 2:00 – 3:30 p.m.  For more information please call Tanya\, First Link Coordinator\, at 705-848-8145.
URL:https://huronshores.ca/event/alzheimer-info-discussion-group-2/2019-05-13/
LOCATION:ON
CATEGORIES:Community News
ATTACH;FMTTYPE=image/jpeg:https://huronshores.ca/wp-content/uploads/2013/01/Alzheimers-Disease.jpg
END:VEVENT
BEGIN:VEVENT
DTSTART;TZID=America/Toronto:20190514T140000
DTEND;TZID=America/Toronto:20190514T153000
DTSTAMP:20260421T095929
CREATED:20151021T181815Z
LAST-MODIFIED:20151021T181815Z
UID:10017038-1557842400-1557847800@huronshores.ca
SUMMARY:Alzheimer Info & Discussion Group
DESCRIPTION:The Alzheimer Society of Sault Ste. Marie & Algoma District hosts an Information & Discussion Group on the 2nd Wednesday of each month\, at the Calvary Gospel Church\, 55 Queen Street\, Blind River from 2:00 – 3:30 p.m.  For more information please call Tanya\, First Link Coordinator\, at 705-848-8145.
URL:https://huronshores.ca/event/alzheimer-info-discussion-group-2/2019-05-14/
LOCATION:ON
CATEGORIES:Community News
ATTACH;FMTTYPE=image/jpeg:https://huronshores.ca/wp-content/uploads/2013/01/Alzheimers-Disease.jpg
END:VEVENT
BEGIN:VEVENT
DTSTART;TZID=America/Toronto:20190515T140000
DTEND;TZID=America/Toronto:20190515T153000
DTSTAMP:20260421T095929
CREATED:20151021T181815Z
LAST-MODIFIED:20151021T181815Z
UID:10017039-1557928800-1557934200@huronshores.ca
SUMMARY:Alzheimer Info & Discussion Group
DESCRIPTION:The Alzheimer Society of Sault Ste. Marie & Algoma District hosts an Information & Discussion Group on the 2nd Wednesday of each month\, at the Calvary Gospel Church\, 55 Queen Street\, Blind River from 2:00 – 3:30 p.m.  For more information please call Tanya\, First Link Coordinator\, at 705-848-8145.
URL:https://huronshores.ca/event/alzheimer-info-discussion-group-2/2019-05-15/
LOCATION:ON
CATEGORIES:Community News
ATTACH;FMTTYPE=image/jpeg:https://huronshores.ca/wp-content/uploads/2013/01/Alzheimers-Disease.jpg
END:VEVENT
BEGIN:VEVENT
DTSTART;TZID=America/Toronto:20190515T190000
DTEND;TZID=America/Toronto:20190515T200000
DTSTAMP:20260421T095929
CREATED:20180820T124008Z
LAST-MODIFIED:20180820T124008Z
UID:10020633-1557946800-1557950400@huronshores.ca
SUMMARY:Rollerblade Ball Hockey
DESCRIPTION:Begins on August 1st\, 2018 and runs every Wednesday night at 7:00 pm.  Kids of all ages welcome! Hosted by the Iron Bridge Recreation Committee. \nAdmission: $2/kid; Note: Must have knee and elbow pads and a helmet.
URL:https://huronshores.ca/event/rollerblade-ball-hockey/2019-05-15/
LOCATION:ON
CATEGORIES:Recreation
END:VEVENT
BEGIN:VEVENT
DTSTART;TZID=America/Toronto:20190515T193000
DTEND;TZID=America/Toronto:20190515T193000
DTSTAMP:20260421T095929
CREATED:20160721T182330Z
LAST-MODIFIED:20160721T182330Z
UID:10019775-1557948600-1557948600@huronshores.ca
SUMMARY:Jammin' Session at the Thessalon Community Curling Club
DESCRIPTION:Every Wedneday night at 7:30PM\, join us at Thessalon Community Curling Club for our Jammin’ Session. You play an instrument and love to play with other instrumentalists\, or just love to listen to live music\, then come on down…the bar is open! Everyone welcome! Bring a friend!
URL:https://huronshores.ca/event/jammin-session-at-the-thessalon-community-curling-club/2019-05-15/
LOCATION:ON
CATEGORIES:Recreation
END:VEVENT
BEGIN:VEVENT
DTSTART;TZID=America/Toronto:20190516T140000
DTEND;TZID=America/Toronto:20190516T153000
DTSTAMP:20260421T095929
CREATED:20151021T181815Z
LAST-MODIFIED:20151021T181815Z
UID:10017040-1558015200-1558020600@huronshores.ca
SUMMARY:Alzheimer Info & Discussion Group
DESCRIPTION:The Alzheimer Society of Sault Ste. Marie & Algoma District hosts an Information & Discussion Group on the 2nd Wednesday of each month\, at the Calvary Gospel Church\, 55 Queen Street\, Blind River from 2:00 – 3:30 p.m.  For more information please call Tanya\, First Link Coordinator\, at 705-848-8145.
URL:https://huronshores.ca/event/alzheimer-info-discussion-group-2/2019-05-16/
LOCATION:ON
CATEGORIES:Community News
ATTACH;FMTTYPE=image/jpeg:https://huronshores.ca/wp-content/uploads/2013/01/Alzheimers-Disease.jpg
END:VEVENT
BEGIN:VEVENT
DTSTART;TZID=America/Toronto:20190516T180000
DTEND;TZID=America/Toronto:20190516T190000
DTSTAMP:20260421T095929
CREATED:20180820T124956Z
LAST-MODIFIED:20180820T124956Z
UID:10021001-1558029600-1558033200@huronshores.ca
SUMMARY:Iron Bridge Recreation Family Walking Group
DESCRIPTION:Every Thursday beginning on August 9\, 2018 from 6:00-7:00 pm at the Iron Bridge Recreation Centre.  Hosted by the Iron Bridge Recreation Committee. \nFee by donation. Families are all welcomed to come! There will be toys for children to play with\, or they can join the walking group. There will be fitness tracker sheets available; a prize will be awarded for the most active participant. \nBenefits of walking:\nEvery minute of walking can extend your life by 1.5-2 minutes.\nIncreases physical activity.\nLowers obesity rates.\nLower risk of chronic diseases such as diabetes\, stroke and heart disease.\nReduces stress and depression.
URL:https://huronshores.ca/event/iron-bridge-recreation-family-walking-group/2019-05-16/
LOCATION:ON
CATEGORIES:Recreation
END:VEVENT
BEGIN:VEVENT
DTSTART;TZID=America/Toronto:20190517T140000
DTEND;TZID=America/Toronto:20190517T153000
DTSTAMP:20260421T095929
CREATED:20151021T181815Z
LAST-MODIFIED:20151021T181815Z
UID:10017041-1558101600-1558107000@huronshores.ca
SUMMARY:Alzheimer Info & Discussion Group
DESCRIPTION:The Alzheimer Society of Sault Ste. Marie & Algoma District hosts an Information & Discussion Group on the 2nd Wednesday of each month\, at the Calvary Gospel Church\, 55 Queen Street\, Blind River from 2:00 – 3:30 p.m.  For more information please call Tanya\, First Link Coordinator\, at 705-848-8145.
URL:https://huronshores.ca/event/alzheimer-info-discussion-group-2/2019-05-17/
LOCATION:ON
CATEGORIES:Community News
ATTACH;FMTTYPE=image/jpeg:https://huronshores.ca/wp-content/uploads/2013/01/Alzheimers-Disease.jpg
END:VEVENT
BEGIN:VEVENT
DTSTART;TZID=America/Toronto:20190518T140000
DTEND;TZID=America/Toronto:20190518T153000
DTSTAMP:20260421T095929
CREATED:20151021T181815Z
LAST-MODIFIED:20151021T181815Z
UID:10017042-1558188000-1558193400@huronshores.ca
SUMMARY:Alzheimer Info & Discussion Group
DESCRIPTION:The Alzheimer Society of Sault Ste. Marie & Algoma District hosts an Information & Discussion Group on the 2nd Wednesday of each month\, at the Calvary Gospel Church\, 55 Queen Street\, Blind River from 2:00 – 3:30 p.m.  For more information please call Tanya\, First Link Coordinator\, at 705-848-8145.
URL:https://huronshores.ca/event/alzheimer-info-discussion-group-2/2019-05-18/
LOCATION:ON
CATEGORIES:Community News
ATTACH;FMTTYPE=image/jpeg:https://huronshores.ca/wp-content/uploads/2013/01/Alzheimers-Disease.jpg
END:VEVENT
BEGIN:VEVENT
DTSTART;VALUE=DATE:20190519
DTEND;VALUE=DATE:20190526
DTSTAMP:20260421T095929
CREATED:20190416T182744Z
LAST-MODIFIED:20190416T182744Z
UID:10021452-1558224000-1558828799@huronshores.ca
SUMMARY:May 19-25:  National Public Works Week
DESCRIPTION:Council supported\, via Resolution #19-07-28 dated April 10/19\, the request from the Ontario Chapter of the Canadian Public Works Association to proclaim the week of May 19-25/19 as National Public Works Week.  Here is the resolution: \n“BE IT RESOLVED THAT the Council of the Municipality of Huron Shores supports Angela Storey\, 2019 President of the Ontario Chapter of the Canadian Public Works Association by designating the week of May 19-25\, 2019 as National Public Works Week;\nAND THAT we recognize the substantial contributions that our public works professionals\, engineers\, managers and employees make to protecting our national health\, safety\, and quality of life.” \nTo learn more about the Ontario Public Works Association and National Public Works Week\, please click on the link below.
URL:https://huronshores.ca/event/may-19-25-national-public-works-week/
LOCATION:ON
CATEGORIES:Community News
ATTACH;FMTTYPE=image/png:https://huronshores.ca/wp-content/uploads/2019/04/OPWA_Logo.png
END:VEVENT
BEGIN:VEVENT
DTSTART;TZID=America/Toronto:20190519T140000
DTEND;TZID=America/Toronto:20190519T153000
DTSTAMP:20260421T095929
CREATED:20151021T181815Z
LAST-MODIFIED:20151021T181815Z
UID:10017043-1558274400-1558279800@huronshores.ca
SUMMARY:Alzheimer Info & Discussion Group
DESCRIPTION:The Alzheimer Society of Sault Ste. Marie & Algoma District hosts an Information & Discussion Group on the 2nd Wednesday of each month\, at the Calvary Gospel Church\, 55 Queen Street\, Blind River from 2:00 – 3:30 p.m.  For more information please call Tanya\, First Link Coordinator\, at 705-848-8145.
URL:https://huronshores.ca/event/alzheimer-info-discussion-group-2/2019-05-19/
LOCATION:ON
CATEGORIES:Community News
ATTACH;FMTTYPE=image/jpeg:https://huronshores.ca/wp-content/uploads/2013/01/Alzheimers-Disease.jpg
END:VEVENT
BEGIN:VEVENT
DTSTART;VALUE=DATE:20190520
DTEND;VALUE=DATE:20190521
DTSTAMP:20260421T095929
CREATED:20181214T202105Z
LAST-MODIFIED:20181214T202105Z
UID:10020121-1558310400-1558396799@huronshores.ca
SUMMARY:Victoria Day
DESCRIPTION:The Municipal Office and all Waste Sites will be closed for the Victoria Day holiday.  The Office will re-open Tuesday\, May 21 at 8:30 a.m.  The Waste Sites will re-open Wednesday\, May 22 at 4:00 p.m.  Happy Victoria Day from Council and staff of Huron Shores!
URL:https://huronshores.ca/event/victoria-day-4/
LOCATION:ON
CATEGORIES:Community News,Office Closure,Waste Disposal
ATTACH;FMTTYPE=image/jpeg:https://huronshores.ca/wp-content/uploads/2015/05/Victoria-Day-2014.jpg
END:VEVENT
BEGIN:VEVENT
DTSTART;TZID=America/Toronto:20190520T140000
DTEND;TZID=America/Toronto:20190520T153000
DTSTAMP:20260421T095929
CREATED:20151021T181815Z
LAST-MODIFIED:20151021T181815Z
UID:10017044-1558360800-1558366200@huronshores.ca
SUMMARY:Alzheimer Info & Discussion Group
DESCRIPTION:The Alzheimer Society of Sault Ste. Marie & Algoma District hosts an Information & Discussion Group on the 2nd Wednesday of each month\, at the Calvary Gospel Church\, 55 Queen Street\, Blind River from 2:00 – 3:30 p.m.  For more information please call Tanya\, First Link Coordinator\, at 705-848-8145.
URL:https://huronshores.ca/event/alzheimer-info-discussion-group-2/2019-05-20/
LOCATION:ON
CATEGORIES:Community News
ATTACH;FMTTYPE=image/jpeg:https://huronshores.ca/wp-content/uploads/2013/01/Alzheimers-Disease.jpg
END:VEVENT
BEGIN:VEVENT
DTSTART;TZID=America/Toronto:20190521T140000
DTEND;TZID=America/Toronto:20190521T153000
DTSTAMP:20260421T095929
CREATED:20151021T181815Z
LAST-MODIFIED:20151021T181815Z
UID:10017045-1558447200-1558452600@huronshores.ca
SUMMARY:Alzheimer Info & Discussion Group
DESCRIPTION:The Alzheimer Society of Sault Ste. Marie & Algoma District hosts an Information & Discussion Group on the 2nd Wednesday of each month\, at the Calvary Gospel Church\, 55 Queen Street\, Blind River from 2:00 – 3:30 p.m.  For more information please call Tanya\, First Link Coordinator\, at 705-848-8145.
URL:https://huronshores.ca/event/alzheimer-info-discussion-group-2/2019-05-21/
LOCATION:ON
CATEGORIES:Community News
ATTACH;FMTTYPE=image/jpeg:https://huronshores.ca/wp-content/uploads/2013/01/Alzheimers-Disease.jpg
END:VEVENT
BEGIN:VEVENT
DTSTART;TZID=America/Toronto:20190522T140000
DTEND;TZID=America/Toronto:20190522T153000
DTSTAMP:20260421T095929
CREATED:20151021T181815Z
LAST-MODIFIED:20151021T181815Z
UID:10017046-1558533600-1558539000@huronshores.ca
SUMMARY:Alzheimer Info & Discussion Group
DESCRIPTION:The Alzheimer Society of Sault Ste. Marie & Algoma District hosts an Information & Discussion Group on the 2nd Wednesday of each month\, at the Calvary Gospel Church\, 55 Queen Street\, Blind River from 2:00 – 3:30 p.m.  For more information please call Tanya\, First Link Coordinator\, at 705-848-8145.
URL:https://huronshores.ca/event/alzheimer-info-discussion-group-2/2019-05-22/
LOCATION:ON
CATEGORIES:Community News
ATTACH;FMTTYPE=image/jpeg:https://huronshores.ca/wp-content/uploads/2013/01/Alzheimers-Disease.jpg
END:VEVENT
BEGIN:VEVENT
DTSTART;TZID=America/Toronto:20190522T190000
DTEND;TZID=America/Toronto:20190522T200000
DTSTAMP:20260421T095929
CREATED:20180820T124008Z
LAST-MODIFIED:20180820T124008Z
UID:10020634-1558551600-1558555200@huronshores.ca
SUMMARY:Rollerblade Ball Hockey
DESCRIPTION:Begins on August 1st\, 2018 and runs every Wednesday night at 7:00 pm.  Kids of all ages welcome! Hosted by the Iron Bridge Recreation Committee. \nAdmission: $2/kid; Note: Must have knee and elbow pads and a helmet.
URL:https://huronshores.ca/event/rollerblade-ball-hockey/2019-05-22/
LOCATION:ON
CATEGORIES:Recreation
END:VEVENT
BEGIN:VEVENT
DTSTART;TZID=America/Toronto:20190522T193000
DTEND;TZID=America/Toronto:20190522T193000
DTSTAMP:20260421T095929
CREATED:20160721T182330Z
LAST-MODIFIED:20160721T182330Z
UID:10019776-1558553400-1558553400@huronshores.ca
SUMMARY:Jammin' Session at the Thessalon Community Curling Club
DESCRIPTION:Every Wedneday night at 7:30PM\, join us at Thessalon Community Curling Club for our Jammin’ Session. You play an instrument and love to play with other instrumentalists\, or just love to listen to live music\, then come on down…the bar is open! Everyone welcome! Bring a friend!
URL:https://huronshores.ca/event/jammin-session-at-the-thessalon-community-curling-club/2019-05-22/
LOCATION:ON
CATEGORIES:Recreation
END:VEVENT
BEGIN:VEVENT
DTSTART;TZID=America/Toronto:20190523T140000
DTEND;TZID=America/Toronto:20190523T153000
DTSTAMP:20260421T095929
CREATED:20151021T181815Z
LAST-MODIFIED:20151021T181815Z
UID:10017047-1558620000-1558625400@huronshores.ca
SUMMARY:Alzheimer Info & Discussion Group
DESCRIPTION:The Alzheimer Society of Sault Ste. Marie & Algoma District hosts an Information & Discussion Group on the 2nd Wednesday of each month\, at the Calvary Gospel Church\, 55 Queen Street\, Blind River from 2:00 – 3:30 p.m.  For more information please call Tanya\, First Link Coordinator\, at 705-848-8145.
URL:https://huronshores.ca/event/alzheimer-info-discussion-group-2/2019-05-23/
LOCATION:ON
CATEGORIES:Community News
ATTACH;FMTTYPE=image/jpeg:https://huronshores.ca/wp-content/uploads/2013/01/Alzheimers-Disease.jpg
END:VEVENT
BEGIN:VEVENT
DTSTART;TZID=America/Toronto:20190523T180000
DTEND;TZID=America/Toronto:20190523T190000
DTSTAMP:20260421T095929
CREATED:20180820T124956Z
LAST-MODIFIED:20180820T124956Z
UID:10021002-1558634400-1558638000@huronshores.ca
SUMMARY:Iron Bridge Recreation Family Walking Group
DESCRIPTION:Every Thursday beginning on August 9\, 2018 from 6:00-7:00 pm at the Iron Bridge Recreation Centre.  Hosted by the Iron Bridge Recreation Committee. \nFee by donation. Families are all welcomed to come! There will be toys for children to play with\, or they can join the walking group. There will be fitness tracker sheets available; a prize will be awarded for the most active participant. \nBenefits of walking:\nEvery minute of walking can extend your life by 1.5-2 minutes.\nIncreases physical activity.\nLowers obesity rates.\nLower risk of chronic diseases such as diabetes\, stroke and heart disease.\nReduces stress and depression.
URL:https://huronshores.ca/event/iron-bridge-recreation-family-walking-group/2019-05-23/
LOCATION:ON
CATEGORIES:Recreation
END:VEVENT
BEGIN:VEVENT
DTSTART;TZID=America/Toronto:20190524T140000
DTEND;TZID=America/Toronto:20190524T153000
DTSTAMP:20260421T095929
CREATED:20151021T181815Z
LAST-MODIFIED:20151021T181815Z
UID:10017048-1558706400-1558711800@huronshores.ca
SUMMARY:Alzheimer Info & Discussion Group
DESCRIPTION:The Alzheimer Society of Sault Ste. Marie & Algoma District hosts an Information & Discussion Group on the 2nd Wednesday of each month\, at the Calvary Gospel Church\, 55 Queen Street\, Blind River from 2:00 – 3:30 p.m.  For more information please call Tanya\, First Link Coordinator\, at 705-848-8145.
URL:https://huronshores.ca/event/alzheimer-info-discussion-group-2/2019-05-24/
LOCATION:ON
CATEGORIES:Community News
ATTACH;FMTTYPE=image/jpeg:https://huronshores.ca/wp-content/uploads/2013/01/Alzheimers-Disease.jpg
END:VEVENT
BEGIN:VEVENT
DTSTART;TZID=America/Toronto:20190525T080000
DTEND;TZID=America/Toronto:20190525T200000
DTSTAMP:20260421T095929
CREATED:20190325T181033Z
LAST-MODIFIED:20190325T181033Z
UID:10020192-1558771200-1558814400@huronshores.ca
SUMMARY:Little Rapids ATV Fun Run
DESCRIPTION:The Little Rapids Recreation Complex Committee hosts its Annual ATV Fun Run\, Saturday\, May 25/19\, beginning at 8:00 a.m. at the Gazebo/Ball Park\, 34 Little Rapids Rd.  Route:  LittleRapids to Tunnel Lake Trading Post & return.  Registration fee:  $60/one rider; $30 for each additional rider.  payment due at 8:00 a.m. at Gazebo on the day of the Run.  Register for the run by calling 705-842-1779\, or facebook Kathy Mroz no later than May 16\, 2019. 200 people maximum.  Registration fee includes lunch\, dinner\, and lots of great prizes.
URL:https://huronshores.ca/event/little-rapids-atv-fun-run/
LOCATION:ON
CATEGORIES:Community News,Recreation
ATTACH;FMTTYPE=image/jpeg:https://huronshores.ca/wp-content/uploads/2013/06/ATV-Rider.jpg
END:VEVENT
BEGIN:VEVENT
DTSTART;TZID=America/Toronto:20190525T140000
DTEND;TZID=America/Toronto:20190525T153000
DTSTAMP:20260421T095929
CREATED:20151021T181815Z
LAST-MODIFIED:20151021T181815Z
UID:10017049-1558792800-1558798200@huronshores.ca
SUMMARY:Alzheimer Info & Discussion Group
DESCRIPTION:The Alzheimer Society of Sault Ste. Marie & Algoma District hosts an Information & Discussion Group on the 2nd Wednesday of each month\, at the Calvary Gospel Church\, 55 Queen Street\, Blind River from 2:00 – 3:30 p.m.  For more information please call Tanya\, First Link Coordinator\, at 705-848-8145.
URL:https://huronshores.ca/event/alzheimer-info-discussion-group-2/2019-05-25/
LOCATION:ON
CATEGORIES:Community News
ATTACH;FMTTYPE=image/jpeg:https://huronshores.ca/wp-content/uploads/2013/01/Alzheimers-Disease.jpg
END:VEVENT
BEGIN:VEVENT
DTSTART;TZID=America/Toronto:20190526T130000
DTEND;TZID=America/Toronto:20190526T150000
DTSTAMP:20260421T095929
CREATED:20190513T123457Z
LAST-MODIFIED:20190513T123457Z
UID:10021477-1558875600-1558882800@huronshores.ca
SUMMARY:Timber Village Museum 2019 Grand Opening
DESCRIPTION:unity News
URL:https://huronshores.ca/event/timber-village-museum-2019-grand-opening/
LOCATION:ON
CATEGORIES:Community News,Recreation
ATTACH;FMTTYPE=image/jpeg:https://huronshores.ca/wp-content/uploads/2019/05/Timber-Village-Museum-grand-opening-2019-2.jpg
END:VEVENT
BEGIN:VEVENT
DTSTART;TZID=America/Toronto:20190526T140000
DTEND;TZID=America/Toronto:20190526T153000
DTSTAMP:20260421T095929
CREATED:20151021T181815Z
LAST-MODIFIED:20151021T181815Z
UID:10017050-1558879200-1558884600@huronshores.ca
SUMMARY:Alzheimer Info & Discussion Group
DESCRIPTION:The Alzheimer Society of Sault Ste. Marie & Algoma District hosts an Information & Discussion Group on the 2nd Wednesday of each month\, at the Calvary Gospel Church\, 55 Queen Street\, Blind River from 2:00 – 3:30 p.m.  For more information please call Tanya\, First Link Coordinator\, at 705-848-8145.
URL:https://huronshores.ca/event/alzheimer-info-discussion-group-2/2019-05-26/
LOCATION:ON
CATEGORIES:Community News
ATTACH;FMTTYPE=image/jpeg:https://huronshores.ca/wp-content/uploads/2013/01/Alzheimers-Disease.jpg
END:VEVENT
END:VCALENDAR