BEGIN:VCALENDAR
VERSION:2.0
PRODID:-//Huron Shores - ECPv6.15.11//NONSGML v1.0//EN
CALSCALE:GREGORIAN
METHOD:PUBLISH
X-WR-CALNAME:Huron Shores
X-ORIGINAL-URL:https://huronshores.ca
X-WR-CALDESC:Events for Huron Shores
REFRESH-INTERVAL;VALUE=DURATION:PT1H
X-Robots-Tag:noindex
X-PUBLISHED-TTL:PT1H
BEGIN:VTIMEZONE
TZID:America/Toronto
BEGIN:DAYLIGHT
TZOFFSETFROM:-0500
TZOFFSETTO:-0400
TZNAME:EDT
DTSTART:20140309T070000
END:DAYLIGHT
BEGIN:STANDARD
TZOFFSETFROM:-0400
TZOFFSETTO:-0500
TZNAME:EST
DTSTART:20141102T060000
END:STANDARD
BEGIN:DAYLIGHT
TZOFFSETFROM:-0500
TZOFFSETTO:-0400
TZNAME:EDT
DTSTART:20150308T070000
END:DAYLIGHT
BEGIN:STANDARD
TZOFFSETFROM:-0400
TZOFFSETTO:-0500
TZNAME:EST
DTSTART:20151101T060000
END:STANDARD
BEGIN:DAYLIGHT
TZOFFSETFROM:-0500
TZOFFSETTO:-0400
TZNAME:EDT
DTSTART:20160313T070000
END:DAYLIGHT
BEGIN:STANDARD
TZOFFSETFROM:-0400
TZOFFSETTO:-0500
TZNAME:EST
DTSTART:20161106T060000
END:STANDARD
END:VTIMEZONE
BEGIN:VEVENT
DTSTART;TZID=America/Toronto:20151115T140000
DTEND;TZID=America/Toronto:20151115T153000
DTSTAMP:20260425T125547
CREATED:20151021T181815Z
LAST-MODIFIED:20151021T181815Z
UID:10015760-1447596000-1447601400@huronshores.ca
SUMMARY:Alzheimer Info & Discussion Group
DESCRIPTION:The Alzheimer Society of Sault Ste. Marie & Algoma District hosts an Information & Discussion Group on the 2nd Wednesday of each month\, at the Calvary Gospel Church\, 55 Queen Street\, Blind River from 2:00 – 3:30 p.m.  For more information please call Tanya\, First Link Coordinator\, at 705-848-8145.
URL:https://huronshores.ca/event/alzheimer-info-discussion-group-2/2015-11-15/
LOCATION:ON
CATEGORIES:Community News
ATTACH;FMTTYPE=image/jpeg:https://huronshores.ca/wp-content/uploads/2013/01/Alzheimers-Disease.jpg
END:VEVENT
BEGIN:VEVENT
DTSTART;TZID=America/Toronto:20151116T140000
DTEND;TZID=America/Toronto:20151116T153000
DTSTAMP:20260425T125547
CREATED:20151021T181815Z
LAST-MODIFIED:20151021T181815Z
UID:10015761-1447682400-1447687800@huronshores.ca
SUMMARY:Alzheimer Info & Discussion Group
DESCRIPTION:The Alzheimer Society of Sault Ste. Marie & Algoma District hosts an Information & Discussion Group on the 2nd Wednesday of each month\, at the Calvary Gospel Church\, 55 Queen Street\, Blind River from 2:00 – 3:30 p.m.  For more information please call Tanya\, First Link Coordinator\, at 705-848-8145.
URL:https://huronshores.ca/event/alzheimer-info-discussion-group-2/2015-11-16/
LOCATION:ON
CATEGORIES:Community News
ATTACH;FMTTYPE=image/jpeg:https://huronshores.ca/wp-content/uploads/2013/01/Alzheimers-Disease.jpg
END:VEVENT
BEGIN:VEVENT
DTSTART;TZID=America/Toronto:20151117T140000
DTEND;TZID=America/Toronto:20151117T153000
DTSTAMP:20260425T125547
CREATED:20151021T181815Z
LAST-MODIFIED:20151021T181815Z
UID:10015762-1447768800-1447774200@huronshores.ca
SUMMARY:Alzheimer Info & Discussion Group
DESCRIPTION:The Alzheimer Society of Sault Ste. Marie & Algoma District hosts an Information & Discussion Group on the 2nd Wednesday of each month\, at the Calvary Gospel Church\, 55 Queen Street\, Blind River from 2:00 – 3:30 p.m.  For more information please call Tanya\, First Link Coordinator\, at 705-848-8145.
URL:https://huronshores.ca/event/alzheimer-info-discussion-group-2/2015-11-17/
LOCATION:ON
CATEGORIES:Community News
ATTACH;FMTTYPE=image/jpeg:https://huronshores.ca/wp-content/uploads/2013/01/Alzheimers-Disease.jpg
END:VEVENT
BEGIN:VEVENT
DTSTART;TZID=America/Toronto:20151118T140000
DTEND;TZID=America/Toronto:20151118T153000
DTSTAMP:20260425T125547
CREATED:20151021T181815Z
LAST-MODIFIED:20151021T181815Z
UID:10015763-1447855200-1447860600@huronshores.ca
SUMMARY:Alzheimer Info & Discussion Group
DESCRIPTION:The Alzheimer Society of Sault Ste. Marie & Algoma District hosts an Information & Discussion Group on the 2nd Wednesday of each month\, at the Calvary Gospel Church\, 55 Queen Street\, Blind River from 2:00 – 3:30 p.m.  For more information please call Tanya\, First Link Coordinator\, at 705-848-8145.
URL:https://huronshores.ca/event/alzheimer-info-discussion-group-2/2015-11-18/
LOCATION:ON
CATEGORIES:Community News
ATTACH;FMTTYPE=image/jpeg:https://huronshores.ca/wp-content/uploads/2013/01/Alzheimers-Disease.jpg
END:VEVENT
BEGIN:VEVENT
DTSTART;TZID=America/Toronto:20151118T173000
DTEND;TZID=America/Toronto:20151118T173000
DTSTAMP:20260425T125547
CREATED:20151014T135639Z
LAST-MODIFIED:20151014T135639Z
UID:10019386-1447867800-1447867800@huronshores.ca
SUMMARY:Iron Bridge Lions Club Turkey Supper
DESCRIPTION:The Iron Bridge Lions Club Turkey Supper\, Wednesday\, November 18/15\, at the Lions Hall\, 10 Clarissa Street.  One sitting only at 5:30 p.m. Adults $18; Children aged 6-12 $10; Free for Children aged 5 & under.  Maximum 150 tickets available at:  Iron Bridge – MacDonald’s Food Market\, Sun Ray Cafe\, Village General Store; Thessalon – Forestland; Blind River – Mitchell’s Pharmacy.  For information\, call Janet at 705-843-2208.
URL:https://huronshores.ca/event/iron-bridge-lions-club-turkey-supper/
LOCATION:ON
CATEGORIES:Community News
ATTACH;FMTTYPE=image/png:https://huronshores.ca/wp-content/uploads/2015/10/turkey-dinner.png
END:VEVENT
BEGIN:VEVENT
DTSTART;TZID=America/Toronto:20151118T190000
DTEND;TZID=America/Toronto:20151118T190000
DTSTAMP:20260425T125547
CREATED:20150720T134117Z
LAST-MODIFIED:20150720T134117Z
UID:10015750-1447873200-1447873200@huronshores.ca
SUMMARY:Regular Council Meeting
DESCRIPTION:The Regular Meeting of Council will be held Wednesday\, November 18/15 at 7:00 p.m.\, in the Council Chambers\, 7 Bridge Street\, Iron Bridge. The Agenda was posted Monday\, November 16/15. Due to the observance of Remembrance Day\, November 11th\, the usual meeting night\, Council rescheduled the meeting to the following week\, and will not meet on November 24th.  Council typically meets on the 2nd and 4th Wednesdays of each month\, and once in each of the months of July\, August\, and December.  As a result of the re-scheduling\, Council will meet twice in December:  the 2nd and the 16th.  Please click on the link below to view the Agenda post.
URL:https://huronshores.ca/event/regular-council-meeting-6/
LOCATION:ON
CATEGORIES:Council Meeting
ATTACH;FMTTYPE=image/jpeg:https://huronshores.ca/wp-content/uploads/2013/08/huron-shores-logo-e1401726180192.jpg
END:VEVENT
BEGIN:VEVENT
DTSTART;TZID=America/Toronto:20151119T140000
DTEND;TZID=America/Toronto:20151119T153000
DTSTAMP:20260425T125547
CREATED:20151021T181815Z
LAST-MODIFIED:20151021T181815Z
UID:10015764-1447941600-1447947000@huronshores.ca
SUMMARY:Alzheimer Info & Discussion Group
DESCRIPTION:The Alzheimer Society of Sault Ste. Marie & Algoma District hosts an Information & Discussion Group on the 2nd Wednesday of each month\, at the Calvary Gospel Church\, 55 Queen Street\, Blind River from 2:00 – 3:30 p.m.  For more information please call Tanya\, First Link Coordinator\, at 705-848-8145.
URL:https://huronshores.ca/event/alzheimer-info-discussion-group-2/2015-11-19/
LOCATION:ON
CATEGORIES:Community News
ATTACH;FMTTYPE=image/jpeg:https://huronshores.ca/wp-content/uploads/2013/01/Alzheimers-Disease.jpg
END:VEVENT
BEGIN:VEVENT
DTSTART;TZID=America/Toronto:20151120T100000
DTEND;TZID=America/Toronto:20151120T130000
DTSTAMP:20260425T125547
CREATED:20151117T213140Z
LAST-MODIFIED:20151117T213140Z
UID:10019394-1448013600-1448024400@huronshores.ca
SUMMARY:Bake Sale
DESCRIPTION:The Wharncliffe Citizens’ Committee hosts a Bake Sale at the Thessalon Northern Credit Union\, Friday\, November 20/15 from 10:00 a.m. to 1:00 p.m.
URL:https://huronshores.ca/event/bake-sale/
LOCATION:ON
CATEGORIES:Community News
ATTACH;FMTTYPE=image/png:https://huronshores.ca/wp-content/uploads/2015/11/Bake-Sale.png
END:VEVENT
BEGIN:VEVENT
DTSTART;TZID=America/Toronto:20151120T100000
DTEND;TZID=America/Toronto:20151120T160000
DTSTAMP:20260425T125547
CREATED:20151117T210823Z
LAST-MODIFIED:20151117T210823Z
UID:10019338-1448013600-1448035200@huronshores.ca
SUMMARY:Paula the Postmaster is Retiring!
DESCRIPTION:Paula\, the Postmaster at the Iron Bridge Post Office\, is retiring and Friday\, November 20/15 is her last day.  Please come by the Post Office\, at 6 Bridge Street (across from the Municipal Office)\,  to give Paula your best wishes.  She would like to take this opportunity to say “Thank You” for your patronage in the past; or have the chance to “Meet You” if you are a new customer.    Refreshments available from 10:00 a.m. to 4:00 p.m.
URL:https://huronshores.ca/event/paula-the-postmaster-is-retiring/
LOCATION:ON
CATEGORIES:Community News
ATTACH;FMTTYPE=image/jpeg:https://huronshores.ca/wp-content/uploads/2015/11/Retirement.jpg
END:VEVENT
BEGIN:VEVENT
DTSTART;TZID=America/Toronto:20151120T100000
DTEND;TZID=America/Toronto:20151120T220000
DTSTAMP:20260425T125547
CREATED:20151110T204206Z
LAST-MODIFIED:20151110T204206Z
UID:10019335-1448013600-1448056800@huronshores.ca
SUMMARY:Blind River Moonlight Madness & Santa Claus Parade
DESCRIPTION:Blind River will hold its Moonlight Madness & Santa Claus Parade on Friday\, November 20/15\, from 10:00 a.m. to 10:00 p.m.  Parade begins at 6:30 p.m. on Huron Ave. (behind W.C. Eaket Secondary School).  A shuttle bus from Elliot Lake to Blind River will also be available.  For shuttle bus or Moonlight Madness info please phone Blind River & District Chamber of Commerce at 705-356-5714 ext 304.  For parade information or for entry forms\, please phone Blind River Festivals Office at 705-356-2251 ext 222.  There will be passport shopping and receipt raffle draws!  Pictures with Santa at the Library.  Free hot chocolate (Employment Solutions) & Blind River Beavers Meet ‘N Greet at the NWMO Office.
URL:https://huronshores.ca/event/blind-river-moonlight-madness-santa-claus-parade/
LOCATION:ON
CATEGORIES:Community News
ATTACH;FMTTYPE=image/png:https://huronshores.ca/wp-content/uploads/2015/11/Blind-River-Moonlight-Madness-2015.png
END:VEVENT
BEGIN:VEVENT
DTSTART;TZID=America/Toronto:20151120T140000
DTEND;TZID=America/Toronto:20151120T153000
DTSTAMP:20260425T125547
CREATED:20151021T181815Z
LAST-MODIFIED:20151021T181815Z
UID:10015765-1448028000-1448033400@huronshores.ca
SUMMARY:Alzheimer Info & Discussion Group
DESCRIPTION:The Alzheimer Society of Sault Ste. Marie & Algoma District hosts an Information & Discussion Group on the 2nd Wednesday of each month\, at the Calvary Gospel Church\, 55 Queen Street\, Blind River from 2:00 – 3:30 p.m.  For more information please call Tanya\, First Link Coordinator\, at 705-848-8145.
URL:https://huronshores.ca/event/alzheimer-info-discussion-group-2/2015-11-20/
LOCATION:ON
CATEGORIES:Community News
ATTACH;FMTTYPE=image/jpeg:https://huronshores.ca/wp-content/uploads/2013/01/Alzheimers-Disease.jpg
END:VEVENT
BEGIN:VEVENT
DTSTART;TZID=America/Toronto:20151121T140000
DTEND;TZID=America/Toronto:20151121T153000
DTSTAMP:20260425T125547
CREATED:20151021T181815Z
LAST-MODIFIED:20151021T181815Z
UID:10015766-1448114400-1448119800@huronshores.ca
SUMMARY:Alzheimer Info & Discussion Group
DESCRIPTION:The Alzheimer Society of Sault Ste. Marie & Algoma District hosts an Information & Discussion Group on the 2nd Wednesday of each month\, at the Calvary Gospel Church\, 55 Queen Street\, Blind River from 2:00 – 3:30 p.m.  For more information please call Tanya\, First Link Coordinator\, at 705-848-8145.
URL:https://huronshores.ca/event/alzheimer-info-discussion-group-2/2015-11-21/
LOCATION:ON
CATEGORIES:Community News
ATTACH;FMTTYPE=image/jpeg:https://huronshores.ca/wp-content/uploads/2013/01/Alzheimers-Disease.jpg
END:VEVENT
BEGIN:VEVENT
DTSTART;TZID=America/Toronto:20151121T140000
DTEND;TZID=America/Toronto:20151121T160000
DTSTAMP:20260425T125547
CREATED:20151105T194404Z
LAST-MODIFIED:20151105T194404Z
UID:10019324-1448114400-1448121600@huronshores.ca
SUMMARY:Poets' Corner
DESCRIPTION:Poets’ Corner\, an open poetry forum for anyone wishing to read their poems or for those who enjoy poetry\, is being held Saturdays\, November 7th\, 14th\, and 28th from 2:00 – 4:00 p.m. at 101 Little Rapids Road.  Coffee/tea will be available.  Bring snacks to share if you wish. For more info call Patricia at 705-842-0123 or e-mail danielboileau6@gmail.com
URL:https://huronshores.ca/event/poets-corner/2015-11-21/
LOCATION:ON
CATEGORIES:Community News
ATTACH;FMTTYPE=image/jpeg:https://huronshores.ca/wp-content/uploads/2015/11/Poets-Corner.jpg
END:VEVENT
BEGIN:VEVENT
DTSTART;TZID=America/Toronto:20151122T140000
DTEND;TZID=America/Toronto:20151122T153000
DTSTAMP:20260425T125547
CREATED:20151021T181815Z
LAST-MODIFIED:20151021T181815Z
UID:10015767-1448200800-1448206200@huronshores.ca
SUMMARY:Alzheimer Info & Discussion Group
DESCRIPTION:The Alzheimer Society of Sault Ste. Marie & Algoma District hosts an Information & Discussion Group on the 2nd Wednesday of each month\, at the Calvary Gospel Church\, 55 Queen Street\, Blind River from 2:00 – 3:30 p.m.  For more information please call Tanya\, First Link Coordinator\, at 705-848-8145.
URL:https://huronshores.ca/event/alzheimer-info-discussion-group-2/2015-11-22/
LOCATION:ON
CATEGORIES:Community News
ATTACH;FMTTYPE=image/jpeg:https://huronshores.ca/wp-content/uploads/2013/01/Alzheimers-Disease.jpg
END:VEVENT
BEGIN:VEVENT
DTSTART;TZID=America/Toronto:20151123T140000
DTEND;TZID=America/Toronto:20151123T153000
DTSTAMP:20260425T125547
CREATED:20151021T181815Z
LAST-MODIFIED:20151021T181815Z
UID:10015768-1448287200-1448292600@huronshores.ca
SUMMARY:Alzheimer Info & Discussion Group
DESCRIPTION:The Alzheimer Society of Sault Ste. Marie & Algoma District hosts an Information & Discussion Group on the 2nd Wednesday of each month\, at the Calvary Gospel Church\, 55 Queen Street\, Blind River from 2:00 – 3:30 p.m.  For more information please call Tanya\, First Link Coordinator\, at 705-848-8145.
URL:https://huronshores.ca/event/alzheimer-info-discussion-group-2/2015-11-23/
LOCATION:ON
CATEGORIES:Community News
ATTACH;FMTTYPE=image/jpeg:https://huronshores.ca/wp-content/uploads/2013/01/Alzheimers-Disease.jpg
END:VEVENT
BEGIN:VEVENT
DTSTART;TZID=America/Toronto:20151124T140000
DTEND;TZID=America/Toronto:20151124T153000
DTSTAMP:20260425T125547
CREATED:20151021T181815Z
LAST-MODIFIED:20151021T181815Z
UID:10015769-1448373600-1448379000@huronshores.ca
SUMMARY:Alzheimer Info & Discussion Group
DESCRIPTION:The Alzheimer Society of Sault Ste. Marie & Algoma District hosts an Information & Discussion Group on the 2nd Wednesday of each month\, at the Calvary Gospel Church\, 55 Queen Street\, Blind River from 2:00 – 3:30 p.m.  For more information please call Tanya\, First Link Coordinator\, at 705-848-8145.
URL:https://huronshores.ca/event/alzheimer-info-discussion-group-2/2015-11-24/
LOCATION:ON
CATEGORIES:Community News
ATTACH;FMTTYPE=image/jpeg:https://huronshores.ca/wp-content/uploads/2013/01/Alzheimers-Disease.jpg
END:VEVENT
BEGIN:VEVENT
DTSTART;TZID=America/Toronto:20151125T140000
DTEND;TZID=America/Toronto:20151125T153000
DTSTAMP:20260425T125547
CREATED:20151021T181815Z
LAST-MODIFIED:20151021T181815Z
UID:10015770-1448460000-1448465400@huronshores.ca
SUMMARY:Alzheimer Info & Discussion Group
DESCRIPTION:The Alzheimer Society of Sault Ste. Marie & Algoma District hosts an Information & Discussion Group on the 2nd Wednesday of each month\, at the Calvary Gospel Church\, 55 Queen Street\, Blind River from 2:00 – 3:30 p.m.  For more information please call Tanya\, First Link Coordinator\, at 705-848-8145.
URL:https://huronshores.ca/event/alzheimer-info-discussion-group-2/2015-11-25/
LOCATION:ON
CATEGORIES:Community News
ATTACH;FMTTYPE=image/jpeg:https://huronshores.ca/wp-content/uploads/2013/01/Alzheimers-Disease.jpg
END:VEVENT
BEGIN:VEVENT
DTSTART;TZID=America/Toronto:20151126T103000
DTEND;TZID=America/Toronto:20151126T143000
DTSTAMP:20260425T125547
CREATED:20151105T190748Z
LAST-MODIFIED:20151105T190748Z
UID:10019320-1448533800-1448548200@huronshores.ca
SUMMARY:Algoma Manor Christmas Luncheon & Bazaar
DESCRIPTION:The annual Christmas Luncheon and Bazaar at Algoma Manor will be held Thursday\, November 26th\, 2015.  The Bazaar hours are 10:30 a.m. – 2:30 p.m.  Luncheon starts at 11:30 a.m.  Cost:  $12.00/person\, Children under 6 $5.00.  Menu:  Homemade meat pie; mixed green salad; coleslaw; fancy cakes; coffee/tea.  The Algoma Manor Auxiliary is hosting a Bake Sale Table and there will be vendors selling knitting\, crocheting\, jewelry and herbal/bath products\, Avon and Watkins.  For more info please contact Gail at 705-842-2855.  This is a fundraiser for the Algoma Manor Charitable Association.
URL:https://huronshores.ca/event/algoma-manor-christmas-luncheon-bazaar/
LOCATION:ON
CATEGORIES:Community News
ATTACH;FMTTYPE=image/jpeg:https://huronshores.ca/wp-content/uploads/2015/11/Annual-Christmas-Bazaar.jpg
END:VEVENT
BEGIN:VEVENT
DTSTART;TZID=America/Toronto:20151126T140000
DTEND;TZID=America/Toronto:20151126T153000
DTSTAMP:20260425T125547
CREATED:20151021T181815Z
LAST-MODIFIED:20151021T181815Z
UID:10015771-1448546400-1448551800@huronshores.ca
SUMMARY:Alzheimer Info & Discussion Group
DESCRIPTION:The Alzheimer Society of Sault Ste. Marie & Algoma District hosts an Information & Discussion Group on the 2nd Wednesday of each month\, at the Calvary Gospel Church\, 55 Queen Street\, Blind River from 2:00 – 3:30 p.m.  For more information please call Tanya\, First Link Coordinator\, at 705-848-8145.
URL:https://huronshores.ca/event/alzheimer-info-discussion-group-2/2015-11-26/
LOCATION:ON
CATEGORIES:Community News
ATTACH;FMTTYPE=image/jpeg:https://huronshores.ca/wp-content/uploads/2013/01/Alzheimers-Disease.jpg
END:VEVENT
BEGIN:VEVENT
DTSTART;TZID=America/Toronto:20151126T180000
DTEND;TZID=America/Toronto:20151126T180000
DTSTAMP:20260425T125547
CREATED:20151117T212406Z
LAST-MODIFIED:20151117T212406Z
UID:10019391-1448560800-1448560800@huronshores.ca
SUMMARY:BRDHC Board of Trustees Meeting
DESCRIPTION:The public are invited to attend the Blind River District Health Centre Board of Trustees meeting on Tuesday\, November 24/15 at 6:00 p.m. in the BRDHC Board Room.
URL:https://huronshores.ca/event/brdhc-board-of-trustees-meeting-2/
LOCATION:ON
CATEGORIES:Community News
ATTACH;FMTTYPE=image/jpeg:https://huronshores.ca/wp-content/uploads/2014/04/BRDHC-Logo.jpg
END:VEVENT
BEGIN:VEVENT
DTSTART;TZID=America/Toronto:20151127T140000
DTEND;TZID=America/Toronto:20151127T153000
DTSTAMP:20260425T125547
CREATED:20151021T181815Z
LAST-MODIFIED:20151021T181815Z
UID:10015772-1448632800-1448638200@huronshores.ca
SUMMARY:Alzheimer Info & Discussion Group
DESCRIPTION:The Alzheimer Society of Sault Ste. Marie & Algoma District hosts an Information & Discussion Group on the 2nd Wednesday of each month\, at the Calvary Gospel Church\, 55 Queen Street\, Blind River from 2:00 – 3:30 p.m.  For more information please call Tanya\, First Link Coordinator\, at 705-848-8145.
URL:https://huronshores.ca/event/alzheimer-info-discussion-group-2/2015-11-27/
LOCATION:ON
CATEGORIES:Community News
ATTACH;FMTTYPE=image/jpeg:https://huronshores.ca/wp-content/uploads/2013/01/Alzheimers-Disease.jpg
END:VEVENT
BEGIN:VEVENT
DTSTART;TZID=America/Toronto:20151128T100000
DTEND;TZID=America/Toronto:20151128T150000
DTSTAMP:20260425T125547
CREATED:20151117T211345Z
LAST-MODIFIED:20151117T211345Z
UID:10019390-1448704800-1448722800@huronshores.ca
SUMMARY:Iron Bridge Lions Club Christmas Bazaar
DESCRIPTION:The Iron Bridge Lions Club is holding its annual Christmas Bazaar on Saturday\, November 28/15 from 10:00 a.m. to 3:00 p.m.  Talented vendors from across Algoma will display their talents.  Admission is free.  Lunch will be available for purchase.  Cash bar.  Come on out for an enjoyable afternoon!
URL:https://huronshores.ca/event/iron-bridge-lions-club-christmas-bazaar/
LOCATION:ON
CATEGORIES:Community News
ATTACH;FMTTYPE=image/jpeg:https://huronshores.ca/wp-content/uploads/2015/11/Annual-Christmas-Bazaar.jpg
END:VEVENT
BEGIN:VEVENT
DTSTART;TZID=America/Toronto:20151128T140000
DTEND;TZID=America/Toronto:20151128T153000
DTSTAMP:20260425T125547
CREATED:20151021T181815Z
LAST-MODIFIED:20151021T181815Z
UID:10015773-1448719200-1448724600@huronshores.ca
SUMMARY:Alzheimer Info & Discussion Group
DESCRIPTION:The Alzheimer Society of Sault Ste. Marie & Algoma District hosts an Information & Discussion Group on the 2nd Wednesday of each month\, at the Calvary Gospel Church\, 55 Queen Street\, Blind River from 2:00 – 3:30 p.m.  For more information please call Tanya\, First Link Coordinator\, at 705-848-8145.
URL:https://huronshores.ca/event/alzheimer-info-discussion-group-2/2015-11-28/
LOCATION:ON
CATEGORIES:Community News
ATTACH;FMTTYPE=image/jpeg:https://huronshores.ca/wp-content/uploads/2013/01/Alzheimers-Disease.jpg
END:VEVENT
BEGIN:VEVENT
DTSTART;TZID=America/Toronto:20151128T140000
DTEND;TZID=America/Toronto:20151128T160000
DTSTAMP:20260425T125547
CREATED:20151105T194404Z
LAST-MODIFIED:20151105T194404Z
UID:10019325-1448719200-1448726400@huronshores.ca
SUMMARY:Poets' Corner
DESCRIPTION:Poets’ Corner\, an open poetry forum for anyone wishing to read their poems or for those who enjoy poetry\, is being held Saturdays\, November 7th\, 14th\, and 28th from 2:00 – 4:00 p.m. at 101 Little Rapids Road.  Coffee/tea will be available.  Bring snacks to share if you wish. For more info call Patricia at 705-842-0123 or e-mail danielboileau6@gmail.com
URL:https://huronshores.ca/event/poets-corner/2015-11-28/
LOCATION:ON
CATEGORIES:Community News
ATTACH;FMTTYPE=image/jpeg:https://huronshores.ca/wp-content/uploads/2015/11/Poets-Corner.jpg
END:VEVENT
BEGIN:VEVENT
DTSTART;TZID=America/Toronto:20151129T140000
DTEND;TZID=America/Toronto:20151129T153000
DTSTAMP:20260425T125547
CREATED:20151021T181815Z
LAST-MODIFIED:20151021T181815Z
UID:10015774-1448805600-1448811000@huronshores.ca
SUMMARY:Alzheimer Info & Discussion Group
DESCRIPTION:The Alzheimer Society of Sault Ste. Marie & Algoma District hosts an Information & Discussion Group on the 2nd Wednesday of each month\, at the Calvary Gospel Church\, 55 Queen Street\, Blind River from 2:00 – 3:30 p.m.  For more information please call Tanya\, First Link Coordinator\, at 705-848-8145.
URL:https://huronshores.ca/event/alzheimer-info-discussion-group-2/2015-11-29/
LOCATION:ON
CATEGORIES:Community News
ATTACH;FMTTYPE=image/jpeg:https://huronshores.ca/wp-content/uploads/2013/01/Alzheimers-Disease.jpg
END:VEVENT
BEGIN:VEVENT
DTSTART;TZID=America/Toronto:20151130T083000
DTEND;TZID=America/Toronto:20151130T163000
DTSTAMP:20260425T125547
CREATED:20150814T160044Z
LAST-MODIFIED:20150814T160044Z
UID:10019336-1448872200-1448901000@huronshores.ca
SUMMARY:2015 Final Taxes:  2nd Installment Due
DESCRIPTION:The 2nd installment of the 2015 Final Tax Bill is due today at 4:30 p.m.  Payment may be remitted electronically via E-Payments on huronshores.ca; through your Canadian financial institution\, by mail\, or in person at the Municipal Office.  Please note that Cash or cheques\, in Canadian funds only\, are accepted at the Municipal Office.  Interac/Debit/Credit Card service is not available.
URL:https://huronshores.ca/event/2015-final-taxes-2nd-installment-due/
LOCATION:ON
CATEGORIES:Treasury
ATTACH;FMTTYPE=image/jpeg:https://huronshores.ca/wp-content/uploads/2013/08/huron-shores-logo-e1401726180192.jpg
END:VEVENT
BEGIN:VEVENT
DTSTART;TZID=America/Toronto:20151130T140000
DTEND;TZID=America/Toronto:20151130T153000
DTSTAMP:20260425T125547
CREATED:20151021T181815Z
LAST-MODIFIED:20151021T181815Z
UID:10015775-1448892000-1448897400@huronshores.ca
SUMMARY:Alzheimer Info & Discussion Group
DESCRIPTION:The Alzheimer Society of Sault Ste. Marie & Algoma District hosts an Information & Discussion Group on the 2nd Wednesday of each month\, at the Calvary Gospel Church\, 55 Queen Street\, Blind River from 2:00 – 3:30 p.m.  For more information please call Tanya\, First Link Coordinator\, at 705-848-8145.
URL:https://huronshores.ca/event/alzheimer-info-discussion-group-2/2015-11-30/
LOCATION:ON
CATEGORIES:Community News
ATTACH;FMTTYPE=image/jpeg:https://huronshores.ca/wp-content/uploads/2013/01/Alzheimers-Disease.jpg
END:VEVENT
BEGIN:VEVENT
DTSTART;TZID=America/Toronto:20151201T140000
DTEND;TZID=America/Toronto:20151201T153000
DTSTAMP:20260425T125547
CREATED:20151021T181815Z
LAST-MODIFIED:20151021T181815Z
UID:10015776-1448978400-1448983800@huronshores.ca
SUMMARY:Alzheimer Info & Discussion Group
DESCRIPTION:The Alzheimer Society of Sault Ste. Marie & Algoma District hosts an Information & Discussion Group on the 2nd Wednesday of each month\, at the Calvary Gospel Church\, 55 Queen Street\, Blind River from 2:00 – 3:30 p.m.  For more information please call Tanya\, First Link Coordinator\, at 705-848-8145.
URL:https://huronshores.ca/event/alzheimer-info-discussion-group-2/2015-12-01/
LOCATION:ON
CATEGORIES:Community News
ATTACH;FMTTYPE=image/jpeg:https://huronshores.ca/wp-content/uploads/2013/01/Alzheimers-Disease.jpg
END:VEVENT
BEGIN:VEVENT
DTSTART;TZID=America/Toronto:20151202T140000
DTEND;TZID=America/Toronto:20151202T153000
DTSTAMP:20260425T125547
CREATED:20151021T181815Z
LAST-MODIFIED:20151021T181815Z
UID:10015777-1449064800-1449070200@huronshores.ca
SUMMARY:Alzheimer Info & Discussion Group
DESCRIPTION:The Alzheimer Society of Sault Ste. Marie & Algoma District hosts an Information & Discussion Group on the 2nd Wednesday of each month\, at the Calvary Gospel Church\, 55 Queen Street\, Blind River from 2:00 – 3:30 p.m.  For more information please call Tanya\, First Link Coordinator\, at 705-848-8145.
URL:https://huronshores.ca/event/alzheimer-info-discussion-group-2/2015-12-02/
LOCATION:ON
CATEGORIES:Community News
ATTACH;FMTTYPE=image/jpeg:https://huronshores.ca/wp-content/uploads/2013/01/Alzheimers-Disease.jpg
END:VEVENT
BEGIN:VEVENT
DTSTART;TZID=America/Toronto:20151202T190000
DTEND;TZID=America/Toronto:20151202T210000
DTSTAMP:20260425T125547
CREATED:20150814T153900Z
LAST-MODIFIED:20150814T153900Z
UID:10019333-1449082800-1449090000@huronshores.ca
SUMMARY:Regular Council Meeting
DESCRIPTION:The Regular Meeting of Council will be held Wednesday\, December 2nd\, 2015\, at 7:00 p.m. in the Council Chambers\, 7 Bridge Street\, Iron Bridge.  The Agenda was posted on Monday\, November 30th.  Please click on the link below to view the Agenda post.
URL:https://huronshores.ca/event/regular-council-meeting-9/
LOCATION:ON
CATEGORIES:Council Meeting
ATTACH;FMTTYPE=image/jpeg:https://huronshores.ca/wp-content/uploads/2013/08/huron-shores-logo-e1401726180192.jpg
END:VEVENT
END:VCALENDAR