BEGIN:VCALENDAR
VERSION:2.0
PRODID:-//Huron Shores - ECPv6.15.11//NONSGML v1.0//EN
CALSCALE:GREGORIAN
METHOD:PUBLISH
X-WR-CALNAME:Huron Shores
X-ORIGINAL-URL:https://huronshores.ca
X-WR-CALDESC:Events for Huron Shores
REFRESH-INTERVAL;VALUE=DURATION:PT1H
X-Robots-Tag:noindex
X-PUBLISHED-TTL:PT1H
BEGIN:VTIMEZONE
TZID:America/Toronto
BEGIN:DAYLIGHT
TZOFFSETFROM:-0500
TZOFFSETTO:-0400
TZNAME:EDT
DTSTART:20170312T070000
END:DAYLIGHT
BEGIN:STANDARD
TZOFFSETFROM:-0400
TZOFFSETTO:-0500
TZNAME:EST
DTSTART:20171105T060000
END:STANDARD
BEGIN:DAYLIGHT
TZOFFSETFROM:-0500
TZOFFSETTO:-0400
TZNAME:EDT
DTSTART:20180311T070000
END:DAYLIGHT
BEGIN:STANDARD
TZOFFSETFROM:-0400
TZOFFSETTO:-0500
TZNAME:EST
DTSTART:20181104T060000
END:STANDARD
BEGIN:DAYLIGHT
TZOFFSETFROM:-0500
TZOFFSETTO:-0400
TZNAME:EDT
DTSTART:20190310T070000
END:DAYLIGHT
BEGIN:STANDARD
TZOFFSETFROM:-0400
TZOFFSETTO:-0500
TZNAME:EST
DTSTART:20191103T060000
END:STANDARD
END:VTIMEZONE
BEGIN:VEVENT
DTSTART;VALUE=DATE:20181007
DTEND;VALUE=DATE:20181014
DTSTAMP:20260422T180518
CREATED:20181001T181258Z
LAST-MODIFIED:20181001T181258Z
UID:10020076-1538870400-1539475199@huronshores.ca
SUMMARY:Fire Prevention Week
DESCRIPTION:
URL:https://huronshores.ca/event/fire-prevention-week-3/
LOCATION:ON
CATEGORIES:Community News,Fire Department,Health & Safety
ATTACH;FMTTYPE=image/jpeg:https://huronshores.ca/wp-content/uploads/2018/10/OFM-FPW-2018-Look-Listen-Learn-ENGLISH-Accessible.jpg
END:VEVENT
BEGIN:VEVENT
DTSTART;TZID=America/Toronto:20181007T140000
DTEND;TZID=America/Toronto:20181007T153000
DTSTAMP:20260422T180518
CREATED:20151021T181815Z
LAST-MODIFIED:20151021T181815Z
UID:10016819-1538920800-1538926200@huronshores.ca
SUMMARY:Alzheimer Info & Discussion Group
DESCRIPTION:The Alzheimer Society of Sault Ste. Marie & Algoma District hosts an Information & Discussion Group on the 2nd Wednesday of each month\, at the Calvary Gospel Church\, 55 Queen Street\, Blind River from 2:00 – 3:30 p.m.  For more information please call Tanya\, First Link Coordinator\, at 705-848-8145.
URL:https://huronshores.ca/event/alzheimer-info-discussion-group-2/2018-10-07/
LOCATION:ON
CATEGORIES:Community News
ATTACH;FMTTYPE=image/jpeg:https://huronshores.ca/wp-content/uploads/2013/01/Alzheimers-Disease.jpg
END:VEVENT
BEGIN:VEVENT
DTSTART;VALUE=DATE:20181008
DTEND;VALUE=DATE:20181009
DTSTAMP:20260422T180519
CREATED:20171129T204425Z
LAST-MODIFIED:20171129T204425Z
UID:10020424-1538956800-1539043199@huronshores.ca
SUMMARY:Thanksgiving
DESCRIPTION:The Municipal Office and all Waste Sites will be CLOSED for the Thanksgiving Holiday Monday.  The Office will re-open on Tuesday\, Oct. 9/18 at 8:30 a.m.; the Waste Sites on Wednesday\, Oct. 10/18 at 2:00 p.m.  Happy Thanksgiving from Council and staff of Huron Shores!
URL:https://huronshores.ca/event/thanksgiving/
LOCATION:ON
CATEGORIES:Community News,Office Closure,Waste Disposal
ATTACH;FMTTYPE=image/jpeg:https://huronshores.ca/wp-content/uploads/2015/07/happy-thanksgiving.jpg
END:VEVENT
BEGIN:VEVENT
DTSTART;TZID=America/Toronto:20181008T140000
DTEND;TZID=America/Toronto:20181008T153000
DTSTAMP:20260422T180519
CREATED:20151021T181815Z
LAST-MODIFIED:20151021T181815Z
UID:10016820-1539007200-1539012600@huronshores.ca
SUMMARY:Alzheimer Info & Discussion Group
DESCRIPTION:The Alzheimer Society of Sault Ste. Marie & Algoma District hosts an Information & Discussion Group on the 2nd Wednesday of each month\, at the Calvary Gospel Church\, 55 Queen Street\, Blind River from 2:00 – 3:30 p.m.  For more information please call Tanya\, First Link Coordinator\, at 705-848-8145.
URL:https://huronshores.ca/event/alzheimer-info-discussion-group-2/2018-10-08/
LOCATION:ON
CATEGORIES:Community News
ATTACH;FMTTYPE=image/jpeg:https://huronshores.ca/wp-content/uploads/2013/01/Alzheimers-Disease.jpg
END:VEVENT
BEGIN:VEVENT
DTSTART;TZID=America/Toronto:20181009T140000
DTEND;TZID=America/Toronto:20181009T153000
DTSTAMP:20260422T180519
CREATED:20151021T181815Z
LAST-MODIFIED:20151021T181815Z
UID:10016821-1539093600-1539099000@huronshores.ca
SUMMARY:Alzheimer Info & Discussion Group
DESCRIPTION:The Alzheimer Society of Sault Ste. Marie & Algoma District hosts an Information & Discussion Group on the 2nd Wednesday of each month\, at the Calvary Gospel Church\, 55 Queen Street\, Blind River from 2:00 – 3:30 p.m.  For more information please call Tanya\, First Link Coordinator\, at 705-848-8145.
URL:https://huronshores.ca/event/alzheimer-info-discussion-group-2/2018-10-09/
LOCATION:ON
CATEGORIES:Community News
ATTACH;FMTTYPE=image/jpeg:https://huronshores.ca/wp-content/uploads/2013/01/Alzheimers-Disease.jpg
END:VEVENT
BEGIN:VEVENT
DTSTART;TZID=America/Toronto:20181010T140000
DTEND;TZID=America/Toronto:20181010T153000
DTSTAMP:20260422T180519
CREATED:20151021T181815Z
LAST-MODIFIED:20151021T181815Z
UID:10016822-1539180000-1539185400@huronshores.ca
SUMMARY:Alzheimer Info & Discussion Group
DESCRIPTION:The Alzheimer Society of Sault Ste. Marie & Algoma District hosts an Information & Discussion Group on the 2nd Wednesday of each month\, at the Calvary Gospel Church\, 55 Queen Street\, Blind River from 2:00 – 3:30 p.m.  For more information please call Tanya\, First Link Coordinator\, at 705-848-8145.
URL:https://huronshores.ca/event/alzheimer-info-discussion-group-2/2018-10-10/
LOCATION:ON
CATEGORIES:Community News
ATTACH;FMTTYPE=image/jpeg:https://huronshores.ca/wp-content/uploads/2013/01/Alzheimers-Disease.jpg
END:VEVENT
BEGIN:VEVENT
DTSTART;TZID=America/Toronto:20181010T190000
DTEND;TZID=America/Toronto:20181010T200000
DTSTAMP:20260422T180519
CREATED:20180820T124008Z
LAST-MODIFIED:20180820T124008Z
UID:10020602-1539198000-1539201600@huronshores.ca
SUMMARY:Rollerblade Ball Hockey
DESCRIPTION:Begins on August 1st\, 2018 and runs every Wednesday night at 7:00 pm.  Kids of all ages welcome! Hosted by the Iron Bridge Recreation Committee. \nAdmission: $2/kid; Note: Must have knee and elbow pads and a helmet.
URL:https://huronshores.ca/event/rollerblade-ball-hockey/2018-10-10/
LOCATION:ON
CATEGORIES:Recreation
END:VEVENT
BEGIN:VEVENT
DTSTART;TZID=America/Toronto:20181010T193000
DTEND;TZID=America/Toronto:20181010T193000
DTSTAMP:20260422T180519
CREATED:20160721T182330Z
LAST-MODIFIED:20160721T182330Z
UID:10019744-1539199800-1539199800@huronshores.ca
SUMMARY:Jammin' Session at the Thessalon Community Curling Club
DESCRIPTION:Every Wedneday night at 7:30PM\, join us at Thessalon Community Curling Club for our Jammin’ Session. You play an instrument and love to play with other instrumentalists\, or just love to listen to live music\, then come on down…the bar is open! Everyone welcome! Bring a friend!
URL:https://huronshores.ca/event/jammin-session-at-the-thessalon-community-curling-club/2018-10-10/
LOCATION:ON
CATEGORIES:Recreation
END:VEVENT
BEGIN:VEVENT
DTSTART;TZID=America/Toronto:20181011T140000
DTEND;TZID=America/Toronto:20181011T153000
DTSTAMP:20260422T180519
CREATED:20151021T181815Z
LAST-MODIFIED:20151021T181815Z
UID:10016823-1539266400-1539271800@huronshores.ca
SUMMARY:Alzheimer Info & Discussion Group
DESCRIPTION:The Alzheimer Society of Sault Ste. Marie & Algoma District hosts an Information & Discussion Group on the 2nd Wednesday of each month\, at the Calvary Gospel Church\, 55 Queen Street\, Blind River from 2:00 – 3:30 p.m.  For more information please call Tanya\, First Link Coordinator\, at 705-848-8145.
URL:https://huronshores.ca/event/alzheimer-info-discussion-group-2/2018-10-11/
LOCATION:ON
CATEGORIES:Community News
ATTACH;FMTTYPE=image/jpeg:https://huronshores.ca/wp-content/uploads/2013/01/Alzheimers-Disease.jpg
END:VEVENT
BEGIN:VEVENT
DTSTART;TZID=America/Toronto:20181011T180000
DTEND;TZID=America/Toronto:20181011T190000
DTSTAMP:20260422T180519
CREATED:20180820T124956Z
LAST-MODIFIED:20180820T124956Z
UID:10020970-1539280800-1539284400@huronshores.ca
SUMMARY:Iron Bridge Recreation Family Walking Group
DESCRIPTION:Every Thursday beginning on August 9\, 2018 from 6:00-7:00 pm at the Iron Bridge Recreation Centre.  Hosted by the Iron Bridge Recreation Committee. \nFee by donation. Families are all welcomed to come! There will be toys for children to play with\, or they can join the walking group. There will be fitness tracker sheets available; a prize will be awarded for the most active participant. \nBenefits of walking:\nEvery minute of walking can extend your life by 1.5-2 minutes.\nIncreases physical activity.\nLowers obesity rates.\nLower risk of chronic diseases such as diabetes\, stroke and heart disease.\nReduces stress and depression.
URL:https://huronshores.ca/event/iron-bridge-recreation-family-walking-group/2018-10-11/
LOCATION:ON
CATEGORIES:Recreation
END:VEVENT
BEGIN:VEVENT
DTSTART;TZID=America/Toronto:20181012T140000
DTEND;TZID=America/Toronto:20181012T153000
DTSTAMP:20260422T180519
CREATED:20151021T181815Z
LAST-MODIFIED:20151021T181815Z
UID:10016824-1539352800-1539358200@huronshores.ca
SUMMARY:Alzheimer Info & Discussion Group
DESCRIPTION:The Alzheimer Society of Sault Ste. Marie & Algoma District hosts an Information & Discussion Group on the 2nd Wednesday of each month\, at the Calvary Gospel Church\, 55 Queen Street\, Blind River from 2:00 – 3:30 p.m.  For more information please call Tanya\, First Link Coordinator\, at 705-848-8145.
URL:https://huronshores.ca/event/alzheimer-info-discussion-group-2/2018-10-12/
LOCATION:ON
CATEGORIES:Community News
ATTACH;FMTTYPE=image/jpeg:https://huronshores.ca/wp-content/uploads/2013/01/Alzheimers-Disease.jpg
END:VEVENT
BEGIN:VEVENT
DTSTART;TZID=America/Toronto:20181012T163000
DTEND;TZID=America/Toronto:20181012T163000
DTSTAMP:20260422T180519
CREATED:20180918T134034Z
LAST-MODIFIED:20180918T134034Z
UID:10020074-1539361800-1539361800@huronshores.ca
SUMMARY:Blind River Fall Festival - Circus
DESCRIPTION:Blind River will host The Great Benjamin Circus\, Friday\, October 12/18.  Two shows:  4:30 p.m. and 7:00 p.m. at the Blind River Town Park.   The Circus features clowns\, juggling\, acrobats\, daredevils and much more!  Entertainment for children of all ages!  Please visit the website below for more info.
URL:https://huronshores.ca/event/blind-river-fall-festival-circus/
LOCATION:ON
CATEGORIES:Community News
ATTACH;FMTTYPE=image/png:https://huronshores.ca/wp-content/uploads/2018/09/Great-Benjamin-Circus.png
END:VEVENT
BEGIN:VEVENT
DTSTART;TZID=America/Toronto:20181012T190000
DTEND;TZID=America/Toronto:20181012T190000
DTSTAMP:20260422T180519
CREATED:20181005T175630Z
LAST-MODIFIED:20181005T175630Z
UID:10020077-1539370800-1539370800@huronshores.ca
SUMMARY:Huron Shores Mayoral Candidates Public Presentation
DESCRIPTION:A group of Huron Shores ratepayers has organized a Mayoral Candidates Public Presentation set for Friday\, October 12/18 at 7:00 p.m. at Sowerby Hall\, 1410 Basswood Lake Rd.  The two candidates are Eloise (Boe) Eldner and Georges Bilodeau.
URL:https://huronshores.ca/event/huron-shores-mayoral-candidates-public-presentation/
LOCATION:ON
CATEGORIES:Community News,Elections
ATTACH;FMTTYPE=image/png:https://huronshores.ca/wp-content/uploads/2018/10/Meet-the-Candidates.png
END:VEVENT
BEGIN:VEVENT
DTSTART;TZID=America/Toronto:20181013T100000
DTEND;TZID=America/Toronto:20181013T170000
DTSTAMP:20260422T180519
CREATED:20180713T132234Z
LAST-MODIFIED:20180713T132234Z
UID:10020573-1539424800-1539450000@huronshores.ca
SUMMARY:Municipal Election:  Advance Poll
DESCRIPTION:The Advance Poll for the 2018 Municipal Election will be held Saturday\, October 13/18 from 10:00 a.m. to 5:00 p.m.  Locations are as follows: \nADVANCE VOTING DAY:\nDate & Time:      Saturday\, October 13\, 2018\, 10:00 a.m. – 5:00 p.m.\nLocations:\nWard 1           Thessalon Twp. Community Centre\, 4 Little Rapids Rd.\, Little Rapids\nWard 2           Sowerby Hall\, 1410 Basswood Lake Rd.\, Sowerby\nWards 3 & 4    Huron Shores Municipal Council Chambers\, 7 Bridge St.\, Iron Bridge \n**PRIOR TO VOTING**\nPlease visit Voterlookup.ca to ensure you are on the List of Electors\, and that your information\, and the number of electors at your address are accurate. Also verify your voting location. If your information is not correct\, contact the Municipal Office. \nElection day is Monday\, October 22/18.
URL:https://huronshores.ca/event/municipal-election-advance-poll/
LOCATION:ON
CATEGORIES:Elections
ATTACH;FMTTYPE=image/png:https://huronshores.ca/wp-content/uploads/2018/04/untitled.png
END:VEVENT
BEGIN:VEVENT
DTSTART;TZID=America/Toronto:20181013T110000
DTEND;TZID=America/Toronto:20181013T110000
DTSTAMP:20260422T180519
CREATED:20181009T165121Z
LAST-MODIFIED:20181009T165121Z
UID:10020079-1539428400-1539428400@huronshores.ca
SUMMARY:Voyageur Trail Association AGM
DESCRIPTION:The Penewobikong Hiking Club is hosting The Voyageur Trail Association’s Annual General Meeting on Saturday\, October 13/18 at 11:00 a.m.\, at the Village Inn Diner (22337 Hwy. 17) in Iron Bridge.  Following the meeting\, everyone is welcome to enjoy lunch and participate in a hike.  The event is open to all\, including landowners\, volunteers and members.  Interested public may also join.  Please RSVP through Facebook  at the following link: https://www.facebook.com/events/1193667100757953/
URL:https://huronshores.ca/event/voyageur-trail-association-agm/
LOCATION:ON
CATEGORIES:Community News,Recreation
ATTACH;FMTTYPE=image/jpeg:https://huronshores.ca/wp-content/uploads/2018/10/Voyageur-Trail-Assn.jpg
END:VEVENT
BEGIN:VEVENT
DTSTART;TZID=America/Toronto:20181013T110000
DTEND;TZID=America/Toronto:20181013T230000
DTSTAMP:20260422T180519
CREATED:20180918T135016Z
LAST-MODIFIED:20180918T135016Z
UID:10020075-1539428400-1539471600@huronshores.ca
SUMMARY:Blind River Fall Festival & Sidewalk Sale
DESCRIPTION:The Blind River Main Street Merchants host the Fall Festival & Sidewalk Sale on Saturday\, October 13/18.  Various businesses/activities from 11:00 a.m. – 3:00 p.m. including music\, artisans\, pumpkin carving demonstrations\, Octoberfest Special\, fish fry & BBQ\,  Youth and Adult Pumpkin Carving Contests\, etc.   Instore Specials; Refreshments; Customer Appreciation Draws – times will vary by merchant.  For more info contact festivals@blindriver.ca or 705-356-2251 ext 222.  The Curling Club & Rotary Club host Octoberfest/Barbecue from 4:00 – 11:00 p.m.  One-on-One Curling Challenge\, Music Jam Session\, Cash Bar.  Contact Cathy at 705-356-1028 for more info.
URL:https://huronshores.ca/event/blind-river-fall-festival-sidewalk-sale/
LOCATION:ON
CATEGORIES:Community News
ATTACH;FMTTYPE=image/png:https://huronshores.ca/wp-content/uploads/2018/09/FallFest.png
END:VEVENT
BEGIN:VEVENT
DTSTART;TZID=America/Toronto:20181013T140000
DTEND;TZID=America/Toronto:20181013T153000
DTSTAMP:20260422T180519
CREATED:20151021T181815Z
LAST-MODIFIED:20151021T181815Z
UID:10016825-1539439200-1539444600@huronshores.ca
SUMMARY:Alzheimer Info & Discussion Group
DESCRIPTION:The Alzheimer Society of Sault Ste. Marie & Algoma District hosts an Information & Discussion Group on the 2nd Wednesday of each month\, at the Calvary Gospel Church\, 55 Queen Street\, Blind River from 2:00 – 3:30 p.m.  For more information please call Tanya\, First Link Coordinator\, at 705-848-8145.
URL:https://huronshores.ca/event/alzheimer-info-discussion-group-2/2018-10-13/
LOCATION:ON
CATEGORIES:Community News
ATTACH;FMTTYPE=image/jpeg:https://huronshores.ca/wp-content/uploads/2013/01/Alzheimers-Disease.jpg
END:VEVENT
BEGIN:VEVENT
DTSTART;TZID=America/Toronto:20181014T140000
DTEND;TZID=America/Toronto:20181014T153000
DTSTAMP:20260422T180519
CREATED:20151021T181815Z
LAST-MODIFIED:20151021T181815Z
UID:10016826-1539525600-1539531000@huronshores.ca
SUMMARY:Alzheimer Info & Discussion Group
DESCRIPTION:The Alzheimer Society of Sault Ste. Marie & Algoma District hosts an Information & Discussion Group on the 2nd Wednesday of each month\, at the Calvary Gospel Church\, 55 Queen Street\, Blind River from 2:00 – 3:30 p.m.  For more information please call Tanya\, First Link Coordinator\, at 705-848-8145.
URL:https://huronshores.ca/event/alzheimer-info-discussion-group-2/2018-10-14/
LOCATION:ON
CATEGORIES:Community News
ATTACH;FMTTYPE=image/jpeg:https://huronshores.ca/wp-content/uploads/2013/01/Alzheimers-Disease.jpg
END:VEVENT
BEGIN:VEVENT
DTSTART;TZID=America/Toronto:20181014T150000
DTEND;TZID=America/Toronto:20181014T150000
DTSTAMP:20260422T180519
CREATED:20181005T203051Z
LAST-MODIFIED:20181005T203051Z
UID:10020078-1539529200-1539529200@huronshores.ca
SUMMARY:Historical Presentation:  Ron Burgess\, Author of The Lake Captain
DESCRIPTION:
URL:https://huronshores.ca/event/historical-presentation-ron-burgess-author-of-the-lake-captain/
LOCATION:ON
CATEGORIES:Community News,Recreation
ATTACH;FMTTYPE=image/jpeg:https://huronshores.ca/wp-content/uploads/2018/10/The-Lake-Captain.jpg
END:VEVENT
BEGIN:VEVENT
DTSTART;TZID=America/Toronto:20181015T140000
DTEND;TZID=America/Toronto:20181015T153000
DTSTAMP:20260422T180519
CREATED:20151021T181815Z
LAST-MODIFIED:20151021T181815Z
UID:10016827-1539612000-1539617400@huronshores.ca
SUMMARY:Alzheimer Info & Discussion Group
DESCRIPTION:The Alzheimer Society of Sault Ste. Marie & Algoma District hosts an Information & Discussion Group on the 2nd Wednesday of each month\, at the Calvary Gospel Church\, 55 Queen Street\, Blind River from 2:00 – 3:30 p.m.  For more information please call Tanya\, First Link Coordinator\, at 705-848-8145.
URL:https://huronshores.ca/event/alzheimer-info-discussion-group-2/2018-10-15/
LOCATION:ON
CATEGORIES:Community News
ATTACH;FMTTYPE=image/jpeg:https://huronshores.ca/wp-content/uploads/2013/01/Alzheimers-Disease.jpg
END:VEVENT
BEGIN:VEVENT
DTSTART;TZID=America/Toronto:20181016T140000
DTEND;TZID=America/Toronto:20181016T153000
DTSTAMP:20260422T180519
CREATED:20151021T181815Z
LAST-MODIFIED:20151021T181815Z
UID:10016828-1539698400-1539703800@huronshores.ca
SUMMARY:Alzheimer Info & Discussion Group
DESCRIPTION:The Alzheimer Society of Sault Ste. Marie & Algoma District hosts an Information & Discussion Group on the 2nd Wednesday of each month\, at the Calvary Gospel Church\, 55 Queen Street\, Blind River from 2:00 – 3:30 p.m.  For more information please call Tanya\, First Link Coordinator\, at 705-848-8145.
URL:https://huronshores.ca/event/alzheimer-info-discussion-group-2/2018-10-16/
LOCATION:ON
CATEGORIES:Community News
ATTACH;FMTTYPE=image/jpeg:https://huronshores.ca/wp-content/uploads/2013/01/Alzheimers-Disease.jpg
END:VEVENT
BEGIN:VEVENT
DTSTART;TZID=America/Toronto:20181017T140000
DTEND;TZID=America/Toronto:20181017T153000
DTSTAMP:20260422T180519
CREATED:20151021T181815Z
LAST-MODIFIED:20151021T181815Z
UID:10016829-1539784800-1539790200@huronshores.ca
SUMMARY:Alzheimer Info & Discussion Group
DESCRIPTION:The Alzheimer Society of Sault Ste. Marie & Algoma District hosts an Information & Discussion Group on the 2nd Wednesday of each month\, at the Calvary Gospel Church\, 55 Queen Street\, Blind River from 2:00 – 3:30 p.m.  For more information please call Tanya\, First Link Coordinator\, at 705-848-8145.
URL:https://huronshores.ca/event/alzheimer-info-discussion-group-2/2018-10-17/
LOCATION:ON
CATEGORIES:Community News
ATTACH;FMTTYPE=image/jpeg:https://huronshores.ca/wp-content/uploads/2013/01/Alzheimers-Disease.jpg
END:VEVENT
BEGIN:VEVENT
DTSTART;TZID=America/Toronto:20181017T190000
DTEND;TZID=America/Toronto:20181017T200000
DTSTAMP:20260422T180519
CREATED:20180820T124008Z
LAST-MODIFIED:20180820T124008Z
UID:10020603-1539802800-1539806400@huronshores.ca
SUMMARY:Rollerblade Ball Hockey
DESCRIPTION:Begins on August 1st\, 2018 and runs every Wednesday night at 7:00 pm.  Kids of all ages welcome! Hosted by the Iron Bridge Recreation Committee. \nAdmission: $2/kid; Note: Must have knee and elbow pads and a helmet.
URL:https://huronshores.ca/event/rollerblade-ball-hockey/2018-10-17/
LOCATION:ON
CATEGORIES:Recreation
END:VEVENT
BEGIN:VEVENT
DTSTART;TZID=America/Toronto:20181017T193000
DTEND;TZID=America/Toronto:20181017T193000
DTSTAMP:20260422T180519
CREATED:20160721T182330Z
LAST-MODIFIED:20160721T182330Z
UID:10019745-1539804600-1539804600@huronshores.ca
SUMMARY:Jammin' Session at the Thessalon Community Curling Club
DESCRIPTION:Every Wedneday night at 7:30PM\, join us at Thessalon Community Curling Club for our Jammin’ Session. You play an instrument and love to play with other instrumentalists\, or just love to listen to live music\, then come on down…the bar is open! Everyone welcome! Bring a friend!
URL:https://huronshores.ca/event/jammin-session-at-the-thessalon-community-curling-club/2018-10-17/
LOCATION:ON
CATEGORIES:Recreation
END:VEVENT
BEGIN:VEVENT
DTSTART;TZID=America/Toronto:20181018T140000
DTEND;TZID=America/Toronto:20181018T153000
DTSTAMP:20260422T180519
CREATED:20151021T181815Z
LAST-MODIFIED:20151021T181815Z
UID:10016830-1539871200-1539876600@huronshores.ca
SUMMARY:Alzheimer Info & Discussion Group
DESCRIPTION:The Alzheimer Society of Sault Ste. Marie & Algoma District hosts an Information & Discussion Group on the 2nd Wednesday of each month\, at the Calvary Gospel Church\, 55 Queen Street\, Blind River from 2:00 – 3:30 p.m.  For more information please call Tanya\, First Link Coordinator\, at 705-848-8145.
URL:https://huronshores.ca/event/alzheimer-info-discussion-group-2/2018-10-18/
LOCATION:ON
CATEGORIES:Community News
ATTACH;FMTTYPE=image/jpeg:https://huronshores.ca/wp-content/uploads/2013/01/Alzheimers-Disease.jpg
END:VEVENT
BEGIN:VEVENT
DTSTART;TZID=America/Toronto:20181018T180000
DTEND;TZID=America/Toronto:20181018T190000
DTSTAMP:20260422T180519
CREATED:20180820T124956Z
LAST-MODIFIED:20180820T124956Z
UID:10020971-1539885600-1539889200@huronshores.ca
SUMMARY:Iron Bridge Recreation Family Walking Group
DESCRIPTION:Every Thursday beginning on August 9\, 2018 from 6:00-7:00 pm at the Iron Bridge Recreation Centre.  Hosted by the Iron Bridge Recreation Committee. \nFee by donation. Families are all welcomed to come! There will be toys for children to play with\, or they can join the walking group. There will be fitness tracker sheets available; a prize will be awarded for the most active participant. \nBenefits of walking:\nEvery minute of walking can extend your life by 1.5-2 minutes.\nIncreases physical activity.\nLowers obesity rates.\nLower risk of chronic diseases such as diabetes\, stroke and heart disease.\nReduces stress and depression.
URL:https://huronshores.ca/event/iron-bridge-recreation-family-walking-group/2018-10-18/
LOCATION:ON
CATEGORIES:Recreation
END:VEVENT
BEGIN:VEVENT
DTSTART;TZID=America/Toronto:20181018T190000
DTEND;TZID=America/Toronto:20181018T203000
DTSTAMP:20260422T180519
CREATED:20181009T172554Z
LAST-MODIFIED:20181009T172554Z
UID:10020080-1539889200-1539894600@huronshores.ca
SUMMARY:Alzheimer's Society Presentation
DESCRIPTION:The Alzheimer’s Society of Sault Ste. Marie will hold a presentation on Thursday\, October 18/18 from 7:00-8:30 p.m. at St. Ambrose Roman Catholic Church\, 286 Water Street\, Thessalon.  A question period and time for refreshments will follow.  Plan to come and bring a friend to this informative meeting.
URL:https://huronshores.ca/event/alzheimers-society-presentation/
LOCATION:ON
CATEGORIES:Community News
ATTACH;FMTTYPE=image/jpeg:https://huronshores.ca/wp-content/uploads/2013/01/Alzheimers-Disease.jpg
END:VEVENT
BEGIN:VEVENT
DTSTART;TZID=America/Toronto:20181019T083000
DTEND;TZID=America/Toronto:20181019T163000
DTSTAMP:20260422T180519
CREATED:20181011T184113Z
LAST-MODIFIED:20181011T184113Z
UID:10021342-1539937800-1539966600@huronshores.ca
SUMMARY:Dress For the Cause in Huron Shores
DESCRIPTION:Be sure to stop by the Municipal Office on Friday\, October 19th\, for a cup of coffee or tea and a sampling of home-baked goodies as Huron Shores staff participate in Dress for the Cause to raise funds for Breast Cancer Research.  Wear your pink!
URL:https://huronshores.ca/event/dress-for-the-cause-in-huron-shores/
LOCATION:ON
CATEGORIES:Community News
ATTACH;FMTTYPE=image/png:https://huronshores.ca/wp-content/uploads/2017/10/Breast-Cancer-Society-of-Canada.png
END:VEVENT
BEGIN:VEVENT
DTSTART;TZID=America/Toronto:20181019T140000
DTEND;TZID=America/Toronto:20181019T153000
DTSTAMP:20260422T180519
CREATED:20151021T181815Z
LAST-MODIFIED:20151021T181815Z
UID:10016831-1539957600-1539963000@huronshores.ca
SUMMARY:Alzheimer Info & Discussion Group
DESCRIPTION:The Alzheimer Society of Sault Ste. Marie & Algoma District hosts an Information & Discussion Group on the 2nd Wednesday of each month\, at the Calvary Gospel Church\, 55 Queen Street\, Blind River from 2:00 – 3:30 p.m.  For more information please call Tanya\, First Link Coordinator\, at 705-848-8145.
URL:https://huronshores.ca/event/alzheimer-info-discussion-group-2/2018-10-19/
LOCATION:ON
CATEGORIES:Community News
ATTACH;FMTTYPE=image/jpeg:https://huronshores.ca/wp-content/uploads/2013/01/Alzheimers-Disease.jpg
END:VEVENT
BEGIN:VEVENT
DTSTART;TZID=America/Toronto:20181019T190000
DTEND;TZID=America/Toronto:20181019T190000
DTSTAMP:20260422T180519
CREATED:20181009T173650Z
LAST-MODIFIED:20181009T173650Z
UID:10020081-1539975600-1539975600@huronshores.ca
SUMMARY:Story Telling Cafe
DESCRIPTION:The Thessalon Public Library hosts a Story Telling Café\, Friday\, October 19/18 at 7:00 p.m.  Come & enjoy an evening of entertaining stories.  Refreshments provided & donations to the Library gratefully accepted.
URL:https://huronshores.ca/event/story-telling-cafe/
LOCATION:ON
CATEGORIES:Community News,Recreation
ATTACH;FMTTYPE=image/png:https://huronshores.ca/wp-content/uploads/2018/10/Whats-Your-Story-Logo.png
END:VEVENT
END:VCALENDAR