BEGIN:VCALENDAR
VERSION:2.0
PRODID:-//Huron Shores - ECPv6.15.11//NONSGML v1.0//EN
CALSCALE:GREGORIAN
METHOD:PUBLISH
X-WR-CALNAME:Huron Shores
X-ORIGINAL-URL:https://huronshores.ca
X-WR-CALDESC:Events for Huron Shores
REFRESH-INTERVAL;VALUE=DURATION:PT1H
X-Robots-Tag:noindex
X-PUBLISHED-TTL:PT1H
BEGIN:VTIMEZONE
TZID:America/Toronto
BEGIN:DAYLIGHT
TZOFFSETFROM:-0500
TZOFFSETTO:-0400
TZNAME:EDT
DTSTART:20170312T070000
END:DAYLIGHT
BEGIN:STANDARD
TZOFFSETFROM:-0400
TZOFFSETTO:-0500
TZNAME:EST
DTSTART:20171105T060000
END:STANDARD
BEGIN:DAYLIGHT
TZOFFSETFROM:-0500
TZOFFSETTO:-0400
TZNAME:EDT
DTSTART:20180311T070000
END:DAYLIGHT
BEGIN:STANDARD
TZOFFSETFROM:-0400
TZOFFSETTO:-0500
TZNAME:EST
DTSTART:20181104T060000
END:STANDARD
BEGIN:DAYLIGHT
TZOFFSETFROM:-0500
TZOFFSETTO:-0400
TZNAME:EDT
DTSTART:20190310T070000
END:DAYLIGHT
BEGIN:STANDARD
TZOFFSETFROM:-0400
TZOFFSETTO:-0500
TZNAME:EST
DTSTART:20191103T060000
END:STANDARD
END:VTIMEZONE
BEGIN:VEVENT
DTSTART;TZID=America/Toronto:20181108T180000
DTEND;TZID=America/Toronto:20181108T190000
DTSTAMP:20260422T064718
CREATED:20180820T124956Z
LAST-MODIFIED:20180820T124956Z
UID:10020974-1541700000-1541703600@huronshores.ca
SUMMARY:Iron Bridge Recreation Family Walking Group
DESCRIPTION:Every Thursday beginning on August 9\, 2018 from 6:00-7:00 pm at the Iron Bridge Recreation Centre.  Hosted by the Iron Bridge Recreation Committee. \nFee by donation. Families are all welcomed to come! There will be toys for children to play with\, or they can join the walking group. There will be fitness tracker sheets available; a prize will be awarded for the most active participant. \nBenefits of walking:\nEvery minute of walking can extend your life by 1.5-2 minutes.\nIncreases physical activity.\nLowers obesity rates.\nLower risk of chronic diseases such as diabetes\, stroke and heart disease.\nReduces stress and depression.
URL:https://huronshores.ca/event/iron-bridge-recreation-family-walking-group/2018-11-08/
LOCATION:ON
CATEGORIES:Recreation
END:VEVENT
BEGIN:VEVENT
DTSTART;TZID=America/Toronto:20181109T140000
DTEND;TZID=America/Toronto:20181109T153000
DTSTAMP:20260422T064718
CREATED:20151021T181815Z
LAST-MODIFIED:20151021T181815Z
UID:10016852-1541772000-1541777400@huronshores.ca
SUMMARY:Alzheimer Info & Discussion Group
DESCRIPTION:The Alzheimer Society of Sault Ste. Marie & Algoma District hosts an Information & Discussion Group on the 2nd Wednesday of each month\, at the Calvary Gospel Church\, 55 Queen Street\, Blind River from 2:00 – 3:30 p.m.  For more information please call Tanya\, First Link Coordinator\, at 705-848-8145.
URL:https://huronshores.ca/event/alzheimer-info-discussion-group-2/2018-11-09/
LOCATION:ON
CATEGORIES:Community News
ATTACH;FMTTYPE=image/jpeg:https://huronshores.ca/wp-content/uploads/2013/01/Alzheimers-Disease.jpg
END:VEVENT
BEGIN:VEVENT
DTSTART;TZID=America/Toronto:20181110T140000
DTEND;TZID=America/Toronto:20181110T153000
DTSTAMP:20260422T064718
CREATED:20151021T181815Z
LAST-MODIFIED:20151021T181815Z
UID:10016853-1541858400-1541863800@huronshores.ca
SUMMARY:Alzheimer Info & Discussion Group
DESCRIPTION:The Alzheimer Society of Sault Ste. Marie & Algoma District hosts an Information & Discussion Group on the 2nd Wednesday of each month\, at the Calvary Gospel Church\, 55 Queen Street\, Blind River from 2:00 – 3:30 p.m.  For more information please call Tanya\, First Link Coordinator\, at 705-848-8145.
URL:https://huronshores.ca/event/alzheimer-info-discussion-group-2/2018-11-10/
LOCATION:ON
CATEGORIES:Community News
ATTACH;FMTTYPE=image/jpeg:https://huronshores.ca/wp-content/uploads/2013/01/Alzheimers-Disease.jpg
END:VEVENT
BEGIN:VEVENT
DTSTART;TZID=America/Toronto:20181110T190000
DTEND;TZID=America/Toronto:20181110T210000
DTSTAMP:20260422T064718
CREATED:20181009T184555Z
LAST-MODIFIED:20181009T184555Z
UID:10021335-1541876400-1541883600@huronshores.ca
SUMMARY:Sgt. Wilson's Music on the Bridge
DESCRIPTION:Sgt. Wilson’s Music on the Bridge will be held Saturday\, November 10/18 from 7:00-9:00 p.m. at the Bruce Mines Community Hall.  Hosted by RC Legion Branch 211 Bruce Mines.  Tickets may be purchased at Marla’s Hairdressing; Barber on the Bay\, Twp. of Plummer Additional Office & RC Legion Branch 211.  If you wish to reserve tickets\, please call Jean at 705-785-3862 & leave a message.
URL:https://huronshores.ca/event/sgt-wilsons-music-on-the-bridge/
LOCATION:ON
CATEGORIES:Community News
END:VEVENT
BEGIN:VEVENT
DTSTART;VALUE=DATE:20181111
DTEND;VALUE=DATE:20181112
DTSTAMP:20260422T064718
CREATED:20171129T205932Z
LAST-MODIFIED:20171129T205932Z
UID:10020429-1541894400-1541980799@huronshores.ca
SUMMARY:Remembrance Day
DESCRIPTION:If Remembrance Day falls on a regular business day\, the Municipal Office will be CLOSED.  If the day falls on a regular Waste Site operating day (Monday\, Wednesday\, or Saturday)\, all the Waste Sites will be CLOSED in observance as well. \nPlease take the time to thank a veteran or a member of the armed forces/reserves and attend one of your community’s Remembrance Day services.  Services in our area are in Blind River\, Iron Bridge\, and Thessalon.  Lest we forget.
URL:https://huronshores.ca/event/remembrance-day-2/2018-11-11/
LOCATION:ON
CATEGORIES:Community News,Office Closure,Waste Disposal
ATTACH;FMTTYPE=image/jpeg:https://huronshores.ca/wp-content/uploads/2014/11/remembrance-poppy.jpg
END:VEVENT
BEGIN:VEVENT
DTSTART;TZID=America/Toronto:20181111T140000
DTEND;TZID=America/Toronto:20181111T153000
DTSTAMP:20260422T064718
CREATED:20151021T181815Z
LAST-MODIFIED:20151021T181815Z
UID:10016854-1541944800-1541950200@huronshores.ca
SUMMARY:Alzheimer Info & Discussion Group
DESCRIPTION:The Alzheimer Society of Sault Ste. Marie & Algoma District hosts an Information & Discussion Group on the 2nd Wednesday of each month\, at the Calvary Gospel Church\, 55 Queen Street\, Blind River from 2:00 – 3:30 p.m.  For more information please call Tanya\, First Link Coordinator\, at 705-848-8145.
URL:https://huronshores.ca/event/alzheimer-info-discussion-group-2/2018-11-11/
LOCATION:ON
CATEGORIES:Community News
ATTACH;FMTTYPE=image/jpeg:https://huronshores.ca/wp-content/uploads/2013/01/Alzheimers-Disease.jpg
END:VEVENT
BEGIN:VEVENT
DTSTART;TZID=America/Toronto:20181112T140000
DTEND;TZID=America/Toronto:20181112T153000
DTSTAMP:20260422T064718
CREATED:20151021T181815Z
LAST-MODIFIED:20151021T181815Z
UID:10016855-1542031200-1542036600@huronshores.ca
SUMMARY:Alzheimer Info & Discussion Group
DESCRIPTION:The Alzheimer Society of Sault Ste. Marie & Algoma District hosts an Information & Discussion Group on the 2nd Wednesday of each month\, at the Calvary Gospel Church\, 55 Queen Street\, Blind River from 2:00 – 3:30 p.m.  For more information please call Tanya\, First Link Coordinator\, at 705-848-8145.
URL:https://huronshores.ca/event/alzheimer-info-discussion-group-2/2018-11-12/
LOCATION:ON
CATEGORIES:Community News
ATTACH;FMTTYPE=image/jpeg:https://huronshores.ca/wp-content/uploads/2013/01/Alzheimers-Disease.jpg
END:VEVENT
BEGIN:VEVENT
DTSTART;TZID=America/Toronto:20181113T140000
DTEND;TZID=America/Toronto:20181113T153000
DTSTAMP:20260422T064718
CREATED:20151021T181815Z
LAST-MODIFIED:20151021T181815Z
UID:10016856-1542117600-1542123000@huronshores.ca
SUMMARY:Alzheimer Info & Discussion Group
DESCRIPTION:The Alzheimer Society of Sault Ste. Marie & Algoma District hosts an Information & Discussion Group on the 2nd Wednesday of each month\, at the Calvary Gospel Church\, 55 Queen Street\, Blind River from 2:00 – 3:30 p.m.  For more information please call Tanya\, First Link Coordinator\, at 705-848-8145.
URL:https://huronshores.ca/event/alzheimer-info-discussion-group-2/2018-11-13/
LOCATION:ON
CATEGORIES:Community News
ATTACH;FMTTYPE=image/jpeg:https://huronshores.ca/wp-content/uploads/2013/01/Alzheimers-Disease.jpg
END:VEVENT
BEGIN:VEVENT
DTSTART;TZID=America/Toronto:20181114T140000
DTEND;TZID=America/Toronto:20181114T153000
DTSTAMP:20260422T064718
CREATED:20151021T181815Z
LAST-MODIFIED:20151021T181815Z
UID:10016857-1542204000-1542209400@huronshores.ca
SUMMARY:Alzheimer Info & Discussion Group
DESCRIPTION:The Alzheimer Society of Sault Ste. Marie & Algoma District hosts an Information & Discussion Group on the 2nd Wednesday of each month\, at the Calvary Gospel Church\, 55 Queen Street\, Blind River from 2:00 – 3:30 p.m.  For more information please call Tanya\, First Link Coordinator\, at 705-848-8145.
URL:https://huronshores.ca/event/alzheimer-info-discussion-group-2/2018-11-14/
LOCATION:ON
CATEGORIES:Community News
ATTACH;FMTTYPE=image/jpeg:https://huronshores.ca/wp-content/uploads/2013/01/Alzheimers-Disease.jpg
END:VEVENT
BEGIN:VEVENT
DTSTART;TZID=America/Toronto:20181114T190000
DTEND;TZID=America/Toronto:20181114T190000
DTSTAMP:20260422T064718
CREATED:20171129T171039Z
LAST-MODIFIED:20171129T171039Z
UID:10020407-1542222000-1542222000@huronshores.ca
SUMMARY:Regular Meeting of Council
DESCRIPTION:The Regular Meeting of Council will convene at 7:00 p.m. in the Council Chambers\, 7 Bridge Street\, Iron Bridge.  The Agenda is posted on huronshores.ca and at the Municipal Office the Monday prior unless that day is a holiday.  It would then be posted on the Tuesday.  Council Meetings are scheduled as follows:  January – June & September – November\, 2nd & 4th Wednesdays; July & August\, 2nd Wednesday only; December\, 3rd Wednesday unless otherwise scheduled.  Periodically Special Meetings are called in order to deliberate a specific matter.  As per the Municipal Act\, all Council Meetings are conducted in public.  Members of the public are able to observe the proceedings from the gallery.  If you wish to address Council directly with respect to a specific matter or concern\, please contact the Municipal Office by the Friday prior in order to be included as a Delegation on the Meeting Agenda.  Please click on the link below to learn more about Delegations and Deputations.
URL:https://huronshores.ca/event/regular-meeting-council-7/2018-11-14/
LOCATION:ON
CATEGORIES:Council Meeting
ATTACH;FMTTYPE=:
END:VEVENT
BEGIN:VEVENT
DTSTART;TZID=America/Toronto:20181114T190000
DTEND;TZID=America/Toronto:20181114T190000
DTSTAMP:20260422T064718
CREATED:20180814T172101Z
LAST-MODIFIED:20180814T172101Z
UID:10020581-1542222000-1542222000@huronshores.ca
SUMMARY:Regular Meeting of Council
DESCRIPTION:The Regular Meeting of Council will be held at 7:00 p.m. in the Council Chambers\, 7 Bridge St.\, Iron Bridge.  As per the Municipal Act\, all meetings of Council are conducted in public.  If you wish to appear as a Delegation\, please contact the Clerk/Administrator by the Friday prior to the meeting  in order to be included on the Council Agenda and any information may be included in the councillor information packages.  Please click on the link below to learn more about Delegations and Deputations.  The Agenda is typically posted on Monday\, or Tuesday\, if Monday is a holiday.
URL:https://huronshores.ca/event/regular-meeting-of-council-2/2018-11-14/
LOCATION:ON
CATEGORIES:Council Meeting
ATTACH;FMTTYPE=:
END:VEVENT
BEGIN:VEVENT
DTSTART;TZID=America/Toronto:20181114T190000
DTEND;TZID=America/Toronto:20181114T200000
DTSTAMP:20260422T064718
CREATED:20180820T124008Z
LAST-MODIFIED:20180820T124008Z
UID:10020607-1542222000-1542225600@huronshores.ca
SUMMARY:Rollerblade Ball Hockey
DESCRIPTION:Begins on August 1st\, 2018 and runs every Wednesday night at 7:00 pm.  Kids of all ages welcome! Hosted by the Iron Bridge Recreation Committee. \nAdmission: $2/kid; Note: Must have knee and elbow pads and a helmet.
URL:https://huronshores.ca/event/rollerblade-ball-hockey/2018-11-14/
LOCATION:ON
CATEGORIES:Recreation
END:VEVENT
BEGIN:VEVENT
DTSTART;TZID=America/Toronto:20181114T193000
DTEND;TZID=America/Toronto:20181114T193000
DTSTAMP:20260422T064718
CREATED:20160721T182330Z
LAST-MODIFIED:20160721T182330Z
UID:10019749-1542223800-1542223800@huronshores.ca
SUMMARY:Jammin' Session at the Thessalon Community Curling Club
DESCRIPTION:Every Wedneday night at 7:30PM\, join us at Thessalon Community Curling Club for our Jammin’ Session. You play an instrument and love to play with other instrumentalists\, or just love to listen to live music\, then come on down…the bar is open! Everyone welcome! Bring a friend!
URL:https://huronshores.ca/event/jammin-session-at-the-thessalon-community-curling-club/2018-11-14/
LOCATION:ON
CATEGORIES:Recreation
END:VEVENT
BEGIN:VEVENT
DTSTART;TZID=America/Toronto:20181115T140000
DTEND;TZID=America/Toronto:20181115T153000
DTSTAMP:20260422T064718
CREATED:20151021T181815Z
LAST-MODIFIED:20151021T181815Z
UID:10016858-1542290400-1542295800@huronshores.ca
SUMMARY:Alzheimer Info & Discussion Group
DESCRIPTION:The Alzheimer Society of Sault Ste. Marie & Algoma District hosts an Information & Discussion Group on the 2nd Wednesday of each month\, at the Calvary Gospel Church\, 55 Queen Street\, Blind River from 2:00 – 3:30 p.m.  For more information please call Tanya\, First Link Coordinator\, at 705-848-8145.
URL:https://huronshores.ca/event/alzheimer-info-discussion-group-2/2018-11-15/
LOCATION:ON
CATEGORIES:Community News
ATTACH;FMTTYPE=image/jpeg:https://huronshores.ca/wp-content/uploads/2013/01/Alzheimers-Disease.jpg
END:VEVENT
BEGIN:VEVENT
DTSTART;TZID=America/Toronto:20181115T180000
DTEND;TZID=America/Toronto:20181115T190000
DTSTAMP:20260422T064718
CREATED:20180820T124956Z
LAST-MODIFIED:20180820T124956Z
UID:10020975-1542304800-1542308400@huronshores.ca
SUMMARY:Iron Bridge Recreation Family Walking Group
DESCRIPTION:Every Thursday beginning on August 9\, 2018 from 6:00-7:00 pm at the Iron Bridge Recreation Centre.  Hosted by the Iron Bridge Recreation Committee. \nFee by donation. Families are all welcomed to come! There will be toys for children to play with\, or they can join the walking group. There will be fitness tracker sheets available; a prize will be awarded for the most active participant. \nBenefits of walking:\nEvery minute of walking can extend your life by 1.5-2 minutes.\nIncreases physical activity.\nLowers obesity rates.\nLower risk of chronic diseases such as diabetes\, stroke and heart disease.\nReduces stress and depression.
URL:https://huronshores.ca/event/iron-bridge-recreation-family-walking-group/2018-11-15/
LOCATION:ON
CATEGORIES:Recreation
END:VEVENT
BEGIN:VEVENT
DTSTART;TZID=America/Toronto:20181116T140000
DTEND;TZID=America/Toronto:20181116T153000
DTSTAMP:20260422T064718
CREATED:20151021T181815Z
LAST-MODIFIED:20151021T181815Z
UID:10016859-1542376800-1542382200@huronshores.ca
SUMMARY:Alzheimer Info & Discussion Group
DESCRIPTION:The Alzheimer Society of Sault Ste. Marie & Algoma District hosts an Information & Discussion Group on the 2nd Wednesday of each month\, at the Calvary Gospel Church\, 55 Queen Street\, Blind River from 2:00 – 3:30 p.m.  For more information please call Tanya\, First Link Coordinator\, at 705-848-8145.
URL:https://huronshores.ca/event/alzheimer-info-discussion-group-2/2018-11-16/
LOCATION:ON
CATEGORIES:Community News
ATTACH;FMTTYPE=image/jpeg:https://huronshores.ca/wp-content/uploads/2013/01/Alzheimers-Disease.jpg
END:VEVENT
BEGIN:VEVENT
DTSTART;TZID=America/Toronto:20181116T180000
DTEND;TZID=America/Toronto:20181116T210000
DTSTAMP:20260422T064718
CREATED:20181116T170821Z
LAST-MODIFIED:20181116T170821Z
UID:10021356-1542391200-1542402000@huronshores.ca
SUMMARY:Journey of Love:  Bruce Mines Holy Walk
DESCRIPTION:Celebrate the birth of Jesus.  Be inspired by the Christmas story re-enacted. Walk the road to Bethlehem with your family and share in the marvels experienced by Joseph and Mary.  Warning:  Beware of Roman soldiers and other hazards along the way.  Enjoy Christmas music while waiting for your walk to begin.  November 16\, 6:00-9:00 p.m.; November 17\, 6-8:30 p.m.  at Bruce Mines United Church.  Church doors open at 5:30 p.m.; Arriving early is encouraged.  Free will offering. Interdenominational.  Refreshments in the Church basement\, after your Walk.  Dress warmly.  Buses\, seniors and physically-challenged guests can be accommodated.  Please call Arlene at 705-785-3458.  Email:  bruceminesholywalk@gmail.com
URL:https://huronshores.ca/event/journey-of-love-bruce-mines-holy-walk/
LOCATION:ON
CATEGORIES:Community News
ATTACH;FMTTYPE=image/jpeg:https://huronshores.ca/wp-content/uploads/2018/11/Bruce-Mines-Holy-Walk.jpg
END:VEVENT
BEGIN:VEVENT
DTSTART;TZID=America/Toronto:20181117T140000
DTEND;TZID=America/Toronto:20181117T153000
DTSTAMP:20260422T064718
CREATED:20151021T181815Z
LAST-MODIFIED:20151021T181815Z
UID:10016860-1542463200-1542468600@huronshores.ca
SUMMARY:Alzheimer Info & Discussion Group
DESCRIPTION:The Alzheimer Society of Sault Ste. Marie & Algoma District hosts an Information & Discussion Group on the 2nd Wednesday of each month\, at the Calvary Gospel Church\, 55 Queen Street\, Blind River from 2:00 – 3:30 p.m.  For more information please call Tanya\, First Link Coordinator\, at 705-848-8145.
URL:https://huronshores.ca/event/alzheimer-info-discussion-group-2/2018-11-17/
LOCATION:ON
CATEGORIES:Community News
ATTACH;FMTTYPE=image/jpeg:https://huronshores.ca/wp-content/uploads/2013/01/Alzheimers-Disease.jpg
END:VEVENT
BEGIN:VEVENT
DTSTART;TZID=America/Toronto:20181117T180000
DTEND;TZID=America/Toronto:20181117T203000
DTSTAMP:20260422T064718
CREATED:20181116T171014Z
LAST-MODIFIED:20181116T171014Z
UID:10021357-1542477600-1542486600@huronshores.ca
SUMMARY:Journey of Love:  Bruce Mines Holy Walk
DESCRIPTION:Celebrate the birth of Jesus.  Be inspired by the Christmas story re-enacted. Walk the road to Bethlehem with your family and share in the marvels experienced by Joseph and Mary.  Warning:  Beware of Roman soldiers and other hazards along the way.  Enjoy Christmas music while waiting for your walk to begin.  November 16\, 6:00-9:00 p.m.; November 17\, 6-8:30 p.m.  at Bruce Mines United Church.  Church doors open at 5:30 p.m.; Arriving early is encouraged.  Free will offering. Interdenominational.  Refreshments in the Church basement\, after your Walk.  Dress warmly.  Buses\, seniors and physically-challenged guests can be accommodated.  Please call Arlene at 705-785-3458.  Email:  bruceminesholywalk@gmail.com
URL:https://huronshores.ca/event/journey-of-love-bruce-mines-holy-walk-2/
LOCATION:ON
CATEGORIES:Community News
ATTACH;FMTTYPE=image/jpeg:https://huronshores.ca/wp-content/uploads/2018/11/Bruce-Mines-Holy-Walk.jpg
END:VEVENT
BEGIN:VEVENT
DTSTART;TZID=America/Toronto:20181118T140000
DTEND;TZID=America/Toronto:20181118T153000
DTSTAMP:20260422T064718
CREATED:20151021T181815Z
LAST-MODIFIED:20151021T181815Z
UID:10016861-1542549600-1542555000@huronshores.ca
SUMMARY:Alzheimer Info & Discussion Group
DESCRIPTION:The Alzheimer Society of Sault Ste. Marie & Algoma District hosts an Information & Discussion Group on the 2nd Wednesday of each month\, at the Calvary Gospel Church\, 55 Queen Street\, Blind River from 2:00 – 3:30 p.m.  For more information please call Tanya\, First Link Coordinator\, at 705-848-8145.
URL:https://huronshores.ca/event/alzheimer-info-discussion-group-2/2018-11-18/
LOCATION:ON
CATEGORIES:Community News
ATTACH;FMTTYPE=image/jpeg:https://huronshores.ca/wp-content/uploads/2013/01/Alzheimers-Disease.jpg
END:VEVENT
BEGIN:VEVENT
DTSTART;TZID=America/Toronto:20181119T140000
DTEND;TZID=America/Toronto:20181119T153000
DTSTAMP:20260422T064718
CREATED:20151021T181815Z
LAST-MODIFIED:20151021T181815Z
UID:10016862-1542636000-1542641400@huronshores.ca
SUMMARY:Alzheimer Info & Discussion Group
DESCRIPTION:The Alzheimer Society of Sault Ste. Marie & Algoma District hosts an Information & Discussion Group on the 2nd Wednesday of each month\, at the Calvary Gospel Church\, 55 Queen Street\, Blind River from 2:00 – 3:30 p.m.  For more information please call Tanya\, First Link Coordinator\, at 705-848-8145.
URL:https://huronshores.ca/event/alzheimer-info-discussion-group-2/2018-11-19/
LOCATION:ON
CATEGORIES:Community News
ATTACH;FMTTYPE=image/jpeg:https://huronshores.ca/wp-content/uploads/2013/01/Alzheimers-Disease.jpg
END:VEVENT
BEGIN:VEVENT
DTSTART;TZID=America/Toronto:20181120T140000
DTEND;TZID=America/Toronto:20181120T153000
DTSTAMP:20260422T064718
CREATED:20151021T181815Z
LAST-MODIFIED:20151021T181815Z
UID:10016863-1542722400-1542727800@huronshores.ca
SUMMARY:Alzheimer Info & Discussion Group
DESCRIPTION:The Alzheimer Society of Sault Ste. Marie & Algoma District hosts an Information & Discussion Group on the 2nd Wednesday of each month\, at the Calvary Gospel Church\, 55 Queen Street\, Blind River from 2:00 – 3:30 p.m.  For more information please call Tanya\, First Link Coordinator\, at 705-848-8145.
URL:https://huronshores.ca/event/alzheimer-info-discussion-group-2/2018-11-20/
LOCATION:ON
CATEGORIES:Community News
ATTACH;FMTTYPE=image/jpeg:https://huronshores.ca/wp-content/uploads/2013/01/Alzheimers-Disease.jpg
END:VEVENT
BEGIN:VEVENT
DTSTART;TZID=America/Toronto:20181121T140000
DTEND;TZID=America/Toronto:20181121T153000
DTSTAMP:20260422T064718
CREATED:20151021T181815Z
LAST-MODIFIED:20151021T181815Z
UID:10016864-1542808800-1542814200@huronshores.ca
SUMMARY:Alzheimer Info & Discussion Group
DESCRIPTION:The Alzheimer Society of Sault Ste. Marie & Algoma District hosts an Information & Discussion Group on the 2nd Wednesday of each month\, at the Calvary Gospel Church\, 55 Queen Street\, Blind River from 2:00 – 3:30 p.m.  For more information please call Tanya\, First Link Coordinator\, at 705-848-8145.
URL:https://huronshores.ca/event/alzheimer-info-discussion-group-2/2018-11-21/
LOCATION:ON
CATEGORIES:Community News
ATTACH;FMTTYPE=image/jpeg:https://huronshores.ca/wp-content/uploads/2013/01/Alzheimers-Disease.jpg
END:VEVENT
BEGIN:VEVENT
DTSTART;TZID=America/Toronto:20181121T180000
DTEND;TZID=America/Toronto:20181121T180000
DTSTAMP:20260422T064718
CREATED:20181031T191357Z
LAST-MODIFIED:20181031T191357Z
UID:10021346-1542823200-1542823200@huronshores.ca
SUMMARY:CAP-C 25 Year Celebration
DESCRIPTION:The Community Action Program for Children (CAP-C) is celebrating its 25th Anniversary on Wednesday\, November 21/18\, at 6:00 p.m. at the Iron Bridge Recreation Centre (1 Chiblow Lk. Rd.)  Snacks & fun activities will be provided.  Everyone welcome!  Please use the side door to the kitchen.  For more info\, please call 705-356-4677.  Sponsored by EarlyON Child & Family Centre and All Star Children Services\, Inc. \nThe CAP-C Program operates weekly in the kitchen of the Iron Bridge Recreation Centre on Wednesdays\, from 9:00 a.m. to 11:30 a.m.
URL:https://huronshores.ca/event/cap-c-25-year-celebration/
LOCATION:ON
CATEGORIES:Community News
END:VEVENT
BEGIN:VEVENT
DTSTART;TZID=America/Toronto:20181121T190000
DTEND;TZID=America/Toronto:20181121T200000
DTSTAMP:20260422T064718
CREATED:20180820T124008Z
LAST-MODIFIED:20180820T124008Z
UID:10020608-1542826800-1542830400@huronshores.ca
SUMMARY:Rollerblade Ball Hockey
DESCRIPTION:Begins on August 1st\, 2018 and runs every Wednesday night at 7:00 pm.  Kids of all ages welcome! Hosted by the Iron Bridge Recreation Committee. \nAdmission: $2/kid; Note: Must have knee and elbow pads and a helmet.
URL:https://huronshores.ca/event/rollerblade-ball-hockey/2018-11-21/
LOCATION:ON
CATEGORIES:Recreation
END:VEVENT
BEGIN:VEVENT
DTSTART;TZID=America/Toronto:20181121T193000
DTEND;TZID=America/Toronto:20181121T193000
DTSTAMP:20260422T064718
CREATED:20160721T182330Z
LAST-MODIFIED:20160721T182330Z
UID:10019750-1542828600-1542828600@huronshores.ca
SUMMARY:Jammin' Session at the Thessalon Community Curling Club
DESCRIPTION:Every Wedneday night at 7:30PM\, join us at Thessalon Community Curling Club for our Jammin’ Session. You play an instrument and love to play with other instrumentalists\, or just love to listen to live music\, then come on down…the bar is open! Everyone welcome! Bring a friend!
URL:https://huronshores.ca/event/jammin-session-at-the-thessalon-community-curling-club/2018-11-21/
LOCATION:ON
CATEGORIES:Recreation
END:VEVENT
BEGIN:VEVENT
DTSTART;TZID=America/Toronto:20181122T140000
DTEND;TZID=America/Toronto:20181122T153000
DTSTAMP:20260422T064718
CREATED:20151021T181815Z
LAST-MODIFIED:20151021T181815Z
UID:10016865-1542895200-1542900600@huronshores.ca
SUMMARY:Alzheimer Info & Discussion Group
DESCRIPTION:The Alzheimer Society of Sault Ste. Marie & Algoma District hosts an Information & Discussion Group on the 2nd Wednesday of each month\, at the Calvary Gospel Church\, 55 Queen Street\, Blind River from 2:00 – 3:30 p.m.  For more information please call Tanya\, First Link Coordinator\, at 705-848-8145.
URL:https://huronshores.ca/event/alzheimer-info-discussion-group-2/2018-11-22/
LOCATION:ON
CATEGORIES:Community News
ATTACH;FMTTYPE=image/jpeg:https://huronshores.ca/wp-content/uploads/2013/01/Alzheimers-Disease.jpg
END:VEVENT
BEGIN:VEVENT
DTSTART;TZID=America/Toronto:20181122T180000
DTEND;TZID=America/Toronto:20181122T190000
DTSTAMP:20260422T064718
CREATED:20180820T124956Z
LAST-MODIFIED:20180820T124956Z
UID:10020976-1542909600-1542913200@huronshores.ca
SUMMARY:Iron Bridge Recreation Family Walking Group
DESCRIPTION:Every Thursday beginning on August 9\, 2018 from 6:00-7:00 pm at the Iron Bridge Recreation Centre.  Hosted by the Iron Bridge Recreation Committee. \nFee by donation. Families are all welcomed to come! There will be toys for children to play with\, or they can join the walking group. There will be fitness tracker sheets available; a prize will be awarded for the most active participant. \nBenefits of walking:\nEvery minute of walking can extend your life by 1.5-2 minutes.\nIncreases physical activity.\nLowers obesity rates.\nLower risk of chronic diseases such as diabetes\, stroke and heart disease.\nReduces stress and depression.
URL:https://huronshores.ca/event/iron-bridge-recreation-family-walking-group/2018-11-22/
LOCATION:ON
CATEGORIES:Recreation
END:VEVENT
BEGIN:VEVENT
DTSTART;TZID=America/Toronto:20181123T100000
DTEND;TZID=America/Toronto:20181123T220000
DTSTAMP:20260422T064718
CREATED:20181116T171838Z
LAST-MODIFIED:20181116T171838Z
UID:10021358-1542967200-1543010400@huronshores.ca
SUMMARY:Blind River Moonlight Madness
DESCRIPTION:The Blind River & District Chamber of Commerce hosts Moonlight Madness\, Friday\, November 23/18 from 10:00 a.m. – 10:00 p.m.  Get your “Passport” stamped by all participating businesses to qualify for the Draws!  Receipt Raffle Draws!  Photos with Santa at Sarah Jones Photography!  Hot chocolate at Forrest Glen Candle Co. (Donated by Employment Solutions – Sault College)!  Girl Guides located at 21 Woodward Ave.!  Open House at Employment Solutions (1 Industrial Park Rd. E.).  Gift wrapping provided by the Blind River Lions’ Club!  Participating Businesses:  A Touch of Home; Haggers’ Menswear; Blind River Home Hardware; Forrest Glen Candle Co.; The Birch Tree; Sarah Jones Photography; Mitchel Pharmacy; CoBo’s Party & Craft; NAPA Power Sports; Employment Solutions; Barrels of Goodies; Dixie Lee Chicken; The Red Apple.
URL:https://huronshores.ca/event/blind-river-moonlight-madness-2/
LOCATION:ON
CATEGORIES:Community News
ATTACH;FMTTYPE=image/jpeg:https://huronshores.ca/wp-content/uploads/2017/11/Moonlight-Madness-.jpg
END:VEVENT
BEGIN:VEVENT
DTSTART;TZID=America/Toronto:20181123T140000
DTEND;TZID=America/Toronto:20181123T153000
DTSTAMP:20260422T064718
CREATED:20151021T181815Z
LAST-MODIFIED:20151021T181815Z
UID:10016866-1542981600-1542987000@huronshores.ca
SUMMARY:Alzheimer Info & Discussion Group
DESCRIPTION:The Alzheimer Society of Sault Ste. Marie & Algoma District hosts an Information & Discussion Group on the 2nd Wednesday of each month\, at the Calvary Gospel Church\, 55 Queen Street\, Blind River from 2:00 – 3:30 p.m.  For more information please call Tanya\, First Link Coordinator\, at 705-848-8145.
URL:https://huronshores.ca/event/alzheimer-info-discussion-group-2/2018-11-23/
LOCATION:ON
CATEGORIES:Community News
ATTACH;FMTTYPE=image/jpeg:https://huronshores.ca/wp-content/uploads/2013/01/Alzheimers-Disease.jpg
END:VEVENT
END:VCALENDAR