BEGIN:VCALENDAR
VERSION:2.0
PRODID:-//Huron Shores - ECPv6.15.11//NONSGML v1.0//EN
CALSCALE:GREGORIAN
METHOD:PUBLISH
X-ORIGINAL-URL:https://huronshores.ca
X-WR-CALDESC:Events for Huron Shores
REFRESH-INTERVAL;VALUE=DURATION:PT1H
X-Robots-Tag:noindex
X-PUBLISHED-TTL:PT1H
BEGIN:VTIMEZONE
TZID:America/Toronto
BEGIN:DAYLIGHT
TZOFFSETFROM:-0500
TZOFFSETTO:-0400
TZNAME:EDT
DTSTART:20160313T070000
END:DAYLIGHT
BEGIN:STANDARD
TZOFFSETFROM:-0400
TZOFFSETTO:-0500
TZNAME:EST
DTSTART:20161106T060000
END:STANDARD
BEGIN:DAYLIGHT
TZOFFSETFROM:-0500
TZOFFSETTO:-0400
TZNAME:EDT
DTSTART:20170312T070000
END:DAYLIGHT
BEGIN:STANDARD
TZOFFSETFROM:-0400
TZOFFSETTO:-0500
TZNAME:EST
DTSTART:20171105T060000
END:STANDARD
BEGIN:DAYLIGHT
TZOFFSETFROM:-0500
TZOFFSETTO:-0400
TZNAME:EDT
DTSTART:20180311T070000
END:DAYLIGHT
BEGIN:STANDARD
TZOFFSETFROM:-0400
TZOFFSETTO:-0500
TZNAME:EST
DTSTART:20181104T060000
END:STANDARD
END:VTIMEZONE
BEGIN:VEVENT
DTSTART;TZID=America/Toronto:20170509T140000
DTEND;TZID=America/Toronto:20170509T153000
DTSTAMP:20260424T041810
CREATED:20151021T181815Z
LAST-MODIFIED:20151021T181815Z
UID:10016302-1494338400-1494343800@huronshores.ca
SUMMARY:Alzheimer Info & Discussion Group
DESCRIPTION:The Alzheimer Society of Sault Ste. Marie & Algoma District hosts an Information & Discussion Group on the 2nd Wednesday of each month\, at the Calvary Gospel Church\, 55 Queen Street\, Blind River from 2:00 – 3:30 p.m.  For more information please call Tanya\, First Link Coordinator\, at 705-848-8145.
URL:https://huronshores.ca/event/alzheimer-info-discussion-group-2/2017-05-09/
LOCATION:ON
CATEGORIES:Community News
ATTACH;FMTTYPE=image/jpeg:https://huronshores.ca/wp-content/uploads/2013/01/Alzheimers-Disease.jpg
END:VEVENT
BEGIN:VEVENT
DTSTART;TZID=America/Toronto:20170509T160000
DTEND;TZID=America/Toronto:20170509T160000
DTSTAMP:20260424T041810
CREATED:20170503T155800Z
LAST-MODIFIED:20170503T155800Z
UID:10020122-1494345600-1494345600@huronshores.ca
SUMMARY:2017 Gravel Tender Deadline
DESCRIPTION:The deadline to submit sealed tenders to fulfill the Municipality’s 2017 gravel requirements is 4:00 p.m. today.  For further information and a link to the required tender documents\, please click here to view the original post.
URL:https://huronshores.ca/event/2017-gravel-tender-deadline/
LOCATION:ON
CATEGORIES:Tenders
ATTACH;FMTTYPE=:
END:VEVENT
BEGIN:VEVENT
DTSTART;TZID=America/Toronto:20170510T140000
DTEND;TZID=America/Toronto:20170510T153000
DTSTAMP:20260424T041810
CREATED:20151021T181815Z
LAST-MODIFIED:20151021T181815Z
UID:10016303-1494424800-1494430200@huronshores.ca
SUMMARY:Alzheimer Info & Discussion Group
DESCRIPTION:The Alzheimer Society of Sault Ste. Marie & Algoma District hosts an Information & Discussion Group on the 2nd Wednesday of each month\, at the Calvary Gospel Church\, 55 Queen Street\, Blind River from 2:00 – 3:30 p.m.  For more information please call Tanya\, First Link Coordinator\, at 705-848-8145.
URL:https://huronshores.ca/event/alzheimer-info-discussion-group-2/2017-05-10/
LOCATION:ON
CATEGORIES:Community News
ATTACH;FMTTYPE=image/jpeg:https://huronshores.ca/wp-content/uploads/2013/01/Alzheimers-Disease.jpg
END:VEVENT
BEGIN:VEVENT
DTSTART;TZID=America/Toronto:20170510T190000
DTEND;TZID=America/Toronto:20170510T190000
DTSTAMP:20260424T041810
CREATED:20161216T212115Z
LAST-MODIFIED:20161216T212115Z
UID:10020005-1494442800-1494442800@huronshores.ca
SUMMARY:Regular Council  Meeting
DESCRIPTION:The Regular Meeting of Council will convene at 7:00 p.m. in the Council Chambers\, 7 Bridge Street\, Iron Bridge.  The Agenda is posted on huronshores.ca and at the Municipal Office the Monday prior unless that day is a holiday.  It would then be posted on the Tuesday.  Council Meetings are held as follows:  January – June & September – November\, 2nd & 4th Wednesdays; July & August\, 2nd Wednesday only; December\, 3rd Wednesday unless otherwise scheduled.  Periodically Special Meetings are called in order to deliberate a specific matter.  As per the Municipal Act\, all Council Meetings are conducted in public.  Members of the public are able to observe the proceedings from the gallery.  If you wish to address Council directly with respect to a specific matter or concern\, please contact the Municipal Office by the Friday prior in order to be included as a Delegation on the Meeting Agenda.  Please click on the link below to learn more about Delegations and Deputations.
URL:https://huronshores.ca/event/regular-council-meeting-32/2017-05-10/
LOCATION:ON
CATEGORIES:Council Meeting
ATTACH;FMTTYPE=:
END:VEVENT
BEGIN:VEVENT
DTSTART;TZID=America/Toronto:20170510T193000
DTEND;TZID=America/Toronto:20170510T193000
DTSTAMP:20260424T041810
CREATED:20160721T182330Z
LAST-MODIFIED:20160721T182330Z
UID:10019670-1494444600-1494444600@huronshores.ca
SUMMARY:Jammin' Session at the Thessalon Community Curling Club
DESCRIPTION:Every Wedneday night at 7:30PM\, join us at Thessalon Community Curling Club for our Jammin’ Session. You play an instrument and love to play with other instrumentalists\, or just love to listen to live music\, then come on down…the bar is open! Everyone welcome! Bring a friend!
URL:https://huronshores.ca/event/jammin-session-at-the-thessalon-community-curling-club/2017-05-10/
LOCATION:ON
CATEGORIES:Recreation
END:VEVENT
BEGIN:VEVENT
DTSTART;TZID=America/Toronto:20170511T110000
DTEND;TZID=America/Toronto:20170511T120000
DTSTAMP:20260424T041810
CREATED:20161129T195241Z
LAST-MODIFIED:20161129T195241Z
UID:10019990-1494500400-1494504000@huronshores.ca
SUMMARY:MP Carol Hughes Constituency Clinic
DESCRIPTION:Algoma-Manitoulin-Kapuskasing MP Carol Hughes will hold  Constituency Clinics in 2017 from 11:00 a.m. to Noon at the Municipal Office\, 7 Bridge St.\, Iron Bridge on the following Thursdays:  January 12\, March 9\, May 11\, September 7\, and November 9.  For further information please contact the Elliot Lake  Constituency Office as listed below.
URL:https://huronshores.ca/event/mp-carol-hughes-constituency-clinic/2017-05-11/
LOCATION:ON
CATEGORIES:Community News
ATTACH;FMTTYPE=image/jpeg:https://huronshores.ca/wp-content/uploads/2016/11/HughesCarol_NDP1.jpg
END:VEVENT
BEGIN:VEVENT
DTSTART;TZID=America/Toronto:20170511T113000
DTEND;TZID=America/Toronto:20170511T133000
DTSTAMP:20260424T041810
CREATED:20170502T194028Z
LAST-MODIFIED:20170502T194028Z
UID:10019568-1494502200-1494509400@huronshores.ca
SUMMARY:Spring Luncheon & Bake Sale
DESCRIPTION:The North Shore Health Network Auxiliary (Thessalon Site)  is hosting its annual Spring Luncheon & Bake Sale on Thursday\, May 11/17 from 11:30 a.m. – 1:30 p.m. at the IOOF Hall\, Main Street\, Thessalon.  Come out to celebrate Nurses’ Week & support your local hospital!
URL:https://huronshores.ca/event/spring-luncheon-bake-sale/
LOCATION:ON
CATEGORIES:Community News,Fundraiser
ATTACH;FMTTYPE=image/png:https://huronshores.ca/wp-content/uploads/2015/11/Bake-Sale.png
END:VEVENT
BEGIN:VEVENT
DTSTART;TZID=America/Toronto:20170511T140000
DTEND;TZID=America/Toronto:20170511T153000
DTSTAMP:20260424T041810
CREATED:20151021T181815Z
LAST-MODIFIED:20151021T181815Z
UID:10016304-1494511200-1494516600@huronshores.ca
SUMMARY:Alzheimer Info & Discussion Group
DESCRIPTION:The Alzheimer Society of Sault Ste. Marie & Algoma District hosts an Information & Discussion Group on the 2nd Wednesday of each month\, at the Calvary Gospel Church\, 55 Queen Street\, Blind River from 2:00 – 3:30 p.m.  For more information please call Tanya\, First Link Coordinator\, at 705-848-8145.
URL:https://huronshores.ca/event/alzheimer-info-discussion-group-2/2017-05-11/
LOCATION:ON
CATEGORIES:Community News
ATTACH;FMTTYPE=image/jpeg:https://huronshores.ca/wp-content/uploads/2013/01/Alzheimers-Disease.jpg
END:VEVENT
BEGIN:VEVENT
DTSTART;TZID=America/Toronto:20170512T140000
DTEND;TZID=America/Toronto:20170512T153000
DTSTAMP:20260424T041810
CREATED:20151021T181815Z
LAST-MODIFIED:20151021T181815Z
UID:10016305-1494597600-1494603000@huronshores.ca
SUMMARY:Alzheimer Info & Discussion Group
DESCRIPTION:The Alzheimer Society of Sault Ste. Marie & Algoma District hosts an Information & Discussion Group on the 2nd Wednesday of each month\, at the Calvary Gospel Church\, 55 Queen Street\, Blind River from 2:00 – 3:30 p.m.  For more information please call Tanya\, First Link Coordinator\, at 705-848-8145.
URL:https://huronshores.ca/event/alzheimer-info-discussion-group-2/2017-05-12/
LOCATION:ON
CATEGORIES:Community News
ATTACH;FMTTYPE=image/jpeg:https://huronshores.ca/wp-content/uploads/2013/01/Alzheimers-Disease.jpg
END:VEVENT
BEGIN:VEVENT
DTSTART;TZID=America/Toronto:20170512T193000
DTEND;TZID=America/Toronto:20170512T193000
DTSTAMP:20260424T041810
CREATED:20170502T194855Z
LAST-MODIFIED:20170502T194855Z
UID:10019571-1494617400-1494617400@huronshores.ca
SUMMARY:Concert - Celebrating Canada's 150th!
DESCRIPTION:The North Channel Community Singers  will present their concert at Zion United Church\, 224 Main St.\, Thessalon on May 12 & 13/17 at7:30 p.m.  Tickets available from Choir members & at Forestland Clothing & Gifts.  Proceeds to the Thessalon Twp. Heritage Assn.
URL:https://huronshores.ca/event/concert-celebrating-canadas-150th/2017-05-12/
LOCATION:ON
CATEGORIES:Community News,Fundraiser
ATTACH;FMTTYPE=image/jpeg:https://huronshores.ca/wp-content/uploads/2016/05/spring-concert.jpg
END:VEVENT
BEGIN:VEVENT
DTSTART;TZID=America/Toronto:20170513T140000
DTEND;TZID=America/Toronto:20170513T153000
DTSTAMP:20260424T041810
CREATED:20151021T181815Z
LAST-MODIFIED:20151021T181815Z
UID:10016306-1494684000-1494689400@huronshores.ca
SUMMARY:Alzheimer Info & Discussion Group
DESCRIPTION:The Alzheimer Society of Sault Ste. Marie & Algoma District hosts an Information & Discussion Group on the 2nd Wednesday of each month\, at the Calvary Gospel Church\, 55 Queen Street\, Blind River from 2:00 – 3:30 p.m.  For more information please call Tanya\, First Link Coordinator\, at 705-848-8145.
URL:https://huronshores.ca/event/alzheimer-info-discussion-group-2/2017-05-13/
LOCATION:ON
CATEGORIES:Community News
ATTACH;FMTTYPE=image/jpeg:https://huronshores.ca/wp-content/uploads/2013/01/Alzheimers-Disease.jpg
END:VEVENT
BEGIN:VEVENT
DTSTART;TZID=America/Toronto:20170513T193000
DTEND;TZID=America/Toronto:20170513T193000
DTSTAMP:20260424T041810
CREATED:20170502T194855Z
LAST-MODIFIED:20170502T194855Z
UID:10019572-1494703800-1494703800@huronshores.ca
SUMMARY:Concert - Celebrating Canada's 150th!
DESCRIPTION:The North Channel Community Singers  will present their concert at Zion United Church\, 224 Main St.\, Thessalon on May 12 & 13/17 at7:30 p.m.  Tickets available from Choir members & at Forestland Clothing & Gifts.  Proceeds to the Thessalon Twp. Heritage Assn.
URL:https://huronshores.ca/event/concert-celebrating-canadas-150th/2017-05-13/
LOCATION:ON
CATEGORIES:Community News,Fundraiser
ATTACH;FMTTYPE=image/jpeg:https://huronshores.ca/wp-content/uploads/2016/05/spring-concert.jpg
END:VEVENT
BEGIN:VEVENT
DTSTART;VALUE=DATE:20170514
DTEND;VALUE=DATE:20170515
DTSTAMP:20260424T041810
CREATED:20161219T154820Z
LAST-MODIFIED:20161219T154820Z
UID:10019498-1494720000-1494806399@huronshores.ca
SUMMARY:Happy Mother's Day!
DESCRIPTION:Happy Mother’s Day to all the moms!
URL:https://huronshores.ca/event/happy-mothers-day/
LOCATION:ON
CATEGORIES:Community News
END:VEVENT
BEGIN:VEVENT
DTSTART;TZID=America/Toronto:20170514T140000
DTEND;TZID=America/Toronto:20170514T153000
DTSTAMP:20260424T041810
CREATED:20151021T181815Z
LAST-MODIFIED:20151021T181815Z
UID:10016307-1494770400-1494775800@huronshores.ca
SUMMARY:Alzheimer Info & Discussion Group
DESCRIPTION:The Alzheimer Society of Sault Ste. Marie & Algoma District hosts an Information & Discussion Group on the 2nd Wednesday of each month\, at the Calvary Gospel Church\, 55 Queen Street\, Blind River from 2:00 – 3:30 p.m.  For more information please call Tanya\, First Link Coordinator\, at 705-848-8145.
URL:https://huronshores.ca/event/alzheimer-info-discussion-group-2/2017-05-14/
LOCATION:ON
CATEGORIES:Community News
ATTACH;FMTTYPE=image/jpeg:https://huronshores.ca/wp-content/uploads/2013/01/Alzheimers-Disease.jpg
END:VEVENT
BEGIN:VEVENT
DTSTART;TZID=America/Toronto:20170515T140000
DTEND;TZID=America/Toronto:20170515T153000
DTSTAMP:20260424T041810
CREATED:20151021T181815Z
LAST-MODIFIED:20151021T181815Z
UID:10016308-1494856800-1494862200@huronshores.ca
SUMMARY:Alzheimer Info & Discussion Group
DESCRIPTION:The Alzheimer Society of Sault Ste. Marie & Algoma District hosts an Information & Discussion Group on the 2nd Wednesday of each month\, at the Calvary Gospel Church\, 55 Queen Street\, Blind River from 2:00 – 3:30 p.m.  For more information please call Tanya\, First Link Coordinator\, at 705-848-8145.
URL:https://huronshores.ca/event/alzheimer-info-discussion-group-2/2017-05-15/
LOCATION:ON
CATEGORIES:Community News
ATTACH;FMTTYPE=image/jpeg:https://huronshores.ca/wp-content/uploads/2013/01/Alzheimers-Disease.jpg
END:VEVENT
BEGIN:VEVENT
DTSTART;TZID=America/Toronto:20170516T140000
DTEND;TZID=America/Toronto:20170516T153000
DTSTAMP:20260424T041810
CREATED:20151021T181815Z
LAST-MODIFIED:20151021T181815Z
UID:10016309-1494943200-1494948600@huronshores.ca
SUMMARY:Alzheimer Info & Discussion Group
DESCRIPTION:The Alzheimer Society of Sault Ste. Marie & Algoma District hosts an Information & Discussion Group on the 2nd Wednesday of each month\, at the Calvary Gospel Church\, 55 Queen Street\, Blind River from 2:00 – 3:30 p.m.  For more information please call Tanya\, First Link Coordinator\, at 705-848-8145.
URL:https://huronshores.ca/event/alzheimer-info-discussion-group-2/2017-05-16/
LOCATION:ON
CATEGORIES:Community News
ATTACH;FMTTYPE=image/jpeg:https://huronshores.ca/wp-content/uploads/2013/01/Alzheimers-Disease.jpg
END:VEVENT
BEGIN:VEVENT
DTSTART;TZID=America/Toronto:20170517T140000
DTEND;TZID=America/Toronto:20170517T153000
DTSTAMP:20260424T041810
CREATED:20151021T181815Z
LAST-MODIFIED:20151021T181815Z
UID:10016310-1495029600-1495035000@huronshores.ca
SUMMARY:Alzheimer Info & Discussion Group
DESCRIPTION:The Alzheimer Society of Sault Ste. Marie & Algoma District hosts an Information & Discussion Group on the 2nd Wednesday of each month\, at the Calvary Gospel Church\, 55 Queen Street\, Blind River from 2:00 – 3:30 p.m.  For more information please call Tanya\, First Link Coordinator\, at 705-848-8145.
URL:https://huronshores.ca/event/alzheimer-info-discussion-group-2/2017-05-17/
LOCATION:ON
CATEGORIES:Community News
ATTACH;FMTTYPE=image/jpeg:https://huronshores.ca/wp-content/uploads/2013/01/Alzheimers-Disease.jpg
END:VEVENT
BEGIN:VEVENT
DTSTART;TZID=America/Toronto:20170517T193000
DTEND;TZID=America/Toronto:20170517T193000
DTSTAMP:20260424T041810
CREATED:20160721T182330Z
LAST-MODIFIED:20160721T182330Z
UID:10019671-1495049400-1495049400@huronshores.ca
SUMMARY:Jammin' Session at the Thessalon Community Curling Club
DESCRIPTION:Every Wedneday night at 7:30PM\, join us at Thessalon Community Curling Club for our Jammin’ Session. You play an instrument and love to play with other instrumentalists\, or just love to listen to live music\, then come on down…the bar is open! Everyone welcome! Bring a friend!
URL:https://huronshores.ca/event/jammin-session-at-the-thessalon-community-curling-club/2017-05-17/
LOCATION:ON
CATEGORIES:Recreation
END:VEVENT
BEGIN:VEVENT
DTSTART;TZID=America/Toronto:20170518T140000
DTEND;TZID=America/Toronto:20170518T153000
DTSTAMP:20260424T041810
CREATED:20151021T181815Z
LAST-MODIFIED:20151021T181815Z
UID:10016311-1495116000-1495121400@huronshores.ca
SUMMARY:Alzheimer Info & Discussion Group
DESCRIPTION:The Alzheimer Society of Sault Ste. Marie & Algoma District hosts an Information & Discussion Group on the 2nd Wednesday of each month\, at the Calvary Gospel Church\, 55 Queen Street\, Blind River from 2:00 – 3:30 p.m.  For more information please call Tanya\, First Link Coordinator\, at 705-848-8145.
URL:https://huronshores.ca/event/alzheimer-info-discussion-group-2/2017-05-18/
LOCATION:ON
CATEGORIES:Community News
ATTACH;FMTTYPE=image/jpeg:https://huronshores.ca/wp-content/uploads/2013/01/Alzheimers-Disease.jpg
END:VEVENT
BEGIN:VEVENT
DTSTART;TZID=America/Toronto:20170519T140000
DTEND;TZID=America/Toronto:20170519T153000
DTSTAMP:20260424T041810
CREATED:20151021T181815Z
LAST-MODIFIED:20151021T181815Z
UID:10016312-1495202400-1495207800@huronshores.ca
SUMMARY:Alzheimer Info & Discussion Group
DESCRIPTION:The Alzheimer Society of Sault Ste. Marie & Algoma District hosts an Information & Discussion Group on the 2nd Wednesday of each month\, at the Calvary Gospel Church\, 55 Queen Street\, Blind River from 2:00 – 3:30 p.m.  For more information please call Tanya\, First Link Coordinator\, at 705-848-8145.
URL:https://huronshores.ca/event/alzheimer-info-discussion-group-2/2017-05-19/
LOCATION:ON
CATEGORIES:Community News
ATTACH;FMTTYPE=image/jpeg:https://huronshores.ca/wp-content/uploads/2013/01/Alzheimers-Disease.jpg
END:VEVENT
BEGIN:VEVENT
DTSTART;TZID=America/Toronto:20170520T140000
DTEND;TZID=America/Toronto:20170520T153000
DTSTAMP:20260424T041810
CREATED:20151021T181815Z
LAST-MODIFIED:20151021T181815Z
UID:10016313-1495288800-1495294200@huronshores.ca
SUMMARY:Alzheimer Info & Discussion Group
DESCRIPTION:The Alzheimer Society of Sault Ste. Marie & Algoma District hosts an Information & Discussion Group on the 2nd Wednesday of each month\, at the Calvary Gospel Church\, 55 Queen Street\, Blind River from 2:00 – 3:30 p.m.  For more information please call Tanya\, First Link Coordinator\, at 705-848-8145.
URL:https://huronshores.ca/event/alzheimer-info-discussion-group-2/2017-05-20/
LOCATION:ON
CATEGORIES:Community News
ATTACH;FMTTYPE=image/jpeg:https://huronshores.ca/wp-content/uploads/2013/01/Alzheimers-Disease.jpg
END:VEVENT
BEGIN:VEVENT
DTSTART;TZID=America/Toronto:20170521T140000
DTEND;TZID=America/Toronto:20170521T153000
DTSTAMP:20260424T041810
CREATED:20151021T181815Z
LAST-MODIFIED:20151021T181815Z
UID:10016314-1495375200-1495380600@huronshores.ca
SUMMARY:Alzheimer Info & Discussion Group
DESCRIPTION:The Alzheimer Society of Sault Ste. Marie & Algoma District hosts an Information & Discussion Group on the 2nd Wednesday of each month\, at the Calvary Gospel Church\, 55 Queen Street\, Blind River from 2:00 – 3:30 p.m.  For more information please call Tanya\, First Link Coordinator\, at 705-848-8145.
URL:https://huronshores.ca/event/alzheimer-info-discussion-group-2/2017-05-21/
LOCATION:ON
CATEGORIES:Community News
ATTACH;FMTTYPE=image/jpeg:https://huronshores.ca/wp-content/uploads/2013/01/Alzheimers-Disease.jpg
END:VEVENT
BEGIN:VEVENT
DTSTART;VALUE=DATE:20170522
DTEND;VALUE=DATE:20170523
DTSTAMP:20260424T041810
CREATED:20161219T153817Z
LAST-MODIFIED:20161219T153817Z
UID:10019497-1495411200-1495497599@huronshores.ca
SUMMARY:Victoria Day
DESCRIPTION:The Municipal Office & all Waste Disposal & Recycling Sites will be closed for the Victoria Day holiday.  The Office will re-open at 8:30 a.m.\, Tuesday\, May 23/17; the Waste Sites on Wednesday\, from 4:00 – 8:00 p.m.  Happy Victoria Day from Council\, staff and the fire department!
URL:https://huronshores.ca/event/victoria-day-2/
LOCATION:ON
CATEGORIES:Office Closure,Waste Disposal
ATTACH;FMTTYPE=image/jpeg:https://huronshores.ca/wp-content/uploads/2015/05/Victoria-Day-2015-clip-Art.jpg
END:VEVENT
BEGIN:VEVENT
DTSTART;TZID=America/Toronto:20170522T140000
DTEND;TZID=America/Toronto:20170522T153000
DTSTAMP:20260424T041810
CREATED:20151021T181815Z
LAST-MODIFIED:20151021T181815Z
UID:10016315-1495461600-1495467000@huronshores.ca
SUMMARY:Alzheimer Info & Discussion Group
DESCRIPTION:The Alzheimer Society of Sault Ste. Marie & Algoma District hosts an Information & Discussion Group on the 2nd Wednesday of each month\, at the Calvary Gospel Church\, 55 Queen Street\, Blind River from 2:00 – 3:30 p.m.  For more information please call Tanya\, First Link Coordinator\, at 705-848-8145.
URL:https://huronshores.ca/event/alzheimer-info-discussion-group-2/2017-05-22/
LOCATION:ON
CATEGORIES:Community News
ATTACH;FMTTYPE=image/jpeg:https://huronshores.ca/wp-content/uploads/2013/01/Alzheimers-Disease.jpg
END:VEVENT
BEGIN:VEVENT
DTSTART;TZID=America/Toronto:20170523T140000
DTEND;TZID=America/Toronto:20170523T153000
DTSTAMP:20260424T041810
CREATED:20151021T181815Z
LAST-MODIFIED:20151021T181815Z
UID:10016316-1495548000-1495553400@huronshores.ca
SUMMARY:Alzheimer Info & Discussion Group
DESCRIPTION:The Alzheimer Society of Sault Ste. Marie & Algoma District hosts an Information & Discussion Group on the 2nd Wednesday of each month\, at the Calvary Gospel Church\, 55 Queen Street\, Blind River from 2:00 – 3:30 p.m.  For more information please call Tanya\, First Link Coordinator\, at 705-848-8145.
URL:https://huronshores.ca/event/alzheimer-info-discussion-group-2/2017-05-23/
LOCATION:ON
CATEGORIES:Community News
ATTACH;FMTTYPE=image/jpeg:https://huronshores.ca/wp-content/uploads/2013/01/Alzheimers-Disease.jpg
END:VEVENT
BEGIN:VEVENT
DTSTART;TZID=America/Toronto:20170524T140000
DTEND;TZID=America/Toronto:20170524T153000
DTSTAMP:20260424T041810
CREATED:20151021T181815Z
LAST-MODIFIED:20151021T181815Z
UID:10016317-1495634400-1495639800@huronshores.ca
SUMMARY:Alzheimer Info & Discussion Group
DESCRIPTION:The Alzheimer Society of Sault Ste. Marie & Algoma District hosts an Information & Discussion Group on the 2nd Wednesday of each month\, at the Calvary Gospel Church\, 55 Queen Street\, Blind River from 2:00 – 3:30 p.m.  For more information please call Tanya\, First Link Coordinator\, at 705-848-8145.
URL:https://huronshores.ca/event/alzheimer-info-discussion-group-2/2017-05-24/
LOCATION:ON
CATEGORIES:Community News
ATTACH;FMTTYPE=image/jpeg:https://huronshores.ca/wp-content/uploads/2013/01/Alzheimers-Disease.jpg
END:VEVENT
BEGIN:VEVENT
DTSTART;TZID=America/Toronto:20170524T150000
DTEND;TZID=America/Toronto:20170524T170000
DTSTAMP:20260424T041810
CREATED:20170515T133945Z
LAST-MODIFIED:20170515T133945Z
UID:10020129-1495638000-1495645200@huronshores.ca
SUMMARY:Ontario By Bike:  Cycle Tourism Development Workshops
DESCRIPTION:Ontario By Bike will be hosting 2 Cycle Tourism Development Workshops: one in Blind River\, and one in Sault Ste. Marie to provide tourism businesses and other interested stakeholders with valuable tourism research and program information on Ontario’s cycle tourism sector. \nAlso\, Mike Wozny will be speaking from Tourism Northern Ontario and providing an update on the Lake Huron North Channel Cycling Route\, in addition to local cycling developments.  \nThe workshops are Free but pre-registration is required.  Please click on the event website link below for more details.
URL:https://huronshores.ca/event/ontario-by-bike-cycle-tourism-development-workshops/
LOCATION:ON
CATEGORIES:Community News
ATTACH;FMTTYPE=image/png:https://huronshores.ca/wp-content/uploads/2017/05/Great-Lakes-Waterfront-Trail-2.png
END:VEVENT
BEGIN:VEVENT
DTSTART;TZID=America/Toronto:20170524T163000
DTEND;TZID=America/Toronto:20170524T163000
DTSTAMP:20260424T041810
CREATED:20170504T184818Z
LAST-MODIFIED:20170504T184818Z
UID:10020123-1495643400-1495643400@huronshores.ca
SUMMARY:Deadline for Summer Employment Applications
DESCRIPTION:Applications for the Municipality’s summer student employment positions are due today at 4:30 p.m.  For details please click on the link below to view the post and download the required student application form.
URL:https://huronshores.ca/event/deadline-for-summer-employment-applications/
LOCATION:ON
CATEGORIES:Community News,Employment Opportunities
ATTACH;FMTTYPE=image/jpeg:https://huronshores.ca/wp-content/uploads/2015/04/Summer-Jobs-for-Students.jpg
END:VEVENT
BEGIN:VEVENT
DTSTART;TZID=America/Toronto:20170524T190000
DTEND;TZID=America/Toronto:20170524T190000
DTSTAMP:20260424T041810
CREATED:20161216T212115Z
LAST-MODIFIED:20161216T212115Z
UID:10020006-1495652400-1495652400@huronshores.ca
SUMMARY:Regular Council  Meeting
DESCRIPTION:The Regular Meeting of Council will convene at 7:00 p.m. in the Council Chambers\, 7 Bridge Street\, Iron Bridge.  The Agenda is posted on huronshores.ca and at the Municipal Office the Monday prior unless that day is a holiday.  It would then be posted on the Tuesday.  Council Meetings are held as follows:  January – June & September – November\, 2nd & 4th Wednesdays; July & August\, 2nd Wednesday only; December\, 3rd Wednesday unless otherwise scheduled.  Periodically Special Meetings are called in order to deliberate a specific matter.  As per the Municipal Act\, all Council Meetings are conducted in public.  Members of the public are able to observe the proceedings from the gallery.  If you wish to address Council directly with respect to a specific matter or concern\, please contact the Municipal Office by the Friday prior in order to be included as a Delegation on the Meeting Agenda.  Please click on the link below to learn more about Delegations and Deputations.
URL:https://huronshores.ca/event/regular-council-meeting-32/2017-05-24/
LOCATION:ON
CATEGORIES:Council Meeting
ATTACH;FMTTYPE=:
END:VEVENT
BEGIN:VEVENT
DTSTART;TZID=America/Toronto:20170524T193000
DTEND;TZID=America/Toronto:20170524T193000
DTSTAMP:20260424T041810
CREATED:20160721T182330Z
LAST-MODIFIED:20160721T182330Z
UID:10019672-1495654200-1495654200@huronshores.ca
SUMMARY:Jammin' Session at the Thessalon Community Curling Club
DESCRIPTION:Every Wedneday night at 7:30PM\, join us at Thessalon Community Curling Club for our Jammin’ Session. You play an instrument and love to play with other instrumentalists\, or just love to listen to live music\, then come on down…the bar is open! Everyone welcome! Bring a friend!
URL:https://huronshores.ca/event/jammin-session-at-the-thessalon-community-curling-club/2017-05-24/
LOCATION:ON
CATEGORIES:Recreation
END:VEVENT
END:VCALENDAR