BEGIN:VCALENDAR
VERSION:2.0
PRODID:-//Huron Shores - ECPv6.15.11//NONSGML v1.0//EN
CALSCALE:GREGORIAN
METHOD:PUBLISH
X-ORIGINAL-URL:https://huronshores.ca
X-WR-CALDESC:Events for Huron Shores
REFRESH-INTERVAL;VALUE=DURATION:PT1H
X-Robots-Tag:noindex
X-PUBLISHED-TTL:PT1H
BEGIN:VTIMEZONE
TZID:America/Toronto
BEGIN:DAYLIGHT
TZOFFSETFROM:-0500
TZOFFSETTO:-0400
TZNAME:EDT
DTSTART:20160313T070000
END:DAYLIGHT
BEGIN:STANDARD
TZOFFSETFROM:-0400
TZOFFSETTO:-0500
TZNAME:EST
DTSTART:20161106T060000
END:STANDARD
BEGIN:DAYLIGHT
TZOFFSETFROM:-0500
TZOFFSETTO:-0400
TZNAME:EDT
DTSTART:20170312T070000
END:DAYLIGHT
BEGIN:STANDARD
TZOFFSETFROM:-0400
TZOFFSETTO:-0500
TZNAME:EST
DTSTART:20171105T060000
END:STANDARD
BEGIN:DAYLIGHT
TZOFFSETFROM:-0500
TZOFFSETTO:-0400
TZNAME:EDT
DTSTART:20180311T070000
END:DAYLIGHT
BEGIN:STANDARD
TZOFFSETFROM:-0400
TZOFFSETTO:-0500
TZNAME:EST
DTSTART:20181104T060000
END:STANDARD
END:VTIMEZONE
BEGIN:VEVENT
DTSTART;TZID=America/Toronto:20170905T140000
DTEND;TZID=America/Toronto:20170905T153000
DTSTAMP:20260425T125706
CREATED:20151021T181815Z
LAST-MODIFIED:20151021T181815Z
UID:10016421-1504620000-1504625400@huronshores.ca
SUMMARY:Alzheimer Info & Discussion Group
DESCRIPTION:The Alzheimer Society of Sault Ste. Marie & Algoma District hosts an Information & Discussion Group on the 2nd Wednesday of each month\, at the Calvary Gospel Church\, 55 Queen Street\, Blind River from 2:00 – 3:30 p.m.  For more information please call Tanya\, First Link Coordinator\, at 705-848-8145.
URL:https://huronshores.ca/event/alzheimer-info-discussion-group-2/2017-09-05/
LOCATION:ON
CATEGORIES:Community News
ATTACH;FMTTYPE=image/jpeg:https://huronshores.ca/wp-content/uploads/2013/01/Alzheimers-Disease.jpg
END:VEVENT
BEGIN:VEVENT
DTSTART;TZID=America/Toronto:20170906T140000
DTEND;TZID=America/Toronto:20170906T153000
DTSTAMP:20260425T125706
CREATED:20151021T181815Z
LAST-MODIFIED:20151021T181815Z
UID:10016422-1504706400-1504711800@huronshores.ca
SUMMARY:Alzheimer Info & Discussion Group
DESCRIPTION:The Alzheimer Society of Sault Ste. Marie & Algoma District hosts an Information & Discussion Group on the 2nd Wednesday of each month\, at the Calvary Gospel Church\, 55 Queen Street\, Blind River from 2:00 – 3:30 p.m.  For more information please call Tanya\, First Link Coordinator\, at 705-848-8145.
URL:https://huronshores.ca/event/alzheimer-info-discussion-group-2/2017-09-06/
LOCATION:ON
CATEGORIES:Community News
ATTACH;FMTTYPE=image/jpeg:https://huronshores.ca/wp-content/uploads/2013/01/Alzheimers-Disease.jpg
END:VEVENT
BEGIN:VEVENT
DTSTART;TZID=America/Toronto:20170906T193000
DTEND;TZID=America/Toronto:20170906T193000
DTSTAMP:20260425T125706
CREATED:20160721T182330Z
LAST-MODIFIED:20160721T182330Z
UID:10019687-1504726200-1504726200@huronshores.ca
SUMMARY:Jammin' Session at the Thessalon Community Curling Club
DESCRIPTION:Every Wedneday night at 7:30PM\, join us at Thessalon Community Curling Club for our Jammin’ Session. You play an instrument and love to play with other instrumentalists\, or just love to listen to live music\, then come on down…the bar is open! Everyone welcome! Bring a friend!
URL:https://huronshores.ca/event/jammin-session-at-the-thessalon-community-curling-club/2017-09-06/
LOCATION:ON
CATEGORIES:Recreation
END:VEVENT
BEGIN:VEVENT
DTSTART;TZID=America/Toronto:20170907T110000
DTEND;TZID=America/Toronto:20170907T120000
DTSTAMP:20260425T125706
CREATED:20161129T195706Z
LAST-MODIFIED:20161129T195706Z
UID:10019991-1504782000-1504785600@huronshores.ca
SUMMARY:MP Carol Hughes Constituency Clinic
DESCRIPTION:Algoma-Manitoulin-Kapuskasing MP Carol Hughes will hold  Constituency Clinics in 2017 from 11:00 a.m. to Noon at the Municipal Office\, 7 Bridge St.\, Iron Bridge on the following Thursdays:  January 12\, March 9\, May 1\, September 7\, and November 9.  For further information please contact the Elliot Lake  Constituency Office as listed below.
URL:https://huronshores.ca/event/mp-carol-hughes-constituency-clinic-2/2017-09-07/
LOCATION:ON
CATEGORIES:Community News
ATTACH;FMTTYPE=image/jpeg:https://huronshores.ca/wp-content/uploads/2016/11/HughesCarol_NDP1.jpg
END:VEVENT
BEGIN:VEVENT
DTSTART;TZID=America/Toronto:20170907T140000
DTEND;TZID=America/Toronto:20170907T153000
DTSTAMP:20260425T125706
CREATED:20151021T181815Z
LAST-MODIFIED:20151021T181815Z
UID:10016423-1504792800-1504798200@huronshores.ca
SUMMARY:Alzheimer Info & Discussion Group
DESCRIPTION:The Alzheimer Society of Sault Ste. Marie & Algoma District hosts an Information & Discussion Group on the 2nd Wednesday of each month\, at the Calvary Gospel Church\, 55 Queen Street\, Blind River from 2:00 – 3:30 p.m.  For more information please call Tanya\, First Link Coordinator\, at 705-848-8145.
URL:https://huronshores.ca/event/alzheimer-info-discussion-group-2/2017-09-07/
LOCATION:ON
CATEGORIES:Community News
ATTACH;FMTTYPE=image/jpeg:https://huronshores.ca/wp-content/uploads/2013/01/Alzheimers-Disease.jpg
END:VEVENT
BEGIN:VEVENT
DTSTART;TZID=America/Toronto:20170908T120000
DTEND;TZID=America/Toronto:20170908T220000
DTSTAMP:20260425T125706
CREATED:20170907T192033Z
LAST-MODIFIED:20170907T192033Z
UID:10020186-1504872000-1504908000@huronshores.ca
SUMMARY:138th Annual Central Algoma Exhibition & Fall Fair
DESCRIPTION:Hours for the Fair are:  Friday\, September 8th\, Noon – 10:00 p.m.; Saturday\, September 9th\, 8:00 a.m. – 6:00 p.m.; and Sunday\, September 10th\, 8:00 a.m. – 4:30 p.m.  Please visit the facebook link below for more information.  Fun for the whole family!
URL:https://huronshores.ca/event/138th-annual-central-algoma-exhibition-fall-fair/2017-09-08/
LOCATION:ON
CATEGORIES:Community News,Local Food
ATTACH;FMTTYPE=image/gif:https://huronshores.ca/wp-content/uploads/2013/08/Fall-Fair.gif
END:VEVENT
BEGIN:VEVENT
DTSTART;TZID=America/Toronto:20170908T140000
DTEND;TZID=America/Toronto:20170908T153000
DTSTAMP:20260425T125706
CREATED:20151021T181815Z
LAST-MODIFIED:20151021T181815Z
UID:10016424-1504879200-1504884600@huronshores.ca
SUMMARY:Alzheimer Info & Discussion Group
DESCRIPTION:The Alzheimer Society of Sault Ste. Marie & Algoma District hosts an Information & Discussion Group on the 2nd Wednesday of each month\, at the Calvary Gospel Church\, 55 Queen Street\, Blind River from 2:00 – 3:30 p.m.  For more information please call Tanya\, First Link Coordinator\, at 705-848-8145.
URL:https://huronshores.ca/event/alzheimer-info-discussion-group-2/2017-09-08/
LOCATION:ON
CATEGORIES:Community News
ATTACH;FMTTYPE=image/jpeg:https://huronshores.ca/wp-content/uploads/2013/01/Alzheimers-Disease.jpg
END:VEVENT
BEGIN:VEVENT
DTSTART;TZID=America/Toronto:20170909T080000
DTEND;TZID=America/Toronto:20170909T180000
DTSTAMP:20260425T125706
CREATED:20170907T192442Z
LAST-MODIFIED:20170907T192442Z
UID:10020189-1504944000-1504980000@huronshores.ca
SUMMARY:138th Annual Central Algoma Exhibition & Fall Fair
DESCRIPTION:Hours for the Fair are:  Friday\, September 8th\, Noon – 10:00 p.m.; Saturday\, September 9th\, 8:00 a.m. – 6:00 p.m.; and Sunday\, September 10th\, 8:00 a.m. – 4:30 p.m.  Please visit the facebook link below for more information.  Fun for the whole family!
URL:https://huronshores.ca/event/138th-annual-central-algoma-exhibition-fall-fair-2/
LOCATION:ON
CATEGORIES:Community News,Local Food
ATTACH;FMTTYPE=image/gif:https://huronshores.ca/wp-content/uploads/2013/08/Fall-Fair.gif
END:VEVENT
BEGIN:VEVENT
DTSTART;TZID=America/Toronto:20170909T090000
DTEND;TZID=America/Toronto:20170909T140000
DTSTAMP:20260425T125706
CREATED:20170602T132003Z
LAST-MODIFIED:20170602T132003Z
UID:10020150-1504947600-1504965600@huronshores.ca
SUMMARY:Sowerby Farmers' Market
DESCRIPTION:Sowerby Farmers’ Market\, every Saturday\, 9:00 a.m. – 2:00 p.m.\, from June 10 to October 7/17.  Local food producers and artisans offer seasonal fresh veggies\, home-baked goods\, jams\, jellies\, pickles\, handicrafts\, and more.  Vendor tables are $5.00/table/day.  Call Will at 705-843-5567 to book a table.
URL:https://huronshores.ca/event/sowerby-farmers-market-3/2017-09-09/
LOCATION:ON
CATEGORIES:Farmers' Markets,Local Food
ATTACH;FMTTYPE=image/jpeg:https://huronshores.ca/wp-content/uploads/2011/08/Historic-Cordukes-Weber-12-Sided-Barn-Sign1.jpg
END:VEVENT
BEGIN:VEVENT
DTSTART;TZID=America/Toronto:20170909T090000
DTEND;TZID=America/Toronto:20170909T140000
DTSTAMP:20260425T125706
CREATED:20170608T201421Z
LAST-MODIFIED:20170608T201421Z
UID:10020167-1504947600-1504965600@huronshores.ca
SUMMARY:Iron Bridge Farmers' Market
DESCRIPTION:The Iron Bridge Farmers’ Market is on Saturdays\, from 9:00 a.m. to 2:00 p.m. in the covered gazebo at the Iron Bridge Historical Museum\, 1 James Street.  Markets will be held weekly until the end of September.  Items available will include farm produce\, book and yard sale items\, as well\, consignment items may also be included (depending on storage availability). Table rentals are $5/table/day. Contact Carl at 705-843-2486 for details. The Museum is open daily from mid-June to September.
URL:https://huronshores.ca/event/iron-bridge-farmers-market-2/2017-09-09/
LOCATION:ON
CATEGORIES:Community News,Farmers' Markets,Local Food
ATTACH;FMTTYPE=image/jpeg:https://huronshores.ca/wp-content/uploads/2012/03/Ward-3-Museum-Welcome-sign-Web-large.jpg
END:VEVENT
BEGIN:VEVENT
DTSTART;TZID=America/Toronto:20170909T100000
DTEND;TZID=America/Toronto:20170909T130000
DTSTAMP:20260425T125706
CREATED:20170907T192845Z
LAST-MODIFIED:20170907T192845Z
UID:10020193-1504951200-1504962000@huronshores.ca
SUMMARY:Fruit & Veggie Scavenger Hunt
DESCRIPTION:The North Channel Healthy Kids Community Challenge Committee is sponsoring a Fruit & Veggie Scavenger Hunt on Saturday\, September 9th from 10:00 a.m. to 1:00 p.m. at the 138th Annual Central Algoma Exhibition & Fall Fair (Bruce Mines Arena)\, 35 Hwy. 638\, Bruce Mines.  The Scavenger Hunt is open to children 12 and under.  Please click on the link below for more information and the required registration form.
URL:https://huronshores.ca/event/fruit-veggie-scavenger-hunt/
LOCATION:ON
CATEGORIES:Community News,Local Food
ATTACH;FMTTYPE=image/jpeg:https://huronshores.ca/wp-content/uploads/2017/09/FV-SCAVENGER-HUNT-POSTER-english-revised-12-and-under.jpg
END:VEVENT
BEGIN:VEVENT
DTSTART;TZID=America/Toronto:20170909T140000
DTEND;TZID=America/Toronto:20170909T153000
DTSTAMP:20260425T125706
CREATED:20151021T181815Z
LAST-MODIFIED:20151021T181815Z
UID:10016425-1504965600-1504971000@huronshores.ca
SUMMARY:Alzheimer Info & Discussion Group
DESCRIPTION:The Alzheimer Society of Sault Ste. Marie & Algoma District hosts an Information & Discussion Group on the 2nd Wednesday of each month\, at the Calvary Gospel Church\, 55 Queen Street\, Blind River from 2:00 – 3:30 p.m.  For more information please call Tanya\, First Link Coordinator\, at 705-848-8145.
URL:https://huronshores.ca/event/alzheimer-info-discussion-group-2/2017-09-09/
LOCATION:ON
CATEGORIES:Community News
ATTACH;FMTTYPE=image/jpeg:https://huronshores.ca/wp-content/uploads/2013/01/Alzheimers-Disease.jpg
END:VEVENT
BEGIN:VEVENT
DTSTART;TZID=America/Toronto:20170910T080000
DTEND;TZID=America/Toronto:20170910T163000
DTSTAMP:20260425T125706
CREATED:20170907T192717Z
LAST-MODIFIED:20170907T192717Z
UID:10020190-1505030400-1505061000@huronshores.ca
SUMMARY:138th Annual Central Algoma Exhibition & Fall Fair
DESCRIPTION:Hours for the Fair are:  Friday\, September 8th\, Noon – 10:00 p.m.; Saturday\, September 9th\, 8:00 a.m. – 6:00 p.m.; and Sunday\, September 10th\, 8:00 a.m. – 4:30 p.m.  Please visit the facebook link below for more information.  Fun for the whole family!
URL:https://huronshores.ca/event/138th-annual-central-algoma-exhibition-fall-fair-3/
LOCATION:ON
CATEGORIES:Community News,Local Food
ATTACH;FMTTYPE=image/gif:https://huronshores.ca/wp-content/uploads/2013/08/Fall-Fair.gif
END:VEVENT
BEGIN:VEVENT
DTSTART;TZID=America/Toronto:20170910T140000
DTEND;TZID=America/Toronto:20170910T153000
DTSTAMP:20260425T125706
CREATED:20151021T181815Z
LAST-MODIFIED:20151021T181815Z
UID:10016426-1505052000-1505057400@huronshores.ca
SUMMARY:Alzheimer Info & Discussion Group
DESCRIPTION:The Alzheimer Society of Sault Ste. Marie & Algoma District hosts an Information & Discussion Group on the 2nd Wednesday of each month\, at the Calvary Gospel Church\, 55 Queen Street\, Blind River from 2:00 – 3:30 p.m.  For more information please call Tanya\, First Link Coordinator\, at 705-848-8145.
URL:https://huronshores.ca/event/alzheimer-info-discussion-group-2/2017-09-10/
LOCATION:ON
CATEGORIES:Community News
ATTACH;FMTTYPE=image/jpeg:https://huronshores.ca/wp-content/uploads/2013/01/Alzheimers-Disease.jpg
END:VEVENT
BEGIN:VEVENT
DTSTART;TZID=America/Toronto:20170911T140000
DTEND;TZID=America/Toronto:20170911T153000
DTSTAMP:20260425T125706
CREATED:20151021T181815Z
LAST-MODIFIED:20151021T181815Z
UID:10016427-1505138400-1505143800@huronshores.ca
SUMMARY:Alzheimer Info & Discussion Group
DESCRIPTION:The Alzheimer Society of Sault Ste. Marie & Algoma District hosts an Information & Discussion Group on the 2nd Wednesday of each month\, at the Calvary Gospel Church\, 55 Queen Street\, Blind River from 2:00 – 3:30 p.m.  For more information please call Tanya\, First Link Coordinator\, at 705-848-8145.
URL:https://huronshores.ca/event/alzheimer-info-discussion-group-2/2017-09-11/
LOCATION:ON
CATEGORIES:Community News
ATTACH;FMTTYPE=image/jpeg:https://huronshores.ca/wp-content/uploads/2013/01/Alzheimers-Disease.jpg
END:VEVENT
BEGIN:VEVENT
DTSTART;TZID=America/Toronto:20170912T140000
DTEND;TZID=America/Toronto:20170912T153000
DTSTAMP:20260425T125706
CREATED:20151021T181815Z
LAST-MODIFIED:20151021T181815Z
UID:10016428-1505224800-1505230200@huronshores.ca
SUMMARY:Alzheimer Info & Discussion Group
DESCRIPTION:The Alzheimer Society of Sault Ste. Marie & Algoma District hosts an Information & Discussion Group on the 2nd Wednesday of each month\, at the Calvary Gospel Church\, 55 Queen Street\, Blind River from 2:00 – 3:30 p.m.  For more information please call Tanya\, First Link Coordinator\, at 705-848-8145.
URL:https://huronshores.ca/event/alzheimer-info-discussion-group-2/2017-09-12/
LOCATION:ON
CATEGORIES:Community News
ATTACH;FMTTYPE=image/jpeg:https://huronshores.ca/wp-content/uploads/2013/01/Alzheimers-Disease.jpg
END:VEVENT
BEGIN:VEVENT
DTSTART;TZID=America/Toronto:20170913T140000
DTEND;TZID=America/Toronto:20170913T153000
DTSTAMP:20260425T125706
CREATED:20151021T181815Z
LAST-MODIFIED:20151021T181815Z
UID:10016429-1505311200-1505316600@huronshores.ca
SUMMARY:Alzheimer Info & Discussion Group
DESCRIPTION:The Alzheimer Society of Sault Ste. Marie & Algoma District hosts an Information & Discussion Group on the 2nd Wednesday of each month\, at the Calvary Gospel Church\, 55 Queen Street\, Blind River from 2:00 – 3:30 p.m.  For more information please call Tanya\, First Link Coordinator\, at 705-848-8145.
URL:https://huronshores.ca/event/alzheimer-info-discussion-group-2/2017-09-13/
LOCATION:ON
CATEGORIES:Community News
ATTACH;FMTTYPE=image/jpeg:https://huronshores.ca/wp-content/uploads/2013/01/Alzheimers-Disease.jpg
END:VEVENT
BEGIN:VEVENT
DTSTART;TZID=America/Toronto:20170913T190000
DTEND;TZID=America/Toronto:20170913T190000
DTSTAMP:20260425T125706
CREATED:20161219T143736Z
LAST-MODIFIED:20161219T143736Z
UID:10020016-1505329200-1505329200@huronshores.ca
SUMMARY:Regular Council Meeting
DESCRIPTION:The Regular Meeting of Council will convene at 7:00 p.m. in the Council Chambers\, 7 Bridge Street\, Iron Bridge.  The Agenda is posted on huronshores.ca and at the Municipal Office the Monday prior unless that day is a holiday.  It would then be posted on the Tuesday.  Council Meetings are held as follows:  January – June & September – November\, 2nd & 4th Wednesdays; July & August\, 2nd Wednesday only; December\, 3rd Wednesday unless otherwise scheduled.  Periodically Special Meetings are called in order to deliberate a specific matter.  As per the Municipal Act\, all Council Meetings are conducted in public.  Members of the public are able to observe the proceedings from the gallery.  If you wish to address Council directly with respect to a specific matter or concern\, please contact the Municipal Office by the Friday prior in order to be included as a Delegation on the Meeting Agenda.  Please click on the link below to learn more about Delegations and Deputations.
URL:https://huronshores.ca/event/regular-council-meeting-35/2017-09-13/
LOCATION:ON
CATEGORIES:Council Meeting
ATTACH;FMTTYPE=:
END:VEVENT
BEGIN:VEVENT
DTSTART;TZID=America/Toronto:20170913T193000
DTEND;TZID=America/Toronto:20170913T193000
DTSTAMP:20260425T125706
CREATED:20160721T182330Z
LAST-MODIFIED:20160721T182330Z
UID:10019688-1505331000-1505331000@huronshores.ca
SUMMARY:Jammin' Session at the Thessalon Community Curling Club
DESCRIPTION:Every Wedneday night at 7:30PM\, join us at Thessalon Community Curling Club for our Jammin’ Session. You play an instrument and love to play with other instrumentalists\, or just love to listen to live music\, then come on down…the bar is open! Everyone welcome! Bring a friend!
URL:https://huronshores.ca/event/jammin-session-at-the-thessalon-community-curling-club/2017-09-13/
LOCATION:ON
CATEGORIES:Recreation
END:VEVENT
BEGIN:VEVENT
DTSTART;TZID=America/Toronto:20170914T140000
DTEND;TZID=America/Toronto:20170914T153000
DTSTAMP:20260425T125706
CREATED:20151021T181815Z
LAST-MODIFIED:20151021T181815Z
UID:10016430-1505397600-1505403000@huronshores.ca
SUMMARY:Alzheimer Info & Discussion Group
DESCRIPTION:The Alzheimer Society of Sault Ste. Marie & Algoma District hosts an Information & Discussion Group on the 2nd Wednesday of each month\, at the Calvary Gospel Church\, 55 Queen Street\, Blind River from 2:00 – 3:30 p.m.  For more information please call Tanya\, First Link Coordinator\, at 705-848-8145.
URL:https://huronshores.ca/event/alzheimer-info-discussion-group-2/2017-09-14/
LOCATION:ON
CATEGORIES:Community News
ATTACH;FMTTYPE=image/jpeg:https://huronshores.ca/wp-content/uploads/2013/01/Alzheimers-Disease.jpg
END:VEVENT
BEGIN:VEVENT
DTSTART;TZID=America/Toronto:20170915T140000
DTEND;TZID=America/Toronto:20170915T153000
DTSTAMP:20260425T125706
CREATED:20151021T181815Z
LAST-MODIFIED:20151021T181815Z
UID:10016431-1505484000-1505489400@huronshores.ca
SUMMARY:Alzheimer Info & Discussion Group
DESCRIPTION:The Alzheimer Society of Sault Ste. Marie & Algoma District hosts an Information & Discussion Group on the 2nd Wednesday of each month\, at the Calvary Gospel Church\, 55 Queen Street\, Blind River from 2:00 – 3:30 p.m.  For more information please call Tanya\, First Link Coordinator\, at 705-848-8145.
URL:https://huronshores.ca/event/alzheimer-info-discussion-group-2/2017-09-15/
LOCATION:ON
CATEGORIES:Community News
ATTACH;FMTTYPE=image/jpeg:https://huronshores.ca/wp-content/uploads/2013/01/Alzheimers-Disease.jpg
END:VEVENT
BEGIN:VEVENT
DTSTART;TZID=America/Toronto:20170916T090000
DTEND;TZID=America/Toronto:20170916T140000
DTSTAMP:20260425T125706
CREATED:20170602T132003Z
LAST-MODIFIED:20170602T132003Z
UID:10020151-1505552400-1505570400@huronshores.ca
SUMMARY:Sowerby Farmers' Market
DESCRIPTION:Sowerby Farmers’ Market\, every Saturday\, 9:00 a.m. – 2:00 p.m.\, from June 10 to October 7/17.  Local food producers and artisans offer seasonal fresh veggies\, home-baked goods\, jams\, jellies\, pickles\, handicrafts\, and more.  Vendor tables are $5.00/table/day.  Call Will at 705-843-5567 to book a table.
URL:https://huronshores.ca/event/sowerby-farmers-market-3/2017-09-16/
LOCATION:ON
CATEGORIES:Farmers' Markets,Local Food
ATTACH;FMTTYPE=image/jpeg:https://huronshores.ca/wp-content/uploads/2011/08/Historic-Cordukes-Weber-12-Sided-Barn-Sign1.jpg
END:VEVENT
BEGIN:VEVENT
DTSTART;TZID=America/Toronto:20170916T090000
DTEND;TZID=America/Toronto:20170916T140000
DTSTAMP:20260425T125706
CREATED:20170608T201421Z
LAST-MODIFIED:20170608T201421Z
UID:10020168-1505552400-1505570400@huronshores.ca
SUMMARY:Iron Bridge Farmers' Market
DESCRIPTION:The Iron Bridge Farmers’ Market is on Saturdays\, from 9:00 a.m. to 2:00 p.m. in the covered gazebo at the Iron Bridge Historical Museum\, 1 James Street.  Markets will be held weekly until the end of September.  Items available will include farm produce\, book and yard sale items\, as well\, consignment items may also be included (depending on storage availability). Table rentals are $5/table/day. Contact Carl at 705-843-2486 for details. The Museum is open daily from mid-June to September.
URL:https://huronshores.ca/event/iron-bridge-farmers-market-2/2017-09-16/
LOCATION:ON
CATEGORIES:Community News,Farmers' Markets,Local Food
ATTACH;FMTTYPE=image/jpeg:https://huronshores.ca/wp-content/uploads/2012/03/Ward-3-Museum-Welcome-sign-Web-large.jpg
END:VEVENT
BEGIN:VEVENT
DTSTART;TZID=America/Toronto:20170916T140000
DTEND;TZID=America/Toronto:20170916T153000
DTSTAMP:20260425T125706
CREATED:20151021T181815Z
LAST-MODIFIED:20151021T181815Z
UID:10016432-1505570400-1505575800@huronshores.ca
SUMMARY:Alzheimer Info & Discussion Group
DESCRIPTION:The Alzheimer Society of Sault Ste. Marie & Algoma District hosts an Information & Discussion Group on the 2nd Wednesday of each month\, at the Calvary Gospel Church\, 55 Queen Street\, Blind River from 2:00 – 3:30 p.m.  For more information please call Tanya\, First Link Coordinator\, at 705-848-8145.
URL:https://huronshores.ca/event/alzheimer-info-discussion-group-2/2017-09-16/
LOCATION:ON
CATEGORIES:Community News
ATTACH;FMTTYPE=image/jpeg:https://huronshores.ca/wp-content/uploads/2013/01/Alzheimers-Disease.jpg
END:VEVENT
BEGIN:VEVENT
DTSTART;TZID=America/Toronto:20170917T140000
DTEND;TZID=America/Toronto:20170917T153000
DTSTAMP:20260425T125706
CREATED:20151021T181815Z
LAST-MODIFIED:20151021T181815Z
UID:10016433-1505656800-1505662200@huronshores.ca
SUMMARY:Alzheimer Info & Discussion Group
DESCRIPTION:The Alzheimer Society of Sault Ste. Marie & Algoma District hosts an Information & Discussion Group on the 2nd Wednesday of each month\, at the Calvary Gospel Church\, 55 Queen Street\, Blind River from 2:00 – 3:30 p.m.  For more information please call Tanya\, First Link Coordinator\, at 705-848-8145.
URL:https://huronshores.ca/event/alzheimer-info-discussion-group-2/2017-09-17/
LOCATION:ON
CATEGORIES:Community News
ATTACH;FMTTYPE=image/jpeg:https://huronshores.ca/wp-content/uploads/2013/01/Alzheimers-Disease.jpg
END:VEVENT
BEGIN:VEVENT
DTSTART;TZID=America/Toronto:20170918T140000
DTEND;TZID=America/Toronto:20170918T153000
DTSTAMP:20260425T125706
CREATED:20151021T181815Z
LAST-MODIFIED:20151021T181815Z
UID:10016434-1505743200-1505748600@huronshores.ca
SUMMARY:Alzheimer Info & Discussion Group
DESCRIPTION:The Alzheimer Society of Sault Ste. Marie & Algoma District hosts an Information & Discussion Group on the 2nd Wednesday of each month\, at the Calvary Gospel Church\, 55 Queen Street\, Blind River from 2:00 – 3:30 p.m.  For more information please call Tanya\, First Link Coordinator\, at 705-848-8145.
URL:https://huronshores.ca/event/alzheimer-info-discussion-group-2/2017-09-18/
LOCATION:ON
CATEGORIES:Community News
ATTACH;FMTTYPE=image/jpeg:https://huronshores.ca/wp-content/uploads/2013/01/Alzheimers-Disease.jpg
END:VEVENT
BEGIN:VEVENT
DTSTART;TZID=America/Toronto:20170919T140000
DTEND;TZID=America/Toronto:20170919T153000
DTSTAMP:20260425T125706
CREATED:20151021T181815Z
LAST-MODIFIED:20151021T181815Z
UID:10016435-1505829600-1505835000@huronshores.ca
SUMMARY:Alzheimer Info & Discussion Group
DESCRIPTION:The Alzheimer Society of Sault Ste. Marie & Algoma District hosts an Information & Discussion Group on the 2nd Wednesday of each month\, at the Calvary Gospel Church\, 55 Queen Street\, Blind River from 2:00 – 3:30 p.m.  For more information please call Tanya\, First Link Coordinator\, at 705-848-8145.
URL:https://huronshores.ca/event/alzheimer-info-discussion-group-2/2017-09-19/
LOCATION:ON
CATEGORIES:Community News
ATTACH;FMTTYPE=image/jpeg:https://huronshores.ca/wp-content/uploads/2013/01/Alzheimers-Disease.jpg
END:VEVENT
BEGIN:VEVENT
DTSTART;TZID=America/Toronto:20170920T140000
DTEND;TZID=America/Toronto:20170920T153000
DTSTAMP:20260425T125706
CREATED:20151021T181815Z
LAST-MODIFIED:20151021T181815Z
UID:10016436-1505916000-1505921400@huronshores.ca
SUMMARY:Alzheimer Info & Discussion Group
DESCRIPTION:The Alzheimer Society of Sault Ste. Marie & Algoma District hosts an Information & Discussion Group on the 2nd Wednesday of each month\, at the Calvary Gospel Church\, 55 Queen Street\, Blind River from 2:00 – 3:30 p.m.  For more information please call Tanya\, First Link Coordinator\, at 705-848-8145.
URL:https://huronshores.ca/event/alzheimer-info-discussion-group-2/2017-09-20/
LOCATION:ON
CATEGORIES:Community News
ATTACH;FMTTYPE=image/jpeg:https://huronshores.ca/wp-content/uploads/2013/01/Alzheimers-Disease.jpg
END:VEVENT
BEGIN:VEVENT
DTSTART;TZID=America/Toronto:20170920T183000
DTEND;TZID=America/Toronto:20170920T183000
DTSTAMP:20260425T125706
CREATED:20170915T134043Z
LAST-MODIFIED:20170915T134043Z
UID:10020194-1505932200-1505932200@huronshores.ca
SUMMARY:Little Rapids Community Garden Harvest Fest & Open House
DESCRIPTION:The North Channel Healthy Kids Community Challenge is hosting a Harvest Fest & Open House at the Little Rapids Community Garden (4 Little Rapids Rd.)  Everyone is welcome to stop by\, harvest some fresh veggies and enjoy a cold drink.  The Open House begins at 6:30 p.m.
URL:https://huronshores.ca/event/little-rapids-community-garden-harvest-fest-open-house/
LOCATION:ON
CATEGORIES:Community News,Local Food
ATTACH;FMTTYPE=image/jpeg:https://huronshores.ca/wp-content/uploads/2013/12/Farmers-Market-Produce.jpg
END:VEVENT
BEGIN:VEVENT
DTSTART;TZID=America/Toronto:20170920T193000
DTEND;TZID=America/Toronto:20170920T193000
DTSTAMP:20260425T125706
CREATED:20160721T182330Z
LAST-MODIFIED:20160721T182330Z
UID:10019689-1505935800-1505935800@huronshores.ca
SUMMARY:Jammin' Session at the Thessalon Community Curling Club
DESCRIPTION:Every Wedneday night at 7:30PM\, join us at Thessalon Community Curling Club for our Jammin’ Session. You play an instrument and love to play with other instrumentalists\, or just love to listen to live music\, then come on down…the bar is open! Everyone welcome! Bring a friend!
URL:https://huronshores.ca/event/jammin-session-at-the-thessalon-community-curling-club/2017-09-20/
LOCATION:ON
CATEGORIES:Recreation
END:VEVENT
END:VCALENDAR