BEGIN:VCALENDAR
VERSION:2.0
PRODID:-//Huron Shores - ECPv6.15.11//NONSGML v1.0//EN
CALSCALE:GREGORIAN
METHOD:PUBLISH
X-ORIGINAL-URL:https://huronshores.ca
X-WR-CALDESC:Events for Huron Shores
REFRESH-INTERVAL;VALUE=DURATION:PT1H
X-Robots-Tag:noindex
X-PUBLISHED-TTL:PT1H
BEGIN:VTIMEZONE
TZID:America/Toronto
BEGIN:DAYLIGHT
TZOFFSETFROM:-0500
TZOFFSETTO:-0400
TZNAME:EDT
DTSTART:20160313T070000
END:DAYLIGHT
BEGIN:STANDARD
TZOFFSETFROM:-0400
TZOFFSETTO:-0500
TZNAME:EST
DTSTART:20161106T060000
END:STANDARD
BEGIN:DAYLIGHT
TZOFFSETFROM:-0500
TZOFFSETTO:-0400
TZNAME:EDT
DTSTART:20170312T070000
END:DAYLIGHT
BEGIN:STANDARD
TZOFFSETFROM:-0400
TZOFFSETTO:-0500
TZNAME:EST
DTSTART:20171105T060000
END:STANDARD
BEGIN:DAYLIGHT
TZOFFSETFROM:-0500
TZOFFSETTO:-0400
TZNAME:EDT
DTSTART:20180311T070000
END:DAYLIGHT
BEGIN:STANDARD
TZOFFSETFROM:-0400
TZOFFSETTO:-0500
TZNAME:EST
DTSTART:20181104T060000
END:STANDARD
END:VTIMEZONE
BEGIN:VEVENT
DTSTART;TZID=America/Toronto:20170314T140000
DTEND;TZID=America/Toronto:20170314T153000
DTSTAMP:20260424T094921
CREATED:20151021T181815Z
LAST-MODIFIED:20151021T181815Z
UID:10016246-1489500000-1489505400@huronshores.ca
SUMMARY:Alzheimer Info & Discussion Group
DESCRIPTION:The Alzheimer Society of Sault Ste. Marie & Algoma District hosts an Information & Discussion Group on the 2nd Wednesday of each month\, at the Calvary Gospel Church\, 55 Queen Street\, Blind River from 2:00 – 3:30 p.m.  For more information please call Tanya\, First Link Coordinator\, at 705-848-8145.
URL:https://huronshores.ca/event/alzheimer-info-discussion-group-2/2017-03-14/
LOCATION:Ontario
CATEGORIES:Community News
ATTACH;FMTTYPE=image/jpeg:https://huronshores.ca/wp-content/uploads/2013/01/Alzheimers-Disease.jpg
END:VEVENT
BEGIN:VEVENT
DTSTART;TZID=America/Toronto:20170314T140000
DTEND;TZID=America/Toronto:20170314T160000
DTSTAMP:20260424T094921
CREATED:20170227T200019Z
LAST-MODIFIED:20170227T200019Z
UID:10020097-1489500000-1489507200@huronshores.ca
SUMMARY:March Break Family Fun Time
DESCRIPTION:During March Break\, from Sunday\, March 12th to Friday\, March 17th\, the Iron Bridge Recreation Committee will host Family Fun Time from 2:00 to 4:00 p.m. at the Recreation Centre\, 1 Chiblow Lake Road.  Plenty of activities for all ages!  Play equipment and supplies provided under the North Channel Healthy Kids Community Challenge Program.
URL:https://huronshores.ca/event/march-break-family-fun-time/2017-03-14/
LOCATION:Ontario
CATEGORIES:Community News,Recreation
ATTACH;FMTTYPE=image/jpeg:https://huronshores.ca/wp-content/uploads/2015/09/Family-Activities.jpeg
END:VEVENT
BEGIN:VEVENT
DTSTART;TZID=America/Toronto:20170315T140000
DTEND;TZID=America/Toronto:20170315T153000
DTSTAMP:20260424T094921
CREATED:20151021T181815Z
LAST-MODIFIED:20151021T181815Z
UID:10016247-1489586400-1489591800@huronshores.ca
SUMMARY:Alzheimer Info & Discussion Group
DESCRIPTION:The Alzheimer Society of Sault Ste. Marie & Algoma District hosts an Information & Discussion Group on the 2nd Wednesday of each month\, at the Calvary Gospel Church\, 55 Queen Street\, Blind River from 2:00 – 3:30 p.m.  For more information please call Tanya\, First Link Coordinator\, at 705-848-8145.
URL:https://huronshores.ca/event/alzheimer-info-discussion-group-2/2017-03-15/
LOCATION:Ontario
CATEGORIES:Community News
ATTACH;FMTTYPE=image/jpeg:https://huronshores.ca/wp-content/uploads/2013/01/Alzheimers-Disease.jpg
END:VEVENT
BEGIN:VEVENT
DTSTART;TZID=America/Toronto:20170315T140000
DTEND;TZID=America/Toronto:20170315T160000
DTSTAMP:20260424T094921
CREATED:20170227T200019Z
LAST-MODIFIED:20170227T200019Z
UID:10020098-1489586400-1489593600@huronshores.ca
SUMMARY:March Break Family Fun Time
DESCRIPTION:During March Break\, from Sunday\, March 12th to Friday\, March 17th\, the Iron Bridge Recreation Committee will host Family Fun Time from 2:00 to 4:00 p.m. at the Recreation Centre\, 1 Chiblow Lake Road.  Plenty of activities for all ages!  Play equipment and supplies provided under the North Channel Healthy Kids Community Challenge Program.
URL:https://huronshores.ca/event/march-break-family-fun-time/2017-03-15/
LOCATION:Ontario
CATEGORIES:Community News,Recreation
ATTACH;FMTTYPE=image/jpeg:https://huronshores.ca/wp-content/uploads/2015/09/Family-Activities.jpeg
END:VEVENT
BEGIN:VEVENT
DTSTART;TZID=America/Toronto:20170315T193000
DTEND;TZID=America/Toronto:20170315T193000
DTSTAMP:20260424T094921
CREATED:20160721T182330Z
LAST-MODIFIED:20160721T182330Z
UID:10019662-1489606200-1489606200@huronshores.ca
SUMMARY:Jammin' Session at the Thessalon Community Curling Club
DESCRIPTION:Every Wedneday night at 7:30PM\, join us at Thessalon Community Curling Club for our Jammin’ Session. You play an instrument and love to play with other instrumentalists\, or just love to listen to live music\, then come on down…the bar is open! Everyone welcome! Bring a friend!
URL:https://huronshores.ca/event/jammin-session-at-the-thessalon-community-curling-club/2017-03-15/
LOCATION:Ontario
CATEGORIES:Recreation
END:VEVENT
BEGIN:VEVENT
DTSTART;TZID=America/Toronto:20170316T140000
DTEND;TZID=America/Toronto:20170316T153000
DTSTAMP:20260424T094921
CREATED:20151021T181815Z
LAST-MODIFIED:20151021T181815Z
UID:10016248-1489672800-1489678200@huronshores.ca
SUMMARY:Alzheimer Info & Discussion Group
DESCRIPTION:The Alzheimer Society of Sault Ste. Marie & Algoma District hosts an Information & Discussion Group on the 2nd Wednesday of each month\, at the Calvary Gospel Church\, 55 Queen Street\, Blind River from 2:00 – 3:30 p.m.  For more information please call Tanya\, First Link Coordinator\, at 705-848-8145.
URL:https://huronshores.ca/event/alzheimer-info-discussion-group-2/2017-03-16/
LOCATION:Ontario
CATEGORIES:Community News
ATTACH;FMTTYPE=image/jpeg:https://huronshores.ca/wp-content/uploads/2013/01/Alzheimers-Disease.jpg
END:VEVENT
BEGIN:VEVENT
DTSTART;TZID=America/Toronto:20170316T140000
DTEND;TZID=America/Toronto:20170316T160000
DTSTAMP:20260424T094921
CREATED:20170227T200019Z
LAST-MODIFIED:20170227T200019Z
UID:10020099-1489672800-1489680000@huronshores.ca
SUMMARY:March Break Family Fun Time
DESCRIPTION:During March Break\, from Sunday\, March 12th to Friday\, March 17th\, the Iron Bridge Recreation Committee will host Family Fun Time from 2:00 to 4:00 p.m. at the Recreation Centre\, 1 Chiblow Lake Road.  Plenty of activities for all ages!  Play equipment and supplies provided under the North Channel Healthy Kids Community Challenge Program.
URL:https://huronshores.ca/event/march-break-family-fun-time/2017-03-16/
LOCATION:Ontario
CATEGORIES:Community News,Recreation
ATTACH;FMTTYPE=image/jpeg:https://huronshores.ca/wp-content/uploads/2015/09/Family-Activities.jpeg
END:VEVENT
BEGIN:VEVENT
DTSTART;TZID=America/Toronto:20170317T140000
DTEND;TZID=America/Toronto:20170317T153000
DTSTAMP:20260424T094921
CREATED:20151021T181815Z
LAST-MODIFIED:20151021T181815Z
UID:10016249-1489759200-1489764600@huronshores.ca
SUMMARY:Alzheimer Info & Discussion Group
DESCRIPTION:The Alzheimer Society of Sault Ste. Marie & Algoma District hosts an Information & Discussion Group on the 2nd Wednesday of each month\, at the Calvary Gospel Church\, 55 Queen Street\, Blind River from 2:00 – 3:30 p.m.  For more information please call Tanya\, First Link Coordinator\, at 705-848-8145.
URL:https://huronshores.ca/event/alzheimer-info-discussion-group-2/2017-03-17/
LOCATION:Ontario
CATEGORIES:Community News
ATTACH;FMTTYPE=image/jpeg:https://huronshores.ca/wp-content/uploads/2013/01/Alzheimers-Disease.jpg
END:VEVENT
BEGIN:VEVENT
DTSTART;TZID=America/Toronto:20170317T140000
DTEND;TZID=America/Toronto:20170317T160000
DTSTAMP:20260424T094921
CREATED:20170227T200019Z
LAST-MODIFIED:20170227T200019Z
UID:10020100-1489759200-1489766400@huronshores.ca
SUMMARY:March Break Family Fun Time
DESCRIPTION:During March Break\, from Sunday\, March 12th to Friday\, March 17th\, the Iron Bridge Recreation Committee will host Family Fun Time from 2:00 to 4:00 p.m. at the Recreation Centre\, 1 Chiblow Lake Road.  Plenty of activities for all ages!  Play equipment and supplies provided under the North Channel Healthy Kids Community Challenge Program.
URL:https://huronshores.ca/event/march-break-family-fun-time/2017-03-17/
LOCATION:Ontario
CATEGORIES:Community News,Recreation
ATTACH;FMTTYPE=image/jpeg:https://huronshores.ca/wp-content/uploads/2015/09/Family-Activities.jpeg
END:VEVENT
BEGIN:VEVENT
DTSTART;TZID=America/Toronto:20170318T140000
DTEND;TZID=America/Toronto:20170318T153000
DTSTAMP:20260424T094921
CREATED:20151021T181815Z
LAST-MODIFIED:20151021T181815Z
UID:10016250-1489845600-1489851000@huronshores.ca
SUMMARY:Alzheimer Info & Discussion Group
DESCRIPTION:The Alzheimer Society of Sault Ste. Marie & Algoma District hosts an Information & Discussion Group on the 2nd Wednesday of each month\, at the Calvary Gospel Church\, 55 Queen Street\, Blind River from 2:00 – 3:30 p.m.  For more information please call Tanya\, First Link Coordinator\, at 705-848-8145.
URL:https://huronshores.ca/event/alzheimer-info-discussion-group-2/2017-03-18/
LOCATION:Ontario
CATEGORIES:Community News
ATTACH;FMTTYPE=image/jpeg:https://huronshores.ca/wp-content/uploads/2013/01/Alzheimers-Disease.jpg
END:VEVENT
BEGIN:VEVENT
DTSTART;TZID=America/Toronto:20170319T140000
DTEND;TZID=America/Toronto:20170319T153000
DTSTAMP:20260424T094921
CREATED:20151021T181815Z
LAST-MODIFIED:20151021T181815Z
UID:10016251-1489932000-1489937400@huronshores.ca
SUMMARY:Alzheimer Info & Discussion Group
DESCRIPTION:The Alzheimer Society of Sault Ste. Marie & Algoma District hosts an Information & Discussion Group on the 2nd Wednesday of each month\, at the Calvary Gospel Church\, 55 Queen Street\, Blind River from 2:00 – 3:30 p.m.  For more information please call Tanya\, First Link Coordinator\, at 705-848-8145.
URL:https://huronshores.ca/event/alzheimer-info-discussion-group-2/2017-03-19/
LOCATION:Ontario
CATEGORIES:Community News
ATTACH;FMTTYPE=image/jpeg:https://huronshores.ca/wp-content/uploads/2013/01/Alzheimers-Disease.jpg
END:VEVENT
BEGIN:VEVENT
DTSTART;TZID=America/Toronto:20170320T140000
DTEND;TZID=America/Toronto:20170320T153000
DTSTAMP:20260424T094921
CREATED:20151021T181815Z
LAST-MODIFIED:20151021T181815Z
UID:10016252-1490018400-1490023800@huronshores.ca
SUMMARY:Alzheimer Info & Discussion Group
DESCRIPTION:The Alzheimer Society of Sault Ste. Marie & Algoma District hosts an Information & Discussion Group on the 2nd Wednesday of each month\, at the Calvary Gospel Church\, 55 Queen Street\, Blind River from 2:00 – 3:30 p.m.  For more information please call Tanya\, First Link Coordinator\, at 705-848-8145.
URL:https://huronshores.ca/event/alzheimer-info-discussion-group-2/2017-03-20/
LOCATION:Ontario
CATEGORIES:Community News
ATTACH;FMTTYPE=image/jpeg:https://huronshores.ca/wp-content/uploads/2013/01/Alzheimers-Disease.jpg
END:VEVENT
BEGIN:VEVENT
DTSTART;TZID=America/Toronto:20170321T140000
DTEND;TZID=America/Toronto:20170321T153000
DTSTAMP:20260424T094921
CREATED:20151021T181815Z
LAST-MODIFIED:20151021T181815Z
UID:10016253-1490104800-1490110200@huronshores.ca
SUMMARY:Alzheimer Info & Discussion Group
DESCRIPTION:The Alzheimer Society of Sault Ste. Marie & Algoma District hosts an Information & Discussion Group on the 2nd Wednesday of each month\, at the Calvary Gospel Church\, 55 Queen Street\, Blind River from 2:00 – 3:30 p.m.  For more information please call Tanya\, First Link Coordinator\, at 705-848-8145.
URL:https://huronshores.ca/event/alzheimer-info-discussion-group-2/2017-03-21/
LOCATION:Ontario
CATEGORIES:Community News
ATTACH;FMTTYPE=image/jpeg:https://huronshores.ca/wp-content/uploads/2013/01/Alzheimers-Disease.jpg
END:VEVENT
BEGIN:VEVENT
DTSTART;TZID=America/Toronto:20170322T140000
DTEND;TZID=America/Toronto:20170322T153000
DTSTAMP:20260424T094921
CREATED:20151021T181815Z
LAST-MODIFIED:20151021T181815Z
UID:10016254-1490191200-1490196600@huronshores.ca
SUMMARY:Alzheimer Info & Discussion Group
DESCRIPTION:The Alzheimer Society of Sault Ste. Marie & Algoma District hosts an Information & Discussion Group on the 2nd Wednesday of each month\, at the Calvary Gospel Church\, 55 Queen Street\, Blind River from 2:00 – 3:30 p.m.  For more information please call Tanya\, First Link Coordinator\, at 705-848-8145.
URL:https://huronshores.ca/event/alzheimer-info-discussion-group-2/2017-03-22/
LOCATION:Ontario
CATEGORIES:Community News
ATTACH;FMTTYPE=image/jpeg:https://huronshores.ca/wp-content/uploads/2013/01/Alzheimers-Disease.jpg
END:VEVENT
BEGIN:VEVENT
DTSTART;TZID=America/Toronto:20170322T190000
DTEND;TZID=America/Toronto:20170322T190000
DTSTAMP:20260424T094921
CREATED:20161216T202607Z
LAST-MODIFIED:20161216T202607Z
UID:10020000-1490209200-1490209200@huronshores.ca
SUMMARY:Regular Council Meeting
DESCRIPTION:The Regular Meeting of Council will convene at 7:00 p.m. in the Council Chambers\, 7 Bridge Street\, Iron Bridge.  The Agenda is posted on huronshores.ca and at the Municipal Office the Monday prior unless that day is a holiday.  It would then be posted on the Tuesday.  Council Meetings are held as follows:  January – June & September – November\, 2nd & 4th Wednesdays; July & August\, 2nd Wednesday only; December\, 3rd Wednesday unless otherwise scheduled.  Periodically Special Meetings are called in order to deliberate a specific matter.  As per the Municipal Act\, all Council Meetings are conducted in public.  Members of the public are able to observe the proceedings from the gallery.  If you wish to address Council directly with respect to a specific matter or concern\, please contact the Municipal Office by the Friday prior in order to be included as a Delegation on the Meeting Agenda.  Please click on the link below to learn more about Delegations and Deputations.
URL:https://huronshores.ca/event/regular-council-meeting-29/2017-03-22/
LOCATION:Ontario
CATEGORIES:Council Meeting
ATTACH;FMTTYPE=:
END:VEVENT
BEGIN:VEVENT
DTSTART;TZID=America/Toronto:20170322T193000
DTEND;TZID=America/Toronto:20170322T193000
DTSTAMP:20260424T094921
CREATED:20160721T182330Z
LAST-MODIFIED:20160721T182330Z
UID:10019663-1490211000-1490211000@huronshores.ca
SUMMARY:Jammin' Session at the Thessalon Community Curling Club
DESCRIPTION:Every Wedneday night at 7:30PM\, join us at Thessalon Community Curling Club for our Jammin’ Session. You play an instrument and love to play with other instrumentalists\, or just love to listen to live music\, then come on down…the bar is open! Everyone welcome! Bring a friend!
URL:https://huronshores.ca/event/jammin-session-at-the-thessalon-community-curling-club/2017-03-22/
LOCATION:Ontario
CATEGORIES:Recreation
END:VEVENT
BEGIN:VEVENT
DTSTART;TZID=America/Toronto:20170323T140000
DTEND;TZID=America/Toronto:20170323T153000
DTSTAMP:20260424T094921
CREATED:20151021T181815Z
LAST-MODIFIED:20151021T181815Z
UID:10016255-1490277600-1490283000@huronshores.ca
SUMMARY:Alzheimer Info & Discussion Group
DESCRIPTION:The Alzheimer Society of Sault Ste. Marie & Algoma District hosts an Information & Discussion Group on the 2nd Wednesday of each month\, at the Calvary Gospel Church\, 55 Queen Street\, Blind River from 2:00 – 3:30 p.m.  For more information please call Tanya\, First Link Coordinator\, at 705-848-8145.
URL:https://huronshores.ca/event/alzheimer-info-discussion-group-2/2017-03-23/
LOCATION:Ontario
CATEGORIES:Community News
ATTACH;FMTTYPE=image/jpeg:https://huronshores.ca/wp-content/uploads/2013/01/Alzheimers-Disease.jpg
END:VEVENT
BEGIN:VEVENT
DTSTART;TZID=America/Toronto:20170324T140000
DTEND;TZID=America/Toronto:20170324T153000
DTSTAMP:20260424T094921
CREATED:20151021T181815Z
LAST-MODIFIED:20151021T181815Z
UID:10016256-1490364000-1490369400@huronshores.ca
SUMMARY:Alzheimer Info & Discussion Group
DESCRIPTION:The Alzheimer Society of Sault Ste. Marie & Algoma District hosts an Information & Discussion Group on the 2nd Wednesday of each month\, at the Calvary Gospel Church\, 55 Queen Street\, Blind River from 2:00 – 3:30 p.m.  For more information please call Tanya\, First Link Coordinator\, at 705-848-8145.
URL:https://huronshores.ca/event/alzheimer-info-discussion-group-2/2017-03-24/
LOCATION:Ontario
CATEGORIES:Community News
ATTACH;FMTTYPE=image/jpeg:https://huronshores.ca/wp-content/uploads/2013/01/Alzheimers-Disease.jpg
END:VEVENT
BEGIN:VEVENT
DTSTART;TZID=America/Toronto:20170325T140000
DTEND;TZID=America/Toronto:20170325T153000
DTSTAMP:20260424T094921
CREATED:20151021T181815Z
LAST-MODIFIED:20151021T181815Z
UID:10016257-1490450400-1490455800@huronshores.ca
SUMMARY:Alzheimer Info & Discussion Group
DESCRIPTION:The Alzheimer Society of Sault Ste. Marie & Algoma District hosts an Information & Discussion Group on the 2nd Wednesday of each month\, at the Calvary Gospel Church\, 55 Queen Street\, Blind River from 2:00 – 3:30 p.m.  For more information please call Tanya\, First Link Coordinator\, at 705-848-8145.
URL:https://huronshores.ca/event/alzheimer-info-discussion-group-2/2017-03-25/
LOCATION:Ontario
CATEGORIES:Community News
ATTACH;FMTTYPE=image/jpeg:https://huronshores.ca/wp-content/uploads/2013/01/Alzheimers-Disease.jpg
END:VEVENT
BEGIN:VEVENT
DTSTART;TZID=America/Toronto:20170325T163000
DTEND;TZID=America/Toronto:20170325T183000
DTSTAMP:20260424T094921
CREATED:20170223T154053Z
LAST-MODIFIED:20170223T154053Z
UID:10020089-1490459400-1490466600@huronshores.ca
SUMMARY:Lions Club Fish Fry
DESCRIPTION:The Iron Bridge Lions Club hosts an all-you-can-eat Fish Fry at the Club Hall\, 10 Clarissa St.\, from 4:30 to 6:30 p.m. Call 705-843-2208 for details.
URL:https://huronshores.ca/event/lions-club-fish-fry-2/2017-03-25/
LOCATION:Ontario
CATEGORIES:Community News,Local Food
ATTACH;FMTTYPE=image/jpeg:https://huronshores.ca/wp-content/uploads/2015/12/Fish-Fry.jpg
END:VEVENT
BEGIN:VEVENT
DTSTART;TZID=America/Toronto:20170326T140000
DTEND;TZID=America/Toronto:20170326T153000
DTSTAMP:20260424T094921
CREATED:20151021T181815Z
LAST-MODIFIED:20151021T181815Z
UID:10016258-1490536800-1490542200@huronshores.ca
SUMMARY:Alzheimer Info & Discussion Group
DESCRIPTION:The Alzheimer Society of Sault Ste. Marie & Algoma District hosts an Information & Discussion Group on the 2nd Wednesday of each month\, at the Calvary Gospel Church\, 55 Queen Street\, Blind River from 2:00 – 3:30 p.m.  For more information please call Tanya\, First Link Coordinator\, at 705-848-8145.
URL:https://huronshores.ca/event/alzheimer-info-discussion-group-2/2017-03-26/
LOCATION:Ontario
CATEGORIES:Community News
ATTACH;FMTTYPE=image/jpeg:https://huronshores.ca/wp-content/uploads/2013/01/Alzheimers-Disease.jpg
END:VEVENT
BEGIN:VEVENT
DTSTART;TZID=America/Toronto:20170327T140000
DTEND;TZID=America/Toronto:20170327T153000
DTSTAMP:20260424T094921
CREATED:20151021T181815Z
LAST-MODIFIED:20151021T181815Z
UID:10016259-1490623200-1490628600@huronshores.ca
SUMMARY:Alzheimer Info & Discussion Group
DESCRIPTION:The Alzheimer Society of Sault Ste. Marie & Algoma District hosts an Information & Discussion Group on the 2nd Wednesday of each month\, at the Calvary Gospel Church\, 55 Queen Street\, Blind River from 2:00 – 3:30 p.m.  For more information please call Tanya\, First Link Coordinator\, at 705-848-8145.
URL:https://huronshores.ca/event/alzheimer-info-discussion-group-2/2017-03-27/
LOCATION:Ontario
CATEGORIES:Community News
ATTACH;FMTTYPE=image/jpeg:https://huronshores.ca/wp-content/uploads/2013/01/Alzheimers-Disease.jpg
END:VEVENT
BEGIN:VEVENT
DTSTART;TZID=America/Toronto:20170328T140000
DTEND;TZID=America/Toronto:20170328T153000
DTSTAMP:20260424T094921
CREATED:20151021T181815Z
LAST-MODIFIED:20151021T181815Z
UID:10016260-1490709600-1490715000@huronshores.ca
SUMMARY:Alzheimer Info & Discussion Group
DESCRIPTION:The Alzheimer Society of Sault Ste. Marie & Algoma District hosts an Information & Discussion Group on the 2nd Wednesday of each month\, at the Calvary Gospel Church\, 55 Queen Street\, Blind River from 2:00 – 3:30 p.m.  For more information please call Tanya\, First Link Coordinator\, at 705-848-8145.
URL:https://huronshores.ca/event/alzheimer-info-discussion-group-2/2017-03-28/
LOCATION:Ontario
CATEGORIES:Community News
ATTACH;FMTTYPE=image/jpeg:https://huronshores.ca/wp-content/uploads/2013/01/Alzheimers-Disease.jpg
END:VEVENT
BEGIN:VEVENT
DTSTART;TZID=America/Toronto:20170329T140000
DTEND;TZID=America/Toronto:20170329T153000
DTSTAMP:20260424T094921
CREATED:20151021T181815Z
LAST-MODIFIED:20151021T181815Z
UID:10016261-1490796000-1490801400@huronshores.ca
SUMMARY:Alzheimer Info & Discussion Group
DESCRIPTION:The Alzheimer Society of Sault Ste. Marie & Algoma District hosts an Information & Discussion Group on the 2nd Wednesday of each month\, at the Calvary Gospel Church\, 55 Queen Street\, Blind River from 2:00 – 3:30 p.m.  For more information please call Tanya\, First Link Coordinator\, at 705-848-8145.
URL:https://huronshores.ca/event/alzheimer-info-discussion-group-2/2017-03-29/
LOCATION:Ontario
CATEGORIES:Community News
ATTACH;FMTTYPE=image/jpeg:https://huronshores.ca/wp-content/uploads/2013/01/Alzheimers-Disease.jpg
END:VEVENT
BEGIN:VEVENT
DTSTART;TZID=America/Toronto:20170329T193000
DTEND;TZID=America/Toronto:20170329T193000
DTSTAMP:20260424T094921
CREATED:20160721T182330Z
LAST-MODIFIED:20160721T182330Z
UID:10019664-1490815800-1490815800@huronshores.ca
SUMMARY:Jammin' Session at the Thessalon Community Curling Club
DESCRIPTION:Every Wedneday night at 7:30PM\, join us at Thessalon Community Curling Club for our Jammin’ Session. You play an instrument and love to play with other instrumentalists\, or just love to listen to live music\, then come on down…the bar is open! Everyone welcome! Bring a friend!
URL:https://huronshores.ca/event/jammin-session-at-the-thessalon-community-curling-club/2017-03-29/
LOCATION:Ontario
CATEGORIES:Recreation
END:VEVENT
BEGIN:VEVENT
DTSTART;TZID=America/Toronto:20170330T140000
DTEND;TZID=America/Toronto:20170330T153000
DTSTAMP:20260424T094921
CREATED:20151021T181815Z
LAST-MODIFIED:20151021T181815Z
UID:10016262-1490882400-1490887800@huronshores.ca
SUMMARY:Alzheimer Info & Discussion Group
DESCRIPTION:The Alzheimer Society of Sault Ste. Marie & Algoma District hosts an Information & Discussion Group on the 2nd Wednesday of each month\, at the Calvary Gospel Church\, 55 Queen Street\, Blind River from 2:00 – 3:30 p.m.  For more information please call Tanya\, First Link Coordinator\, at 705-848-8145.
URL:https://huronshores.ca/event/alzheimer-info-discussion-group-2/2017-03-30/
LOCATION:Ontario
CATEGORIES:Community News
ATTACH;FMTTYPE=image/jpeg:https://huronshores.ca/wp-content/uploads/2013/01/Alzheimers-Disease.jpg
END:VEVENT
BEGIN:VEVENT
DTSTART;VALUE=DATE:20170331
DTEND;VALUE=DATE:20170401
DTSTAMP:20260424T094921
CREATED:20161219T200647Z
LAST-MODIFIED:20161219T200647Z
UID:10020028-1490918400-1491004799@huronshores.ca
SUMMARY:2017 Interim Tax Billing - 1st Installment Due
DESCRIPTION:The First Installment of the 2017 Interim Tax Billing is due today\, Friday\, March 31/17 at 4:30 p.m.  Payment must be in Canadian funds ($$) and may be remitted by credit card via e-Payments on the Home page of huronshores.ca; via your Canadian financial institution and Electronic Funds Transfer (EFT); in the mail by cheque or money order; or in person at the Municipal Office\, Monday – Friday\, 8:30 a.m. – 4:30 p.m. (cash or cheque only\, no debit).  Installments are due the last business day of March and May.  For further info\, please click on the link below to visit the Treasury Department page.
URL:https://huronshores.ca/event/2017-interim-tax-billing-1st-installment-due/
LOCATION:Ontario
CATEGORIES:Treasury
ATTACH;FMTTYPE=image/jpeg:https://huronshores.ca/wp-content/uploads/2012/09/Mailings.jpg
END:VEVENT
BEGIN:VEVENT
DTSTART;TZID=America/Toronto:20170331T100000
DTEND;TZID=America/Toronto:20170331T113000
DTSTAMP:20260424T094921
CREATED:20170329T181508Z
LAST-MODIFIED:20170329T181508Z
UID:10020104-1490954400-1490959800@huronshores.ca
SUMMARY:Business E-Commerce & BEAM Funding Seminar
DESCRIPTION:A business e-Commerce & BEAM (Broadband for E-Business & Marketing) funding Seminar will be held on Friday\, March 31/17 from 10:00 a.m. to 11:30 a.m.\, at Lighthouse Lounge\, Bruce Bay Rd.\, Bruce Mines.  Does your business need a website\, e-business\, marketing\, broadband\, upgrading of an existing website?  To register call/text Pat at 705-254-9454\, or email pat.peterson@sympatico.ca
URL:https://huronshores.ca/event/business-e-commerce-beam-funding-seminar/
LOCATION:Ontario
CATEGORIES:Community News
END:VEVENT
BEGIN:VEVENT
DTSTART;TZID=America/Toronto:20170331T100000
DTEND;TZID=America/Toronto:20170331T130000
DTSTAMP:20260424T094921
CREATED:20170329T180039Z
LAST-MODIFIED:20170329T180039Z
UID:10020103-1490954400-1490965200@huronshores.ca
SUMMARY:Spring Bake Sale
DESCRIPTION:The Thessalon Branch of the Canadian Cancer Society will hold a Spring Bake Sale at Northern Credit Union\, Friday\, March 31 from 10:00 a.m. to 1:00 p.m.  Thank you for your support!
URL:https://huronshores.ca/event/spring-bake-sale/
LOCATION:Ontario
CATEGORIES:Community News
ATTACH;FMTTYPE=image/png:https://huronshores.ca/wp-content/uploads/2015/11/Bake-Sale.png
END:VEVENT
BEGIN:VEVENT
DTSTART;TZID=America/Toronto:20170331T140000
DTEND;TZID=America/Toronto:20170331T153000
DTSTAMP:20260424T094921
CREATED:20151021T181815Z
LAST-MODIFIED:20151021T181815Z
UID:10016263-1490968800-1490974200@huronshores.ca
SUMMARY:Alzheimer Info & Discussion Group
DESCRIPTION:The Alzheimer Society of Sault Ste. Marie & Algoma District hosts an Information & Discussion Group on the 2nd Wednesday of each month\, at the Calvary Gospel Church\, 55 Queen Street\, Blind River from 2:00 – 3:30 p.m.  For more information please call Tanya\, First Link Coordinator\, at 705-848-8145.
URL:https://huronshores.ca/event/alzheimer-info-discussion-group-2/2017-03-31/
LOCATION:Ontario
CATEGORIES:Community News
ATTACH;FMTTYPE=image/jpeg:https://huronshores.ca/wp-content/uploads/2013/01/Alzheimers-Disease.jpg
END:VEVENT
END:VCALENDAR