BEGIN:VCALENDAR
VERSION:2.0
PRODID:-//Huron Shores - ECPv6.15.11//NONSGML v1.0//EN
CALSCALE:GREGORIAN
METHOD:PUBLISH
X-ORIGINAL-URL:https://huronshores.ca
X-WR-CALDESC:Events for Huron Shores
REFRESH-INTERVAL;VALUE=DURATION:PT1H
X-Robots-Tag:noindex
X-PUBLISHED-TTL:PT1H
BEGIN:VTIMEZONE
TZID:America/Toronto
BEGIN:DAYLIGHT
TZOFFSETFROM:-0500
TZOFFSETTO:-0400
TZNAME:EDT
DTSTART:20170312T070000
END:DAYLIGHT
BEGIN:STANDARD
TZOFFSETFROM:-0400
TZOFFSETTO:-0500
TZNAME:EST
DTSTART:20171105T060000
END:STANDARD
BEGIN:DAYLIGHT
TZOFFSETFROM:-0500
TZOFFSETTO:-0400
TZNAME:EDT
DTSTART:20180311T070000
END:DAYLIGHT
BEGIN:STANDARD
TZOFFSETFROM:-0400
TZOFFSETTO:-0500
TZNAME:EST
DTSTART:20181104T060000
END:STANDARD
BEGIN:DAYLIGHT
TZOFFSETFROM:-0500
TZOFFSETTO:-0400
TZNAME:EDT
DTSTART:20190310T070000
END:DAYLIGHT
BEGIN:STANDARD
TZOFFSETFROM:-0400
TZOFFSETTO:-0500
TZNAME:EST
DTSTART:20191103T060000
END:STANDARD
END:VTIMEZONE
BEGIN:VEVENT
DTSTART;TZID=America/Toronto:20180714T090000
DTEND;TZID=America/Toronto:20180714T140000
DTSTAMP:20260423T040157
CREATED:20180109T194634Z
LAST-MODIFIED:20180109T194634Z
UID:10020509-1531558800-1531576800@huronshores.ca
SUMMARY:Iron Bridge Farmers' Market
DESCRIPTION:The Iron Bridge Farmers’ Market is open on Saturdays\, 9:00 a.m. – 2:00 p.m.\, from the end of June to mid-September at the Gazebo at the Iron Bridge Historical Museum\, 1 James Street.
URL:https://huronshores.ca/event/iron-bridge-farmers-market-3/2018-07-14/
LOCATION:Ontario
CATEGORIES:Community News,Local Food
ATTACH;FMTTYPE=image/jpeg:https://huronshores.ca/wp-content/uploads/2013/12/Farmers-Market-Produce.jpg
END:VEVENT
BEGIN:VEVENT
DTSTART;TZID=America/Toronto:20180714T140000
DTEND;TZID=America/Toronto:20180714T153000
DTSTAMP:20260423T040157
CREATED:20151021T181815Z
LAST-MODIFIED:20151021T181815Z
UID:10016734-1531576800-1531582200@huronshores.ca
SUMMARY:Alzheimer Info & Discussion Group
DESCRIPTION:The Alzheimer Society of Sault Ste. Marie & Algoma District hosts an Information & Discussion Group on the 2nd Wednesday of each month\, at the Calvary Gospel Church\, 55 Queen Street\, Blind River from 2:00 – 3:30 p.m.  For more information please call Tanya\, First Link Coordinator\, at 705-848-8145.
URL:https://huronshores.ca/event/alzheimer-info-discussion-group-2/2018-07-14/
LOCATION:Ontario
CATEGORIES:Community News
ATTACH;FMTTYPE=image/jpeg:https://huronshores.ca/wp-content/uploads/2013/01/Alzheimers-Disease.jpg
END:VEVENT
BEGIN:VEVENT
DTSTART;TZID=America/Toronto:20180715T100000
DTEND;TZID=America/Toronto:20180715T120000
DTSTAMP:20260423T040157
CREATED:20180705T144930Z
LAST-MODIFIED:20180705T144930Z
UID:10020568-1531648800-1531656000@huronshores.ca
SUMMARY:Big Basswood Lake Assn. AGM
DESCRIPTION:The Big Basswood Lake Association will hold its Annual General Meeting on Sunday\, July 15/18 from 10:00 a.m. to Noon.  The AGM will focus on a number of issues important to its members.  Please note that an information night will be held on August 15th from 7:00 to 9:00 p.m.  Guest speakers to be confirmed.  All welcome!
URL:https://huronshores.ca/event/big-basswood-lake-assn-agm-2/
LOCATION:Ontario
CATEGORIES:Big Basswood Assn. AGM,Community News
ATTACH;FMTTYPE=image/jpeg:https://huronshores.ca/wp-content/uploads/2015/07/Big-Basswood-Lake-Assn-Logo.jpg
END:VEVENT
BEGIN:VEVENT
DTSTART;TZID=America/Toronto:20180715T140000
DTEND;TZID=America/Toronto:20180715T153000
DTSTAMP:20260423T040157
CREATED:20151021T181815Z
LAST-MODIFIED:20151021T181815Z
UID:10016735-1531663200-1531668600@huronshores.ca
SUMMARY:Alzheimer Info & Discussion Group
DESCRIPTION:The Alzheimer Society of Sault Ste. Marie & Algoma District hosts an Information & Discussion Group on the 2nd Wednesday of each month\, at the Calvary Gospel Church\, 55 Queen Street\, Blind River from 2:00 – 3:30 p.m.  For more information please call Tanya\, First Link Coordinator\, at 705-848-8145.
URL:https://huronshores.ca/event/alzheimer-info-discussion-group-2/2018-07-15/
LOCATION:Ontario
CATEGORIES:Community News
ATTACH;FMTTYPE=image/jpeg:https://huronshores.ca/wp-content/uploads/2013/01/Alzheimers-Disease.jpg
END:VEVENT
BEGIN:VEVENT
DTSTART;TZID=America/Toronto:20180716T140000
DTEND;TZID=America/Toronto:20180716T153000
DTSTAMP:20260423T040157
CREATED:20151021T181815Z
LAST-MODIFIED:20151021T181815Z
UID:10016736-1531749600-1531755000@huronshores.ca
SUMMARY:Alzheimer Info & Discussion Group
DESCRIPTION:The Alzheimer Society of Sault Ste. Marie & Algoma District hosts an Information & Discussion Group on the 2nd Wednesday of each month\, at the Calvary Gospel Church\, 55 Queen Street\, Blind River from 2:00 – 3:30 p.m.  For more information please call Tanya\, First Link Coordinator\, at 705-848-8145.
URL:https://huronshores.ca/event/alzheimer-info-discussion-group-2/2018-07-16/
LOCATION:Ontario
CATEGORIES:Community News
ATTACH;FMTTYPE=image/jpeg:https://huronshores.ca/wp-content/uploads/2013/01/Alzheimers-Disease.jpg
END:VEVENT
BEGIN:VEVENT
DTSTART;TZID=America/Toronto:20180717T140000
DTEND;TZID=America/Toronto:20180717T153000
DTSTAMP:20260423T040157
CREATED:20151021T181815Z
LAST-MODIFIED:20151021T181815Z
UID:10016737-1531836000-1531841400@huronshores.ca
SUMMARY:Alzheimer Info & Discussion Group
DESCRIPTION:The Alzheimer Society of Sault Ste. Marie & Algoma District hosts an Information & Discussion Group on the 2nd Wednesday of each month\, at the Calvary Gospel Church\, 55 Queen Street\, Blind River from 2:00 – 3:30 p.m.  For more information please call Tanya\, First Link Coordinator\, at 705-848-8145.
URL:https://huronshores.ca/event/alzheimer-info-discussion-group-2/2018-07-17/
LOCATION:Ontario
CATEGORIES:Community News
ATTACH;FMTTYPE=image/jpeg:https://huronshores.ca/wp-content/uploads/2013/01/Alzheimers-Disease.jpg
END:VEVENT
BEGIN:VEVENT
DTSTART;TZID=America/Toronto:20180718T140000
DTEND;TZID=America/Toronto:20180718T153000
DTSTAMP:20260423T040157
CREATED:20151021T181815Z
LAST-MODIFIED:20151021T181815Z
UID:10016738-1531922400-1531927800@huronshores.ca
SUMMARY:Alzheimer Info & Discussion Group
DESCRIPTION:The Alzheimer Society of Sault Ste. Marie & Algoma District hosts an Information & Discussion Group on the 2nd Wednesday of each month\, at the Calvary Gospel Church\, 55 Queen Street\, Blind River from 2:00 – 3:30 p.m.  For more information please call Tanya\, First Link Coordinator\, at 705-848-8145.
URL:https://huronshores.ca/event/alzheimer-info-discussion-group-2/2018-07-18/
LOCATION:Ontario
CATEGORIES:Community News
ATTACH;FMTTYPE=image/jpeg:https://huronshores.ca/wp-content/uploads/2013/01/Alzheimers-Disease.jpg
END:VEVENT
BEGIN:VEVENT
DTSTART;TZID=America/Toronto:20180718T193000
DTEND;TZID=America/Toronto:20180718T193000
DTSTAMP:20260423T040157
CREATED:20160721T182330Z
LAST-MODIFIED:20160721T182330Z
UID:10019732-1531942200-1531942200@huronshores.ca
SUMMARY:Jammin' Session at the Thessalon Community Curling Club
DESCRIPTION:Every Wedneday night at 7:30PM\, join us at Thessalon Community Curling Club for our Jammin’ Session. You play an instrument and love to play with other instrumentalists\, or just love to listen to live music\, then come on down…the bar is open! Everyone welcome! Bring a friend!
URL:https://huronshores.ca/event/jammin-session-at-the-thessalon-community-curling-club/2018-07-18/
LOCATION:Ontario
CATEGORIES:Recreation
END:VEVENT
BEGIN:VEVENT
DTSTART;TZID=America/Toronto:20180719T140000
DTEND;TZID=America/Toronto:20180719T153000
DTSTAMP:20260423T040157
CREATED:20151021T181815Z
LAST-MODIFIED:20151021T181815Z
UID:10016739-1532008800-1532014200@huronshores.ca
SUMMARY:Alzheimer Info & Discussion Group
DESCRIPTION:The Alzheimer Society of Sault Ste. Marie & Algoma District hosts an Information & Discussion Group on the 2nd Wednesday of each month\, at the Calvary Gospel Church\, 55 Queen Street\, Blind River from 2:00 – 3:30 p.m.  For more information please call Tanya\, First Link Coordinator\, at 705-848-8145.
URL:https://huronshores.ca/event/alzheimer-info-discussion-group-2/2018-07-19/
LOCATION:Ontario
CATEGORIES:Community News
ATTACH;FMTTYPE=image/jpeg:https://huronshores.ca/wp-content/uploads/2013/01/Alzheimers-Disease.jpg
END:VEVENT
BEGIN:VEVENT
DTSTART;TZID=America/Toronto:20180720T140000
DTEND;TZID=America/Toronto:20180720T153000
DTSTAMP:20260423T040157
CREATED:20151021T181815Z
LAST-MODIFIED:20151021T181815Z
UID:10016740-1532095200-1532100600@huronshores.ca
SUMMARY:Alzheimer Info & Discussion Group
DESCRIPTION:The Alzheimer Society of Sault Ste. Marie & Algoma District hosts an Information & Discussion Group on the 2nd Wednesday of each month\, at the Calvary Gospel Church\, 55 Queen Street\, Blind River from 2:00 – 3:30 p.m.  For more information please call Tanya\, First Link Coordinator\, at 705-848-8145.
URL:https://huronshores.ca/event/alzheimer-info-discussion-group-2/2018-07-20/
LOCATION:Ontario
CATEGORIES:Community News
ATTACH;FMTTYPE=image/jpeg:https://huronshores.ca/wp-content/uploads/2013/01/Alzheimers-Disease.jpg
END:VEVENT
BEGIN:VEVENT
DTSTART;TZID=America/Toronto:20180721T090000
DTEND;TZID=America/Toronto:20180721T140000
DTSTAMP:20260423T040157
CREATED:20180109T194134Z
LAST-MODIFIED:20180109T194134Z
UID:10020495-1532163600-1532181600@huronshores.ca
SUMMARY:Sowerby Farmers' Market
DESCRIPTION:The Farmers’ Market is held on Saturdays from 9:00 a.m. to 2:00 p.m. from mid-June to October at the Historic Cordukes/Weber 12-Sided Barn located at 1410 Basswood Lake Rd.\, just north of the intersection with Highway 17 in Sowerby.
URL:https://huronshores.ca/event/sowerby-farmers-market-4/2018-07-21/
LOCATION:Ontario
CATEGORIES:Community News,Local Food
ATTACH;FMTTYPE=image/jpeg:https://huronshores.ca/wp-content/uploads/2011/08/Historic-Cordukes-Weber-12-Sided-Barn-Sign1.jpg
END:VEVENT
BEGIN:VEVENT
DTSTART;TZID=America/Toronto:20180721T090000
DTEND;TZID=America/Toronto:20180721T140000
DTSTAMP:20260423T040157
CREATED:20180109T194634Z
LAST-MODIFIED:20180109T194634Z
UID:10020510-1532163600-1532181600@huronshores.ca
SUMMARY:Iron Bridge Farmers' Market
DESCRIPTION:The Iron Bridge Farmers’ Market is open on Saturdays\, 9:00 a.m. – 2:00 p.m.\, from the end of June to mid-September at the Gazebo at the Iron Bridge Historical Museum\, 1 James Street.
URL:https://huronshores.ca/event/iron-bridge-farmers-market-3/2018-07-21/
LOCATION:Ontario
CATEGORIES:Community News,Local Food
ATTACH;FMTTYPE=image/jpeg:https://huronshores.ca/wp-content/uploads/2013/12/Farmers-Market-Produce.jpg
END:VEVENT
BEGIN:VEVENT
DTSTART;TZID=America/Toronto:20180721T140000
DTEND;TZID=America/Toronto:20180721T153000
DTSTAMP:20260423T040157
CREATED:20151021T181815Z
LAST-MODIFIED:20151021T181815Z
UID:10016741-1532181600-1532187000@huronshores.ca
SUMMARY:Alzheimer Info & Discussion Group
DESCRIPTION:The Alzheimer Society of Sault Ste. Marie & Algoma District hosts an Information & Discussion Group on the 2nd Wednesday of each month\, at the Calvary Gospel Church\, 55 Queen Street\, Blind River from 2:00 – 3:30 p.m.  For more information please call Tanya\, First Link Coordinator\, at 705-848-8145.
URL:https://huronshores.ca/event/alzheimer-info-discussion-group-2/2018-07-21/
LOCATION:Ontario
CATEGORIES:Community News
ATTACH;FMTTYPE=image/jpeg:https://huronshores.ca/wp-content/uploads/2013/01/Alzheimers-Disease.jpg
END:VEVENT
BEGIN:VEVENT
DTSTART;TZID=America/Toronto:20180722T140000
DTEND;TZID=America/Toronto:20180722T153000
DTSTAMP:20260423T040157
CREATED:20151021T181815Z
LAST-MODIFIED:20151021T181815Z
UID:10016742-1532268000-1532273400@huronshores.ca
SUMMARY:Alzheimer Info & Discussion Group
DESCRIPTION:The Alzheimer Society of Sault Ste. Marie & Algoma District hosts an Information & Discussion Group on the 2nd Wednesday of each month\, at the Calvary Gospel Church\, 55 Queen Street\, Blind River from 2:00 – 3:30 p.m.  For more information please call Tanya\, First Link Coordinator\, at 705-848-8145.
URL:https://huronshores.ca/event/alzheimer-info-discussion-group-2/2018-07-22/
LOCATION:Ontario
CATEGORIES:Community News
ATTACH;FMTTYPE=image/jpeg:https://huronshores.ca/wp-content/uploads/2013/01/Alzheimers-Disease.jpg
END:VEVENT
BEGIN:VEVENT
DTSTART;TZID=America/Toronto:20180723T140000
DTEND;TZID=America/Toronto:20180723T153000
DTSTAMP:20260423T040157
CREATED:20151021T181815Z
LAST-MODIFIED:20151021T181815Z
UID:10016743-1532354400-1532359800@huronshores.ca
SUMMARY:Alzheimer Info & Discussion Group
DESCRIPTION:The Alzheimer Society of Sault Ste. Marie & Algoma District hosts an Information & Discussion Group on the 2nd Wednesday of each month\, at the Calvary Gospel Church\, 55 Queen Street\, Blind River from 2:00 – 3:30 p.m.  For more information please call Tanya\, First Link Coordinator\, at 705-848-8145.
URL:https://huronshores.ca/event/alzheimer-info-discussion-group-2/2018-07-23/
LOCATION:Ontario
CATEGORIES:Community News
ATTACH;FMTTYPE=image/jpeg:https://huronshores.ca/wp-content/uploads/2013/01/Alzheimers-Disease.jpg
END:VEVENT
BEGIN:VEVENT
DTSTART;TZID=America/Toronto:20180724T140000
DTEND;TZID=America/Toronto:20180724T153000
DTSTAMP:20260423T040157
CREATED:20151021T181815Z
LAST-MODIFIED:20151021T181815Z
UID:10016744-1532440800-1532446200@huronshores.ca
SUMMARY:Alzheimer Info & Discussion Group
DESCRIPTION:The Alzheimer Society of Sault Ste. Marie & Algoma District hosts an Information & Discussion Group on the 2nd Wednesday of each month\, at the Calvary Gospel Church\, 55 Queen Street\, Blind River from 2:00 – 3:30 p.m.  For more information please call Tanya\, First Link Coordinator\, at 705-848-8145.
URL:https://huronshores.ca/event/alzheimer-info-discussion-group-2/2018-07-24/
LOCATION:Ontario
CATEGORIES:Community News
ATTACH;FMTTYPE=image/jpeg:https://huronshores.ca/wp-content/uploads/2013/01/Alzheimers-Disease.jpg
END:VEVENT
BEGIN:VEVENT
DTSTART;TZID=America/Toronto:20180725T140000
DTEND;TZID=America/Toronto:20180725T153000
DTSTAMP:20260423T040158
CREATED:20151021T181815Z
LAST-MODIFIED:20151021T181815Z
UID:10016745-1532527200-1532532600@huronshores.ca
SUMMARY:Alzheimer Info & Discussion Group
DESCRIPTION:The Alzheimer Society of Sault Ste. Marie & Algoma District hosts an Information & Discussion Group on the 2nd Wednesday of each month\, at the Calvary Gospel Church\, 55 Queen Street\, Blind River from 2:00 – 3:30 p.m.  For more information please call Tanya\, First Link Coordinator\, at 705-848-8145.
URL:https://huronshores.ca/event/alzheimer-info-discussion-group-2/2018-07-25/
LOCATION:Ontario
CATEGORIES:Community News
ATTACH;FMTTYPE=image/jpeg:https://huronshores.ca/wp-content/uploads/2013/01/Alzheimers-Disease.jpg
END:VEVENT
BEGIN:VEVENT
DTSTART;TZID=America/Toronto:20180725T173000
DTEND;TZID=America/Toronto:20180725T173000
DTSTAMP:20260423T040158
CREATED:20180713T135504Z
LAST-MODIFIED:20180713T135504Z
UID:10020575-1532539800-1532539800@huronshores.ca
SUMMARY:Social Media Wkshp.  for Businesses
DESCRIPTION:Please note that the location has been changed from the Iron Bridge Rec Centre to the Huron Shores Public Library (10 Main St.) next to the Municipal Office.
URL:https://huronshores.ca/event/social-media-wkshp-for-businesses/
LOCATION:Ontario
CATEGORIES:Community News
ATTACH;FMTTYPE=image/png:https://huronshores.ca/wp-content/uploads/2018/07/Social-Media-Workshop-Poster-2.png
END:VEVENT
BEGIN:VEVENT
DTSTART;TZID=America/Toronto:20180725T190000
DTEND;TZID=America/Toronto:20180725T190000
DTSTAMP:20260423T040158
CREATED:20180423T185559Z
LAST-MODIFIED:20180423T185559Z
UID:10019993-1532545200-1532545200@huronshores.ca
SUMMARY:Special Council Meeting
DESCRIPTION:As per Resolution #18-17-22 dated June 13/18\, a Special Meeting of Council will be held Wednesday\, July 25th\, 2018\, in order to further deliberate and review the number of boards\, committees and organizations served by Council and the time commitment involved outside the regular\, special and public meetings of Council\, in order to assess if it is feasible to reduce its numbers.  The Agenda will be posted on Monday\, July 23/18.
URL:https://huronshores.ca/event/special-council-meeting-6/
LOCATION:Ontario
CATEGORIES:Council Meeting
ATTACH;FMTTYPE=image/png:https://huronshores.ca/wp-content/uploads/2018/03/crest.png
END:VEVENT
BEGIN:VEVENT
DTSTART;TZID=America/Toronto:20180725T193000
DTEND;TZID=America/Toronto:20180725T193000
DTSTAMP:20260423T040158
CREATED:20160721T182330Z
LAST-MODIFIED:20160721T182330Z
UID:10019733-1532547000-1532547000@huronshores.ca
SUMMARY:Jammin' Session at the Thessalon Community Curling Club
DESCRIPTION:Every Wedneday night at 7:30PM\, join us at Thessalon Community Curling Club for our Jammin’ Session. You play an instrument and love to play with other instrumentalists\, or just love to listen to live music\, then come on down…the bar is open! Everyone welcome! Bring a friend!
URL:https://huronshores.ca/event/jammin-session-at-the-thessalon-community-curling-club/2018-07-25/
LOCATION:Ontario
CATEGORIES:Recreation
END:VEVENT
BEGIN:VEVENT
DTSTART;TZID=America/Toronto:20180726T140000
DTEND;TZID=America/Toronto:20180726T153000
DTSTAMP:20260423T040158
CREATED:20151021T181815Z
LAST-MODIFIED:20151021T181815Z
UID:10016746-1532613600-1532619000@huronshores.ca
SUMMARY:Alzheimer Info & Discussion Group
DESCRIPTION:The Alzheimer Society of Sault Ste. Marie & Algoma District hosts an Information & Discussion Group on the 2nd Wednesday of each month\, at the Calvary Gospel Church\, 55 Queen Street\, Blind River from 2:00 – 3:30 p.m.  For more information please call Tanya\, First Link Coordinator\, at 705-848-8145.
URL:https://huronshores.ca/event/alzheimer-info-discussion-group-2/2018-07-26/
LOCATION:Ontario
CATEGORIES:Community News
ATTACH;FMTTYPE=image/jpeg:https://huronshores.ca/wp-content/uploads/2013/01/Alzheimers-Disease.jpg
END:VEVENT
BEGIN:VEVENT
DTSTART;TZID=America/Toronto:20180727T090000
DTEND;TZID=America/Toronto:20180727T140000
DTSTAMP:20260423T040158
CREATED:20180713T131907Z
LAST-MODIFIED:20180713T131907Z
UID:10020572-1532682000-1532700000@huronshores.ca
SUMMARY:Nomination Day
DESCRIPTION:Friday\, July 27/18 is Nomination Day.  This is the last day for candidates to file their nomination papers for the Municipal Election.  Nominations will be accepted from 9:00 a.m. to 2:00 p.m. at the Municipal Office.  Prior to Nomination Day\, candidates may file their papers with the Clerk/Administrator during regular office hours\, Monday-Friday\, 8:30 a.m.-4:30 p.m. Please click on the link below for further details.  The cost to file your nomination for Councillor is $100.00; Head of Council is $200.00.
URL:https://huronshores.ca/event/nomination-day/
LOCATION:Ontario
CATEGORIES:Elections
ATTACH;FMTTYPE=image/png:https://huronshores.ca/wp-content/uploads/2018/04/untitled.png
END:VEVENT
BEGIN:VEVENT
DTSTART;TZID=America/Toronto:20180727T140000
DTEND;TZID=America/Toronto:20180727T153000
DTSTAMP:20260423T040158
CREATED:20151021T181815Z
LAST-MODIFIED:20151021T181815Z
UID:10016747-1532700000-1532705400@huronshores.ca
SUMMARY:Alzheimer Info & Discussion Group
DESCRIPTION:The Alzheimer Society of Sault Ste. Marie & Algoma District hosts an Information & Discussion Group on the 2nd Wednesday of each month\, at the Calvary Gospel Church\, 55 Queen Street\, Blind River from 2:00 – 3:30 p.m.  For more information please call Tanya\, First Link Coordinator\, at 705-848-8145.
URL:https://huronshores.ca/event/alzheimer-info-discussion-group-2/2018-07-27/
LOCATION:Ontario
CATEGORIES:Community News
ATTACH;FMTTYPE=image/jpeg:https://huronshores.ca/wp-content/uploads/2013/01/Alzheimers-Disease.jpg
END:VEVENT
BEGIN:VEVENT
DTSTART;TZID=America/Toronto:20180728T090000
DTEND;TZID=America/Toronto:20180728T130000
DTSTAMP:20260423T040158
CREATED:20180725T154636Z
LAST-MODIFIED:20180725T154636Z
UID:10020576-1532768400-1532782800@huronshores.ca
SUMMARY:Yard & Trunk Sale
DESCRIPTION:The Iron Bridge Agricultural Society is hosting a Yard & Trunk Sale on Saturday\, July 28/18 from 9:00 a.m. – 1:00 p.m. at the Iron Bridge Rec Centre (1 Chiblow Lk. Rd.)  Donations gratefully accepted.  Call 705-843-0425 for details.  No haggles\, no hassles!  Take an item\, leave a donation.  Invitation to members: Set up a table!  Sell from your trunk or pick-up!
URL:https://huronshores.ca/event/yard-trunk-sale/
LOCATION:Ontario
CATEGORIES:Community News
ATTACH;FMTTYPE=image/jpeg:https://huronshores.ca/wp-content/uploads/2014/06/Yard-Sale.jpg
END:VEVENT
BEGIN:VEVENT
DTSTART;TZID=America/Toronto:20180728T090000
DTEND;TZID=America/Toronto:20180728T140000
DTSTAMP:20260423T040158
CREATED:20180109T194134Z
LAST-MODIFIED:20180109T194134Z
UID:10020496-1532768400-1532786400@huronshores.ca
SUMMARY:Sowerby Farmers' Market
DESCRIPTION:The Farmers’ Market is held on Saturdays from 9:00 a.m. to 2:00 p.m. from mid-June to October at the Historic Cordukes/Weber 12-Sided Barn located at 1410 Basswood Lake Rd.\, just north of the intersection with Highway 17 in Sowerby.
URL:https://huronshores.ca/event/sowerby-farmers-market-4/2018-07-28/
LOCATION:Ontario
CATEGORIES:Community News,Local Food
ATTACH;FMTTYPE=image/jpeg:https://huronshores.ca/wp-content/uploads/2011/08/Historic-Cordukes-Weber-12-Sided-Barn-Sign1.jpg
END:VEVENT
BEGIN:VEVENT
DTSTART;TZID=America/Toronto:20180728T090000
DTEND;TZID=America/Toronto:20180728T140000
DTSTAMP:20260423T040158
CREATED:20180109T194634Z
LAST-MODIFIED:20180109T194634Z
UID:10020511-1532768400-1532786400@huronshores.ca
SUMMARY:Iron Bridge Farmers' Market
DESCRIPTION:The Iron Bridge Farmers’ Market is open on Saturdays\, 9:00 a.m. – 2:00 p.m.\, from the end of June to mid-September at the Gazebo at the Iron Bridge Historical Museum\, 1 James Street.
URL:https://huronshores.ca/event/iron-bridge-farmers-market-3/2018-07-28/
LOCATION:Ontario
CATEGORIES:Community News,Local Food
ATTACH;FMTTYPE=image/jpeg:https://huronshores.ca/wp-content/uploads/2013/12/Farmers-Market-Produce.jpg
END:VEVENT
BEGIN:VEVENT
DTSTART;TZID=America/Toronto:20180728T100000
DTEND;TZID=America/Toronto:20180728T140000
DTSTAMP:20260423T040158
CREATED:20180529T155718Z
LAST-MODIFIED:20180529T155718Z
UID:10020558-1532772000-1532786400@huronshores.ca
SUMMARY:Household Hazardous Waste Day
DESCRIPTION:The Municipality is participating in the Town of Blind River’s Household Hazardous Waste Day\, July 28/18 from 10:00 a.m.-2:00 p.m. at the Blind River Information Centre.  Residents and Ratepayers of Huron Shores are encouraged to drop off their household hazardous waste free of charge.  Please click on the link below to view the flyer for details.
URL:https://huronshores.ca/event/household-hazardous-waste-day-2/
LOCATION:Ontario
CATEGORIES:Community News,Waste Disposal
ATTACH;FMTTYPE=image/jpeg:https://huronshores.ca/wp-content/uploads/2012/06/Householdhazardouswaste.jpeg
END:VEVENT
BEGIN:VEVENT
DTSTART;TZID=America/Toronto:20180728T140000
DTEND;TZID=America/Toronto:20180728T153000
DTSTAMP:20260423T040158
CREATED:20151021T181815Z
LAST-MODIFIED:20151021T181815Z
UID:10016748-1532786400-1532791800@huronshores.ca
SUMMARY:Alzheimer Info & Discussion Group
DESCRIPTION:The Alzheimer Society of Sault Ste. Marie & Algoma District hosts an Information & Discussion Group on the 2nd Wednesday of each month\, at the Calvary Gospel Church\, 55 Queen Street\, Blind River from 2:00 – 3:30 p.m.  For more information please call Tanya\, First Link Coordinator\, at 705-848-8145.
URL:https://huronshores.ca/event/alzheimer-info-discussion-group-2/2018-07-28/
LOCATION:Ontario
CATEGORIES:Community News
ATTACH;FMTTYPE=image/jpeg:https://huronshores.ca/wp-content/uploads/2013/01/Alzheimers-Disease.jpg
END:VEVENT
BEGIN:VEVENT
DTSTART;TZID=America/Toronto:20180729T140000
DTEND;TZID=America/Toronto:20180729T153000
DTSTAMP:20260423T040158
CREATED:20151021T181815Z
LAST-MODIFIED:20151021T181815Z
UID:10016749-1532872800-1532878200@huronshores.ca
SUMMARY:Alzheimer Info & Discussion Group
DESCRIPTION:The Alzheimer Society of Sault Ste. Marie & Algoma District hosts an Information & Discussion Group on the 2nd Wednesday of each month\, at the Calvary Gospel Church\, 55 Queen Street\, Blind River from 2:00 – 3:30 p.m.  For more information please call Tanya\, First Link Coordinator\, at 705-848-8145.
URL:https://huronshores.ca/event/alzheimer-info-discussion-group-2/2018-07-29/
LOCATION:Ontario
CATEGORIES:Community News
ATTACH;FMTTYPE=image/jpeg:https://huronshores.ca/wp-content/uploads/2013/01/Alzheimers-Disease.jpg
END:VEVENT
BEGIN:VEVENT
DTSTART;TZID=America/Toronto:20180730T140000
DTEND;TZID=America/Toronto:20180730T153000
DTSTAMP:20260423T040158
CREATED:20151021T181815Z
LAST-MODIFIED:20151021T181815Z
UID:10016750-1532959200-1532964600@huronshores.ca
SUMMARY:Alzheimer Info & Discussion Group
DESCRIPTION:The Alzheimer Society of Sault Ste. Marie & Algoma District hosts an Information & Discussion Group on the 2nd Wednesday of each month\, at the Calvary Gospel Church\, 55 Queen Street\, Blind River from 2:00 – 3:30 p.m.  For more information please call Tanya\, First Link Coordinator\, at 705-848-8145.
URL:https://huronshores.ca/event/alzheimer-info-discussion-group-2/2018-07-30/
LOCATION:Ontario
CATEGORIES:Community News
ATTACH;FMTTYPE=image/jpeg:https://huronshores.ca/wp-content/uploads/2013/01/Alzheimers-Disease.jpg
END:VEVENT
END:VCALENDAR