BEGIN:VCALENDAR
VERSION:2.0
PRODID:-//Huron Shores - ECPv6.15.11//NONSGML v1.0//EN
CALSCALE:GREGORIAN
METHOD:PUBLISH
X-WR-CALNAME:Huron Shores
X-ORIGINAL-URL:https://huronshores.ca
X-WR-CALDESC:Events for Huron Shores
REFRESH-INTERVAL;VALUE=DURATION:PT1H
X-Robots-Tag:noindex
X-PUBLISHED-TTL:PT1H
BEGIN:VTIMEZONE
TZID:America/Toronto
BEGIN:DAYLIGHT
TZOFFSETFROM:-0500
TZOFFSETTO:-0400
TZNAME:EDT
DTSTART:20150308T070000
END:DAYLIGHT
BEGIN:STANDARD
TZOFFSETFROM:-0400
TZOFFSETTO:-0500
TZNAME:EST
DTSTART:20151101T060000
END:STANDARD
BEGIN:DAYLIGHT
TZOFFSETFROM:-0500
TZOFFSETTO:-0400
TZNAME:EDT
DTSTART:20160313T070000
END:DAYLIGHT
BEGIN:STANDARD
TZOFFSETFROM:-0400
TZOFFSETTO:-0500
TZNAME:EST
DTSTART:20161106T060000
END:STANDARD
BEGIN:DAYLIGHT
TZOFFSETFROM:-0500
TZOFFSETTO:-0400
TZNAME:EDT
DTSTART:20170312T070000
END:DAYLIGHT
BEGIN:STANDARD
TZOFFSETFROM:-0400
TZOFFSETTO:-0500
TZNAME:EST
DTSTART:20171105T060000
END:STANDARD
END:VTIMEZONE
BEGIN:VEVENT
DTSTART;TZID=America/Toronto:20160217T190000
DTEND;TZID=America/Toronto:20160217T190000
DTSTAMP:20260425T105942
CREATED:20160114T201707Z
LAST-MODIFIED:20160114T201707Z
UID:10019438-1455735600-1455735600@huronshores.ca
SUMMARY:Special Council Meeting
DESCRIPTION:Council authorized\, via Res. #16-02-08\, January 13/16\, that a Special Meeting of Council be held Wednesday\, February 17/16 for the purpose of reviewing Council and Staff priorities and the Council Code of Conduct.  The Agenda was posted Tuesday\, February 16/16 (Municipal Office closed Monday\, February 15 for Family Day).  Please click on the link below to view the Agenda post.
URL:https://huronshores.ca/event/special-council-meeting/
LOCATION:ON
CATEGORIES:Council Meeting
ATTACH;FMTTYPE=:
END:VEVENT
BEGIN:VEVENT
DTSTART;TZID=America/Toronto:20160218T140000
DTEND;TZID=America/Toronto:20160218T153000
DTSTAMP:20260425T105942
CREATED:20151021T181815Z
LAST-MODIFIED:20151021T181815Z
UID:10015855-1455804000-1455809400@huronshores.ca
SUMMARY:Alzheimer Info & Discussion Group
DESCRIPTION:The Alzheimer Society of Sault Ste. Marie & Algoma District hosts an Information & Discussion Group on the 2nd Wednesday of each month\, at the Calvary Gospel Church\, 55 Queen Street\, Blind River from 2:00 – 3:30 p.m.  For more information please call Tanya\, First Link Coordinator\, at 705-848-8145.
URL:https://huronshores.ca/event/alzheimer-info-discussion-group-2/2016-02-18/
LOCATION:ON
CATEGORIES:Community News
ATTACH;FMTTYPE=image/jpeg:https://huronshores.ca/wp-content/uploads/2013/01/Alzheimers-Disease.jpg
END:VEVENT
BEGIN:VEVENT
DTSTART;TZID=America/Toronto:20160218T193000
DTEND;TZID=America/Toronto:20160218T220000
DTSTAMP:20260425T105942
CREATED:20160107T191117Z
LAST-MODIFIED:20160107T191117Z
UID:10019425-1455823800-1455832800@huronshores.ca
SUMMARY:Square Dancing
DESCRIPTION:Thursday Night Square Dancing at Sowerby Hall\, 1410 Basswood Lake Road at 7:30 p.m.  Cost:  $30/couple for 6 weeks or $3/person/night.  For info call Will 705-843-5567\, David 705-842-6135\, or Dennis 705-842-5534.
URL:https://huronshores.ca/event/square-dancing/2016-02-18/
LOCATION:ON
CATEGORIES:Community News
ATTACH;FMTTYPE=image/jpeg:https://huronshores.ca/wp-content/uploads/2016/01/square-dancing.jpg
END:VEVENT
BEGIN:VEVENT
DTSTART;TZID=America/Toronto:20160219T140000
DTEND;TZID=America/Toronto:20160219T153000
DTSTAMP:20260425T105942
CREATED:20151021T181815Z
LAST-MODIFIED:20151021T181815Z
UID:10015857-1455890400-1455895800@huronshores.ca
SUMMARY:Alzheimer Info & Discussion Group
DESCRIPTION:The Alzheimer Society of Sault Ste. Marie & Algoma District hosts an Information & Discussion Group on the 2nd Wednesday of each month\, at the Calvary Gospel Church\, 55 Queen Street\, Blind River from 2:00 – 3:30 p.m.  For more information please call Tanya\, First Link Coordinator\, at 705-848-8145.
URL:https://huronshores.ca/event/alzheimer-info-discussion-group-2/2016-02-19/
LOCATION:ON
CATEGORIES:Community News
ATTACH;FMTTYPE=image/jpeg:https://huronshores.ca/wp-content/uploads/2013/01/Alzheimers-Disease.jpg
END:VEVENT
BEGIN:VEVENT
DTSTART;TZID=America/Toronto:20160220T080000
DTEND;TZID=America/Toronto:20160220T160000
DTSTAMP:20260425T105942
CREATED:20160120T151426Z
LAST-MODIFIED:20160120T151426Z
UID:10019381-1455955200-1455984000@huronshores.ca
SUMMARY:Special Household Hazardous Waste Drop-Off Day
DESCRIPTION:Residents and Ratepayers of Huron Shores may access the Sault Ste. Marie Household Hazardous Waste Depot free of charge.  The depot is closed for the winter season but a Special Household Hazardous Waste Drop-Off day will be held Saturday\, February 20\, 2016 at the Sault Ste. Marie Landfill\, 402 Fifth Line East\, from 8:00 a.m. – 4:00 p.m. Please click here for a list of acceptable and unacceptable items.
URL:https://huronshores.ca/event/special-household-hazardous-waste-drop-off-day/
LOCATION:ON
CATEGORIES:Waste Disposal
ATTACH;FMTTYPE=image/jpeg:https://huronshores.ca/wp-content/uploads/2012/06/Householdhazardouswaste.jpeg
END:VEVENT
BEGIN:VEVENT
DTSTART;TZID=America/Toronto:20160220T140000
DTEND;TZID=America/Toronto:20160220T153000
DTSTAMP:20260425T105942
CREATED:20151021T181815Z
LAST-MODIFIED:20151021T181815Z
UID:10015858-1455976800-1455982200@huronshores.ca
SUMMARY:Alzheimer Info & Discussion Group
DESCRIPTION:The Alzheimer Society of Sault Ste. Marie & Algoma District hosts an Information & Discussion Group on the 2nd Wednesday of each month\, at the Calvary Gospel Church\, 55 Queen Street\, Blind River from 2:00 – 3:30 p.m.  For more information please call Tanya\, First Link Coordinator\, at 705-848-8145.
URL:https://huronshores.ca/event/alzheimer-info-discussion-group-2/2016-02-20/
LOCATION:ON
CATEGORIES:Community News
ATTACH;FMTTYPE=image/jpeg:https://huronshores.ca/wp-content/uploads/2013/01/Alzheimers-Disease.jpg
END:VEVENT
BEGIN:VEVENT
DTSTART;TZID=America/Toronto:20160220T163000
DTEND;TZID=America/Toronto:20160220T190000
DTSTAMP:20260425T105942
CREATED:20160114T193722Z
LAST-MODIFIED:20160114T193722Z
UID:10019433-1455985800-1455994800@huronshores.ca
SUMMARY:Lions' Club Fish Fry
DESCRIPTION:It’s ‘all you can eat fish fry’ time again at the Iron Bridge Lions’ Hall\, 10 Clarissa Street:  January 23\, February 6 & 20\, March 5 & 19/16; 4:30 to 7:00 p.m.  Cost:  $15/person\, varied rates for children\, depending on age.  Everyone welcome!
URL:https://huronshores.ca/event/lions-club-fish-fry/2016-02-20/
LOCATION:ON
CATEGORIES:Community News,Local Food
ATTACH;FMTTYPE=image/jpeg:https://huronshores.ca/wp-content/uploads/2015/12/Fish-Fry.jpg
END:VEVENT
BEGIN:VEVENT
DTSTART;TZID=America/Toronto:20160221T140000
DTEND;TZID=America/Toronto:20160221T153000
DTSTAMP:20260425T105942
CREATED:20151021T181815Z
LAST-MODIFIED:20151021T181815Z
UID:10015859-1456063200-1456068600@huronshores.ca
SUMMARY:Alzheimer Info & Discussion Group
DESCRIPTION:The Alzheimer Society of Sault Ste. Marie & Algoma District hosts an Information & Discussion Group on the 2nd Wednesday of each month\, at the Calvary Gospel Church\, 55 Queen Street\, Blind River from 2:00 – 3:30 p.m.  For more information please call Tanya\, First Link Coordinator\, at 705-848-8145.
URL:https://huronshores.ca/event/alzheimer-info-discussion-group-2/2016-02-21/
LOCATION:ON
CATEGORIES:Community News
ATTACH;FMTTYPE=image/jpeg:https://huronshores.ca/wp-content/uploads/2013/01/Alzheimers-Disease.jpg
END:VEVENT
BEGIN:VEVENT
DTSTART;TZID=America/Toronto:20160222T140000
DTEND;TZID=America/Toronto:20160222T153000
DTSTAMP:20260425T105942
CREATED:20151021T181815Z
LAST-MODIFIED:20151021T181815Z
UID:10015860-1456149600-1456155000@huronshores.ca
SUMMARY:Alzheimer Info & Discussion Group
DESCRIPTION:The Alzheimer Society of Sault Ste. Marie & Algoma District hosts an Information & Discussion Group on the 2nd Wednesday of each month\, at the Calvary Gospel Church\, 55 Queen Street\, Blind River from 2:00 – 3:30 p.m.  For more information please call Tanya\, First Link Coordinator\, at 705-848-8145.
URL:https://huronshores.ca/event/alzheimer-info-discussion-group-2/2016-02-22/
LOCATION:ON
CATEGORIES:Community News
ATTACH;FMTTYPE=image/jpeg:https://huronshores.ca/wp-content/uploads/2013/01/Alzheimers-Disease.jpg
END:VEVENT
BEGIN:VEVENT
DTSTART;TZID=America/Toronto:20160223T140000
DTEND;TZID=America/Toronto:20160223T153000
DTSTAMP:20260425T105942
CREATED:20151021T181815Z
LAST-MODIFIED:20151021T181815Z
UID:10015861-1456236000-1456241400@huronshores.ca
SUMMARY:Alzheimer Info & Discussion Group
DESCRIPTION:The Alzheimer Society of Sault Ste. Marie & Algoma District hosts an Information & Discussion Group on the 2nd Wednesday of each month\, at the Calvary Gospel Church\, 55 Queen Street\, Blind River from 2:00 – 3:30 p.m.  For more information please call Tanya\, First Link Coordinator\, at 705-848-8145.
URL:https://huronshores.ca/event/alzheimer-info-discussion-group-2/2016-02-23/
LOCATION:ON
CATEGORIES:Community News
ATTACH;FMTTYPE=image/jpeg:https://huronshores.ca/wp-content/uploads/2013/01/Alzheimers-Disease.jpg
END:VEVENT
BEGIN:VEVENT
DTSTART;TZID=America/Toronto:20160224T140000
DTEND;TZID=America/Toronto:20160224T153000
DTSTAMP:20260425T105942
CREATED:20151021T181815Z
LAST-MODIFIED:20151021T181815Z
UID:10015862-1456322400-1456327800@huronshores.ca
SUMMARY:Alzheimer Info & Discussion Group
DESCRIPTION:The Alzheimer Society of Sault Ste. Marie & Algoma District hosts an Information & Discussion Group on the 2nd Wednesday of each month\, at the Calvary Gospel Church\, 55 Queen Street\, Blind River from 2:00 – 3:30 p.m.  For more information please call Tanya\, First Link Coordinator\, at 705-848-8145.
URL:https://huronshores.ca/event/alzheimer-info-discussion-group-2/2016-02-24/
LOCATION:ON
CATEGORIES:Community News
ATTACH;FMTTYPE=image/jpeg:https://huronshores.ca/wp-content/uploads/2013/01/Alzheimers-Disease.jpg
END:VEVENT
BEGIN:VEVENT
DTSTART;TZID=America/Toronto:20160224T180000
DTEND;TZID=America/Toronto:20160224T210000
DTSTAMP:20260425T105942
CREATED:20160119T150936Z
LAST-MODIFIED:20160119T150936Z
UID:10019379-1456336800-1456347600@huronshores.ca
SUMMARY:Advanced Social Media Workshops
DESCRIPTION:Having a Hard Time Excelling at Social Media?  Register for one of the following workshops facilitated by the Sault Ste. Marie Innovation Centre:  Wednesday\, February 24/16\, 6:00-9:00 p.m.\, Royal Canadian Legion Hall\, Richards Landing; Thursday\, February 25/16\, 9:30 a.m. – 12:30 p.m.\, Bruce Mines Community Hall.  Contact Angelo Pacione for more info:  705-942-7927 x 3148; apacione@ssmic.com.  Cost:  $25.00.  To register please click on the link below to visit the Event Brite site.
URL:https://huronshores.ca/event/advanced-social-media-workshops/
LOCATION:ON
CATEGORIES:Community News
ATTACH;FMTTYPE=image/png:https://huronshores.ca/wp-content/uploads/2016/01/Social-Media-Wkshps.png
END:VEVENT
BEGIN:VEVENT
DTSTART;TZID=America/Toronto:20160224T190000
DTEND;TZID=America/Toronto:20160224T190000
DTSTAMP:20260425T105942
CREATED:20160114T201207Z
LAST-MODIFIED:20160114T201207Z
UID:10019437-1456340400-1456340400@huronshores.ca
SUMMARY:Regular Council Meeting
DESCRIPTION:The Regular Meeting of Council will be held Wednesday\, February 24/16 at 7:00 p.m. in the Council Chambers\, 7 Bridge Street\, Iron Bridge.  The Agenda was posted on Monday\, February 22/16.  Please click on the link below to view the Agenda post.
URL:https://huronshores.ca/event/regular-council-meeting-12/
LOCATION:ON
CATEGORIES:Council Meeting
ATTACH;FMTTYPE=image/jpeg:https://huronshores.ca/wp-content/uploads/2013/08/huron-shores-logo-e1401726180192.jpg
END:VEVENT
BEGIN:VEVENT
DTSTART;TZID=America/Toronto:20160225T093000
DTEND;TZID=America/Toronto:20160225T123000
DTSTAMP:20260425T105942
CREATED:20160119T153758Z
LAST-MODIFIED:20160119T153758Z
UID:10019380-1456392600-1456403400@huronshores.ca
SUMMARY:Advanced Social Media Workshops
DESCRIPTION:Having a Hard Time Excelling at Social Media?  Register for one of the following workshops facilitated by the Sault Ste. Marie Innovation Centre:  Wednesday\, February 24/16\, 6:00-9:00 p.m.\, Royal Canadian Legion Hall\, Richards Landing; Thursday\, February 25/16\, 9:30 a.m. – 12:30 p.m.\, Bruce Mines Community Hall.  Contact Angelo Pacione for more info:  705-942-7927 x 3148; apacione@ssmic.com.  Cost:  $25.00.  To register please click on the link below to visit the Event Brite site.
URL:https://huronshores.ca/event/advanced-social-media-workshops-2/
LOCATION:ON
CATEGORIES:Community News
ATTACH;FMTTYPE=image/png:https://huronshores.ca/wp-content/uploads/2016/01/Social-Media-Wkshps.png
END:VEVENT
BEGIN:VEVENT
DTSTART;TZID=America/Toronto:20160225T140000
DTEND;TZID=America/Toronto:20160225T153000
DTSTAMP:20260425T105942
CREATED:20151021T181815Z
LAST-MODIFIED:20151021T181815Z
UID:10015863-1456408800-1456414200@huronshores.ca
SUMMARY:Alzheimer Info & Discussion Group
DESCRIPTION:The Alzheimer Society of Sault Ste. Marie & Algoma District hosts an Information & Discussion Group on the 2nd Wednesday of each month\, at the Calvary Gospel Church\, 55 Queen Street\, Blind River from 2:00 – 3:30 p.m.  For more information please call Tanya\, First Link Coordinator\, at 705-848-8145.
URL:https://huronshores.ca/event/alzheimer-info-discussion-group-2/2016-02-25/
LOCATION:ON
CATEGORIES:Community News
ATTACH;FMTTYPE=image/jpeg:https://huronshores.ca/wp-content/uploads/2013/01/Alzheimers-Disease.jpg
END:VEVENT
BEGIN:VEVENT
DTSTART;TZID=America/Toronto:20160225T193000
DTEND;TZID=America/Toronto:20160225T220000
DTSTAMP:20260425T105942
CREATED:20160107T191117Z
LAST-MODIFIED:20160107T191117Z
UID:10019426-1456428600-1456437600@huronshores.ca
SUMMARY:Square Dancing
DESCRIPTION:Thursday Night Square Dancing at Sowerby Hall\, 1410 Basswood Lake Road at 7:30 p.m.  Cost:  $30/couple for 6 weeks or $3/person/night.  For info call Will 705-843-5567\, David 705-842-6135\, or Dennis 705-842-5534.
URL:https://huronshores.ca/event/square-dancing/2016-02-25/
LOCATION:ON
CATEGORIES:Community News
ATTACH;FMTTYPE=image/jpeg:https://huronshores.ca/wp-content/uploads/2016/01/square-dancing.jpg
END:VEVENT
BEGIN:VEVENT
DTSTART;TZID=America/Toronto:20160226T140000
DTEND;TZID=America/Toronto:20160226T153000
DTSTAMP:20260425T105942
CREATED:20151021T181815Z
LAST-MODIFIED:20151021T181815Z
UID:10015864-1456495200-1456500600@huronshores.ca
SUMMARY:Alzheimer Info & Discussion Group
DESCRIPTION:The Alzheimer Society of Sault Ste. Marie & Algoma District hosts an Information & Discussion Group on the 2nd Wednesday of each month\, at the Calvary Gospel Church\, 55 Queen Street\, Blind River from 2:00 – 3:30 p.m.  For more information please call Tanya\, First Link Coordinator\, at 705-848-8145.
URL:https://huronshores.ca/event/alzheimer-info-discussion-group-2/2016-02-26/
LOCATION:ON
CATEGORIES:Community News
ATTACH;FMTTYPE=image/jpeg:https://huronshores.ca/wp-content/uploads/2013/01/Alzheimers-Disease.jpg
END:VEVENT
BEGIN:VEVENT
DTSTART;TZID=America/Toronto:20160227T140000
DTEND;TZID=America/Toronto:20160227T153000
DTSTAMP:20260425T105942
CREATED:20151021T181815Z
LAST-MODIFIED:20151021T181815Z
UID:10015865-1456581600-1456587000@huronshores.ca
SUMMARY:Alzheimer Info & Discussion Group
DESCRIPTION:The Alzheimer Society of Sault Ste. Marie & Algoma District hosts an Information & Discussion Group on the 2nd Wednesday of each month\, at the Calvary Gospel Church\, 55 Queen Street\, Blind River from 2:00 – 3:30 p.m.  For more information please call Tanya\, First Link Coordinator\, at 705-848-8145.
URL:https://huronshores.ca/event/alzheimer-info-discussion-group-2/2016-02-27/
LOCATION:ON
CATEGORIES:Community News
ATTACH;FMTTYPE=image/jpeg:https://huronshores.ca/wp-content/uploads/2013/01/Alzheimers-Disease.jpg
END:VEVENT
BEGIN:VEVENT
DTSTART;TZID=America/Toronto:20160228T140000
DTEND;TZID=America/Toronto:20160228T153000
DTSTAMP:20260425T105942
CREATED:20151021T181815Z
LAST-MODIFIED:20151021T181815Z
UID:10015866-1456668000-1456673400@huronshores.ca
SUMMARY:Alzheimer Info & Discussion Group
DESCRIPTION:The Alzheimer Society of Sault Ste. Marie & Algoma District hosts an Information & Discussion Group on the 2nd Wednesday of each month\, at the Calvary Gospel Church\, 55 Queen Street\, Blind River from 2:00 – 3:30 p.m.  For more information please call Tanya\, First Link Coordinator\, at 705-848-8145.
URL:https://huronshores.ca/event/alzheimer-info-discussion-group-2/2016-02-28/
LOCATION:ON
CATEGORIES:Community News
ATTACH;FMTTYPE=image/jpeg:https://huronshores.ca/wp-content/uploads/2013/01/Alzheimers-Disease.jpg
END:VEVENT
BEGIN:VEVENT
DTSTART;TZID=America/Toronto:20160229T140000
DTEND;TZID=America/Toronto:20160229T153000
DTSTAMP:20260425T105942
CREATED:20151021T181815Z
LAST-MODIFIED:20151021T181815Z
UID:10015867-1456754400-1456759800@huronshores.ca
SUMMARY:Alzheimer Info & Discussion Group
DESCRIPTION:The Alzheimer Society of Sault Ste. Marie & Algoma District hosts an Information & Discussion Group on the 2nd Wednesday of each month\, at the Calvary Gospel Church\, 55 Queen Street\, Blind River from 2:00 – 3:30 p.m.  For more information please call Tanya\, First Link Coordinator\, at 705-848-8145.
URL:https://huronshores.ca/event/alzheimer-info-discussion-group-2/2016-02-29/
LOCATION:ON
CATEGORIES:Community News
ATTACH;FMTTYPE=image/jpeg:https://huronshores.ca/wp-content/uploads/2013/01/Alzheimers-Disease.jpg
END:VEVENT
BEGIN:VEVENT
DTSTART;TZID=America/Toronto:20160301T140000
DTEND;TZID=America/Toronto:20160301T153000
DTSTAMP:20260425T105942
CREATED:20151021T181815Z
LAST-MODIFIED:20151021T181815Z
UID:10015868-1456840800-1456846200@huronshores.ca
SUMMARY:Alzheimer Info & Discussion Group
DESCRIPTION:The Alzheimer Society of Sault Ste. Marie & Algoma District hosts an Information & Discussion Group on the 2nd Wednesday of each month\, at the Calvary Gospel Church\, 55 Queen Street\, Blind River from 2:00 – 3:30 p.m.  For more information please call Tanya\, First Link Coordinator\, at 705-848-8145.
URL:https://huronshores.ca/event/alzheimer-info-discussion-group-2/2016-03-01/
LOCATION:ON
CATEGORIES:Community News
ATTACH;FMTTYPE=image/jpeg:https://huronshores.ca/wp-content/uploads/2013/01/Alzheimers-Disease.jpg
END:VEVENT
BEGIN:VEVENT
DTSTART;TZID=America/Toronto:20160302T140000
DTEND;TZID=America/Toronto:20160302T153000
DTSTAMP:20260425T105942
CREATED:20151021T181815Z
LAST-MODIFIED:20151021T181815Z
UID:10015869-1456927200-1456932600@huronshores.ca
SUMMARY:Alzheimer Info & Discussion Group
DESCRIPTION:The Alzheimer Society of Sault Ste. Marie & Algoma District hosts an Information & Discussion Group on the 2nd Wednesday of each month\, at the Calvary Gospel Church\, 55 Queen Street\, Blind River from 2:00 – 3:30 p.m.  For more information please call Tanya\, First Link Coordinator\, at 705-848-8145.
URL:https://huronshores.ca/event/alzheimer-info-discussion-group-2/2016-03-02/
LOCATION:ON
CATEGORIES:Community News
ATTACH;FMTTYPE=image/jpeg:https://huronshores.ca/wp-content/uploads/2013/01/Alzheimers-Disease.jpg
END:VEVENT
BEGIN:VEVENT
DTSTART;TZID=America/Toronto:20160302T190000
DTEND;TZID=America/Toronto:20160302T190000
DTSTAMP:20260425T105942
CREATED:20151015T195543Z
LAST-MODIFIED:20151015T195543Z
UID:10019389-1456945200-1456945200@huronshores.ca
SUMMARY:Public Meeting - Draft Zoning By-law
DESCRIPTION:Following the initial Open House (September 30/15) and Public Meeting (October 7/15) for review of the Draft Comprehensive Zoning By-law\, Council has authorized\, via Resolution #15-23-13 dated October 14/15\, an additional Public Meeting will be held Wednesday\, March 2/16 at 7:00 p.m.\,  at Sowerby Hall\, 1410 Basswood Lake Road.  An additional public Open House information session  was held Wednesday\, February 3/16\, from 7:00-9:00 p.m.\, also at Sowerby Hall.  The Agenda for the Public Meeting was posted on Monday\, February 29/16.   Please click on the link below to view the Public Notice.
URL:https://huronshores.ca/event/public-meeting-draft-zoning-by-law/
LOCATION:ON
CATEGORIES:Community News,Council Meeting,Planning & Zoning
ATTACH;FMTTYPE=image/jpeg:https://huronshores.ca/wp-content/uploads/2014/06/Meeting.jpg
END:VEVENT
BEGIN:VEVENT
DTSTART;TZID=America/Toronto:20160303T140000
DTEND;TZID=America/Toronto:20160303T153000
DTSTAMP:20260425T105942
CREATED:20151021T181815Z
LAST-MODIFIED:20151021T181815Z
UID:10015870-1457013600-1457019000@huronshores.ca
SUMMARY:Alzheimer Info & Discussion Group
DESCRIPTION:The Alzheimer Society of Sault Ste. Marie & Algoma District hosts an Information & Discussion Group on the 2nd Wednesday of each month\, at the Calvary Gospel Church\, 55 Queen Street\, Blind River from 2:00 – 3:30 p.m.  For more information please call Tanya\, First Link Coordinator\, at 705-848-8145.
URL:https://huronshores.ca/event/alzheimer-info-discussion-group-2/2016-03-03/
LOCATION:ON
CATEGORIES:Community News
ATTACH;FMTTYPE=image/jpeg:https://huronshores.ca/wp-content/uploads/2013/01/Alzheimers-Disease.jpg
END:VEVENT
BEGIN:VEVENT
DTSTART;TZID=America/Toronto:20160303T193000
DTEND;TZID=America/Toronto:20160303T220000
DTSTAMP:20260425T105942
CREATED:20160107T191117Z
LAST-MODIFIED:20160107T191117Z
UID:10019427-1457033400-1457042400@huronshores.ca
SUMMARY:Square Dancing
DESCRIPTION:Thursday Night Square Dancing at Sowerby Hall\, 1410 Basswood Lake Road at 7:30 p.m.  Cost:  $30/couple for 6 weeks or $3/person/night.  For info call Will 705-843-5567\, David 705-842-6135\, or Dennis 705-842-5534.
URL:https://huronshores.ca/event/square-dancing/2016-03-03/
LOCATION:ON
CATEGORIES:Community News
ATTACH;FMTTYPE=image/jpeg:https://huronshores.ca/wp-content/uploads/2016/01/square-dancing.jpg
END:VEVENT
BEGIN:VEVENT
DTSTART;TZID=America/Toronto:20160304T133000
DTEND;TZID=America/Toronto:20160304T133000
DTSTAMP:20260425T105942
CREATED:20160302T203045Z
LAST-MODIFIED:20160302T203045Z
UID:10019557-1457098200-1457098200@huronshores.ca
SUMMARY:World Day of Prayer
DESCRIPTION:A World Day of Prayer service will be held on Friday\, March 4/16 at 1:30 p.m. at the Iron Bridge United Church.  The topic is Cuba.  Everyone welcome!  To learn more about World Day of Prayer\, please click on the link below.
URL:https://huronshores.ca/event/world-day-of-prayer-2/
LOCATION:ON
CATEGORIES:Community News
END:VEVENT
BEGIN:VEVENT
DTSTART;TZID=America/Toronto:20160304T140000
DTEND;TZID=America/Toronto:20160304T140000
DTSTAMP:20260425T105942
CREATED:20160302T201911Z
LAST-MODIFIED:20160302T201911Z
UID:10019554-1457100000-1457100000@huronshores.ca
SUMMARY:World Day of Prayer
DESCRIPTION:A World Day of Prayer service will be held Friday\, March 4/16\, at 2:00 p.m. at Zion United Church in Thessalon.  the topic is Cuba.  Everyone welcome!  To learn more about World Day of Prayer\, please click on the link below.
URL:https://huronshores.ca/event/world-day-of-prayer/
LOCATION:ON
CATEGORIES:Community News
END:VEVENT
BEGIN:VEVENT
DTSTART;TZID=America/Toronto:20160304T140000
DTEND;TZID=America/Toronto:20160304T153000
DTSTAMP:20260425T105942
CREATED:20151021T181815Z
LAST-MODIFIED:20151021T181815Z
UID:10015871-1457100000-1457105400@huronshores.ca
SUMMARY:Alzheimer Info & Discussion Group
DESCRIPTION:The Alzheimer Society of Sault Ste. Marie & Algoma District hosts an Information & Discussion Group on the 2nd Wednesday of each month\, at the Calvary Gospel Church\, 55 Queen Street\, Blind River from 2:00 – 3:30 p.m.  For more information please call Tanya\, First Link Coordinator\, at 705-848-8145.
URL:https://huronshores.ca/event/alzheimer-info-discussion-group-2/2016-03-04/
LOCATION:ON
CATEGORIES:Community News
ATTACH;FMTTYPE=image/jpeg:https://huronshores.ca/wp-content/uploads/2013/01/Alzheimers-Disease.jpg
END:VEVENT
BEGIN:VEVENT
DTSTART;TZID=America/Toronto:20160305T140000
DTEND;TZID=America/Toronto:20160305T153000
DTSTAMP:20260425T105942
CREATED:20151021T181815Z
LAST-MODIFIED:20151021T181815Z
UID:10015872-1457186400-1457191800@huronshores.ca
SUMMARY:Alzheimer Info & Discussion Group
DESCRIPTION:The Alzheimer Society of Sault Ste. Marie & Algoma District hosts an Information & Discussion Group on the 2nd Wednesday of each month\, at the Calvary Gospel Church\, 55 Queen Street\, Blind River from 2:00 – 3:30 p.m.  For more information please call Tanya\, First Link Coordinator\, at 705-848-8145.
URL:https://huronshores.ca/event/alzheimer-info-discussion-group-2/2016-03-05/
LOCATION:ON
CATEGORIES:Community News
ATTACH;FMTTYPE=image/jpeg:https://huronshores.ca/wp-content/uploads/2013/01/Alzheimers-Disease.jpg
END:VEVENT
BEGIN:VEVENT
DTSTART;TZID=America/Toronto:20160305T163000
DTEND;TZID=America/Toronto:20160305T190000
DTSTAMP:20260425T105942
CREATED:20160114T193722Z
LAST-MODIFIED:20160114T193722Z
UID:10019434-1457195400-1457204400@huronshores.ca
SUMMARY:Lions' Club Fish Fry
DESCRIPTION:It’s ‘all you can eat fish fry’ time again at the Iron Bridge Lions’ Hall\, 10 Clarissa Street:  January 23\, February 6 & 20\, March 5 & 19/16; 4:30 to 7:00 p.m.  Cost:  $15/person\, varied rates for children\, depending on age.  Everyone welcome!
URL:https://huronshores.ca/event/lions-club-fish-fry/2016-03-05/
LOCATION:ON
CATEGORIES:Community News,Local Food
ATTACH;FMTTYPE=image/jpeg:https://huronshores.ca/wp-content/uploads/2015/12/Fish-Fry.jpg
END:VEVENT
END:VCALENDAR