BEGIN:VCALENDAR
VERSION:2.0
PRODID:-//Huron Shores - ECPv6.15.11//NONSGML v1.0//EN
CALSCALE:GREGORIAN
METHOD:PUBLISH
X-WR-CALNAME:Huron Shores
X-ORIGINAL-URL:https://huronshores.ca
X-WR-CALDESC:Events for Huron Shores
REFRESH-INTERVAL;VALUE=DURATION:PT1H
X-Robots-Tag:noindex
X-PUBLISHED-TTL:PT1H
BEGIN:VTIMEZONE
TZID:America/Toronto
BEGIN:DAYLIGHT
TZOFFSETFROM:-0500
TZOFFSETTO:-0400
TZNAME:EDT
DTSTART:20160313T070000
END:DAYLIGHT
BEGIN:STANDARD
TZOFFSETFROM:-0400
TZOFFSETTO:-0500
TZNAME:EST
DTSTART:20161106T060000
END:STANDARD
BEGIN:DAYLIGHT
TZOFFSETFROM:-0500
TZOFFSETTO:-0400
TZNAME:EDT
DTSTART:20170312T070000
END:DAYLIGHT
BEGIN:STANDARD
TZOFFSETFROM:-0400
TZOFFSETTO:-0500
TZNAME:EST
DTSTART:20171105T060000
END:STANDARD
BEGIN:DAYLIGHT
TZOFFSETFROM:-0500
TZOFFSETTO:-0400
TZNAME:EDT
DTSTART:20180311T070000
END:DAYLIGHT
BEGIN:STANDARD
TZOFFSETFROM:-0400
TZOFFSETTO:-0500
TZNAME:EST
DTSTART:20181104T060000
END:STANDARD
END:VTIMEZONE
BEGIN:VEVENT
DTSTART;TZID=America/Toronto:20170523T140000
DTEND;TZID=America/Toronto:20170523T153000
DTSTAMP:20260424T075806
CREATED:20151021T181815Z
LAST-MODIFIED:20151021T181815Z
UID:10016316-1495548000-1495553400@huronshores.ca
SUMMARY:Alzheimer Info & Discussion Group
DESCRIPTION:The Alzheimer Society of Sault Ste. Marie & Algoma District hosts an Information & Discussion Group on the 2nd Wednesday of each month\, at the Calvary Gospel Church\, 55 Queen Street\, Blind River from 2:00 – 3:30 p.m.  For more information please call Tanya\, First Link Coordinator\, at 705-848-8145.
URL:https://huronshores.ca/event/alzheimer-info-discussion-group-2/2017-05-23/
LOCATION:ON
CATEGORIES:Community News
ATTACH;FMTTYPE=image/jpeg:https://huronshores.ca/wp-content/uploads/2013/01/Alzheimers-Disease.jpg
END:VEVENT
BEGIN:VEVENT
DTSTART;TZID=America/Toronto:20170524T140000
DTEND;TZID=America/Toronto:20170524T153000
DTSTAMP:20260424T075806
CREATED:20151021T181815Z
LAST-MODIFIED:20151021T181815Z
UID:10016317-1495634400-1495639800@huronshores.ca
SUMMARY:Alzheimer Info & Discussion Group
DESCRIPTION:The Alzheimer Society of Sault Ste. Marie & Algoma District hosts an Information & Discussion Group on the 2nd Wednesday of each month\, at the Calvary Gospel Church\, 55 Queen Street\, Blind River from 2:00 – 3:30 p.m.  For more information please call Tanya\, First Link Coordinator\, at 705-848-8145.
URL:https://huronshores.ca/event/alzheimer-info-discussion-group-2/2017-05-24/
LOCATION:ON
CATEGORIES:Community News
ATTACH;FMTTYPE=image/jpeg:https://huronshores.ca/wp-content/uploads/2013/01/Alzheimers-Disease.jpg
END:VEVENT
BEGIN:VEVENT
DTSTART;TZID=America/Toronto:20170524T150000
DTEND;TZID=America/Toronto:20170524T170000
DTSTAMP:20260424T075806
CREATED:20170515T133945Z
LAST-MODIFIED:20170515T133945Z
UID:10020129-1495638000-1495645200@huronshores.ca
SUMMARY:Ontario By Bike:  Cycle Tourism Development Workshops
DESCRIPTION:Ontario By Bike will be hosting 2 Cycle Tourism Development Workshops: one in Blind River\, and one in Sault Ste. Marie to provide tourism businesses and other interested stakeholders with valuable tourism research and program information on Ontario’s cycle tourism sector. \nAlso\, Mike Wozny will be speaking from Tourism Northern Ontario and providing an update on the Lake Huron North Channel Cycling Route\, in addition to local cycling developments.  \nThe workshops are Free but pre-registration is required.  Please click on the event website link below for more details.
URL:https://huronshores.ca/event/ontario-by-bike-cycle-tourism-development-workshops/
LOCATION:ON
CATEGORIES:Community News
ATTACH;FMTTYPE=image/png:https://huronshores.ca/wp-content/uploads/2017/05/Great-Lakes-Waterfront-Trail-2.png
END:VEVENT
BEGIN:VEVENT
DTSTART;TZID=America/Toronto:20170524T163000
DTEND;TZID=America/Toronto:20170524T163000
DTSTAMP:20260424T075806
CREATED:20170504T184818Z
LAST-MODIFIED:20170504T184818Z
UID:10020123-1495643400-1495643400@huronshores.ca
SUMMARY:Deadline for Summer Employment Applications
DESCRIPTION:Applications for the Municipality’s summer student employment positions are due today at 4:30 p.m.  For details please click on the link below to view the post and download the required student application form.
URL:https://huronshores.ca/event/deadline-for-summer-employment-applications/
LOCATION:ON
CATEGORIES:Community News,Employment Opportunities
ATTACH;FMTTYPE=image/jpeg:https://huronshores.ca/wp-content/uploads/2015/04/Summer-Jobs-for-Students.jpg
END:VEVENT
BEGIN:VEVENT
DTSTART;TZID=America/Toronto:20170524T190000
DTEND;TZID=America/Toronto:20170524T190000
DTSTAMP:20260424T075806
CREATED:20161216T212115Z
LAST-MODIFIED:20161216T212115Z
UID:10020006-1495652400-1495652400@huronshores.ca
SUMMARY:Regular Council  Meeting
DESCRIPTION:The Regular Meeting of Council will convene at 7:00 p.m. in the Council Chambers\, 7 Bridge Street\, Iron Bridge.  The Agenda is posted on huronshores.ca and at the Municipal Office the Monday prior unless that day is a holiday.  It would then be posted on the Tuesday.  Council Meetings are held as follows:  January – June & September – November\, 2nd & 4th Wednesdays; July & August\, 2nd Wednesday only; December\, 3rd Wednesday unless otherwise scheduled.  Periodically Special Meetings are called in order to deliberate a specific matter.  As per the Municipal Act\, all Council Meetings are conducted in public.  Members of the public are able to observe the proceedings from the gallery.  If you wish to address Council directly with respect to a specific matter or concern\, please contact the Municipal Office by the Friday prior in order to be included as a Delegation on the Meeting Agenda.  Please click on the link below to learn more about Delegations and Deputations.
URL:https://huronshores.ca/event/regular-council-meeting-32/2017-05-24/
LOCATION:ON
CATEGORIES:Council Meeting
ATTACH;FMTTYPE=:
END:VEVENT
BEGIN:VEVENT
DTSTART;TZID=America/Toronto:20170524T193000
DTEND;TZID=America/Toronto:20170524T193000
DTSTAMP:20260424T075806
CREATED:20160721T182330Z
LAST-MODIFIED:20160721T182330Z
UID:10019672-1495654200-1495654200@huronshores.ca
SUMMARY:Jammin' Session at the Thessalon Community Curling Club
DESCRIPTION:Every Wedneday night at 7:30PM\, join us at Thessalon Community Curling Club for our Jammin’ Session. You play an instrument and love to play with other instrumentalists\, or just love to listen to live music\, then come on down…the bar is open! Everyone welcome! Bring a friend!
URL:https://huronshores.ca/event/jammin-session-at-the-thessalon-community-curling-club/2017-05-24/
LOCATION:ON
CATEGORIES:Recreation
END:VEVENT
BEGIN:VEVENT
DTSTART;TZID=America/Toronto:20170525T130000
DTEND;TZID=America/Toronto:20170525T150000
DTSTAMP:20260424T075806
CREATED:20170515T134418Z
LAST-MODIFIED:20170515T134418Z
UID:10020132-1495717200-1495724400@huronshores.ca
SUMMARY:Ontario By Bike:  Cycle Tourism Development Workshops
DESCRIPTION:Ontario By Bike will be hosting 2 Cycle Tourism Development Workshops: one in Blind River\, and one in Sault Ste. Marie to provide tourism businesses and other interested stakeholders with valuable tourism research and program information on Ontario’s cycle tourism sector. \nAlso\, Mike Wozny will be speaking from Tourism Northern Ontario and providing an update on the Lake Huron North Channel Cycling Route\, in addition to local cycling developments.  \nThe workshops are Free but pre-registration is required.  Please click on the event website link below for more details.
URL:https://huronshores.ca/event/ontario-by-bike-cycle-tourism-development-workshops-2/
LOCATION:ON
CATEGORIES:Community News
ATTACH;FMTTYPE=image/png:https://huronshores.ca/wp-content/uploads/2017/05/Great-Lakes-Waterfront-Trail-2.png
END:VEVENT
BEGIN:VEVENT
DTSTART;TZID=America/Toronto:20170525T140000
DTEND;TZID=America/Toronto:20170525T153000
DTSTAMP:20260424T075806
CREATED:20151021T181815Z
LAST-MODIFIED:20151021T181815Z
UID:10016318-1495720800-1495726200@huronshores.ca
SUMMARY:Alzheimer Info & Discussion Group
DESCRIPTION:The Alzheimer Society of Sault Ste. Marie & Algoma District hosts an Information & Discussion Group on the 2nd Wednesday of each month\, at the Calvary Gospel Church\, 55 Queen Street\, Blind River from 2:00 – 3:30 p.m.  For more information please call Tanya\, First Link Coordinator\, at 705-848-8145.
URL:https://huronshores.ca/event/alzheimer-info-discussion-group-2/2017-05-25/
LOCATION:ON
CATEGORIES:Community News
ATTACH;FMTTYPE=image/jpeg:https://huronshores.ca/wp-content/uploads/2013/01/Alzheimers-Disease.jpg
END:VEVENT
BEGIN:VEVENT
DTSTART;TZID=America/Toronto:20170526T140000
DTEND;TZID=America/Toronto:20170526T153000
DTSTAMP:20260424T075806
CREATED:20151021T181815Z
LAST-MODIFIED:20151021T181815Z
UID:10016319-1495807200-1495812600@huronshores.ca
SUMMARY:Alzheimer Info & Discussion Group
DESCRIPTION:The Alzheimer Society of Sault Ste. Marie & Algoma District hosts an Information & Discussion Group on the 2nd Wednesday of each month\, at the Calvary Gospel Church\, 55 Queen Street\, Blind River from 2:00 – 3:30 p.m.  For more information please call Tanya\, First Link Coordinator\, at 705-848-8145.
URL:https://huronshores.ca/event/alzheimer-info-discussion-group-2/2017-05-26/
LOCATION:ON
CATEGORIES:Community News
ATTACH;FMTTYPE=image/jpeg:https://huronshores.ca/wp-content/uploads/2013/01/Alzheimers-Disease.jpg
END:VEVENT
BEGIN:VEVENT
DTSTART;TZID=America/Toronto:20170526T170000
DTEND;TZID=America/Toronto:20170526T190000
DTSTAMP:20260424T075806
CREATED:20170223T155057Z
LAST-MODIFIED:20170223T155057Z
UID:10020093-1495818000-1495825200@huronshores.ca
SUMMARY:Friday Fish Fry
DESCRIPTION:The RC Legion Branch 182 in Thessalon hosts a Fish Fry from 5:00 p.m. to 7:00 p.m.   Take-out called in by 4:30 p.m. & picked up by 5:00 p.m. Call 705-842-2418.
URL:https://huronshores.ca/event/friday-fish-fry/2017-05-26/
LOCATION:ON
CATEGORIES:Community News,Local Food
ATTACH;FMTTYPE=image/jpeg:https://huronshores.ca/wp-content/uploads/2015/12/Friday-Fish-Fry.jpg
END:VEVENT
BEGIN:VEVENT
DTSTART;TZID=America/Toronto:20170526T190000
DTEND;TZID=America/Toronto:20170526T190000
DTSTAMP:20260424T075806
CREATED:20170502T191530Z
LAST-MODIFIED:20170502T191530Z
UID:10019563-1495825200-1495825200@huronshores.ca
SUMMARY:Quilt Trunk Show
DESCRIPTION:Check out the Quilt Trunk Show on Friday\, May 26/17 at Iron Bridge United Church from 7:00 p.m. $5 Admission includes coffee/tea & dessert.  This is a prelude to the 2-day Biennial Quilt Show on May 27-28 at the Iron Bridge Rec Centre (1 Chiblow Lake Rd.).
URL:https://huronshores.ca/event/quilt-trunk-show/
LOCATION:ON
CATEGORIES:Community News
ATTACH;FMTTYPE=:
END:VEVENT
BEGIN:VEVENT
DTSTART;TZID=America/Toronto:20170527T080000
DTEND;TZID=America/Toronto:20170527T180000
DTSTAMP:20260424T075806
CREATED:20170502T192618Z
LAST-MODIFIED:20170502T192618Z
UID:10019564-1495872000-1495908000@huronshores.ca
SUMMARY:ATV Fun Run
DESCRIPTION:The Annual Huron Shores ATV Fun Run will be held Saturday\, May 27/17; Registration starts at 8:00 a.m.  The Run begins & finishes at the Gazebo in Little Rapids\, 34 Little Rapids Road.  The route will take you from Little Rapids to Wakomata Shores Resort for Lunch and return to Little Rapids for dinner at 6:00 p.m.  Registration is $60/person & includes all meals as well as coffee & cinnamon buns in the morning!  Pre-Register by phone to Audrey at 705-842-1779 prior to May 19.  Prizes Galore!  Hosted by the Little Rapids Recreation Complex Committee.
URL:https://huronshores.ca/event/atv-fun-run-2/
LOCATION:ON
CATEGORIES:Community News,Recreation
ATTACH;FMTTYPE=image/jpeg:https://huronshores.ca/wp-content/uploads/2013/06/ATV-Rider.jpg
END:VEVENT
BEGIN:VEVENT
DTSTART;TZID=America/Toronto:20170527T100000
DTEND;TZID=America/Toronto:20170528T160000
DTSTAMP:20260424T075806
CREATED:20161125T143125Z
LAST-MODIFIED:20161125T143125Z
UID:10019984-1495879200-1495987200@huronshores.ca
SUMMARY:Quilt Show
DESCRIPTION:The Biennial Quilt Show will be held May 27-28/17 from 10:00 a.m. to 4:00 p.m. at the Iron Bridge Recreation Centre\, 1 Chiblow Lake Rd.  The show is hosted by the Iron Bridge Agricultural Society & the Huron Shores Quilters.  Featuring Artist in Residence – Joni Newman. Admission of $7.00 includes your prize draw ticket.   To register for one of the Daily Quilt Show Workshops contact Norma at 705-842-1229.  Also featuring quilts to view & purchase; quilting\, handicrafts & related supplies.  Door Prizes and Demonstrations. \nBe sure to take in the Quilt Trunk Show on Friday\, May 26 at 7:00 p.m. at Iron Bridge United Church (22147 Highway 17).  Admission is $5.00\, includes coffee/tea & dessert)!
URL:https://huronshores.ca/event/quilt-show/
LOCATION:ON
CATEGORIES:Community News
ATTACH;FMTTYPE=:
END:VEVENT
BEGIN:VEVENT
DTSTART;TZID=America/Toronto:20170527T140000
DTEND;TZID=America/Toronto:20170527T153000
DTSTAMP:20260424T075806
CREATED:20151021T181815Z
LAST-MODIFIED:20151021T181815Z
UID:10016320-1495893600-1495899000@huronshores.ca
SUMMARY:Alzheimer Info & Discussion Group
DESCRIPTION:The Alzheimer Society of Sault Ste. Marie & Algoma District hosts an Information & Discussion Group on the 2nd Wednesday of each month\, at the Calvary Gospel Church\, 55 Queen Street\, Blind River from 2:00 – 3:30 p.m.  For more information please call Tanya\, First Link Coordinator\, at 705-848-8145.
URL:https://huronshores.ca/event/alzheimer-info-discussion-group-2/2017-05-27/
LOCATION:ON
CATEGORIES:Community News
ATTACH;FMTTYPE=image/jpeg:https://huronshores.ca/wp-content/uploads/2013/01/Alzheimers-Disease.jpg
END:VEVENT
BEGIN:VEVENT
DTSTART;TZID=America/Toronto:20170528T140000
DTEND;TZID=America/Toronto:20170528T153000
DTSTAMP:20260424T075806
CREATED:20151021T181815Z
LAST-MODIFIED:20151021T181815Z
UID:10016321-1495980000-1495985400@huronshores.ca
SUMMARY:Alzheimer Info & Discussion Group
DESCRIPTION:The Alzheimer Society of Sault Ste. Marie & Algoma District hosts an Information & Discussion Group on the 2nd Wednesday of each month\, at the Calvary Gospel Church\, 55 Queen Street\, Blind River from 2:00 – 3:30 p.m.  For more information please call Tanya\, First Link Coordinator\, at 705-848-8145.
URL:https://huronshores.ca/event/alzheimer-info-discussion-group-2/2017-05-28/
LOCATION:ON
CATEGORIES:Community News
ATTACH;FMTTYPE=image/jpeg:https://huronshores.ca/wp-content/uploads/2013/01/Alzheimers-Disease.jpg
END:VEVENT
BEGIN:VEVENT
DTSTART;TZID=America/Toronto:20170529T140000
DTEND;TZID=America/Toronto:20170529T153000
DTSTAMP:20260424T075806
CREATED:20151021T181815Z
LAST-MODIFIED:20151021T181815Z
UID:10016322-1496066400-1496071800@huronshores.ca
SUMMARY:Alzheimer Info & Discussion Group
DESCRIPTION:The Alzheimer Society of Sault Ste. Marie & Algoma District hosts an Information & Discussion Group on the 2nd Wednesday of each month\, at the Calvary Gospel Church\, 55 Queen Street\, Blind River from 2:00 – 3:30 p.m.  For more information please call Tanya\, First Link Coordinator\, at 705-848-8145.
URL:https://huronshores.ca/event/alzheimer-info-discussion-group-2/2017-05-29/
LOCATION:ON
CATEGORIES:Community News
ATTACH;FMTTYPE=image/jpeg:https://huronshores.ca/wp-content/uploads/2013/01/Alzheimers-Disease.jpg
END:VEVENT
BEGIN:VEVENT
DTSTART;TZID=America/Toronto:20170530T140000
DTEND;TZID=America/Toronto:20170530T153000
DTSTAMP:20260424T075806
CREATED:20151021T181815Z
LAST-MODIFIED:20151021T181815Z
UID:10016323-1496152800-1496158200@huronshores.ca
SUMMARY:Alzheimer Info & Discussion Group
DESCRIPTION:The Alzheimer Society of Sault Ste. Marie & Algoma District hosts an Information & Discussion Group on the 2nd Wednesday of each month\, at the Calvary Gospel Church\, 55 Queen Street\, Blind River from 2:00 – 3:30 p.m.  For more information please call Tanya\, First Link Coordinator\, at 705-848-8145.
URL:https://huronshores.ca/event/alzheimer-info-discussion-group-2/2017-05-30/
LOCATION:ON
CATEGORIES:Community News
ATTACH;FMTTYPE=image/jpeg:https://huronshores.ca/wp-content/uploads/2013/01/Alzheimers-Disease.jpg
END:VEVENT
BEGIN:VEVENT
DTSTART;TZID=America/Toronto:20170530T170000
DTEND;TZID=America/Toronto:20170530T190000
DTSTAMP:20260424T075806
CREATED:20170512T185727Z
LAST-MODIFIED:20170512T185727Z
UID:10020128-1496163600-1496170800@huronshores.ca
SUMMARY:Family Time at the Library
DESCRIPTION:The Huron Shores Public Library will host a Family Tune on Tuesday\, May 30/17 from 5:00 – 7:00 p.m.  Activities\, crafts\, snacks and entertainment for families and children of all ages.  Everyone welcome!  The Library is open on Tuesdays and Fridays from 1:00 to 7:00 p.m.
URL:https://huronshores.ca/event/family-time-at-the-library/
LOCATION:ON
CATEGORIES:Community News,Recreation
ATTACH;FMTTYPE=image/png:https://huronshores.ca/wp-content/uploads/2012/03/Huron-Shores-Public-Library-Logo-Re-sized.png
END:VEVENT
BEGIN:VEVENT
DTSTART;VALUE=DATE:20170531
DTEND;VALUE=DATE:20170601
DTSTAMP:20260424T075806
CREATED:20161219T201014Z
LAST-MODIFIED:20161219T201014Z
UID:10020029-1496188800-1496275199@huronshores.ca
SUMMARY:2017 Interim Tax Billing - 2nd Installment Due
DESCRIPTION:The Second Installment of the 2017 Interim Tax Billing is due today\, Friday\, May 31/17 at 4:30 p.m.  Payment must be in Canadian funds ($$) and may be remitted by credit card via e-Payments on the Home page of huronshores.ca; via your Canadian financial institution and Electronic Funds Transfer (EFT); in the mail by cheque or money order; or in person at the Municipal Office\, Monday – Friday\, 8:30 a.m. – 4:30 p.m. (cash or cheque only\, no debit).  Installments are due the last business day of March and May.  For further info\, please click on the link below to visit the Treasury Department page.
URL:https://huronshores.ca/event/2017-interim-tax-billing-2nd-installment-due/
LOCATION:ON
CATEGORIES:Treasury
ATTACH;FMTTYPE=image/jpeg:https://huronshores.ca/wp-content/uploads/2012/09/Mailings.jpg
END:VEVENT
BEGIN:VEVENT
DTSTART;TZID=America/Toronto:20170531T140000
DTEND;TZID=America/Toronto:20170531T153000
DTSTAMP:20260424T075806
CREATED:20151021T181815Z
LAST-MODIFIED:20151021T181815Z
UID:10016324-1496239200-1496244600@huronshores.ca
SUMMARY:Alzheimer Info & Discussion Group
DESCRIPTION:The Alzheimer Society of Sault Ste. Marie & Algoma District hosts an Information & Discussion Group on the 2nd Wednesday of each month\, at the Calvary Gospel Church\, 55 Queen Street\, Blind River from 2:00 – 3:30 p.m.  For more information please call Tanya\, First Link Coordinator\, at 705-848-8145.
URL:https://huronshores.ca/event/alzheimer-info-discussion-group-2/2017-05-31/
LOCATION:ON
CATEGORIES:Community News
ATTACH;FMTTYPE=image/jpeg:https://huronshores.ca/wp-content/uploads/2013/01/Alzheimers-Disease.jpg
END:VEVENT
BEGIN:VEVENT
DTSTART;TZID=America/Toronto:20170531T190000
DTEND;TZID=America/Toronto:20170531T190000
DTSTAMP:20260424T075806
CREATED:20170526T184147Z
LAST-MODIFIED:20170526T184147Z
UID:10020133-1496257200-1496257200@huronshores.ca
SUMMARY:Special Meeting of Council - 2017 Budget Deliberations
DESCRIPTION:Council\, via Resolution #17-11-20 dated May 24\, 2017\, authorized that a special meeting be held on Wednesday\,  May 31/17\, at 7:00 p.m. in the Council Chambers for the purpose of 2017 Municipal Budget Deliberations. The Agenda will be posted on Monday\, May 29/17.
URL:https://huronshores.ca/event/special-meeting-of-council-2017-budget-deliberations/
LOCATION:ON
CATEGORIES:Council Meeting
ATTACH;FMTTYPE=image/jpeg:https://huronshores.ca/wp-content/uploads/2014/05/Budget.jpg
END:VEVENT
BEGIN:VEVENT
DTSTART;TZID=America/Toronto:20170531T193000
DTEND;TZID=America/Toronto:20170531T193000
DTSTAMP:20260424T075806
CREATED:20160721T182330Z
LAST-MODIFIED:20160721T182330Z
UID:10019673-1496259000-1496259000@huronshores.ca
SUMMARY:Jammin' Session at the Thessalon Community Curling Club
DESCRIPTION:Every Wedneday night at 7:30PM\, join us at Thessalon Community Curling Club for our Jammin’ Session. You play an instrument and love to play with other instrumentalists\, or just love to listen to live music\, then come on down…the bar is open! Everyone welcome! Bring a friend!
URL:https://huronshores.ca/event/jammin-session-at-the-thessalon-community-curling-club/2017-05-31/
LOCATION:ON
CATEGORIES:Recreation
END:VEVENT
BEGIN:VEVENT
DTSTART;TZID=America/Toronto:20170601T140000
DTEND;TZID=America/Toronto:20170601T153000
DTSTAMP:20260424T075806
CREATED:20151021T181815Z
LAST-MODIFIED:20151021T181815Z
UID:10016325-1496325600-1496331000@huronshores.ca
SUMMARY:Alzheimer Info & Discussion Group
DESCRIPTION:The Alzheimer Society of Sault Ste. Marie & Algoma District hosts an Information & Discussion Group on the 2nd Wednesday of each month\, at the Calvary Gospel Church\, 55 Queen Street\, Blind River from 2:00 – 3:30 p.m.  For more information please call Tanya\, First Link Coordinator\, at 705-848-8145.
URL:https://huronshores.ca/event/alzheimer-info-discussion-group-2/2017-06-01/
LOCATION:ON
CATEGORIES:Community News
ATTACH;FMTTYPE=image/jpeg:https://huronshores.ca/wp-content/uploads/2013/01/Alzheimers-Disease.jpg
END:VEVENT
BEGIN:VEVENT
DTSTART;TZID=America/Toronto:20170602T140000
DTEND;TZID=America/Toronto:20170602T153000
DTSTAMP:20260424T075806
CREATED:20151021T181815Z
LAST-MODIFIED:20151021T181815Z
UID:10016326-1496412000-1496417400@huronshores.ca
SUMMARY:Alzheimer Info & Discussion Group
DESCRIPTION:The Alzheimer Society of Sault Ste. Marie & Algoma District hosts an Information & Discussion Group on the 2nd Wednesday of each month\, at the Calvary Gospel Church\, 55 Queen Street\, Blind River from 2:00 – 3:30 p.m.  For more information please call Tanya\, First Link Coordinator\, at 705-848-8145.
URL:https://huronshores.ca/event/alzheimer-info-discussion-group-2/2017-06-02/
LOCATION:ON
CATEGORIES:Community News
ATTACH;FMTTYPE=image/jpeg:https://huronshores.ca/wp-content/uploads/2013/01/Alzheimers-Disease.jpg
END:VEVENT
BEGIN:VEVENT
DTSTART;TZID=America/Toronto:20170603T090000
DTEND;TZID=America/Toronto:20170603T140000
DTSTAMP:20260424T075807
CREATED:20170502T144116Z
LAST-MODIFIED:20170502T144116Z
UID:10019560-1496480400-1496498400@huronshores.ca
SUMMARY:Flea Market
DESCRIPTION:The Annual Iron Bridge Flea Market will be held Saturday\, June 3/17 from 9:00 a.m. to 2:00 p.m. at the Recreation Centre\, 1 Chiblow Lake Rd.  Vendors’ Rental Fees are $10 for the 1st Table; $5/additional table.  Call the Municipal Office to reserve your table (705-843-2033).  Canteen and refreshments available.
URL:https://huronshores.ca/event/flea-market/
LOCATION:ON
CATEGORIES:Community News,Recreation
ATTACH;FMTTYPE=image/jpeg:https://huronshores.ca/wp-content/uploads/2017/05/Flea-Market.jpg
END:VEVENT
BEGIN:VEVENT
DTSTART;TZID=America/Toronto:20170603T090000
DTEND;TZID=America/Toronto:20170603T150000
DTSTAMP:20260424T075807
CREATED:20170601T153915Z
LAST-MODIFIED:20170601T153915Z
UID:10020136-1496480400-1496502000@huronshores.ca
SUMMARY:Sustain Algoma Expo
DESCRIPTION:The 2017 Sustain Algoma Expo is taking place this Saturday\, June 3\, at the Johnson Township Community Centre in Desbarats from 9 a.m. until 3 p.m. Admission to this event is free\, but donations will be accepted.\nIn addition to booths set up by companies and organizations\, there will be a breakfast buffet from 9 a.m. until 11 a.m. with proceeds going towards the Johnson Township Recreation. Children will have the opportunity to have their face painted and Entomica will have their exotic bugs on display.\nThe first Johnson Farmers’ Market of the year is taking place on site as well. Come get some local fruits\, veggies and other food products! The expo is put on by the Kensington Conservancy\, STUFFF Lubricants\, St. Mary’s River Remedial Action Plan\, Clean North and Johnson Farmers’ Market.  For more info visit the Sustain Algoma website (listed below).
URL:https://huronshores.ca/event/sustain-algoma-expo-2/
LOCATION:ON
CATEGORIES:Community News,Farmers' Markets,Local Food
ATTACH;FMTTYPE=image/jpeg:https://huronshores.ca/wp-content/uploads/2016/03/Johnson-Farmers-Market-Logo.jpg
END:VEVENT
BEGIN:VEVENT
DTSTART;TZID=America/Toronto:20170603T140000
DTEND;TZID=America/Toronto:20170603T153000
DTSTAMP:20260424T075807
CREATED:20151021T181815Z
LAST-MODIFIED:20151021T181815Z
UID:10016327-1496498400-1496503800@huronshores.ca
SUMMARY:Alzheimer Info & Discussion Group
DESCRIPTION:The Alzheimer Society of Sault Ste. Marie & Algoma District hosts an Information & Discussion Group on the 2nd Wednesday of each month\, at the Calvary Gospel Church\, 55 Queen Street\, Blind River from 2:00 – 3:30 p.m.  For more information please call Tanya\, First Link Coordinator\, at 705-848-8145.
URL:https://huronshores.ca/event/alzheimer-info-discussion-group-2/2017-06-03/
LOCATION:ON
CATEGORIES:Community News
ATTACH;FMTTYPE=image/jpeg:https://huronshores.ca/wp-content/uploads/2013/01/Alzheimers-Disease.jpg
END:VEVENT
BEGIN:VEVENT
DTSTART;TZID=America/Toronto:20170604T140000
DTEND;TZID=America/Toronto:20170604T153000
DTSTAMP:20260424T075807
CREATED:20151021T181815Z
LAST-MODIFIED:20151021T181815Z
UID:10016328-1496584800-1496590200@huronshores.ca
SUMMARY:Alzheimer Info & Discussion Group
DESCRIPTION:The Alzheimer Society of Sault Ste. Marie & Algoma District hosts an Information & Discussion Group on the 2nd Wednesday of each month\, at the Calvary Gospel Church\, 55 Queen Street\, Blind River from 2:00 – 3:30 p.m.  For more information please call Tanya\, First Link Coordinator\, at 705-848-8145.
URL:https://huronshores.ca/event/alzheimer-info-discussion-group-2/2017-06-04/
LOCATION:ON
CATEGORIES:Community News
ATTACH;FMTTYPE=image/jpeg:https://huronshores.ca/wp-content/uploads/2013/01/Alzheimers-Disease.jpg
END:VEVENT
BEGIN:VEVENT
DTSTART;TZID=America/Toronto:20170605T140000
DTEND;TZID=America/Toronto:20170605T153000
DTSTAMP:20260424T075807
CREATED:20151021T181815Z
LAST-MODIFIED:20151021T181815Z
UID:10016329-1496671200-1496676600@huronshores.ca
SUMMARY:Alzheimer Info & Discussion Group
DESCRIPTION:The Alzheimer Society of Sault Ste. Marie & Algoma District hosts an Information & Discussion Group on the 2nd Wednesday of each month\, at the Calvary Gospel Church\, 55 Queen Street\, Blind River from 2:00 – 3:30 p.m.  For more information please call Tanya\, First Link Coordinator\, at 705-848-8145.
URL:https://huronshores.ca/event/alzheimer-info-discussion-group-2/2017-06-05/
LOCATION:ON
CATEGORIES:Community News
ATTACH;FMTTYPE=image/jpeg:https://huronshores.ca/wp-content/uploads/2013/01/Alzheimers-Disease.jpg
END:VEVENT
BEGIN:VEVENT
DTSTART;TZID=America/Toronto:20170606T140000
DTEND;TZID=America/Toronto:20170606T153000
DTSTAMP:20260424T075807
CREATED:20151021T181815Z
LAST-MODIFIED:20151021T181815Z
UID:10016330-1496757600-1496763000@huronshores.ca
SUMMARY:Alzheimer Info & Discussion Group
DESCRIPTION:The Alzheimer Society of Sault Ste. Marie & Algoma District hosts an Information & Discussion Group on the 2nd Wednesday of each month\, at the Calvary Gospel Church\, 55 Queen Street\, Blind River from 2:00 – 3:30 p.m.  For more information please call Tanya\, First Link Coordinator\, at 705-848-8145.
URL:https://huronshores.ca/event/alzheimer-info-discussion-group-2/2017-06-06/
LOCATION:ON
CATEGORIES:Community News
ATTACH;FMTTYPE=image/jpeg:https://huronshores.ca/wp-content/uploads/2013/01/Alzheimers-Disease.jpg
END:VEVENT
END:VCALENDAR