BEGIN:VCALENDAR
VERSION:2.0
PRODID:-//Huron Shores - ECPv6.15.11//NONSGML v1.0//EN
CALSCALE:GREGORIAN
METHOD:PUBLISH
X-WR-CALNAME:Huron Shores
X-ORIGINAL-URL:https://huronshores.ca
X-WR-CALDESC:Events for Huron Shores
REFRESH-INTERVAL;VALUE=DURATION:PT1H
X-Robots-Tag:noindex
X-PUBLISHED-TTL:PT1H
BEGIN:VTIMEZONE
TZID:America/Toronto
BEGIN:DAYLIGHT
TZOFFSETFROM:-0500
TZOFFSETTO:-0400
TZNAME:EDT
DTSTART:20170312T070000
END:DAYLIGHT
BEGIN:STANDARD
TZOFFSETFROM:-0400
TZOFFSETTO:-0500
TZNAME:EST
DTSTART:20171105T060000
END:STANDARD
BEGIN:DAYLIGHT
TZOFFSETFROM:-0500
TZOFFSETTO:-0400
TZNAME:EDT
DTSTART:20180311T070000
END:DAYLIGHT
BEGIN:STANDARD
TZOFFSETFROM:-0400
TZOFFSETTO:-0500
TZNAME:EST
DTSTART:20181104T060000
END:STANDARD
BEGIN:DAYLIGHT
TZOFFSETFROM:-0500
TZOFFSETTO:-0400
TZNAME:EDT
DTSTART:20190310T070000
END:DAYLIGHT
BEGIN:STANDARD
TZOFFSETFROM:-0400
TZOFFSETTO:-0500
TZNAME:EST
DTSTART:20191103T060000
END:STANDARD
END:VTIMEZONE
BEGIN:VEVENT
DTSTART;TZID=America/Toronto:20180623T090000
DTEND;TZID=America/Toronto:20180623T140000
DTSTAMP:20260423T054320
CREATED:20180109T194134Z
LAST-MODIFIED:20180109T194134Z
UID:10020491-1529744400-1529762400@huronshores.ca
SUMMARY:Sowerby Farmers' Market
DESCRIPTION:The Farmers’ Market is held on Saturdays from 9:00 a.m. to 2:00 p.m. from mid-June to October at the Historic Cordukes/Weber 12-Sided Barn located at 1410 Basswood Lake Rd.\, just north of the intersection with Highway 17 in Sowerby.
URL:https://huronshores.ca/event/sowerby-farmers-market-4/2018-06-23/
LOCATION:ON
CATEGORIES:Community News,Local Food
ATTACH;FMTTYPE=image/jpeg:https://huronshores.ca/wp-content/uploads/2011/08/Historic-Cordukes-Weber-12-Sided-Barn-Sign1.jpg
END:VEVENT
BEGIN:VEVENT
DTSTART;TZID=America/Toronto:20180623T140000
DTEND;TZID=America/Toronto:20180623T153000
DTSTAMP:20260423T054320
CREATED:20151021T181815Z
LAST-MODIFIED:20151021T181815Z
UID:10016713-1529762400-1529767800@huronshores.ca
SUMMARY:Alzheimer Info & Discussion Group
DESCRIPTION:The Alzheimer Society of Sault Ste. Marie & Algoma District hosts an Information & Discussion Group on the 2nd Wednesday of each month\, at the Calvary Gospel Church\, 55 Queen Street\, Blind River from 2:00 – 3:30 p.m.  For more information please call Tanya\, First Link Coordinator\, at 705-848-8145.
URL:https://huronshores.ca/event/alzheimer-info-discussion-group-2/2018-06-23/
LOCATION:ON
CATEGORIES:Community News
ATTACH;FMTTYPE=image/jpeg:https://huronshores.ca/wp-content/uploads/2013/01/Alzheimers-Disease.jpg
END:VEVENT
BEGIN:VEVENT
DTSTART;TZID=America/Toronto:20180624T140000
DTEND;TZID=America/Toronto:20180624T153000
DTSTAMP:20260423T054320
CREATED:20151021T181815Z
LAST-MODIFIED:20151021T181815Z
UID:10016714-1529848800-1529854200@huronshores.ca
SUMMARY:Alzheimer Info & Discussion Group
DESCRIPTION:The Alzheimer Society of Sault Ste. Marie & Algoma District hosts an Information & Discussion Group on the 2nd Wednesday of each month\, at the Calvary Gospel Church\, 55 Queen Street\, Blind River from 2:00 – 3:30 p.m.  For more information please call Tanya\, First Link Coordinator\, at 705-848-8145.
URL:https://huronshores.ca/event/alzheimer-info-discussion-group-2/2018-06-24/
LOCATION:ON
CATEGORIES:Community News
ATTACH;FMTTYPE=image/jpeg:https://huronshores.ca/wp-content/uploads/2013/01/Alzheimers-Disease.jpg
END:VEVENT
BEGIN:VEVENT
DTSTART;TZID=America/Toronto:20180625T140000
DTEND;TZID=America/Toronto:20180625T153000
DTSTAMP:20260423T054320
CREATED:20151021T181815Z
LAST-MODIFIED:20151021T181815Z
UID:10016715-1529935200-1529940600@huronshores.ca
SUMMARY:Alzheimer Info & Discussion Group
DESCRIPTION:The Alzheimer Society of Sault Ste. Marie & Algoma District hosts an Information & Discussion Group on the 2nd Wednesday of each month\, at the Calvary Gospel Church\, 55 Queen Street\, Blind River from 2:00 – 3:30 p.m.  For more information please call Tanya\, First Link Coordinator\, at 705-848-8145.
URL:https://huronshores.ca/event/alzheimer-info-discussion-group-2/2018-06-25/
LOCATION:ON
CATEGORIES:Community News
ATTACH;FMTTYPE=image/jpeg:https://huronshores.ca/wp-content/uploads/2013/01/Alzheimers-Disease.jpg
END:VEVENT
BEGIN:VEVENT
DTSTART;TZID=America/Toronto:20180626T140000
DTEND;TZID=America/Toronto:20180626T153000
DTSTAMP:20260423T054320
CREATED:20151021T181815Z
LAST-MODIFIED:20151021T181815Z
UID:10016716-1530021600-1530027000@huronshores.ca
SUMMARY:Alzheimer Info & Discussion Group
DESCRIPTION:The Alzheimer Society of Sault Ste. Marie & Algoma District hosts an Information & Discussion Group on the 2nd Wednesday of each month\, at the Calvary Gospel Church\, 55 Queen Street\, Blind River from 2:00 – 3:30 p.m.  For more information please call Tanya\, First Link Coordinator\, at 705-848-8145.
URL:https://huronshores.ca/event/alzheimer-info-discussion-group-2/2018-06-26/
LOCATION:ON
CATEGORIES:Community News
ATTACH;FMTTYPE=image/jpeg:https://huronshores.ca/wp-content/uploads/2013/01/Alzheimers-Disease.jpg
END:VEVENT
BEGIN:VEVENT
DTSTART;TZID=America/Toronto:20180627T140000
DTEND;TZID=America/Toronto:20180627T153000
DTSTAMP:20260423T054320
CREATED:20151021T181815Z
LAST-MODIFIED:20151021T181815Z
UID:10016717-1530108000-1530113400@huronshores.ca
SUMMARY:Alzheimer Info & Discussion Group
DESCRIPTION:The Alzheimer Society of Sault Ste. Marie & Algoma District hosts an Information & Discussion Group on the 2nd Wednesday of each month\, at the Calvary Gospel Church\, 55 Queen Street\, Blind River from 2:00 – 3:30 p.m.  For more information please call Tanya\, First Link Coordinator\, at 705-848-8145.
URL:https://huronshores.ca/event/alzheimer-info-discussion-group-2/2018-06-27/
LOCATION:ON
CATEGORIES:Community News
ATTACH;FMTTYPE=image/jpeg:https://huronshores.ca/wp-content/uploads/2013/01/Alzheimers-Disease.jpg
END:VEVENT
BEGIN:VEVENT
DTSTART;TZID=America/Toronto:20180627T193000
DTEND;TZID=America/Toronto:20180627T193000
DTSTAMP:20260423T054320
CREATED:20160721T182330Z
LAST-MODIFIED:20160721T182330Z
UID:10019729-1530127800-1530127800@huronshores.ca
SUMMARY:Jammin' Session at the Thessalon Community Curling Club
DESCRIPTION:Every Wedneday night at 7:30PM\, join us at Thessalon Community Curling Club for our Jammin’ Session. You play an instrument and love to play with other instrumentalists\, or just love to listen to live music\, then come on down…the bar is open! Everyone welcome! Bring a friend!
URL:https://huronshores.ca/event/jammin-session-at-the-thessalon-community-curling-club/2018-06-27/
LOCATION:ON
CATEGORIES:Recreation
END:VEVENT
BEGIN:VEVENT
DTSTART;TZID=America/Toronto:20180628T140000
DTEND;TZID=America/Toronto:20180628T153000
DTSTAMP:20260423T054320
CREATED:20151021T181815Z
LAST-MODIFIED:20151021T181815Z
UID:10016718-1530194400-1530199800@huronshores.ca
SUMMARY:Alzheimer Info & Discussion Group
DESCRIPTION:The Alzheimer Society of Sault Ste. Marie & Algoma District hosts an Information & Discussion Group on the 2nd Wednesday of each month\, at the Calvary Gospel Church\, 55 Queen Street\, Blind River from 2:00 – 3:30 p.m.  For more information please call Tanya\, First Link Coordinator\, at 705-848-8145.
URL:https://huronshores.ca/event/alzheimer-info-discussion-group-2/2018-06-28/
LOCATION:ON
CATEGORIES:Community News
ATTACH;FMTTYPE=image/jpeg:https://huronshores.ca/wp-content/uploads/2013/01/Alzheimers-Disease.jpg
END:VEVENT
BEGIN:VEVENT
DTSTART;TZID=America/Toronto:20180629T140000
DTEND;TZID=America/Toronto:20180629T153000
DTSTAMP:20260423T054320
CREATED:20151021T181815Z
LAST-MODIFIED:20151021T181815Z
UID:10016719-1530280800-1530286200@huronshores.ca
SUMMARY:Alzheimer Info & Discussion Group
DESCRIPTION:The Alzheimer Society of Sault Ste. Marie & Algoma District hosts an Information & Discussion Group on the 2nd Wednesday of each month\, at the Calvary Gospel Church\, 55 Queen Street\, Blind River from 2:00 – 3:30 p.m.  For more information please call Tanya\, First Link Coordinator\, at 705-848-8145.
URL:https://huronshores.ca/event/alzheimer-info-discussion-group-2/2018-06-29/
LOCATION:ON
CATEGORIES:Community News
ATTACH;FMTTYPE=image/jpeg:https://huronshores.ca/wp-content/uploads/2013/01/Alzheimers-Disease.jpg
END:VEVENT
BEGIN:VEVENT
DTSTART;TZID=America/Toronto:20180629T170000
DTEND;TZID=America/Toronto:20180629T190000
DTSTAMP:20260423T054320
CREATED:20180110T195931Z
LAST-MODIFIED:20180110T195931Z
UID:10020538-1530291600-1530298800@huronshores.ca
SUMMARY:RC Legion Fish Fry
DESCRIPTION:The Thessalon RC Legion Branch 182 is hosting a Fish Fry from 5:00 – 7:00 p.m.  Take-out called in by 4:30 p.m. & picked up by 5:00 p.m. Call 705-842-2418.  Cash Bar.
URL:https://huronshores.ca/event/rc-legion-fish-fry/2018-06-29/
LOCATION:ON
CATEGORIES:Community News,Local Food
ATTACH;FMTTYPE=image/jpeg:https://huronshores.ca/wp-content/uploads/2015/12/Friday-Fish-Fry.jpg
END:VEVENT
BEGIN:VEVENT
DTSTART;TZID=America/Toronto:20180630T090000
DTEND;TZID=America/Toronto:20180630T140000
DTSTAMP:20260423T054320
CREATED:20180109T194134Z
LAST-MODIFIED:20180109T194134Z
UID:10020492-1530349200-1530367200@huronshores.ca
SUMMARY:Sowerby Farmers' Market
DESCRIPTION:The Farmers’ Market is held on Saturdays from 9:00 a.m. to 2:00 p.m. from mid-June to October at the Historic Cordukes/Weber 12-Sided Barn located at 1410 Basswood Lake Rd.\, just north of the intersection with Highway 17 in Sowerby.
URL:https://huronshores.ca/event/sowerby-farmers-market-4/2018-06-30/
LOCATION:ON
CATEGORIES:Community News,Local Food
ATTACH;FMTTYPE=image/jpeg:https://huronshores.ca/wp-content/uploads/2011/08/Historic-Cordukes-Weber-12-Sided-Barn-Sign1.jpg
END:VEVENT
BEGIN:VEVENT
DTSTART;TZID=America/Toronto:20180630T090000
DTEND;TZID=America/Toronto:20180630T140000
DTSTAMP:20260423T054320
CREATED:20180109T194634Z
LAST-MODIFIED:20180109T194634Z
UID:10020507-1530349200-1530367200@huronshores.ca
SUMMARY:Iron Bridge Farmers' Market
DESCRIPTION:The Iron Bridge Farmers’ Market is open on Saturdays\, 9:00 a.m. – 2:00 p.m.\, from the end of June to mid-September at the Gazebo at the Iron Bridge Historical Museum\, 1 James Street.
URL:https://huronshores.ca/event/iron-bridge-farmers-market-3/2018-06-30/
LOCATION:ON
CATEGORIES:Community News,Local Food
ATTACH;FMTTYPE=image/jpeg:https://huronshores.ca/wp-content/uploads/2013/12/Farmers-Market-Produce.jpg
END:VEVENT
BEGIN:VEVENT
DTSTART;TZID=America/Toronto:20180630T140000
DTEND;TZID=America/Toronto:20180630T153000
DTSTAMP:20260423T054320
CREATED:20151021T181815Z
LAST-MODIFIED:20151021T181815Z
UID:10016720-1530367200-1530372600@huronshores.ca
SUMMARY:Alzheimer Info & Discussion Group
DESCRIPTION:The Alzheimer Society of Sault Ste. Marie & Algoma District hosts an Information & Discussion Group on the 2nd Wednesday of each month\, at the Calvary Gospel Church\, 55 Queen Street\, Blind River from 2:00 – 3:30 p.m.  For more information please call Tanya\, First Link Coordinator\, at 705-848-8145.
URL:https://huronshores.ca/event/alzheimer-info-discussion-group-2/2018-06-30/
LOCATION:ON
CATEGORIES:Community News
ATTACH;FMTTYPE=image/jpeg:https://huronshores.ca/wp-content/uploads/2013/01/Alzheimers-Disease.jpg
END:VEVENT
BEGIN:VEVENT
DTSTART;VALUE=DATE:20180701
DTEND;VALUE=DATE:20180702
DTSTAMP:20260423T054320
CREATED:20171129T200253Z
LAST-MODIFIED:20171129T200253Z
UID:10019959-1530403200-1530489599@huronshores.ca
SUMMARY:Canada Day
DESCRIPTION:Happy Canada Day from Council & Staff of Huron Shores!
URL:https://huronshores.ca/event/canada-day-3/
LOCATION:ON
CATEGORIES:Community News
ATTACH;FMTTYPE=image/jpeg:https://huronshores.ca/wp-content/uploads/2016/01/Canada-Day-Beaver.jpg
END:VEVENT
BEGIN:VEVENT
DTSTART;TZID=America/Toronto:20180701T140000
DTEND;TZID=America/Toronto:20180701T153000
DTSTAMP:20260423T054320
CREATED:20151021T181815Z
LAST-MODIFIED:20151021T181815Z
UID:10016721-1530453600-1530459000@huronshores.ca
SUMMARY:Alzheimer Info & Discussion Group
DESCRIPTION:The Alzheimer Society of Sault Ste. Marie & Algoma District hosts an Information & Discussion Group on the 2nd Wednesday of each month\, at the Calvary Gospel Church\, 55 Queen Street\, Blind River from 2:00 – 3:30 p.m.  For more information please call Tanya\, First Link Coordinator\, at 705-848-8145.
URL:https://huronshores.ca/event/alzheimer-info-discussion-group-2/2018-07-01/
LOCATION:ON
CATEGORIES:Community News
ATTACH;FMTTYPE=image/jpeg:https://huronshores.ca/wp-content/uploads/2013/01/Alzheimers-Disease.jpg
END:VEVENT
BEGIN:VEVENT
DTSTART;VALUE=DATE:20180702
DTEND;VALUE=DATE:20180703
DTSTAMP:20260423T054320
CREATED:20171129T200735Z
LAST-MODIFIED:20171129T200735Z
UID:10020410-1530489600-1530575999@huronshores.ca
SUMMARY:Canada Day Office Closure
DESCRIPTION:The Municipal Office will be CLOSED on Monday\, July 2\, to recognize the July 1\, Canada Day holiday\, as identified in the Holidays Act.  The Office will re-open on July 3/18 at 8:30 a.m.  The Waste Sites will be open for their Regular Summer Hours of Operation:  Saturday\, June 30\, 9:00 a.m. to 5:00 p.m.; Monday\, July 2\, and Wednesday July 4\, 4:00 to 8:00 p.m.  Have a happy and safe Canada Day holiday weekend!
URL:https://huronshores.ca/event/canada-day-closures/
LOCATION:ON
CATEGORIES:Community News,Office Closure,Waste Disposal
ATTACH;FMTTYPE=image/png:https://huronshores.ca/wp-content/uploads/2017/06/Canada-Moose.png
END:VEVENT
BEGIN:VEVENT
DTSTART;TZID=America/Toronto:20180702T140000
DTEND;TZID=America/Toronto:20180702T153000
DTSTAMP:20260423T054320
CREATED:20151021T181815Z
LAST-MODIFIED:20151021T181815Z
UID:10016722-1530540000-1530545400@huronshores.ca
SUMMARY:Alzheimer Info & Discussion Group
DESCRIPTION:The Alzheimer Society of Sault Ste. Marie & Algoma District hosts an Information & Discussion Group on the 2nd Wednesday of each month\, at the Calvary Gospel Church\, 55 Queen Street\, Blind River from 2:00 – 3:30 p.m.  For more information please call Tanya\, First Link Coordinator\, at 705-848-8145.
URL:https://huronshores.ca/event/alzheimer-info-discussion-group-2/2018-07-02/
LOCATION:ON
CATEGORIES:Community News
ATTACH;FMTTYPE=image/jpeg:https://huronshores.ca/wp-content/uploads/2013/01/Alzheimers-Disease.jpg
END:VEVENT
BEGIN:VEVENT
DTSTART;TZID=America/Toronto:20180703T140000
DTEND;TZID=America/Toronto:20180703T153000
DTSTAMP:20260423T054320
CREATED:20151021T181815Z
LAST-MODIFIED:20151021T181815Z
UID:10016723-1530626400-1530631800@huronshores.ca
SUMMARY:Alzheimer Info & Discussion Group
DESCRIPTION:The Alzheimer Society of Sault Ste. Marie & Algoma District hosts an Information & Discussion Group on the 2nd Wednesday of each month\, at the Calvary Gospel Church\, 55 Queen Street\, Blind River from 2:00 – 3:30 p.m.  For more information please call Tanya\, First Link Coordinator\, at 705-848-8145.
URL:https://huronshores.ca/event/alzheimer-info-discussion-group-2/2018-07-03/
LOCATION:ON
CATEGORIES:Community News
ATTACH;FMTTYPE=image/jpeg:https://huronshores.ca/wp-content/uploads/2013/01/Alzheimers-Disease.jpg
END:VEVENT
BEGIN:VEVENT
DTSTART;TZID=America/Toronto:20180704T140000
DTEND;TZID=America/Toronto:20180704T153000
DTSTAMP:20260423T054320
CREATED:20151021T181815Z
LAST-MODIFIED:20151021T181815Z
UID:10016724-1530712800-1530718200@huronshores.ca
SUMMARY:Alzheimer Info & Discussion Group
DESCRIPTION:The Alzheimer Society of Sault Ste. Marie & Algoma District hosts an Information & Discussion Group on the 2nd Wednesday of each month\, at the Calvary Gospel Church\, 55 Queen Street\, Blind River from 2:00 – 3:30 p.m.  For more information please call Tanya\, First Link Coordinator\, at 705-848-8145.
URL:https://huronshores.ca/event/alzheimer-info-discussion-group-2/2018-07-04/
LOCATION:ON
CATEGORIES:Community News
ATTACH;FMTTYPE=image/jpeg:https://huronshores.ca/wp-content/uploads/2013/01/Alzheimers-Disease.jpg
END:VEVENT
BEGIN:VEVENT
DTSTART;TZID=America/Toronto:20180704T190000
DTEND;TZID=America/Toronto:20180704T190000
DTSTAMP:20260423T054320
CREATED:20180515T133243Z
LAST-MODIFIED:20180515T133243Z
UID:10020553-1530730800-1530730800@huronshores.ca
SUMMARY:Regular Council Meeting
DESCRIPTION:During the month of July\, Council will hold a Regular Meeting on Wednesday\, July 4/18.  The meeting will convene at 7:00 p.m. in the Council Chambers\, 7 Bridge Street\, Iron Bridge.  The Agenda will be posted on the Monday prior to the meeting.
URL:https://huronshores.ca/event/regular-council-meeting-31/
LOCATION:ON
CATEGORIES:Council Meeting
ATTACH;FMTTYPE=image/png:https://huronshores.ca/wp-content/uploads/2018/03/crest.png
END:VEVENT
BEGIN:VEVENT
DTSTART;TZID=America/Toronto:20180704T193000
DTEND;TZID=America/Toronto:20180704T193000
DTSTAMP:20260423T054320
CREATED:20160721T182330Z
LAST-MODIFIED:20160721T182330Z
UID:10019730-1530732600-1530732600@huronshores.ca
SUMMARY:Jammin' Session at the Thessalon Community Curling Club
DESCRIPTION:Every Wedneday night at 7:30PM\, join us at Thessalon Community Curling Club for our Jammin’ Session. You play an instrument and love to play with other instrumentalists\, or just love to listen to live music\, then come on down…the bar is open! Everyone welcome! Bring a friend!
URL:https://huronshores.ca/event/jammin-session-at-the-thessalon-community-curling-club/2018-07-04/
LOCATION:ON
CATEGORIES:Recreation
END:VEVENT
BEGIN:VEVENT
DTSTART;TZID=America/Toronto:20180705T140000
DTEND;TZID=America/Toronto:20180705T153000
DTSTAMP:20260423T054320
CREATED:20151021T181815Z
LAST-MODIFIED:20151021T181815Z
UID:10016725-1530799200-1530804600@huronshores.ca
SUMMARY:Alzheimer Info & Discussion Group
DESCRIPTION:The Alzheimer Society of Sault Ste. Marie & Algoma District hosts an Information & Discussion Group on the 2nd Wednesday of each month\, at the Calvary Gospel Church\, 55 Queen Street\, Blind River from 2:00 – 3:30 p.m.  For more information please call Tanya\, First Link Coordinator\, at 705-848-8145.
URL:https://huronshores.ca/event/alzheimer-info-discussion-group-2/2018-07-05/
LOCATION:ON
CATEGORIES:Community News
ATTACH;FMTTYPE=image/jpeg:https://huronshores.ca/wp-content/uploads/2013/01/Alzheimers-Disease.jpg
END:VEVENT
BEGIN:VEVENT
DTSTART;TZID=America/Toronto:20180706T140000
DTEND;TZID=America/Toronto:20180706T153000
DTSTAMP:20260423T054320
CREATED:20151021T181815Z
LAST-MODIFIED:20151021T181815Z
UID:10016726-1530885600-1530891000@huronshores.ca
SUMMARY:Alzheimer Info & Discussion Group
DESCRIPTION:The Alzheimer Society of Sault Ste. Marie & Algoma District hosts an Information & Discussion Group on the 2nd Wednesday of each month\, at the Calvary Gospel Church\, 55 Queen Street\, Blind River from 2:00 – 3:30 p.m.  For more information please call Tanya\, First Link Coordinator\, at 705-848-8145.
URL:https://huronshores.ca/event/alzheimer-info-discussion-group-2/2018-07-06/
LOCATION:ON
CATEGORIES:Community News
ATTACH;FMTTYPE=image/jpeg:https://huronshores.ca/wp-content/uploads/2013/01/Alzheimers-Disease.jpg
END:VEVENT
BEGIN:VEVENT
DTSTART;TZID=America/Toronto:20180707T090000
DTEND;TZID=America/Toronto:20180707T140000
DTSTAMP:20260423T054320
CREATED:20180109T194134Z
LAST-MODIFIED:20180109T194134Z
UID:10020493-1530954000-1530972000@huronshores.ca
SUMMARY:Sowerby Farmers' Market
DESCRIPTION:The Farmers’ Market is held on Saturdays from 9:00 a.m. to 2:00 p.m. from mid-June to October at the Historic Cordukes/Weber 12-Sided Barn located at 1410 Basswood Lake Rd.\, just north of the intersection with Highway 17 in Sowerby.
URL:https://huronshores.ca/event/sowerby-farmers-market-4/2018-07-07/
LOCATION:ON
CATEGORIES:Community News,Local Food
ATTACH;FMTTYPE=image/jpeg:https://huronshores.ca/wp-content/uploads/2011/08/Historic-Cordukes-Weber-12-Sided-Barn-Sign1.jpg
END:VEVENT
BEGIN:VEVENT
DTSTART;TZID=America/Toronto:20180707T090000
DTEND;TZID=America/Toronto:20180707T140000
DTSTAMP:20260423T054320
CREATED:20180109T194634Z
LAST-MODIFIED:20180109T194634Z
UID:10020508-1530954000-1530972000@huronshores.ca
SUMMARY:Iron Bridge Farmers' Market
DESCRIPTION:The Iron Bridge Farmers’ Market is open on Saturdays\, 9:00 a.m. – 2:00 p.m.\, from the end of June to mid-September at the Gazebo at the Iron Bridge Historical Museum\, 1 James Street.
URL:https://huronshores.ca/event/iron-bridge-farmers-market-3/2018-07-07/
LOCATION:ON
CATEGORIES:Community News,Local Food
ATTACH;FMTTYPE=image/jpeg:https://huronshores.ca/wp-content/uploads/2013/12/Farmers-Market-Produce.jpg
END:VEVENT
BEGIN:VEVENT
DTSTART;TZID=America/Toronto:20180707T140000
DTEND;TZID=America/Toronto:20180707T153000
DTSTAMP:20260423T054320
CREATED:20151021T181815Z
LAST-MODIFIED:20151021T181815Z
UID:10016727-1530972000-1530977400@huronshores.ca
SUMMARY:Alzheimer Info & Discussion Group
DESCRIPTION:The Alzheimer Society of Sault Ste. Marie & Algoma District hosts an Information & Discussion Group on the 2nd Wednesday of each month\, at the Calvary Gospel Church\, 55 Queen Street\, Blind River from 2:00 – 3:30 p.m.  For more information please call Tanya\, First Link Coordinator\, at 705-848-8145.
URL:https://huronshores.ca/event/alzheimer-info-discussion-group-2/2018-07-07/
LOCATION:ON
CATEGORIES:Community News
ATTACH;FMTTYPE=image/jpeg:https://huronshores.ca/wp-content/uploads/2013/01/Alzheimers-Disease.jpg
END:VEVENT
BEGIN:VEVENT
DTSTART;TZID=America/Toronto:20180708T140000
DTEND;TZID=America/Toronto:20180708T153000
DTSTAMP:20260423T054320
CREATED:20151021T181815Z
LAST-MODIFIED:20151021T181815Z
UID:10016728-1531058400-1531063800@huronshores.ca
SUMMARY:Alzheimer Info & Discussion Group
DESCRIPTION:The Alzheimer Society of Sault Ste. Marie & Algoma District hosts an Information & Discussion Group on the 2nd Wednesday of each month\, at the Calvary Gospel Church\, 55 Queen Street\, Blind River from 2:00 – 3:30 p.m.  For more information please call Tanya\, First Link Coordinator\, at 705-848-8145.
URL:https://huronshores.ca/event/alzheimer-info-discussion-group-2/2018-07-08/
LOCATION:ON
CATEGORIES:Community News
ATTACH;FMTTYPE=image/jpeg:https://huronshores.ca/wp-content/uploads/2013/01/Alzheimers-Disease.jpg
END:VEVENT
BEGIN:VEVENT
DTSTART;TZID=America/Toronto:20180709T140000
DTEND;TZID=America/Toronto:20180709T153000
DTSTAMP:20260423T054320
CREATED:20151021T181815Z
LAST-MODIFIED:20151021T181815Z
UID:10016729-1531144800-1531150200@huronshores.ca
SUMMARY:Alzheimer Info & Discussion Group
DESCRIPTION:The Alzheimer Society of Sault Ste. Marie & Algoma District hosts an Information & Discussion Group on the 2nd Wednesday of each month\, at the Calvary Gospel Church\, 55 Queen Street\, Blind River from 2:00 – 3:30 p.m.  For more information please call Tanya\, First Link Coordinator\, at 705-848-8145.
URL:https://huronshores.ca/event/alzheimer-info-discussion-group-2/2018-07-09/
LOCATION:ON
CATEGORIES:Community News
ATTACH;FMTTYPE=image/jpeg:https://huronshores.ca/wp-content/uploads/2013/01/Alzheimers-Disease.jpg
END:VEVENT
BEGIN:VEVENT
DTSTART;TZID=America/Toronto:20180709T160000
DTEND;TZID=America/Toronto:20180709T210000
DTSTAMP:20260423T054320
CREATED:20180706T193547Z
LAST-MODIFIED:20180706T193547Z
UID:10020571-1531152000-1531170000@huronshores.ca
SUMMARY:Blood Donor Clinic
DESCRIPTION:Canadian Blood Services will hold a Blood Donor Clinic\, Monday\, July 9/18 from 4:00-9:00 p.m. at the Blind River Community Centre.  Donate and be entered to win a gift certificate for “A Touch of Home” (Value of $40)  Book your appointment by calling 1-888-2DONATE or online at blood.ca
URL:https://huronshores.ca/event/blood-donor-clinic-4/
LOCATION:ON
CATEGORIES:Community News
ATTACH;FMTTYPE=image/png:https://huronshores.ca/wp-content/uploads/2015/01/blood-home-logo.png
END:VEVENT
BEGIN:VEVENT
DTSTART;TZID=America/Toronto:20180710T140000
DTEND;TZID=America/Toronto:20180710T153000
DTSTAMP:20260423T054320
CREATED:20151021T181815Z
LAST-MODIFIED:20151021T181815Z
UID:10016730-1531231200-1531236600@huronshores.ca
SUMMARY:Alzheimer Info & Discussion Group
DESCRIPTION:The Alzheimer Society of Sault Ste. Marie & Algoma District hosts an Information & Discussion Group on the 2nd Wednesday of each month\, at the Calvary Gospel Church\, 55 Queen Street\, Blind River from 2:00 – 3:30 p.m.  For more information please call Tanya\, First Link Coordinator\, at 705-848-8145.
URL:https://huronshores.ca/event/alzheimer-info-discussion-group-2/2018-07-10/
LOCATION:ON
CATEGORIES:Community News
ATTACH;FMTTYPE=image/jpeg:https://huronshores.ca/wp-content/uploads/2013/01/Alzheimers-Disease.jpg
END:VEVENT
END:VCALENDAR