BEGIN:VCALENDAR
VERSION:2.0
PRODID:-//Huron Shores - ECPv6.15.11//NONSGML v1.0//EN
CALSCALE:GREGORIAN
METHOD:PUBLISH
X-ORIGINAL-URL:https://huronshores.ca
X-WR-CALDESC:Events for Huron Shores
REFRESH-INTERVAL;VALUE=DURATION:PT1H
X-Robots-Tag:noindex
X-PUBLISHED-TTL:PT1H
BEGIN:VTIMEZONE
TZID:America/Toronto
BEGIN:DAYLIGHT
TZOFFSETFROM:-0500
TZOFFSETTO:-0400
TZNAME:EDT
DTSTART:20150308T070000
END:DAYLIGHT
BEGIN:STANDARD
TZOFFSETFROM:-0400
TZOFFSETTO:-0500
TZNAME:EST
DTSTART:20151101T060000
END:STANDARD
BEGIN:DAYLIGHT
TZOFFSETFROM:-0500
TZOFFSETTO:-0400
TZNAME:EDT
DTSTART:20160313T070000
END:DAYLIGHT
BEGIN:STANDARD
TZOFFSETFROM:-0400
TZOFFSETTO:-0500
TZNAME:EST
DTSTART:20161106T060000
END:STANDARD
BEGIN:DAYLIGHT
TZOFFSETFROM:-0500
TZOFFSETTO:-0400
TZNAME:EDT
DTSTART:20170312T070000
END:DAYLIGHT
BEGIN:STANDARD
TZOFFSETFROM:-0400
TZOFFSETTO:-0500
TZNAME:EST
DTSTART:20171105T060000
END:STANDARD
END:VTIMEZONE
BEGIN:VEVENT
DTSTART;TZID=America/Toronto:20160426T140000
DTEND;TZID=America/Toronto:20160426T153000
DTSTAMP:20260425T072403
CREATED:20151021T181815Z
LAST-MODIFIED:20151021T181815Z
UID:10015924-1461679200-1461684600@huronshores.ca
SUMMARY:Alzheimer Info & Discussion Group
DESCRIPTION:The Alzheimer Society of Sault Ste. Marie & Algoma District hosts an Information & Discussion Group on the 2nd Wednesday of each month\, at the Calvary Gospel Church\, 55 Queen Street\, Blind River from 2:00 – 3:30 p.m.  For more information please call Tanya\, First Link Coordinator\, at 705-848-8145.
URL:https://huronshores.ca/event/alzheimer-info-discussion-group-2/2016-04-26/
LOCATION:ON
CATEGORIES:Community News
ATTACH;FMTTYPE=image/jpeg:https://huronshores.ca/wp-content/uploads/2013/01/Alzheimers-Disease.jpg
END:VEVENT
BEGIN:VEVENT
DTSTART;TZID=America/Toronto:20160426T180000
DTEND;TZID=America/Toronto:20160426T180000
DTSTAMP:20260425T072403
CREATED:20160413T132558Z
LAST-MODIFIED:20160413T132558Z
UID:10019569-1461693600-1461693600@huronshores.ca
SUMMARY:BRDHC Board Meeting
DESCRIPTION:The Blind River District Health Centre (BRDHC) Board of Trustees will meet Tuesday\, April 26/16 at the BRDHC Boardroom.  The public are invited to attend.
URL:https://huronshores.ca/event/brdhc-board-meeting-2/
LOCATION:ON
CATEGORIES:Community News
ATTACH;FMTTYPE=image/jpeg:https://huronshores.ca/wp-content/uploads/2014/04/BRDHC-Logo.jpg
END:VEVENT
BEGIN:VEVENT
DTSTART;TZID=America/Toronto:20160427T140000
DTEND;TZID=America/Toronto:20160427T153000
DTSTAMP:20260425T072403
CREATED:20151021T181815Z
LAST-MODIFIED:20151021T181815Z
UID:10015925-1461765600-1461771000@huronshores.ca
SUMMARY:Alzheimer Info & Discussion Group
DESCRIPTION:The Alzheimer Society of Sault Ste. Marie & Algoma District hosts an Information & Discussion Group on the 2nd Wednesday of each month\, at the Calvary Gospel Church\, 55 Queen Street\, Blind River from 2:00 – 3:30 p.m.  For more information please call Tanya\, First Link Coordinator\, at 705-848-8145.
URL:https://huronshores.ca/event/alzheimer-info-discussion-group-2/2016-04-27/
LOCATION:ON
CATEGORIES:Community News
ATTACH;FMTTYPE=image/jpeg:https://huronshores.ca/wp-content/uploads/2013/01/Alzheimers-Disease.jpg
END:VEVENT
BEGIN:VEVENT
DTSTART;TZID=America/Toronto:20160427T190000
DTEND;TZID=America/Toronto:20160427T190000
DTSTAMP:20260425T072403
CREATED:20160115T151450Z
LAST-MODIFIED:20160115T151450Z
UID:10019452-1461783600-1461783600@huronshores.ca
SUMMARY:Regular Council Meeting
DESCRIPTION:The Regular Meeting of Council will be held Wednesday\, April 27/16 at 7:00 p.m. in the Council Chambers\, 7 Bridge Street\, Iron Bridge.  The Agenda was posted on Monday\, April 25/16.  Please click on the link below to view the Agenda post.
URL:https://huronshores.ca/event/regular-council-meeting-17/
LOCATION:ON
CATEGORIES:Council Meeting
ATTACH;FMTTYPE=:
END:VEVENT
BEGIN:VEVENT
DTSTART;TZID=America/Toronto:20160428T140000
DTEND;TZID=America/Toronto:20160428T153000
DTSTAMP:20260425T072403
CREATED:20151021T181815Z
LAST-MODIFIED:20151021T181815Z
UID:10015926-1461852000-1461857400@huronshores.ca
SUMMARY:Alzheimer Info & Discussion Group
DESCRIPTION:The Alzheimer Society of Sault Ste. Marie & Algoma District hosts an Information & Discussion Group on the 2nd Wednesday of each month\, at the Calvary Gospel Church\, 55 Queen Street\, Blind River from 2:00 – 3:30 p.m.  For more information please call Tanya\, First Link Coordinator\, at 705-848-8145.
URL:https://huronshores.ca/event/alzheimer-info-discussion-group-2/2016-04-28/
LOCATION:ON
CATEGORIES:Community News
ATTACH;FMTTYPE=image/jpeg:https://huronshores.ca/wp-content/uploads/2013/01/Alzheimers-Disease.jpg
END:VEVENT
BEGIN:VEVENT
DTSTART;TZID=America/Toronto:20160429T140000
DTEND;TZID=America/Toronto:20160429T153000
DTSTAMP:20260425T072403
CREATED:20151021T181815Z
LAST-MODIFIED:20151021T181815Z
UID:10015927-1461938400-1461943800@huronshores.ca
SUMMARY:Alzheimer Info & Discussion Group
DESCRIPTION:The Alzheimer Society of Sault Ste. Marie & Algoma District hosts an Information & Discussion Group on the 2nd Wednesday of each month\, at the Calvary Gospel Church\, 55 Queen Street\, Blind River from 2:00 – 3:30 p.m.  For more information please call Tanya\, First Link Coordinator\, at 705-848-8145.
URL:https://huronshores.ca/event/alzheimer-info-discussion-group-2/2016-04-29/
LOCATION:ON
CATEGORIES:Community News
ATTACH;FMTTYPE=image/jpeg:https://huronshores.ca/wp-content/uploads/2013/01/Alzheimers-Disease.jpg
END:VEVENT
BEGIN:VEVENT
DTSTART;TZID=America/Toronto:20160429T170000
DTEND;TZID=America/Toronto:20160429T190000
DTSTAMP:20260425T072403
CREATED:20160310T211700Z
LAST-MODIFIED:20160310T211700Z
UID:10019405-1461949200-1461956400@huronshores.ca
SUMMARY:Legion Fish Fry
DESCRIPTION:The Thessalon Royal Canadian Legion Branch 182 hosts a fish fry\, Friday\, April 29\, 5:00  to 7:00 p.m.  Takeout called in by 4:30 p.m. & picked up by 5:00 p.m.  Call 705-842-2418.
URL:https://huronshores.ca/event/legion-fish-fry-2/
LOCATION:ON
CATEGORIES:Community News
ATTACH;FMTTYPE=image/jpeg:https://huronshores.ca/wp-content/uploads/2015/12/Friday-Fish-Fry.jpg
END:VEVENT
BEGIN:VEVENT
DTSTART;TZID=America/Toronto:20160430T140000
DTEND;TZID=America/Toronto:20160430T153000
DTSTAMP:20260425T072403
CREATED:20151021T181815Z
LAST-MODIFIED:20151021T181815Z
UID:10015928-1462024800-1462030200@huronshores.ca
SUMMARY:Alzheimer Info & Discussion Group
DESCRIPTION:The Alzheimer Society of Sault Ste. Marie & Algoma District hosts an Information & Discussion Group on the 2nd Wednesday of each month\, at the Calvary Gospel Church\, 55 Queen Street\, Blind River from 2:00 – 3:30 p.m.  For more information please call Tanya\, First Link Coordinator\, at 705-848-8145.
URL:https://huronshores.ca/event/alzheimer-info-discussion-group-2/2016-04-30/
LOCATION:ON
CATEGORIES:Community News
ATTACH;FMTTYPE=image/jpeg:https://huronshores.ca/wp-content/uploads/2013/01/Alzheimers-Disease.jpg
END:VEVENT
BEGIN:VEVENT
DTSTART;VALUE=DATE:20160501
DTEND;VALUE=DATE:20160508
DTSTAMP:20260425T072403
CREATED:20160505T161636Z
LAST-MODIFIED:20160505T161636Z
UID:10019573-1462060800-1462665599@huronshores.ca
SUMMARY:EP Week 2016
DESCRIPTION:Emergency Preparedness (EP) Week is a Canada-wide initiative to increase awareness of individual and family preparedness.   The theme this year is “#PrepareYourSelfie”.  Please click on the links below to visit Emergency Management Ontario home page and EP Week home page for more information and access to free resources for your EP Week.
URL:https://huronshores.ca/event/ep-week-2016/
LOCATION:ON
CATEGORIES:Community News,Health & Safety
ATTACH;FMTTYPE=image/jpeg:https://huronshores.ca/wp-content/uploads/2016/05/EP-Week-Web-Banner-Small-Box.jpg
END:VEVENT
BEGIN:VEVENT
DTSTART;TZID=America/Toronto:20160501T140000
DTEND;TZID=America/Toronto:20160501T153000
DTSTAMP:20260425T072403
CREATED:20151021T181815Z
LAST-MODIFIED:20151021T181815Z
UID:10015929-1462111200-1462116600@huronshores.ca
SUMMARY:Alzheimer Info & Discussion Group
DESCRIPTION:The Alzheimer Society of Sault Ste. Marie & Algoma District hosts an Information & Discussion Group on the 2nd Wednesday of each month\, at the Calvary Gospel Church\, 55 Queen Street\, Blind River from 2:00 – 3:30 p.m.  For more information please call Tanya\, First Link Coordinator\, at 705-848-8145.
URL:https://huronshores.ca/event/alzheimer-info-discussion-group-2/2016-05-01/
LOCATION:ON
CATEGORIES:Community News
ATTACH;FMTTYPE=image/jpeg:https://huronshores.ca/wp-content/uploads/2013/01/Alzheimers-Disease.jpg
END:VEVENT
BEGIN:VEVENT
DTSTART;TZID=America/Toronto:20160502T140000
DTEND;TZID=America/Toronto:20160502T153000
DTSTAMP:20260425T072403
CREATED:20151021T181815Z
LAST-MODIFIED:20151021T181815Z
UID:10015930-1462197600-1462203000@huronshores.ca
SUMMARY:Alzheimer Info & Discussion Group
DESCRIPTION:The Alzheimer Society of Sault Ste. Marie & Algoma District hosts an Information & Discussion Group on the 2nd Wednesday of each month\, at the Calvary Gospel Church\, 55 Queen Street\, Blind River from 2:00 – 3:30 p.m.  For more information please call Tanya\, First Link Coordinator\, at 705-848-8145.
URL:https://huronshores.ca/event/alzheimer-info-discussion-group-2/2016-05-02/
LOCATION:ON
CATEGORIES:Community News
ATTACH;FMTTYPE=image/jpeg:https://huronshores.ca/wp-content/uploads/2013/01/Alzheimers-Disease.jpg
END:VEVENT
BEGIN:VEVENT
DTSTART;TZID=America/Toronto:20160503T140000
DTEND;TZID=America/Toronto:20160503T153000
DTSTAMP:20260425T072403
CREATED:20151021T181815Z
LAST-MODIFIED:20151021T181815Z
UID:10015931-1462284000-1462289400@huronshores.ca
SUMMARY:Alzheimer Info & Discussion Group
DESCRIPTION:The Alzheimer Society of Sault Ste. Marie & Algoma District hosts an Information & Discussion Group on the 2nd Wednesday of each month\, at the Calvary Gospel Church\, 55 Queen Street\, Blind River from 2:00 – 3:30 p.m.  For more information please call Tanya\, First Link Coordinator\, at 705-848-8145.
URL:https://huronshores.ca/event/alzheimer-info-discussion-group-2/2016-05-03/
LOCATION:ON
CATEGORIES:Community News
ATTACH;FMTTYPE=image/jpeg:https://huronshores.ca/wp-content/uploads/2013/01/Alzheimers-Disease.jpg
END:VEVENT
BEGIN:VEVENT
DTSTART;TZID=America/Toronto:20160504T140000
DTEND;TZID=America/Toronto:20160504T153000
DTSTAMP:20260425T072403
CREATED:20151021T181815Z
LAST-MODIFIED:20151021T181815Z
UID:10015932-1462370400-1462375800@huronshores.ca
SUMMARY:Alzheimer Info & Discussion Group
DESCRIPTION:The Alzheimer Society of Sault Ste. Marie & Algoma District hosts an Information & Discussion Group on the 2nd Wednesday of each month\, at the Calvary Gospel Church\, 55 Queen Street\, Blind River from 2:00 – 3:30 p.m.  For more information please call Tanya\, First Link Coordinator\, at 705-848-8145.
URL:https://huronshores.ca/event/alzheimer-info-discussion-group-2/2016-05-04/
LOCATION:ON
CATEGORIES:Community News
ATTACH;FMTTYPE=image/jpeg:https://huronshores.ca/wp-content/uploads/2013/01/Alzheimers-Disease.jpg
END:VEVENT
BEGIN:VEVENT
DTSTART;TZID=America/Toronto:20160505T140000
DTEND;TZID=America/Toronto:20160505T153000
DTSTAMP:20260425T072403
CREATED:20151021T181815Z
LAST-MODIFIED:20151021T181815Z
UID:10015933-1462456800-1462462200@huronshores.ca
SUMMARY:Alzheimer Info & Discussion Group
DESCRIPTION:The Alzheimer Society of Sault Ste. Marie & Algoma District hosts an Information & Discussion Group on the 2nd Wednesday of each month\, at the Calvary Gospel Church\, 55 Queen Street\, Blind River from 2:00 – 3:30 p.m.  For more information please call Tanya\, First Link Coordinator\, at 705-848-8145.
URL:https://huronshores.ca/event/alzheimer-info-discussion-group-2/2016-05-05/
LOCATION:ON
CATEGORIES:Community News
ATTACH;FMTTYPE=image/jpeg:https://huronshores.ca/wp-content/uploads/2013/01/Alzheimers-Disease.jpg
END:VEVENT
BEGIN:VEVENT
DTSTART;TZID=America/Toronto:20160506T140000
DTEND;TZID=America/Toronto:20160506T153000
DTSTAMP:20260425T072403
CREATED:20151021T181815Z
LAST-MODIFIED:20151021T181815Z
UID:10015934-1462543200-1462548600@huronshores.ca
SUMMARY:Alzheimer Info & Discussion Group
DESCRIPTION:The Alzheimer Society of Sault Ste. Marie & Algoma District hosts an Information & Discussion Group on the 2nd Wednesday of each month\, at the Calvary Gospel Church\, 55 Queen Street\, Blind River from 2:00 – 3:30 p.m.  For more information please call Tanya\, First Link Coordinator\, at 705-848-8145.
URL:https://huronshores.ca/event/alzheimer-info-discussion-group-2/2016-05-06/
LOCATION:ON
CATEGORIES:Community News
ATTACH;FMTTYPE=image/jpeg:https://huronshores.ca/wp-content/uploads/2013/01/Alzheimers-Disease.jpg
END:VEVENT
BEGIN:VEVENT
DTSTART;TZID=America/Toronto:20160507T140000
DTEND;TZID=America/Toronto:20160507T153000
DTSTAMP:20260425T072403
CREATED:20151021T181815Z
LAST-MODIFIED:20151021T181815Z
UID:10015935-1462629600-1462635000@huronshores.ca
SUMMARY:Alzheimer Info & Discussion Group
DESCRIPTION:The Alzheimer Society of Sault Ste. Marie & Algoma District hosts an Information & Discussion Group on the 2nd Wednesday of each month\, at the Calvary Gospel Church\, 55 Queen Street\, Blind River from 2:00 – 3:30 p.m.  For more information please call Tanya\, First Link Coordinator\, at 705-848-8145.
URL:https://huronshores.ca/event/alzheimer-info-discussion-group-2/2016-05-07/
LOCATION:ON
CATEGORIES:Community News
ATTACH;FMTTYPE=image/jpeg:https://huronshores.ca/wp-content/uploads/2013/01/Alzheimers-Disease.jpg
END:VEVENT
BEGIN:VEVENT
DTSTART;VALUE=DATE:20160508
DTEND;VALUE=DATE:20160509
DTSTAMP:20260425T072403
CREATED:20160115T152948Z
LAST-MODIFIED:20160115T152948Z
UID:10019458-1462665600-1462751999@huronshores.ca
SUMMARY:Mother's Day
DESCRIPTION:Happy Mother’s Day from Council and Staff of Huron Shores!
URL:https://huronshores.ca/event/mothers-day/
LOCATION:ON
CATEGORIES:Community News
ATTACH;FMTTYPE=image/jpeg:https://huronshores.ca/wp-content/uploads/2016/01/Happy-Mothers-Day.jpg
END:VEVENT
BEGIN:VEVENT
DTSTART;TZID=America/Toronto:20160508T140000
DTEND;TZID=America/Toronto:20160508T153000
DTSTAMP:20260425T072403
CREATED:20151021T181815Z
LAST-MODIFIED:20151021T181815Z
UID:10015936-1462716000-1462721400@huronshores.ca
SUMMARY:Alzheimer Info & Discussion Group
DESCRIPTION:The Alzheimer Society of Sault Ste. Marie & Algoma District hosts an Information & Discussion Group on the 2nd Wednesday of each month\, at the Calvary Gospel Church\, 55 Queen Street\, Blind River from 2:00 – 3:30 p.m.  For more information please call Tanya\, First Link Coordinator\, at 705-848-8145.
URL:https://huronshores.ca/event/alzheimer-info-discussion-group-2/2016-05-08/
LOCATION:ON
CATEGORIES:Community News
ATTACH;FMTTYPE=image/jpeg:https://huronshores.ca/wp-content/uploads/2013/01/Alzheimers-Disease.jpg
END:VEVENT
BEGIN:VEVENT
DTSTART;TZID=America/Toronto:20160509T140000
DTEND;TZID=America/Toronto:20160509T153000
DTSTAMP:20260425T072403
CREATED:20151021T181815Z
LAST-MODIFIED:20151021T181815Z
UID:10015937-1462802400-1462807800@huronshores.ca
SUMMARY:Alzheimer Info & Discussion Group
DESCRIPTION:The Alzheimer Society of Sault Ste. Marie & Algoma District hosts an Information & Discussion Group on the 2nd Wednesday of each month\, at the Calvary Gospel Church\, 55 Queen Street\, Blind River from 2:00 – 3:30 p.m.  For more information please call Tanya\, First Link Coordinator\, at 705-848-8145.
URL:https://huronshores.ca/event/alzheimer-info-discussion-group-2/2016-05-09/
LOCATION:ON
CATEGORIES:Community News
ATTACH;FMTTYPE=image/jpeg:https://huronshores.ca/wp-content/uploads/2013/01/Alzheimers-Disease.jpg
END:VEVENT
BEGIN:VEVENT
DTSTART;TZID=America/Toronto:20160510T140000
DTEND;TZID=America/Toronto:20160510T153000
DTSTAMP:20260425T072403
CREATED:20151021T181815Z
LAST-MODIFIED:20151021T181815Z
UID:10015938-1462888800-1462894200@huronshores.ca
SUMMARY:Alzheimer Info & Discussion Group
DESCRIPTION:The Alzheimer Society of Sault Ste. Marie & Algoma District hosts an Information & Discussion Group on the 2nd Wednesday of each month\, at the Calvary Gospel Church\, 55 Queen Street\, Blind River from 2:00 – 3:30 p.m.  For more information please call Tanya\, First Link Coordinator\, at 705-848-8145.
URL:https://huronshores.ca/event/alzheimer-info-discussion-group-2/2016-05-10/
LOCATION:ON
CATEGORIES:Community News
ATTACH;FMTTYPE=image/jpeg:https://huronshores.ca/wp-content/uploads/2013/01/Alzheimers-Disease.jpg
END:VEVENT
BEGIN:VEVENT
DTSTART;TZID=America/Toronto:20160510T190000
DTEND;TZID=America/Toronto:20160510T203000
DTSTAMP:20260425T072403
CREATED:20160510T195506Z
LAST-MODIFIED:20160510T195506Z
UID:10019575-1462906800-1462912200@huronshores.ca
SUMMARY:Family Fun Night
DESCRIPTION:The North Channel Healthy Kids Community Challenge Committee and the Iron Bridge Recreation Committee host Family Fun Night on Tuesdays from 7:00 to 8:30 p.m. at the Iron Bridge Rec Centre (1 Chiblow Lake Rd.).  Come on out and get movin’ with the whole family!
URL:https://huronshores.ca/event/family-fun-night-3/2016-05-10/
LOCATION:ON
CATEGORIES:Community News,Recreation
ATTACH;FMTTYPE=image/jpeg:https://huronshores.ca/wp-content/uploads/2015/09/Family-Activities.jpeg
END:VEVENT
BEGIN:VEVENT
DTSTART;TZID=America/Toronto:20160511T140000
DTEND;TZID=America/Toronto:20160511T153000
DTSTAMP:20260425T072403
CREATED:20151021T181815Z
LAST-MODIFIED:20151021T181815Z
UID:10015939-1462975200-1462980600@huronshores.ca
SUMMARY:Alzheimer Info & Discussion Group
DESCRIPTION:The Alzheimer Society of Sault Ste. Marie & Algoma District hosts an Information & Discussion Group on the 2nd Wednesday of each month\, at the Calvary Gospel Church\, 55 Queen Street\, Blind River from 2:00 – 3:30 p.m.  For more information please call Tanya\, First Link Coordinator\, at 705-848-8145.
URL:https://huronshores.ca/event/alzheimer-info-discussion-group-2/2016-05-11/
LOCATION:ON
CATEGORIES:Community News
ATTACH;FMTTYPE=image/jpeg:https://huronshores.ca/wp-content/uploads/2013/01/Alzheimers-Disease.jpg
END:VEVENT
BEGIN:VEVENT
DTSTART;TZID=America/Toronto:20160511T190000
DTEND;TZID=America/Toronto:20160511T190000
DTSTAMP:20260425T072403
CREATED:20160115T151941Z
LAST-MODIFIED:20160115T151941Z
UID:10019455-1462993200-1462993200@huronshores.ca
SUMMARY:Regular Council Meeting
DESCRIPTION:The Regular Meeting of Council will be held Wednesday\, May 11/16 at 7:00 p.m. in the Council Chambers\, 7 Bridge Street\, Iron Bridge.  The Agenda was posted on Monday\, May 9/16.  Please click on the link below to view the Agenda post.
URL:https://huronshores.ca/event/regular-council-meeting-18/
LOCATION:ON
CATEGORIES:Council Meeting
ATTACH;FMTTYPE=:
END:VEVENT
BEGIN:VEVENT
DTSTART;TZID=America/Toronto:20160512T140000
DTEND;TZID=America/Toronto:20160512T153000
DTSTAMP:20260425T072403
CREATED:20151021T181815Z
LAST-MODIFIED:20151021T181815Z
UID:10015940-1463061600-1463067000@huronshores.ca
SUMMARY:Alzheimer Info & Discussion Group
DESCRIPTION:The Alzheimer Society of Sault Ste. Marie & Algoma District hosts an Information & Discussion Group on the 2nd Wednesday of each month\, at the Calvary Gospel Church\, 55 Queen Street\, Blind River from 2:00 – 3:30 p.m.  For more information please call Tanya\, First Link Coordinator\, at 705-848-8145.
URL:https://huronshores.ca/event/alzheimer-info-discussion-group-2/2016-05-12/
LOCATION:ON
CATEGORIES:Community News
ATTACH;FMTTYPE=image/jpeg:https://huronshores.ca/wp-content/uploads/2013/01/Alzheimers-Disease.jpg
END:VEVENT
BEGIN:VEVENT
DTSTART;TZID=America/Toronto:20160513T140000
DTEND;TZID=America/Toronto:20160513T153000
DTSTAMP:20260425T072403
CREATED:20151021T181815Z
LAST-MODIFIED:20151021T181815Z
UID:10015941-1463148000-1463153400@huronshores.ca
SUMMARY:Alzheimer Info & Discussion Group
DESCRIPTION:The Alzheimer Society of Sault Ste. Marie & Algoma District hosts an Information & Discussion Group on the 2nd Wednesday of each month\, at the Calvary Gospel Church\, 55 Queen Street\, Blind River from 2:00 – 3:30 p.m.  For more information please call Tanya\, First Link Coordinator\, at 705-848-8145.
URL:https://huronshores.ca/event/alzheimer-info-discussion-group-2/2016-05-13/
LOCATION:ON
CATEGORIES:Community News
ATTACH;FMTTYPE=image/jpeg:https://huronshores.ca/wp-content/uploads/2013/01/Alzheimers-Disease.jpg
END:VEVENT
BEGIN:VEVENT
DTSTART;TZID=America/Toronto:20160514T140000
DTEND;TZID=America/Toronto:20160514T153000
DTSTAMP:20260425T072403
CREATED:20151021T181815Z
LAST-MODIFIED:20151021T181815Z
UID:10015942-1463234400-1463239800@huronshores.ca
SUMMARY:Alzheimer Info & Discussion Group
DESCRIPTION:The Alzheimer Society of Sault Ste. Marie & Algoma District hosts an Information & Discussion Group on the 2nd Wednesday of each month\, at the Calvary Gospel Church\, 55 Queen Street\, Blind River from 2:00 – 3:30 p.m.  For more information please call Tanya\, First Link Coordinator\, at 705-848-8145.
URL:https://huronshores.ca/event/alzheimer-info-discussion-group-2/2016-05-14/
LOCATION:ON
CATEGORIES:Community News
ATTACH;FMTTYPE=image/jpeg:https://huronshores.ca/wp-content/uploads/2013/01/Alzheimers-Disease.jpg
END:VEVENT
BEGIN:VEVENT
DTSTART;TZID=America/Toronto:20160515T140000
DTEND;TZID=America/Toronto:20160515T153000
DTSTAMP:20260425T072403
CREATED:20151021T181815Z
LAST-MODIFIED:20151021T181815Z
UID:10015943-1463320800-1463326200@huronshores.ca
SUMMARY:Alzheimer Info & Discussion Group
DESCRIPTION:The Alzheimer Society of Sault Ste. Marie & Algoma District hosts an Information & Discussion Group on the 2nd Wednesday of each month\, at the Calvary Gospel Church\, 55 Queen Street\, Blind River from 2:00 – 3:30 p.m.  For more information please call Tanya\, First Link Coordinator\, at 705-848-8145.
URL:https://huronshores.ca/event/alzheimer-info-discussion-group-2/2016-05-15/
LOCATION:ON
CATEGORIES:Community News
ATTACH;FMTTYPE=image/jpeg:https://huronshores.ca/wp-content/uploads/2013/01/Alzheimers-Disease.jpg
END:VEVENT
BEGIN:VEVENT
DTSTART;TZID=America/Toronto:20160515T163000
DTEND;TZID=America/Toronto:20160515T163000
DTSTAMP:20260425T072403
CREATED:20160510T201628Z
LAST-MODIFIED:20160510T201628Z
UID:10019583-1463329800-1463329800@huronshores.ca
SUMMARY:Spring Family Concert with Pamela Lister
DESCRIPTION:A Spring Family Concert featuring the inspiration voice of Pamela Lister will be held 4:30 p.m.\, Sunday\, May 15/16 at the Iron Bridge Lions Club\, 10 Clarissa Street.  You are invited to experience and enjoy the beauti8ful voice of an inspirational woman who shares her love for God in song and in testimony. Free Admission – Love Offering.  Free meal to follow.
URL:https://huronshores.ca/event/spring-family-concert-with-pamela-lister/
LOCATION:ON
CATEGORIES:Community News
ATTACH;FMTTYPE=image/jpeg:https://huronshores.ca/wp-content/uploads/2016/05/spring-concert.jpg
END:VEVENT
BEGIN:VEVENT
DTSTART;TZID=America/Toronto:20160516T140000
DTEND;TZID=America/Toronto:20160516T153000
DTSTAMP:20260425T072403
CREATED:20151021T181815Z
LAST-MODIFIED:20151021T181815Z
UID:10015944-1463407200-1463412600@huronshores.ca
SUMMARY:Alzheimer Info & Discussion Group
DESCRIPTION:The Alzheimer Society of Sault Ste. Marie & Algoma District hosts an Information & Discussion Group on the 2nd Wednesday of each month\, at the Calvary Gospel Church\, 55 Queen Street\, Blind River from 2:00 – 3:30 p.m.  For more information please call Tanya\, First Link Coordinator\, at 705-848-8145.
URL:https://huronshores.ca/event/alzheimer-info-discussion-group-2/2016-05-16/
LOCATION:ON
CATEGORIES:Community News
ATTACH;FMTTYPE=image/jpeg:https://huronshores.ca/wp-content/uploads/2013/01/Alzheimers-Disease.jpg
END:VEVENT
BEGIN:VEVENT
DTSTART;TZID=America/Toronto:20160517T140000
DTEND;TZID=America/Toronto:20160517T153000
DTSTAMP:20260425T072403
CREATED:20151021T181815Z
LAST-MODIFIED:20151021T181815Z
UID:10015945-1463493600-1463499000@huronshores.ca
SUMMARY:Alzheimer Info & Discussion Group
DESCRIPTION:The Alzheimer Society of Sault Ste. Marie & Algoma District hosts an Information & Discussion Group on the 2nd Wednesday of each month\, at the Calvary Gospel Church\, 55 Queen Street\, Blind River from 2:00 – 3:30 p.m.  For more information please call Tanya\, First Link Coordinator\, at 705-848-8145.
URL:https://huronshores.ca/event/alzheimer-info-discussion-group-2/2016-05-17/
LOCATION:ON
CATEGORIES:Community News
ATTACH;FMTTYPE=image/jpeg:https://huronshores.ca/wp-content/uploads/2013/01/Alzheimers-Disease.jpg
END:VEVENT
END:VCALENDAR