BEGIN:VCALENDAR
VERSION:2.0
PRODID:-//Huron Shores - ECPv6.15.11//NONSGML v1.0//EN
CALSCALE:GREGORIAN
METHOD:PUBLISH
X-ORIGINAL-URL:https://huronshores.ca
X-WR-CALDESC:Events for Huron Shores
REFRESH-INTERVAL;VALUE=DURATION:PT1H
X-Robots-Tag:noindex
X-PUBLISHED-TTL:PT1H
BEGIN:VTIMEZONE
TZID:America/Toronto
BEGIN:DAYLIGHT
TZOFFSETFROM:-0500
TZOFFSETTO:-0400
TZNAME:EDT
DTSTART:20160313T070000
END:DAYLIGHT
BEGIN:STANDARD
TZOFFSETFROM:-0400
TZOFFSETTO:-0500
TZNAME:EST
DTSTART:20161106T060000
END:STANDARD
BEGIN:DAYLIGHT
TZOFFSETFROM:-0500
TZOFFSETTO:-0400
TZNAME:EDT
DTSTART:20170312T070000
END:DAYLIGHT
BEGIN:STANDARD
TZOFFSETFROM:-0400
TZOFFSETTO:-0500
TZNAME:EST
DTSTART:20171105T060000
END:STANDARD
BEGIN:DAYLIGHT
TZOFFSETFROM:-0500
TZOFFSETTO:-0400
TZNAME:EDT
DTSTART:20180311T070000
END:DAYLIGHT
BEGIN:STANDARD
TZOFFSETFROM:-0400
TZOFFSETTO:-0500
TZNAME:EST
DTSTART:20181104T060000
END:STANDARD
END:VTIMEZONE
BEGIN:VEVENT
DTSTART;TZID=America/Toronto:20170624T140000
DTEND;TZID=America/Toronto:20170624T153000
DTSTAMP:20260424T061608
CREATED:20151021T181815Z
LAST-MODIFIED:20151021T181815Z
UID:10016348-1498312800-1498318200@huronshores.ca
SUMMARY:Alzheimer Info & Discussion Group
DESCRIPTION:The Alzheimer Society of Sault Ste. Marie & Algoma District hosts an Information & Discussion Group on the 2nd Wednesday of each month\, at the Calvary Gospel Church\, 55 Queen Street\, Blind River from 2:00 – 3:30 p.m.  For more information please call Tanya\, First Link Coordinator\, at 705-848-8145.
URL:https://huronshores.ca/event/alzheimer-info-discussion-group-2/2017-06-24/
LOCATION:ON
CATEGORIES:Community News
ATTACH;FMTTYPE=image/jpeg:https://huronshores.ca/wp-content/uploads/2013/01/Alzheimers-Disease.jpg
END:VEVENT
BEGIN:VEVENT
DTSTART;TZID=America/Toronto:20170625T140000
DTEND;TZID=America/Toronto:20170625T153000
DTSTAMP:20260424T061608
CREATED:20151021T181815Z
LAST-MODIFIED:20151021T181815Z
UID:10016349-1498399200-1498404600@huronshores.ca
SUMMARY:Alzheimer Info & Discussion Group
DESCRIPTION:The Alzheimer Society of Sault Ste. Marie & Algoma District hosts an Information & Discussion Group on the 2nd Wednesday of each month\, at the Calvary Gospel Church\, 55 Queen Street\, Blind River from 2:00 – 3:30 p.m.  For more information please call Tanya\, First Link Coordinator\, at 705-848-8145.
URL:https://huronshores.ca/event/alzheimer-info-discussion-group-2/2017-06-25/
LOCATION:ON
CATEGORIES:Community News
ATTACH;FMTTYPE=image/jpeg:https://huronshores.ca/wp-content/uploads/2013/01/Alzheimers-Disease.jpg
END:VEVENT
BEGIN:VEVENT
DTSTART;TZID=America/Toronto:20170626T140000
DTEND;TZID=America/Toronto:20170626T153000
DTSTAMP:20260424T061608
CREATED:20151021T181815Z
LAST-MODIFIED:20151021T181815Z
UID:10016350-1498485600-1498491000@huronshores.ca
SUMMARY:Alzheimer Info & Discussion Group
DESCRIPTION:The Alzheimer Society of Sault Ste. Marie & Algoma District hosts an Information & Discussion Group on the 2nd Wednesday of each month\, at the Calvary Gospel Church\, 55 Queen Street\, Blind River from 2:00 – 3:30 p.m.  For more information please call Tanya\, First Link Coordinator\, at 705-848-8145.
URL:https://huronshores.ca/event/alzheimer-info-discussion-group-2/2017-06-26/
LOCATION:ON
CATEGORIES:Community News
ATTACH;FMTTYPE=image/jpeg:https://huronshores.ca/wp-content/uploads/2013/01/Alzheimers-Disease.jpg
END:VEVENT
BEGIN:VEVENT
DTSTART;TZID=America/Toronto:20170627T140000
DTEND;TZID=America/Toronto:20170627T153000
DTSTAMP:20260424T061608
CREATED:20151021T181815Z
LAST-MODIFIED:20151021T181815Z
UID:10016351-1498572000-1498577400@huronshores.ca
SUMMARY:Alzheimer Info & Discussion Group
DESCRIPTION:The Alzheimer Society of Sault Ste. Marie & Algoma District hosts an Information & Discussion Group on the 2nd Wednesday of each month\, at the Calvary Gospel Church\, 55 Queen Street\, Blind River from 2:00 – 3:30 p.m.  For more information please call Tanya\, First Link Coordinator\, at 705-848-8145.
URL:https://huronshores.ca/event/alzheimer-info-discussion-group-2/2017-06-27/
LOCATION:ON
CATEGORIES:Community News
ATTACH;FMTTYPE=image/jpeg:https://huronshores.ca/wp-content/uploads/2013/01/Alzheimers-Disease.jpg
END:VEVENT
BEGIN:VEVENT
DTSTART;TZID=America/Toronto:20170627T183000
DTEND;TZID=America/Toronto:20170627T200000
DTSTAMP:20260424T061608
CREATED:20170502T195428Z
LAST-MODIFIED:20170502T195428Z
UID:10020110-1498588200-1498593600@huronshores.ca
SUMMARY:Family Fun Time!
DESCRIPTION:The Iron Bridge Rec Committee hosts Family Fun Time on Tuesday evenings from 6:30 – 8:00 p.m. at the Rec Centre\, 1 Chiblow Lake Rd.  Activities for all ages.  Everyone welcome!
URL:https://huronshores.ca/event/family-fun-time/2017-06-27/
LOCATION:ON
CATEGORIES:Community News,Recreation
ATTACH;FMTTYPE=image/jpeg:https://huronshores.ca/wp-content/uploads/2015/09/Family-Activities.jpeg
END:VEVENT
BEGIN:VEVENT
DTSTART;TZID=America/Toronto:20170628T140000
DTEND;TZID=America/Toronto:20170628T153000
DTSTAMP:20260424T061608
CREATED:20151021T181815Z
LAST-MODIFIED:20151021T181815Z
UID:10016352-1498658400-1498663800@huronshores.ca
SUMMARY:Alzheimer Info & Discussion Group
DESCRIPTION:The Alzheimer Society of Sault Ste. Marie & Algoma District hosts an Information & Discussion Group on the 2nd Wednesday of each month\, at the Calvary Gospel Church\, 55 Queen Street\, Blind River from 2:00 – 3:30 p.m.  For more information please call Tanya\, First Link Coordinator\, at 705-848-8145.
URL:https://huronshores.ca/event/alzheimer-info-discussion-group-2/2017-06-28/
LOCATION:ON
CATEGORIES:Community News
ATTACH;FMTTYPE=image/jpeg:https://huronshores.ca/wp-content/uploads/2013/01/Alzheimers-Disease.jpg
END:VEVENT
BEGIN:VEVENT
DTSTART;TZID=America/Toronto:20170628T190000
DTEND;TZID=America/Toronto:20170628T190000
DTSTAMP:20260424T061608
CREATED:20161216T212558Z
LAST-MODIFIED:20161216T212558Z
UID:10020010-1498676400-1498676400@huronshores.ca
SUMMARY:Regular Council Meeting
DESCRIPTION:The Regular Meeting of Council will convene at 7:00 p.m. in the Council Chambers\, 7 Bridge Street\, Iron Bridge.  The Agenda is posted on huronshores.ca and at the Municipal Office the Monday prior unless that day is a holiday.  It would then be posted on the Tuesday.  Council Meetings are held as follows:  January – June & September – November\, 2nd & 4th Wednesdays; July & August\, 2nd Wednesday only; December\, 3rd Wednesday unless otherwise scheduled.  Periodically Special Meetings are called in order to deliberate a specific matter.  As per the Municipal Act\, all Council Meetings are conducted in public.  Members of the public are able to observe the proceedings from the gallery.  If you wish to address Council directly with respect to a specific matter or concern\, please contact the Municipal Office by the Friday prior in order to be included as a Delegation on the Meeting Agenda.  Please click on the link below to learn more about Delegations and Deputations.
URL:https://huronshores.ca/event/regular-council-meeting-33/2017-06-28/
LOCATION:ON
CATEGORIES:Council Meeting
ATTACH;FMTTYPE=:
END:VEVENT
BEGIN:VEVENT
DTSTART;TZID=America/Toronto:20170628T193000
DTEND;TZID=America/Toronto:20170628T193000
DTSTAMP:20260424T061608
CREATED:20160721T182330Z
LAST-MODIFIED:20160721T182330Z
UID:10019677-1498678200-1498678200@huronshores.ca
SUMMARY:Jammin' Session at the Thessalon Community Curling Club
DESCRIPTION:Every Wedneday night at 7:30PM\, join us at Thessalon Community Curling Club for our Jammin’ Session. You play an instrument and love to play with other instrumentalists\, or just love to listen to live music\, then come on down…the bar is open! Everyone welcome! Bring a friend!
URL:https://huronshores.ca/event/jammin-session-at-the-thessalon-community-curling-club/2017-06-28/
LOCATION:ON
CATEGORIES:Recreation
END:VEVENT
BEGIN:VEVENT
DTSTART;TZID=America/Toronto:20170629T140000
DTEND;TZID=America/Toronto:20170629T153000
DTSTAMP:20260424T061608
CREATED:20151021T181815Z
LAST-MODIFIED:20151021T181815Z
UID:10016353-1498744800-1498750200@huronshores.ca
SUMMARY:Alzheimer Info & Discussion Group
DESCRIPTION:The Alzheimer Society of Sault Ste. Marie & Algoma District hosts an Information & Discussion Group on the 2nd Wednesday of each month\, at the Calvary Gospel Church\, 55 Queen Street\, Blind River from 2:00 – 3:30 p.m.  For more information please call Tanya\, First Link Coordinator\, at 705-848-8145.
URL:https://huronshores.ca/event/alzheimer-info-discussion-group-2/2017-06-29/
LOCATION:ON
CATEGORIES:Community News
ATTACH;FMTTYPE=image/jpeg:https://huronshores.ca/wp-content/uploads/2013/01/Alzheimers-Disease.jpg
END:VEVENT
BEGIN:VEVENT
DTSTART;TZID=America/Toronto:20170630T140000
DTEND;TZID=America/Toronto:20170630T153000
DTSTAMP:20260424T061608
CREATED:20151021T181815Z
LAST-MODIFIED:20151021T181815Z
UID:10016354-1498831200-1498836600@huronshores.ca
SUMMARY:Alzheimer Info & Discussion Group
DESCRIPTION:The Alzheimer Society of Sault Ste. Marie & Algoma District hosts an Information & Discussion Group on the 2nd Wednesday of each month\, at the Calvary Gospel Church\, 55 Queen Street\, Blind River from 2:00 – 3:30 p.m.  For more information please call Tanya\, First Link Coordinator\, at 705-848-8145.
URL:https://huronshores.ca/event/alzheimer-info-discussion-group-2/2017-06-30/
LOCATION:ON
CATEGORIES:Community News
ATTACH;FMTTYPE=image/jpeg:https://huronshores.ca/wp-content/uploads/2013/01/Alzheimers-Disease.jpg
END:VEVENT
BEGIN:VEVENT
DTSTART;TZID=America/Toronto:20170630T170000
DTEND;TZID=America/Toronto:20170630T190000
DTSTAMP:20260424T061608
CREATED:20170223T155057Z
LAST-MODIFIED:20170223T155057Z
UID:10020094-1498842000-1498849200@huronshores.ca
SUMMARY:Friday Fish Fry
DESCRIPTION:The RC Legion Branch 182 in Thessalon hosts a Fish Fry from 5:00 p.m. to 7:00 p.m.   Take-out called in by 4:30 p.m. & picked up by 5:00 p.m. Call 705-842-2418.
URL:https://huronshores.ca/event/friday-fish-fry/2017-06-30/
LOCATION:ON
CATEGORIES:Community News,Local Food
ATTACH;FMTTYPE=image/jpeg:https://huronshores.ca/wp-content/uploads/2015/12/Friday-Fish-Fry.jpg
END:VEVENT
BEGIN:VEVENT
DTSTART;VALUE=DATE:20170701
DTEND;VALUE=DATE:20170702
DTSTAMP:20260424T061608
CREATED:20161219T152216Z
LAST-MODIFIED:20161219T152216Z
UID:10019493-1498867200-1498953599@huronshores.ca
SUMMARY:Canada Day
DESCRIPTION:All Waste Disposal &  Recycling Sites are closed in observance of Canada Day.  The Waste Sites will re-open at the regular time\, from 4:00 to 8:00 p.m.\, Monday\, July 3/17.  Please note that the Municipal Office will be closed on Monday\, July 3/17 in lieu of the Canada Day statutory holiday.  Happy Canada Day from Council\, staff and the fire department!
URL:https://huronshores.ca/event/canada-day-2/
LOCATION:ON
CATEGORIES:Community News,Waste Disposal
ATTACH;FMTTYPE=image/jpeg:https://huronshores.ca/wp-content/uploads/2016/01/Canada-Day-Beaver.jpg
END:VEVENT
BEGIN:VEVENT
DTSTART;TZID=America/Toronto:20170701T090000
DTEND;TZID=America/Toronto:20170701T140000
DTSTAMP:20260424T061608
CREATED:20170602T132003Z
LAST-MODIFIED:20170602T132003Z
UID:10020140-1498899600-1498917600@huronshores.ca
SUMMARY:Sowerby Farmers' Market
DESCRIPTION:Sowerby Farmers’ Market\, every Saturday\, 9:00 a.m. – 2:00 p.m.\, from June 10 to October 7/17.  Local food producers and artisans offer seasonal fresh veggies\, home-baked goods\, jams\, jellies\, pickles\, handicrafts\, and more.  Vendor tables are $5.00/table/day.  Call Will at 705-843-5567 to book a table.
URL:https://huronshores.ca/event/sowerby-farmers-market-3/2017-07-01/
LOCATION:ON
CATEGORIES:Farmers' Markets,Local Food
ATTACH;FMTTYPE=image/jpeg:https://huronshores.ca/wp-content/uploads/2011/08/Historic-Cordukes-Weber-12-Sided-Barn-Sign1.jpg
END:VEVENT
BEGIN:VEVENT
DTSTART;TZID=America/Toronto:20170701T090000
DTEND;TZID=America/Toronto:20170701T140000
DTSTAMP:20260424T061608
CREATED:20170608T201421Z
LAST-MODIFIED:20170608T201421Z
UID:10020157-1498899600-1498917600@huronshores.ca
SUMMARY:Iron Bridge Farmers' Market
DESCRIPTION:The Iron Bridge Farmers’ Market is on Saturdays\, from 9:00 a.m. to 2:00 p.m. in the covered gazebo at the Iron Bridge Historical Museum\, 1 James Street.  Markets will be held weekly until the end of September.  Items available will include farm produce\, book and yard sale items\, as well\, consignment items may also be included (depending on storage availability). Table rentals are $5/table/day. Contact Carl at 705-843-2486 for details. The Museum is open daily from mid-June to September.
URL:https://huronshores.ca/event/iron-bridge-farmers-market-2/2017-07-01/
LOCATION:ON
CATEGORIES:Community News,Farmers' Markets,Local Food
ATTACH;FMTTYPE=image/jpeg:https://huronshores.ca/wp-content/uploads/2012/03/Ward-3-Museum-Welcome-sign-Web-large.jpg
END:VEVENT
BEGIN:VEVENT
DTSTART;TZID=America/Toronto:20170701T110000
DTEND;TZID=America/Toronto:20170701T150000
DTSTAMP:20260424T061608
CREATED:20170627T201604Z
LAST-MODIFIED:20170627T201604Z
UID:10020172-1498906800-1498921200@huronshores.ca
SUMMARY:Canada Day 150th Celebration BBQ
DESCRIPTION:The Village Inn Diner in Iron Bridge is hosting a Canada Day 150th Celebration Barbecue\, Saturday\, July 1/17 from 11:00 a.m. to 3:00 p.m.  BBQ features include homemade burgers\, hot dogs\, and pop. All proceeds will be donated to the Blind River Food Bank and the NEO Kids at Health Sciences North\, Sudbury.  Come show your support for a great Family Diner and help those that need it.  That’s what we’re all about in Canada!
URL:https://huronshores.ca/event/canada-day-150th-celebration-bbq/
LOCATION:ON
CATEGORIES:Community News
ATTACH;FMTTYPE=image/jpeg:https://huronshores.ca/wp-content/uploads/2016/01/Canada-Day-Beaver.jpg
END:VEVENT
BEGIN:VEVENT
DTSTART;TZID=America/Toronto:20170701T140000
DTEND;TZID=America/Toronto:20170701T153000
DTSTAMP:20260424T061608
CREATED:20151021T181815Z
LAST-MODIFIED:20151021T181815Z
UID:10016355-1498917600-1498923000@huronshores.ca
SUMMARY:Alzheimer Info & Discussion Group
DESCRIPTION:The Alzheimer Society of Sault Ste. Marie & Algoma District hosts an Information & Discussion Group on the 2nd Wednesday of each month\, at the Calvary Gospel Church\, 55 Queen Street\, Blind River from 2:00 – 3:30 p.m.  For more information please call Tanya\, First Link Coordinator\, at 705-848-8145.
URL:https://huronshores.ca/event/alzheimer-info-discussion-group-2/2017-07-01/
LOCATION:ON
CATEGORIES:Community News
ATTACH;FMTTYPE=image/jpeg:https://huronshores.ca/wp-content/uploads/2013/01/Alzheimers-Disease.jpg
END:VEVENT
BEGIN:VEVENT
DTSTART;TZID=America/Toronto:20170702T140000
DTEND;TZID=America/Toronto:20170702T153000
DTSTAMP:20260424T061608
CREATED:20151021T181815Z
LAST-MODIFIED:20151021T181815Z
UID:10016356-1499004000-1499009400@huronshores.ca
SUMMARY:Alzheimer Info & Discussion Group
DESCRIPTION:The Alzheimer Society of Sault Ste. Marie & Algoma District hosts an Information & Discussion Group on the 2nd Wednesday of each month\, at the Calvary Gospel Church\, 55 Queen Street\, Blind River from 2:00 – 3:30 p.m.  For more information please call Tanya\, First Link Coordinator\, at 705-848-8145.
URL:https://huronshores.ca/event/alzheimer-info-discussion-group-2/2017-07-02/
LOCATION:ON
CATEGORIES:Community News
ATTACH;FMTTYPE=image/jpeg:https://huronshores.ca/wp-content/uploads/2013/01/Alzheimers-Disease.jpg
END:VEVENT
BEGIN:VEVENT
DTSTART;VALUE=DATE:20170703
DTEND;VALUE=DATE:20170704
DTSTAMP:20260424T061608
CREATED:20161219T152549Z
LAST-MODIFIED:20161219T152549Z
UID:10019494-1499040000-1499126399@huronshores.ca
SUMMARY:Canada Day Office Closure
DESCRIPTION:The Municipal Office will be closed on Monday\, July 3/17 in lieu of the Canada Day statutory holiday (July 1st).  The Office will re-open on Tuesday\, July 4/17 at 8:30 a.m.  The Waste Disposal & Recycling Sites will be open on the 3rd\, but closed on July 1st.  Happy Canada Day weekend from Council\, staff and the fire department!
URL:https://huronshores.ca/event/canada-day-office-closure/
LOCATION:ON
CATEGORIES:Community News,Office Closure
ATTACH;FMTTYPE=image/png:https://huronshores.ca/wp-content/uploads/2016/01/Canada-Day.png
END:VEVENT
BEGIN:VEVENT
DTSTART;TZID=America/Toronto:20170703T140000
DTEND;TZID=America/Toronto:20170703T153000
DTSTAMP:20260424T061608
CREATED:20151021T181815Z
LAST-MODIFIED:20151021T181815Z
UID:10016357-1499090400-1499095800@huronshores.ca
SUMMARY:Alzheimer Info & Discussion Group
DESCRIPTION:The Alzheimer Society of Sault Ste. Marie & Algoma District hosts an Information & Discussion Group on the 2nd Wednesday of each month\, at the Calvary Gospel Church\, 55 Queen Street\, Blind River from 2:00 – 3:30 p.m.  For more information please call Tanya\, First Link Coordinator\, at 705-848-8145.
URL:https://huronshores.ca/event/alzheimer-info-discussion-group-2/2017-07-03/
LOCATION:ON
CATEGORIES:Community News
ATTACH;FMTTYPE=image/jpeg:https://huronshores.ca/wp-content/uploads/2013/01/Alzheimers-Disease.jpg
END:VEVENT
BEGIN:VEVENT
DTSTART;TZID=America/Toronto:20170704T140000
DTEND;TZID=America/Toronto:20170704T153000
DTSTAMP:20260424T061608
CREATED:20151021T181815Z
LAST-MODIFIED:20151021T181815Z
UID:10016358-1499176800-1499182200@huronshores.ca
SUMMARY:Alzheimer Info & Discussion Group
DESCRIPTION:The Alzheimer Society of Sault Ste. Marie & Algoma District hosts an Information & Discussion Group on the 2nd Wednesday of each month\, at the Calvary Gospel Church\, 55 Queen Street\, Blind River from 2:00 – 3:30 p.m.  For more information please call Tanya\, First Link Coordinator\, at 705-848-8145.
URL:https://huronshores.ca/event/alzheimer-info-discussion-group-2/2017-07-04/
LOCATION:ON
CATEGORIES:Community News
ATTACH;FMTTYPE=image/jpeg:https://huronshores.ca/wp-content/uploads/2013/01/Alzheimers-Disease.jpg
END:VEVENT
BEGIN:VEVENT
DTSTART;TZID=America/Toronto:20170704T183000
DTEND;TZID=America/Toronto:20170704T200000
DTSTAMP:20260424T061608
CREATED:20170502T195428Z
LAST-MODIFIED:20170502T195428Z
UID:10020111-1499193000-1499198400@huronshores.ca
SUMMARY:Family Fun Time!
DESCRIPTION:The Iron Bridge Rec Committee hosts Family Fun Time on Tuesday evenings from 6:30 – 8:00 p.m. at the Rec Centre\, 1 Chiblow Lake Rd.  Activities for all ages.  Everyone welcome!
URL:https://huronshores.ca/event/family-fun-time/2017-07-04/
LOCATION:ON
CATEGORIES:Community News,Recreation
ATTACH;FMTTYPE=image/jpeg:https://huronshores.ca/wp-content/uploads/2015/09/Family-Activities.jpeg
END:VEVENT
BEGIN:VEVENT
DTSTART;TZID=America/Toronto:20170705T140000
DTEND;TZID=America/Toronto:20170705T153000
DTSTAMP:20260424T061608
CREATED:20151021T181815Z
LAST-MODIFIED:20151021T181815Z
UID:10016359-1499263200-1499268600@huronshores.ca
SUMMARY:Alzheimer Info & Discussion Group
DESCRIPTION:The Alzheimer Society of Sault Ste. Marie & Algoma District hosts an Information & Discussion Group on the 2nd Wednesday of each month\, at the Calvary Gospel Church\, 55 Queen Street\, Blind River from 2:00 – 3:30 p.m.  For more information please call Tanya\, First Link Coordinator\, at 705-848-8145.
URL:https://huronshores.ca/event/alzheimer-info-discussion-group-2/2017-07-05/
LOCATION:ON
CATEGORIES:Community News
ATTACH;FMTTYPE=image/jpeg:https://huronshores.ca/wp-content/uploads/2013/01/Alzheimers-Disease.jpg
END:VEVENT
BEGIN:VEVENT
DTSTART;TZID=America/Toronto:20170705T193000
DTEND;TZID=America/Toronto:20170705T193000
DTSTAMP:20260424T061608
CREATED:20160721T182330Z
LAST-MODIFIED:20160721T182330Z
UID:10019678-1499283000-1499283000@huronshores.ca
SUMMARY:Jammin' Session at the Thessalon Community Curling Club
DESCRIPTION:Every Wedneday night at 7:30PM\, join us at Thessalon Community Curling Club for our Jammin’ Session. You play an instrument and love to play with other instrumentalists\, or just love to listen to live music\, then come on down…the bar is open! Everyone welcome! Bring a friend!
URL:https://huronshores.ca/event/jammin-session-at-the-thessalon-community-curling-club/2017-07-05/
LOCATION:ON
CATEGORIES:Recreation
END:VEVENT
BEGIN:VEVENT
DTSTART;TZID=America/Toronto:20170706T140000
DTEND;TZID=America/Toronto:20170706T153000
DTSTAMP:20260424T061608
CREATED:20151021T181815Z
LAST-MODIFIED:20151021T181815Z
UID:10016360-1499349600-1499355000@huronshores.ca
SUMMARY:Alzheimer Info & Discussion Group
DESCRIPTION:The Alzheimer Society of Sault Ste. Marie & Algoma District hosts an Information & Discussion Group on the 2nd Wednesday of each month\, at the Calvary Gospel Church\, 55 Queen Street\, Blind River from 2:00 – 3:30 p.m.  For more information please call Tanya\, First Link Coordinator\, at 705-848-8145.
URL:https://huronshores.ca/event/alzheimer-info-discussion-group-2/2017-07-06/
LOCATION:ON
CATEGORIES:Community News
ATTACH;FMTTYPE=image/jpeg:https://huronshores.ca/wp-content/uploads/2013/01/Alzheimers-Disease.jpg
END:VEVENT
BEGIN:VEVENT
DTSTART;TZID=America/Toronto:20170707T140000
DTEND;TZID=America/Toronto:20170707T153000
DTSTAMP:20260424T061608
CREATED:20151021T181815Z
LAST-MODIFIED:20151021T181815Z
UID:10016361-1499436000-1499441400@huronshores.ca
SUMMARY:Alzheimer Info & Discussion Group
DESCRIPTION:The Alzheimer Society of Sault Ste. Marie & Algoma District hosts an Information & Discussion Group on the 2nd Wednesday of each month\, at the Calvary Gospel Church\, 55 Queen Street\, Blind River from 2:00 – 3:30 p.m.  For more information please call Tanya\, First Link Coordinator\, at 705-848-8145.
URL:https://huronshores.ca/event/alzheimer-info-discussion-group-2/2017-07-07/
LOCATION:ON
CATEGORIES:Community News
ATTACH;FMTTYPE=image/jpeg:https://huronshores.ca/wp-content/uploads/2013/01/Alzheimers-Disease.jpg
END:VEVENT
BEGIN:VEVENT
DTSTART;TZID=America/Toronto:20170708T090000
DTEND;TZID=America/Toronto:20170708T140000
DTSTAMP:20260424T061608
CREATED:20170602T132003Z
LAST-MODIFIED:20170602T132003Z
UID:10020141-1499504400-1499522400@huronshores.ca
SUMMARY:Sowerby Farmers' Market
DESCRIPTION:Sowerby Farmers’ Market\, every Saturday\, 9:00 a.m. – 2:00 p.m.\, from June 10 to October 7/17.  Local food producers and artisans offer seasonal fresh veggies\, home-baked goods\, jams\, jellies\, pickles\, handicrafts\, and more.  Vendor tables are $5.00/table/day.  Call Will at 705-843-5567 to book a table.
URL:https://huronshores.ca/event/sowerby-farmers-market-3/2017-07-08/
LOCATION:ON
CATEGORIES:Farmers' Markets,Local Food
ATTACH;FMTTYPE=image/jpeg:https://huronshores.ca/wp-content/uploads/2011/08/Historic-Cordukes-Weber-12-Sided-Barn-Sign1.jpg
END:VEVENT
BEGIN:VEVENT
DTSTART;TZID=America/Toronto:20170708T090000
DTEND;TZID=America/Toronto:20170708T140000
DTSTAMP:20260424T061608
CREATED:20170608T201421Z
LAST-MODIFIED:20170608T201421Z
UID:10020158-1499504400-1499522400@huronshores.ca
SUMMARY:Iron Bridge Farmers' Market
DESCRIPTION:The Iron Bridge Farmers’ Market is on Saturdays\, from 9:00 a.m. to 2:00 p.m. in the covered gazebo at the Iron Bridge Historical Museum\, 1 James Street.  Markets will be held weekly until the end of September.  Items available will include farm produce\, book and yard sale items\, as well\, consignment items may also be included (depending on storage availability). Table rentals are $5/table/day. Contact Carl at 705-843-2486 for details. The Museum is open daily from mid-June to September.
URL:https://huronshores.ca/event/iron-bridge-farmers-market-2/2017-07-08/
LOCATION:ON
CATEGORIES:Community News,Farmers' Markets,Local Food
ATTACH;FMTTYPE=image/jpeg:https://huronshores.ca/wp-content/uploads/2012/03/Ward-3-Museum-Welcome-sign-Web-large.jpg
END:VEVENT
BEGIN:VEVENT
DTSTART;TZID=America/Toronto:20170708T140000
DTEND;TZID=America/Toronto:20170708T153000
DTSTAMP:20260424T061608
CREATED:20151021T181815Z
LAST-MODIFIED:20151021T181815Z
UID:10016362-1499522400-1499527800@huronshores.ca
SUMMARY:Alzheimer Info & Discussion Group
DESCRIPTION:The Alzheimer Society of Sault Ste. Marie & Algoma District hosts an Information & Discussion Group on the 2nd Wednesday of each month\, at the Calvary Gospel Church\, 55 Queen Street\, Blind River from 2:00 – 3:30 p.m.  For more information please call Tanya\, First Link Coordinator\, at 705-848-8145.
URL:https://huronshores.ca/event/alzheimer-info-discussion-group-2/2017-07-08/
LOCATION:ON
CATEGORIES:Community News
ATTACH;FMTTYPE=image/jpeg:https://huronshores.ca/wp-content/uploads/2013/01/Alzheimers-Disease.jpg
END:VEVENT
BEGIN:VEVENT
DTSTART;TZID=America/Toronto:20170709T140000
DTEND;TZID=America/Toronto:20170709T153000
DTSTAMP:20260424T061608
CREATED:20151021T181815Z
LAST-MODIFIED:20151021T181815Z
UID:10016363-1499608800-1499614200@huronshores.ca
SUMMARY:Alzheimer Info & Discussion Group
DESCRIPTION:The Alzheimer Society of Sault Ste. Marie & Algoma District hosts an Information & Discussion Group on the 2nd Wednesday of each month\, at the Calvary Gospel Church\, 55 Queen Street\, Blind River from 2:00 – 3:30 p.m.  For more information please call Tanya\, First Link Coordinator\, at 705-848-8145.
URL:https://huronshores.ca/event/alzheimer-info-discussion-group-2/2017-07-09/
LOCATION:ON
CATEGORIES:Community News
ATTACH;FMTTYPE=image/jpeg:https://huronshores.ca/wp-content/uploads/2013/01/Alzheimers-Disease.jpg
END:VEVENT
BEGIN:VEVENT
DTSTART;TZID=America/Toronto:20170710T140000
DTEND;TZID=America/Toronto:20170710T153000
DTSTAMP:20260424T061608
CREATED:20151021T181815Z
LAST-MODIFIED:20151021T181815Z
UID:10016364-1499695200-1499700600@huronshores.ca
SUMMARY:Alzheimer Info & Discussion Group
DESCRIPTION:The Alzheimer Society of Sault Ste. Marie & Algoma District hosts an Information & Discussion Group on the 2nd Wednesday of each month\, at the Calvary Gospel Church\, 55 Queen Street\, Blind River from 2:00 – 3:30 p.m.  For more information please call Tanya\, First Link Coordinator\, at 705-848-8145.
URL:https://huronshores.ca/event/alzheimer-info-discussion-group-2/2017-07-10/
LOCATION:ON
CATEGORIES:Community News
ATTACH;FMTTYPE=image/jpeg:https://huronshores.ca/wp-content/uploads/2013/01/Alzheimers-Disease.jpg
END:VEVENT
END:VCALENDAR