BEGIN:VCALENDAR
VERSION:2.0
PRODID:-//Huron Shores - ECPv6.15.11//NONSGML v1.0//EN
CALSCALE:GREGORIAN
METHOD:PUBLISH
X-ORIGINAL-URL:https://huronshores.ca
X-WR-CALDESC:Events for Huron Shores
REFRESH-INTERVAL;VALUE=DURATION:PT1H
X-Robots-Tag:noindex
X-PUBLISHED-TTL:PT1H
BEGIN:VTIMEZONE
TZID:America/Toronto
BEGIN:DAYLIGHT
TZOFFSETFROM:-0500
TZOFFSETTO:-0400
TZNAME:EDT
DTSTART:20170312T070000
END:DAYLIGHT
BEGIN:STANDARD
TZOFFSETFROM:-0400
TZOFFSETTO:-0500
TZNAME:EST
DTSTART:20171105T060000
END:STANDARD
BEGIN:DAYLIGHT
TZOFFSETFROM:-0500
TZOFFSETTO:-0400
TZNAME:EDT
DTSTART:20180311T070000
END:DAYLIGHT
BEGIN:STANDARD
TZOFFSETFROM:-0400
TZOFFSETTO:-0500
TZNAME:EST
DTSTART:20181104T060000
END:STANDARD
BEGIN:DAYLIGHT
TZOFFSETFROM:-0500
TZOFFSETTO:-0400
TZNAME:EDT
DTSTART:20190310T070000
END:DAYLIGHT
BEGIN:STANDARD
TZOFFSETFROM:-0400
TZOFFSETTO:-0500
TZNAME:EST
DTSTART:20191103T060000
END:STANDARD
END:VTIMEZONE
BEGIN:VEVENT
DTSTART;TZID=America/Toronto:20180523T163000
DTEND;TZID=America/Toronto:20180523T163000
DTSTAMP:20260423T074509
CREATED:20180508T135048Z
LAST-MODIFIED:20180508T135048Z
UID:10020011-1527093000-1527093000@huronshores.ca
SUMMARY:Summer Students Application Deadline
DESCRIPTION:The deadline to submit applications for summer student positions is today at 4:30 p.m.  Please click on the link below to view the post for details.
URL:https://huronshores.ca/event/summer-students-application-deadline/
LOCATION:ON
CATEGORIES:Community News,Employment Opportunities
ATTACH;FMTTYPE=image/png:https://huronshores.ca/wp-content/uploads/2018/03/crest.png
END:VEVENT
BEGIN:VEVENT
DTSTART;TZID=America/Toronto:20180523T190000
DTEND;TZID=America/Toronto:20180523T190000
DTSTAMP:20260423T074509
CREATED:20171129T165346Z
LAST-MODIFIED:20171129T165346Z
UID:10020405-1527102000-1527102000@huronshores.ca
SUMMARY:Regular Meeting of Council
DESCRIPTION:The Regular Meeting of Council will convene at 7:00 p.m. in the Council Chambers\, 7 Bridge Street\, Iron Bridge.  The Agenda is posted at the Municipal Office the Monday prior unless that day is a holiday.  It would then be posted on the Tuesday.  Council Meetings are scheduled as follows:  March 21\, April 11\, May 2 and May 23\, to be further reviewed at the May 23rd Meeting.  Periodically Special Meetings are called in order to deliberate a specific matter.  As per the Municipal Act\, all Council Meetings are conducted in public.  Members of the public are able to observe the proceedings from the gallery.  If you wish to address Council directly with respect to a specific matter or concern\, please contact the Municipal Office by the Friday prior in order to be included as a Delegation on the Meeting Agenda.  Please click on the link below to learn more about Delegations and Deputations.
URL:https://huronshores.ca/event/regular-meeting-council-3-2018-03-28/2018-05-23/
LOCATION:ON
CATEGORIES:Council Meeting
ATTACH;FMTTYPE=:
END:VEVENT
BEGIN:VEVENT
DTSTART;TZID=America/Toronto:20180523T193000
DTEND;TZID=America/Toronto:20180523T193000
DTSTAMP:20260423T074509
CREATED:20160721T182330Z
LAST-MODIFIED:20160721T182330Z
UID:10019724-1527103800-1527103800@huronshores.ca
SUMMARY:Jammin' Session at the Thessalon Community Curling Club
DESCRIPTION:Every Wedneday night at 7:30PM\, join us at Thessalon Community Curling Club for our Jammin’ Session. You play an instrument and love to play with other instrumentalists\, or just love to listen to live music\, then come on down…the bar is open! Everyone welcome! Bring a friend!
URL:https://huronshores.ca/event/jammin-session-at-the-thessalon-community-curling-club/2018-05-23/
LOCATION:ON
CATEGORIES:Recreation
END:VEVENT
BEGIN:VEVENT
DTSTART;TZID=America/Toronto:20180524T140000
DTEND;TZID=America/Toronto:20180524T153000
DTSTAMP:20260423T074509
CREATED:20151021T181815Z
LAST-MODIFIED:20151021T181815Z
UID:10016683-1527170400-1527175800@huronshores.ca
SUMMARY:Alzheimer Info & Discussion Group
DESCRIPTION:The Alzheimer Society of Sault Ste. Marie & Algoma District hosts an Information & Discussion Group on the 2nd Wednesday of each month\, at the Calvary Gospel Church\, 55 Queen Street\, Blind River from 2:00 – 3:30 p.m.  For more information please call Tanya\, First Link Coordinator\, at 705-848-8145.
URL:https://huronshores.ca/event/alzheimer-info-discussion-group-2/2018-05-24/
LOCATION:ON
CATEGORIES:Community News
ATTACH;FMTTYPE=image/jpeg:https://huronshores.ca/wp-content/uploads/2013/01/Alzheimers-Disease.jpg
END:VEVENT
BEGIN:VEVENT
DTSTART;TZID=America/Toronto:20180525T140000
DTEND;TZID=America/Toronto:20180525T153000
DTSTAMP:20260423T074509
CREATED:20151021T181815Z
LAST-MODIFIED:20151021T181815Z
UID:10016684-1527256800-1527262200@huronshores.ca
SUMMARY:Alzheimer Info & Discussion Group
DESCRIPTION:The Alzheimer Society of Sault Ste. Marie & Algoma District hosts an Information & Discussion Group on the 2nd Wednesday of each month\, at the Calvary Gospel Church\, 55 Queen Street\, Blind River from 2:00 – 3:30 p.m.  For more information please call Tanya\, First Link Coordinator\, at 705-848-8145.
URL:https://huronshores.ca/event/alzheimer-info-discussion-group-2/2018-05-25/
LOCATION:ON
CATEGORIES:Community News
ATTACH;FMTTYPE=image/jpeg:https://huronshores.ca/wp-content/uploads/2013/01/Alzheimers-Disease.jpg
END:VEVENT
BEGIN:VEVENT
DTSTART;TZID=America/Toronto:20180525T170000
DTEND;TZID=America/Toronto:20180525T190000
DTSTAMP:20260423T074509
CREATED:20180110T195931Z
LAST-MODIFIED:20180110T195931Z
UID:10020537-1527267600-1527274800@huronshores.ca
SUMMARY:RC Legion Fish Fry
DESCRIPTION:The Thessalon RC Legion Branch 182 is hosting a Fish Fry from 5:00 – 7:00 p.m.  Take-out called in by 4:30 p.m. & picked up by 5:00 p.m. Call 705-842-2418.  Cash Bar.
URL:https://huronshores.ca/event/rc-legion-fish-fry/2018-05-25/
LOCATION:ON
CATEGORIES:Community News,Local Food
ATTACH;FMTTYPE=image/jpeg:https://huronshores.ca/wp-content/uploads/2015/12/Friday-Fish-Fry.jpg
END:VEVENT
BEGIN:VEVENT
DTSTART;VALUE=DATE:20180526
DTEND;VALUE=DATE:20180527
DTSTAMP:20260423T074509
CREATED:20180514T180541Z
LAST-MODIFIED:20180514T180541Z
UID:10020549-1527292800-1527379199@huronshores.ca
SUMMARY:Annual ATV Run
DESCRIPTION:
URL:https://huronshores.ca/event/annual-atv-run/
LOCATION:ON
CATEGORIES:Community News,Recreation
ATTACH;FMTTYPE=image/jpeg:https://huronshores.ca/wp-content/uploads/2013/06/ATV-Rider.jpg
END:VEVENT
BEGIN:VEVENT
DTSTART;TZID=America/Toronto:20180526T140000
DTEND;TZID=America/Toronto:20180526T153000
DTSTAMP:20260423T074509
CREATED:20151021T181815Z
LAST-MODIFIED:20151021T181815Z
UID:10016685-1527343200-1527348600@huronshores.ca
SUMMARY:Alzheimer Info & Discussion Group
DESCRIPTION:The Alzheimer Society of Sault Ste. Marie & Algoma District hosts an Information & Discussion Group on the 2nd Wednesday of each month\, at the Calvary Gospel Church\, 55 Queen Street\, Blind River from 2:00 – 3:30 p.m.  For more information please call Tanya\, First Link Coordinator\, at 705-848-8145.
URL:https://huronshores.ca/event/alzheimer-info-discussion-group-2/2018-05-26/
LOCATION:ON
CATEGORIES:Community News
ATTACH;FMTTYPE=image/jpeg:https://huronshores.ca/wp-content/uploads/2013/01/Alzheimers-Disease.jpg
END:VEVENT
BEGIN:VEVENT
DTSTART;TZID=America/Toronto:20180526T140000
DTEND;TZID=America/Toronto:20180526T230000
DTSTAMP:20260423T074509
CREATED:20171129T212312Z
LAST-MODIFIED:20171129T212312Z
UID:10020439-1527343200-1527375600@huronshores.ca
SUMMARY:Iron Bridge Music Fest
DESCRIPTION:The Iron Bridge Music Fest will be held from 2:00 – 11:00 p.m. on Saturday\, May 26/18 at the Iron Bridge Recreation Centre. Featuring inductees of the Great Northern Opry Back in Tyme; Women & Song; Don Discher & The Sundowners\, plus Brendan Hodgson introducing original music from his debut CD.  Also appearing The Classhicks; This is Us; and Nostalgia Live.  Advance Tickets available at select locations in Iron Bridge\, Thessalon and Blind River $20 until May 21.  Tickets at the door:  $25/person (Children under 12 Free).  Refreshments available.  Licensed under LLBO.  Please click on the link below to purchase tickets at “Eventbrite.ca”
URL:https://huronshores.ca/event/iron-bridge-music-fest-3/
LOCATION:ON
CATEGORIES:Community News
ATTACH;FMTTYPE=image/jpeg:https://huronshores.ca/wp-content/uploads/2017/06/Music-Fest.jpg
END:VEVENT
BEGIN:VEVENT
DTSTART;TZID=America/Toronto:20180527T140000
DTEND;TZID=America/Toronto:20180527T153000
DTSTAMP:20260423T074509
CREATED:20151021T181815Z
LAST-MODIFIED:20151021T181815Z
UID:10016686-1527429600-1527435000@huronshores.ca
SUMMARY:Alzheimer Info & Discussion Group
DESCRIPTION:The Alzheimer Society of Sault Ste. Marie & Algoma District hosts an Information & Discussion Group on the 2nd Wednesday of each month\, at the Calvary Gospel Church\, 55 Queen Street\, Blind River from 2:00 – 3:30 p.m.  For more information please call Tanya\, First Link Coordinator\, at 705-848-8145.
URL:https://huronshores.ca/event/alzheimer-info-discussion-group-2/2018-05-27/
LOCATION:ON
CATEGORIES:Community News
ATTACH;FMTTYPE=image/jpeg:https://huronshores.ca/wp-content/uploads/2013/01/Alzheimers-Disease.jpg
END:VEVENT
BEGIN:VEVENT
DTSTART;TZID=America/Toronto:20180528T140000
DTEND;TZID=America/Toronto:20180528T153000
DTSTAMP:20260423T074509
CREATED:20151021T181815Z
LAST-MODIFIED:20151021T181815Z
UID:10016687-1527516000-1527521400@huronshores.ca
SUMMARY:Alzheimer Info & Discussion Group
DESCRIPTION:The Alzheimer Society of Sault Ste. Marie & Algoma District hosts an Information & Discussion Group on the 2nd Wednesday of each month\, at the Calvary Gospel Church\, 55 Queen Street\, Blind River from 2:00 – 3:30 p.m.  For more information please call Tanya\, First Link Coordinator\, at 705-848-8145.
URL:https://huronshores.ca/event/alzheimer-info-discussion-group-2/2018-05-28/
LOCATION:ON
CATEGORIES:Community News
ATTACH;FMTTYPE=image/jpeg:https://huronshores.ca/wp-content/uploads/2013/01/Alzheimers-Disease.jpg
END:VEVENT
BEGIN:VEVENT
DTSTART;TZID=America/Toronto:20180529T140000
DTEND;TZID=America/Toronto:20180529T153000
DTSTAMP:20260423T074509
CREATED:20151021T181815Z
LAST-MODIFIED:20151021T181815Z
UID:10016688-1527602400-1527607800@huronshores.ca
SUMMARY:Alzheimer Info & Discussion Group
DESCRIPTION:The Alzheimer Society of Sault Ste. Marie & Algoma District hosts an Information & Discussion Group on the 2nd Wednesday of each month\, at the Calvary Gospel Church\, 55 Queen Street\, Blind River from 2:00 – 3:30 p.m.  For more information please call Tanya\, First Link Coordinator\, at 705-848-8145.
URL:https://huronshores.ca/event/alzheimer-info-discussion-group-2/2018-05-29/
LOCATION:ON
CATEGORIES:Community News
ATTACH;FMTTYPE=image/jpeg:https://huronshores.ca/wp-content/uploads/2013/01/Alzheimers-Disease.jpg
END:VEVENT
BEGIN:VEVENT
DTSTART;TZID=America/Toronto:20180530T140000
DTEND;TZID=America/Toronto:20180530T153000
DTSTAMP:20260423T074509
CREATED:20151021T181815Z
LAST-MODIFIED:20151021T181815Z
UID:10016689-1527688800-1527694200@huronshores.ca
SUMMARY:Alzheimer Info & Discussion Group
DESCRIPTION:The Alzheimer Society of Sault Ste. Marie & Algoma District hosts an Information & Discussion Group on the 2nd Wednesday of each month\, at the Calvary Gospel Church\, 55 Queen Street\, Blind River from 2:00 – 3:30 p.m.  For more information please call Tanya\, First Link Coordinator\, at 705-848-8145.
URL:https://huronshores.ca/event/alzheimer-info-discussion-group-2/2018-05-30/
LOCATION:ON
CATEGORIES:Community News
ATTACH;FMTTYPE=image/jpeg:https://huronshores.ca/wp-content/uploads/2013/01/Alzheimers-Disease.jpg
END:VEVENT
BEGIN:VEVENT
DTSTART;TZID=America/Toronto:20180530T190000
DTEND;TZID=America/Toronto:20180530T190000
DTSTAMP:20260423T074509
CREATED:20180508T133249Z
LAST-MODIFIED:20180508T133249Z
UID:10020008-1527706800-1527706800@huronshores.ca
SUMMARY:Special Meeting - 2018 Budget
DESCRIPTION:A Special Meeting of Council will be held on Wednesday\, May 30/18 for the purpose of determining the 2018 Municipal Budget.  The Agenda will be posted on Monday\, May 28/18.
URL:https://huronshores.ca/event/special-meeting-2018-budget/
LOCATION:ON
CATEGORIES:Council Meeting
ATTACH;FMTTYPE=image/jpeg:https://huronshores.ca/wp-content/uploads/2014/05/Budget.jpg
END:VEVENT
BEGIN:VEVENT
DTSTART;TZID=America/Toronto:20180530T193000
DTEND;TZID=America/Toronto:20180530T193000
DTSTAMP:20260423T074509
CREATED:20160721T182330Z
LAST-MODIFIED:20160721T182330Z
UID:10019725-1527708600-1527708600@huronshores.ca
SUMMARY:Jammin' Session at the Thessalon Community Curling Club
DESCRIPTION:Every Wedneday night at 7:30PM\, join us at Thessalon Community Curling Club for our Jammin’ Session. You play an instrument and love to play with other instrumentalists\, or just love to listen to live music\, then come on down…the bar is open! Everyone welcome! Bring a friend!
URL:https://huronshores.ca/event/jammin-session-at-the-thessalon-community-curling-club/2018-05-30/
LOCATION:ON
CATEGORIES:Recreation
END:VEVENT
BEGIN:VEVENT
DTSTART;TZID=America/Toronto:20180531T080000
DTEND;TZID=America/Toronto:20180531T163000
DTSTAMP:20260423T074509
CREATED:20171129T195847Z
LAST-MODIFIED:20171129T195847Z
UID:10019958-1527753600-1527784200@huronshores.ca
SUMMARY:2018 2nd Installment Interim Taxes Due
DESCRIPTION:The 2nd Installment of the 2018 Interim Tax Billing is due by close of business today.  Interim Tax Payment Installments are always due the last business day of March and May.  Please visit the Treasury Department page via the link below for payment method details.
URL:https://huronshores.ca/event/2018-2nd-installment-interim-taxes-due/
LOCATION:ON
CATEGORIES:Treasury
ATTACH;FMTTYPE=:
END:VEVENT
BEGIN:VEVENT
DTSTART;TZID=America/Toronto:20180531T140000
DTEND;TZID=America/Toronto:20180531T153000
DTSTAMP:20260423T074509
CREATED:20151021T181815Z
LAST-MODIFIED:20151021T181815Z
UID:10016690-1527775200-1527780600@huronshores.ca
SUMMARY:Alzheimer Info & Discussion Group
DESCRIPTION:The Alzheimer Society of Sault Ste. Marie & Algoma District hosts an Information & Discussion Group on the 2nd Wednesday of each month\, at the Calvary Gospel Church\, 55 Queen Street\, Blind River from 2:00 – 3:30 p.m.  For more information please call Tanya\, First Link Coordinator\, at 705-848-8145.
URL:https://huronshores.ca/event/alzheimer-info-discussion-group-2/2018-05-31/
LOCATION:ON
CATEGORIES:Community News
ATTACH;FMTTYPE=image/jpeg:https://huronshores.ca/wp-content/uploads/2013/01/Alzheimers-Disease.jpg
END:VEVENT
BEGIN:VEVENT
DTSTART;TZID=America/Toronto:20180601T140000
DTEND;TZID=America/Toronto:20180601T153000
DTSTAMP:20260423T074509
CREATED:20151021T181815Z
LAST-MODIFIED:20151021T181815Z
UID:10016691-1527861600-1527867000@huronshores.ca
SUMMARY:Alzheimer Info & Discussion Group
DESCRIPTION:The Alzheimer Society of Sault Ste. Marie & Algoma District hosts an Information & Discussion Group on the 2nd Wednesday of each month\, at the Calvary Gospel Church\, 55 Queen Street\, Blind River from 2:00 – 3:30 p.m.  For more information please call Tanya\, First Link Coordinator\, at 705-848-8145.
URL:https://huronshores.ca/event/alzheimer-info-discussion-group-2/2018-06-01/
LOCATION:ON
CATEGORIES:Community News
ATTACH;FMTTYPE=image/jpeg:https://huronshores.ca/wp-content/uploads/2013/01/Alzheimers-Disease.jpg
END:VEVENT
BEGIN:VEVENT
DTSTART;TZID=America/Toronto:20180602T090000
DTEND;TZID=America/Toronto:20180602T140000
DTSTAMP:20260423T074509
CREATED:20180530T154912Z
LAST-MODIFIED:20180530T154912Z
UID:10020562-1527930000-1527948000@huronshores.ca
SUMMARY:Sustain Algoma Expo
DESCRIPTION:Sustain Algoma Expo will be held at the Johnson Twp. Community Centre\, Desbarats\, from 9:00 a.m. – 2:00 p.m. on Saturday\, June 2/18  The event will feature unique initiatives and products including food\, agriculture\, wood products\, water management\, social enterprise and arts and culture.  Hosted by the Kensington Conservancy\, Clean North\, Central Algoma Freshwater Coalition\, Early Detection & Rapid Response Network\, Johnson Farmers’ Market\, Stuff Lubricants\, and the St. Mary’s River Remedial Action Plan.
URL:https://huronshores.ca/event/sustain-algoma-expo-3/
LOCATION:ON
CATEGORIES:Community News,Farmers' Markets,Local Food
ATTACH;FMTTYPE=image/jpeg:https://huronshores.ca/wp-content/uploads/2016/03/Johnson-Farmers-Market-Logo.jpg
END:VEVENT
BEGIN:VEVENT
DTSTART;TZID=America/Toronto:20180602T100000
DTEND;TZID=America/Toronto:20180602T150000
DTSTAMP:20260423T074510
CREATED:20180530T161248Z
LAST-MODIFIED:20180530T161248Z
UID:10020565-1527933600-1527951600@huronshores.ca
SUMMARY:Heritage Park Museum Work Bee
DESCRIPTION:The Thessalon Twp. Heritage Assn. is hosting a Work Bee on Saturday\, June 2/18 from 10:00 a.m. – 3:00 p.m. at the Heritage Park Museum\, 2 Little Rapids Rd.\, 3 km north of Thessalon on Hwy. 129.  A modern take on an old fashioned “Work Bee”.  revived from a time when the community assisted in completing any task that was too big for one person to do alone.  Small\, medium and large jobs for everyone!  All ages welcome.  Coffee\, tea\, water\, snacks and BBQ lunch provided to all registered volunteers.  All materials will be supplied.  Please bring your own hand tools (we have power!).  Students can collect volunteer hours.  To register or make enquiries\, please contact Mary Anne MacDonald at 705-842-2722 or mamac@soonet.ca.
URL:https://huronshores.ca/event/heritage-park-museum-work-bee-2/
LOCATION:ON
CATEGORIES:Community News
ATTACH;FMTTYPE=image/jpeg:https://huronshores.ca/wp-content/uploads/2015/05/Work-Bee-2-Re-sized.jpg
END:VEVENT
BEGIN:VEVENT
DTSTART;TZID=America/Toronto:20180602T110000
DTEND;TZID=America/Toronto:20180602T130000
DTSTAMP:20260423T074510
CREATED:20180529T154502Z
LAST-MODIFIED:20180529T154502Z
UID:10020557-1527937200-1527944400@huronshores.ca
SUMMARY:Official Opening - Ward 4 Rec Centre
DESCRIPTION:All are welcome to attend the Official Opening of the newly renovated Huron Shores Ward 4 Recreation Centre on Saturday\, June 2/18 from 11:00 a.m. to 1:00 p.m.  The Rec Centre is located at 23802 Highway 17 (0.5 km east of the Dean Lake Road intersection). Cake & Refreshments available.  Please click on the link below for details.
URL:https://huronshores.ca/event/official-opening-ward-4-rec-centre/
LOCATION:ON
CATEGORIES:Community News,Recreation
ATTACH;FMTTYPE=image/jpeg:https://huronshores.ca/wp-content/uploads/2018/05/Ward-4-Rec-Centre-23802-Hwy-17.jpg
END:VEVENT
BEGIN:VEVENT
DTSTART;TZID=America/Toronto:20180602T140000
DTEND;TZID=America/Toronto:20180602T153000
DTSTAMP:20260423T074510
CREATED:20151021T181815Z
LAST-MODIFIED:20151021T181815Z
UID:10016692-1527948000-1527953400@huronshores.ca
SUMMARY:Alzheimer Info & Discussion Group
DESCRIPTION:The Alzheimer Society of Sault Ste. Marie & Algoma District hosts an Information & Discussion Group on the 2nd Wednesday of each month\, at the Calvary Gospel Church\, 55 Queen Street\, Blind River from 2:00 – 3:30 p.m.  For more information please call Tanya\, First Link Coordinator\, at 705-848-8145.
URL:https://huronshores.ca/event/alzheimer-info-discussion-group-2/2018-06-02/
LOCATION:ON
CATEGORIES:Community News
ATTACH;FMTTYPE=image/jpeg:https://huronshores.ca/wp-content/uploads/2013/01/Alzheimers-Disease.jpg
END:VEVENT
BEGIN:VEVENT
DTSTART;TZID=America/Toronto:20180603T140000
DTEND;TZID=America/Toronto:20180603T153000
DTSTAMP:20260423T074510
CREATED:20151021T181815Z
LAST-MODIFIED:20151021T181815Z
UID:10016693-1528034400-1528039800@huronshores.ca
SUMMARY:Alzheimer Info & Discussion Group
DESCRIPTION:The Alzheimer Society of Sault Ste. Marie & Algoma District hosts an Information & Discussion Group on the 2nd Wednesday of each month\, at the Calvary Gospel Church\, 55 Queen Street\, Blind River from 2:00 – 3:30 p.m.  For more information please call Tanya\, First Link Coordinator\, at 705-848-8145.
URL:https://huronshores.ca/event/alzheimer-info-discussion-group-2/2018-06-03/
LOCATION:ON
CATEGORIES:Community News
ATTACH;FMTTYPE=image/jpeg:https://huronshores.ca/wp-content/uploads/2013/01/Alzheimers-Disease.jpg
END:VEVENT
BEGIN:VEVENT
DTSTART;TZID=America/Toronto:20180604T140000
DTEND;TZID=America/Toronto:20180604T153000
DTSTAMP:20260423T074510
CREATED:20151021T181815Z
LAST-MODIFIED:20151021T181815Z
UID:10016694-1528120800-1528126200@huronshores.ca
SUMMARY:Alzheimer Info & Discussion Group
DESCRIPTION:The Alzheimer Society of Sault Ste. Marie & Algoma District hosts an Information & Discussion Group on the 2nd Wednesday of each month\, at the Calvary Gospel Church\, 55 Queen Street\, Blind River from 2:00 – 3:30 p.m.  For more information please call Tanya\, First Link Coordinator\, at 705-848-8145.
URL:https://huronshores.ca/event/alzheimer-info-discussion-group-2/2018-06-04/
LOCATION:ON
CATEGORIES:Community News
ATTACH;FMTTYPE=image/jpeg:https://huronshores.ca/wp-content/uploads/2013/01/Alzheimers-Disease.jpg
END:VEVENT
BEGIN:VEVENT
DTSTART;TZID=America/Toronto:20180605T130000
DTEND;TZID=America/Toronto:20180605T130000
DTSTAMP:20260423T074510
CREATED:20180529T193553Z
LAST-MODIFIED:20180529T193553Z
UID:10020561-1528203600-1528203600@huronshores.ca
SUMMARY:Human Trafficking 101 Symposium
DESCRIPTION:The East Algoma OPP are sponsoring a Human Trafficking 101 Symposium on Tuesday\, June 5/18 at 1:00 p.m. in the Alain Bray Auditorium\, 117 Youngfox\, Blind River.  Guest Speaker is Natasha Falle\, Co-founder of Sex Trade 101.  Free for the General Public.  For more info\, please click on the link below to view the flyer.
URL:https://huronshores.ca/event/human-trafficking-101-symposium/
LOCATION:ON
CATEGORIES:Community News,Health & Safety
ATTACH;FMTTYPE=image/png:https://huronshores.ca/wp-content/uploads/2013/03/OPP-Crest.png
END:VEVENT
BEGIN:VEVENT
DTSTART;TZID=America/Toronto:20180605T140000
DTEND;TZID=America/Toronto:20180605T153000
DTSTAMP:20260423T074510
CREATED:20151021T181815Z
LAST-MODIFIED:20151021T181815Z
UID:10016695-1528207200-1528212600@huronshores.ca
SUMMARY:Alzheimer Info & Discussion Group
DESCRIPTION:The Alzheimer Society of Sault Ste. Marie & Algoma District hosts an Information & Discussion Group on the 2nd Wednesday of each month\, at the Calvary Gospel Church\, 55 Queen Street\, Blind River from 2:00 – 3:30 p.m.  For more information please call Tanya\, First Link Coordinator\, at 705-848-8145.
URL:https://huronshores.ca/event/alzheimer-info-discussion-group-2/2018-06-05/
LOCATION:ON
CATEGORIES:Community News
ATTACH;FMTTYPE=image/jpeg:https://huronshores.ca/wp-content/uploads/2013/01/Alzheimers-Disease.jpg
END:VEVENT
BEGIN:VEVENT
DTSTART;TZID=America/Toronto:20180606T140000
DTEND;TZID=America/Toronto:20180606T153000
DTSTAMP:20260423T074510
CREATED:20151021T181815Z
LAST-MODIFIED:20151021T181815Z
UID:10016696-1528293600-1528299000@huronshores.ca
SUMMARY:Alzheimer Info & Discussion Group
DESCRIPTION:The Alzheimer Society of Sault Ste. Marie & Algoma District hosts an Information & Discussion Group on the 2nd Wednesday of each month\, at the Calvary Gospel Church\, 55 Queen Street\, Blind River from 2:00 – 3:30 p.m.  For more information please call Tanya\, First Link Coordinator\, at 705-848-8145.
URL:https://huronshores.ca/event/alzheimer-info-discussion-group-2/2018-06-06/
LOCATION:ON
CATEGORIES:Community News
ATTACH;FMTTYPE=image/jpeg:https://huronshores.ca/wp-content/uploads/2013/01/Alzheimers-Disease.jpg
END:VEVENT
BEGIN:VEVENT
DTSTART;TZID=America/Toronto:20180606T193000
DTEND;TZID=America/Toronto:20180606T193000
DTSTAMP:20260423T074510
CREATED:20160721T182330Z
LAST-MODIFIED:20160721T182330Z
UID:10019726-1528313400-1528313400@huronshores.ca
SUMMARY:Jammin' Session at the Thessalon Community Curling Club
DESCRIPTION:Every Wedneday night at 7:30PM\, join us at Thessalon Community Curling Club for our Jammin’ Session. You play an instrument and love to play with other instrumentalists\, or just love to listen to live music\, then come on down…the bar is open! Everyone welcome! Bring a friend!
URL:https://huronshores.ca/event/jammin-session-at-the-thessalon-community-curling-club/2018-06-06/
LOCATION:ON
CATEGORIES:Recreation
END:VEVENT
BEGIN:VEVENT
DTSTART;TZID=America/Toronto:20180607T140000
DTEND;TZID=America/Toronto:20180607T153000
DTSTAMP:20260423T074510
CREATED:20151021T181815Z
LAST-MODIFIED:20151021T181815Z
UID:10016697-1528380000-1528385400@huronshores.ca
SUMMARY:Alzheimer Info & Discussion Group
DESCRIPTION:The Alzheimer Society of Sault Ste. Marie & Algoma District hosts an Information & Discussion Group on the 2nd Wednesday of each month\, at the Calvary Gospel Church\, 55 Queen Street\, Blind River from 2:00 – 3:30 p.m.  For more information please call Tanya\, First Link Coordinator\, at 705-848-8145.
URL:https://huronshores.ca/event/alzheimer-info-discussion-group-2/2018-06-07/
LOCATION:ON
CATEGORIES:Community News
ATTACH;FMTTYPE=image/jpeg:https://huronshores.ca/wp-content/uploads/2013/01/Alzheimers-Disease.jpg
END:VEVENT
BEGIN:VEVENT
DTSTART;TZID=America/Toronto:20180608T140000
DTEND;TZID=America/Toronto:20180608T153000
DTSTAMP:20260423T074510
CREATED:20151021T181815Z
LAST-MODIFIED:20151021T181815Z
UID:10016698-1528466400-1528471800@huronshores.ca
SUMMARY:Alzheimer Info & Discussion Group
DESCRIPTION:The Alzheimer Society of Sault Ste. Marie & Algoma District hosts an Information & Discussion Group on the 2nd Wednesday of each month\, at the Calvary Gospel Church\, 55 Queen Street\, Blind River from 2:00 – 3:30 p.m.  For more information please call Tanya\, First Link Coordinator\, at 705-848-8145.
URL:https://huronshores.ca/event/alzheimer-info-discussion-group-2/2018-06-08/
LOCATION:ON
CATEGORIES:Community News
ATTACH;FMTTYPE=image/jpeg:https://huronshores.ca/wp-content/uploads/2013/01/Alzheimers-Disease.jpg
END:VEVENT
END:VCALENDAR